{"text_format":"1","workbook":"xlsx","n_sheets":14,"sheets":["Introduction","1.Community Profile","2.WEF Inventory Base","3.WEF Status-Base","4.WEF Diagram-Base","5.Mining Profile","6.WEF Inventory Mine","7.WEF Influence-Mine","8a.WEF Mine-Composite","8b.WEF Closure-Composite","9.WEF Mine Diagram","10.Executive Summary","Properties","IndicatorRef"],"not_rendered":{"charts":0,"images":0,"macros":1,"external_links":3,"defined_names":7,"comments":14,"pivot_tables":0},"unopened":[],"bounds":{"document_bytes":16777216,"sheet_cells":100000,"rows_first":2000,"rows_last":500,"rows_between":2000,"halvings":0,"cell_chars":16384,"cell_head_chars":4096},"cells_cut":0,"cells_raw":0,"read":"whole","date_system":"1900"}

{"sheet":"Introduction","index":0,"n_rows":16,"n_cols":12,"rows_kept":16,"cut":false,"hidden":false,"merged":[[4,1,18,1],[11,3,13,3],[11,4,13,6],[12,8,13,11],[4,3,4,11],[6,3,6,6],[6,8,7,11],[8,4,8,6],[8,8,11,8],[8,9,11,9],[8,10,11,10],[8,11,11,11],[9,4,9,6],[10,4,10,6]]}
[]
[null,"WEFsat - Mining: The Water-Energy-Food security analysis tool for Mining"]
[null,"Assessing the benefits and impacts of mining on community-level water-energy-food security"]
[]
[null,"Purpose: The purpose of WEFsat-Mining is to help identify the potential benefits and impacts of mining on community-level water, energy and food security. Users of the tool can then explore specific actions for realizing benefits and mitigating actions, as well as select and develop indicators for tracking the status of water-energy-food security and the progress of critical actions. Users familiar with environmental and social impact assessment methods will find WEFsat-Mining intuitive and a welcomed addition to their toolkit for understanding key relationships in achieving sustainable development.\n\nContext: The Intergovernmental Forum on Mining, Minerals, Metals and Sustainable Development, a network of governments, industry and various interest groups in 48 countries, put forth its Mining Policy Framework (MPF) in 2014. The MPF calls for an optimal conversion of natural capital into human capital, the management of the natural resource base within ecosystem, and a continuous planning for the post-mining transition, among other aspects. Concurrently, the World Economic Forum has consistently ranked water, energy and food security issues among the top global risks facing governments and businesses around the world, noting that \"any strategy that focuses on one part of the water-food-energy nexus without considering its interconnections risks serious unintended consequences.\" WEFsat-Mining is designed to help advance the understanding of both risks and benefits of mining operations on the inter-related issue of water, energy and food security.\n\nConcepts and Methodology: WEFsat-Mining's conceptual framework and methodology is outlined in the adjacent figure.\n\nEngagement Considerations: WEFsat-Mining is designed for participatory settings in which a trained facilitator can engage individuals and groups in a cogent analysis of mining's influence on community water-energy-food security. For training opportunties, contact Dimple Roy, Director, Water Program with the International Institute for Sustainable Development at droy@iisd.ca. \n\nAcknowledgements: WEFsat-Mining was developed by the International Institute for Sustainable Development (IISD) with funding from Foreign Affairs, Trade and Development Canada. Technical support was provided by Centred Consulting International, LLC and Novel Futures Corporation.\n\n",null,"Conceptual Framework for Assessing and Monitoring the Influence of Mining on Water-Energy-Food Security"]
[]
[null,null,null,"Framework for Water, Energy and Food Security",null,null,null,null,"Engagement and Assessment"]
[null,null,null,"Security","Water Sources","Energy Sources","Food Sources"]
[null,null,null,"Availability","Use\nProcessing\nStorage\nDistribution\nMarkets",null,null,null,"Status and \nlinkages\n\n\n1. Community Profile\n\n2. WEF Inventory (Sources, Uses)\n\n3. WEF Status (current)\n\n4. WEF System Diagram","Potential mining benefits and impacts\n\n\n5. Mining Profile\n\n6. Mining WEF Inventory \n(source, Uses)\n\n7. Mining WEF Influence \n\n\n\n\n\n\n\n\n","Actions to realize benefits and mitigate impacts\n\n8. WEF Security Actions & Indicators - \na.  Operations:  WEF Mine-Composite\nb.  Closure  WEF Closure-Composite\n\n9. Mining Influence Diagram\n\n\n\n\n\n\n\n\n\n\n\n\n","Summary for Decision-Makers\n\n\n10. WEF Security Summary\n\n\n\n\n\n"]
[null,null,null,"Access","Purchasing Power (livelihood income, remittances, credit)\nAid (direct provision, saftey nets, subsidies)\nSelf-production (water wells, off-grid power, individual/community gardens)\nBarter"]
[null,null,null,"Supporting Infrastructure","Built Infrastructure (transportation, communication, waste removal)\n\nNatural Infrastructure (erosion control, storm protection, water purification, biological control, air quality maintenance, pollination)"]
[null,null,null,"Supporting Institutions and    Policies","Institutions (utility boards, user associations and resource co-ops, \neducation and training, safety oversight, law enforcement and security) \n\nPolicies & Plans (resource use, climate change adaptation, \ndisaster recovery, risk management, R&D and innovation)\n"]
[null,null,null,null,null,null,null,null,"Indicators and Monitoring"]
[]
[]
[null,null,null,"More information",null,null,null,null,"More information"]

{"sheet":"1.Community Profile","index":1,"n_rows":37,"n_cols":8,"rows_kept":37,"cut":false,"hidden":false,"merged":[[4,2,4,7]]}
[]
[null,"WEF Security Tool for Mining"]
[null,"Community Profiles"]
[null,"User Guidance Notes"]
[null,null,"Communities"]
[null,"NA = Not Available",1,2,3,4,5,"Average"]
[null,"Community Name","Community A",null,null,null,null,"Average"]
[null,"General"]
[null,"Cultural Identifier"]
[null,"Population:",null,null,null,null,null,{"$f":"AVERAGE(C10:G10)","v":{"$error":"#DIV/0!"}}]
[null,"Location (i.e., within or outside a watershed):"]
[null,"Livelihoods"]
[null,"% working in the mine:",null,null,null,null,null,{"$f":"AVERAGE(C13:G13)","v":{"$error":"#DIV/0!"}}]
[null,"% working in mine-related services:",null,null,null,null,null,{"$f":"AVERAGE(C14:G14)","v":{"$error":"#DIV/0!"}}]
[null,"Primary source of livelihood income:"]
[null,"Secondary source of livelihood income:"]
[null,"% livelihood income from remittances:",null,null,null,null,null,{"$f":"AVERAGE(C17:G17)","v":{"$error":"#DIV/0!"}}]
[null,"Average household income (country $):",null,null,null,null,null,{"$f":"AVERAGE(C18:G18)","v":{"$error":"#DIV/0!"}}]
[null,"Land Use and Food Consumption"]
[null,"Land area (km2):",null,null,null,null,null,{"$f":"AVERAGE(C20:G20)","v":{"$error":"#DIV/0!"}}]
[null,"Food consumption from local sources (%):",null,null,null,null,null,{"$f":"AVERAGE(C21:G21)","v":{"$error":"#DIV/0!"}}]
[null,"Food consumption from imports (%):",null,null,null,null,null,{"$f":"AVERAGE(C22:G22)","v":{"$error":"#DIV/0!"}}]
[null,"Food consumption from subsistence (%):",null,null,null,null,null,{"$f":"AVERAGE(C23:G23)","v":{"$error":"#DIV/0!"}}]
[null,"Total food consumption (should total 100 from rows 21-23):",null,null,null,null,null,{"$f":"SUM(H21:H23)","v":{"$error":"#DIV/0!"}}]
[null,"Water Use"]
[null,"Average household water use (lpd):",null,null,null,null,null,{"$f":"AVERAGE(C26:G26)","v":{"$error":"#DIV/0!"}}]
[null,"Surface water source (%): ",null,null,null,null,null,{"$f":"AVERAGE(C27:G27)","v":{"$error":"#DIV/0!"}}]
[null,"Groundwater source (%):",null,null,null,null,null,{"$f":"AVERAGE(C28:G28)","v":{"$error":"#DIV/0!"}}]
[null,"Other  sources (%):",null,null,null,null,null,{"$f":"AVERAGE(C29:G29)","v":{"$error":"#DIV/0!"}}]
[null,"Total water sources (should total 100 from rows 27-29):",null,null,null,null,null,{"$f":"AVERAGE(C30:G30)","v":{"$error":"#DIV/0!"}}]
[null,"Energy Use"]
[null,"Households connected to electricity grid (%):",null,null,null,null,null,{"$f":"AVERAGE(C32:G32)","v":{"$error":"#DIV/0!"}}]
[null,"Households using biomass (wood, dung)",null,null,null,null,null,{"$f":"AVERAGE(C33:G33)","v":{"$error":"#DIV/0!"}}]
[null,"Households using propane ",null,null,null,null,null,{"$error":"#DIV/0!"}]
[null,"Household possessing vehicles",null,null,null,null,null,{"$error":"#DIV/0!"}]
[null,"Households using generators",null,null,null,null,null,{"$error":"#DIV/0!"}]
[null,"Sources of self-generated electricity:"]

{"sheet":"2.WEF Inventory Base","index":2,"n_rows":39,"n_cols":27,"rows_kept":39,"cut":false,"hidden":false,"merged":[[2,2,2,4],[29,3,29,10],[6,11,7,11],[18,11,19,11],[30,11,31,11],[5,3,5,10],[17,3,17,10],[3,2,3,4]]}
[null,"WEF Security Tool for Mining"]
[null,"WEF Use-Source Baseline"]
[null,"Community Selection","Community A"]
[null,null,"User Guidance Notes"]
[null,"INVENTORY",null,null,null,null,null,null,null,null,null,null,null,null,null,null,null,null,"CONNECTIONS"]
[null,"WATER",null,"Uses (%)"]
[null,null,null,"Agriculture \n(non-irrigation)","Commercial","Domestic Use","Energy","Industrial","Irrigation","Transport","Other","Relevant",null,null,null,null,null,null,"Water Source Code","Connection Direction","WATER","Energy Source Code","Connection Direction","ENERGY","Food Source Code","Connection Direction","FOOD"]
[null,"Sources (%)","Rank Use",null,null,null,null,null,null,null,null,null,"Use Description",null,"Sources","Code",null,null,"Key","Key","Water Connection Description","Key","Key","Energy Connection Description","Key","Key","Food Connection Description"]
[null,"Surface Water","W.1",0,0,0,0,0,0,0,0,{"$f":"IF(SUM(D9:K9)>Properties!$B$5,\"Y\",\"N\")","v":"N"},null,null,"Surface Water","W.1",null,null,null,0,null,null,0,null,null,0]
[null,"Groundwater","W.2",0,0,0,0,0,0,0,0,{"$f":"IF(SUM(D10:K10)>Properties!$B$5,\"Y\",\"N\")","v":"N"},null,null,"Groundwater","W.2",null,null,null,0,null,null,0,null,null,0]
[null,"Storage Water","W.3",0,0,0,0,0,0,0,0,{"$f":"IF(SUM(D11:K11)>Properties!$B$5,\"Y\",\"N\")","v":"N"},null,null,"Storage Water","W.3",null,null,null,0,null,null,0,null,null,0]
[null,"Rain Water Harvest","W.4",0,0,0,0,0,0,0,0,{"$f":"IF(SUM(D12:K12)>Properties!$B$5,\"Y\",\"N\")","v":"N"},null,null,"Rain Water Harvest","W.4",null,null,null,0,null,null,0,null,null,0]
[null,"Imported","W.5",0,0,0,0,0,0,0,0,{"$f":"IF(SUM(D13:K13)>Properties!$B$5,\"Y\",\"N\")","v":"N"},null,null,"Imported","W.5",null,null,null,0,null,null,0,null,null,0]
[null,"Other","W.6",0,0,0,0,0,0,0,0,{"$f":"IF(SUM(D14:K14)>Properties!$B$5,\"Y\",\"N\")","v":"N"},null,null,"Other ","W.6",null,null,null,0,null,null,0,null,null,0]
[null,null,"Total Score",{"$f":"SUM(D9:D14)","v":0},{"$f":"SUM(E9:E14)","v":0},0,0,0,0,0,0]
[]
[null,null,null,null,null,null,null,null,null,null,null,null,null,null,null,null,null,null,null,null,null,null,"Boil water for drinking"]
[null,"ENERGY",null,"Uses (%)"]
[null,null,null,"Cooking","Household (e.g., Lighting)","Irrigation","Commercial","Refrigeration/ Storage","Transportation","Industrial","Other","Relevant",null,null,null,null,null,null,"Water Source Code","Connection Direction","WATER","Energy Source Code","Connection Direction","ENERGY","Food Source Code","Connection Direction","FOOD"]
[null,"Sources (%)","Rank Use",null,null,null,null,null,null,null,null,null,"Use Description",null,"Sources","Code",null,null,"Key","Key","Water Connection Description","Key","Key","Energy Connection Description","Key","Key","Food Connection Description"]
[null,"Biomass (Wood, etc.)","E.1",0,0,0,0,0,0,0,0,{"$f":"IF(SUM(D21:K21)>Properties!$B$5,\"Y\",\"N\")","v":"N"},null,null,"Biomass (Wood)","E.1",null,null,null,0,null,null,0,null,null,0]
[null,"Diesel, Petrol","E.2",0,0,0,0,0,0,0,0,{"$f":"IF(SUM(D22:K22)>Properties!$B$5,\"Y\",\"N\")","v":"N"},null,null,"Diesel, Petrol","E.2",null,null,null,0,null,null,0,null,null,0]
[null,"Electric Grid","E.3",0,0,0,0,0,0,0,0,{"$f":"IF(SUM(D23:K23)>Properties!$B$5,\"Y\",\"N\")","v":"N"},null,null,"Electric Grid","E.3",null,null,null,0,null,null,0,null,null,0]
[null,"Propane (Gas)","E.4",0,0,0,0,0,0,0,0,{"$f":"IF(SUM(D24:K24)>Properties!$B$5,\"Y\",\"N\")","v":"N"},null,null,"Propane (Gas)","E.4",null,null,null,0,null,null,0,null,null,0]
[null,"Renewable","E.5",0,0,0,0,0,0,0,0,{"$f":"IF(SUM(D25:K25)>Properties!$B$5,\"Y\",\"N\")","v":"N"},null,null,"Renewable","E.5",null,null,null,0,null,null,0,null,null,0]
[null,"Other","E.6",0,0,0,0,0,0,0,0,{"$f":"IF(SUM(D26:K26)>Properties!$B$5,\"Y\",\"N\")","v":"N"},null,null,"Other","E.6",null,null,null,0,null,null,0,null,null,0]
[null,null,"Total Score",{"$f":"SUM(D21:D26)","v":0},0,0,0,0,0,0,0]
[]
[]
[null,"FOOD",null,"Uses (%)"]
[null,null,null,"Dairy","Fish/Seafood","Fruits","Grains","Meats","Nuts","Vegetables","Other","Relevant",null,null,null,null,null,null,"Water Source Code","Connection Direction","WATER","Energy Source Code","Connection Direction","ENERGY","Food Source Code","Connection Direction","FOOD"]
[null,"Sources (%)","Rank Use",null,null,null,null,null,null,null,null,null,"Use Description",null,"Sources","Code",null,null,"Key","Key","Water Connection Description","Key","Key","Energy Connection Description","Key","Key","Food Connection Description"]
[null,"Self Produced","F.1",0,0,0,0,0,0,0,0,{"$f":"IF(SUM(D33:K33)>Properties!$B$5,\"Y\",\"N\")","v":"N"},null,null,{"$f":"IF(L33=\"Y\", \"Produced Locally\",\"Produced Locally(n)\")","v":"Produced Locally(n)"},"F.1",null,null,null,0,null,null,0,null,null,0]
[null,"Purchased Locally","F.2",0,0,0,0,0,0,0,0,{"$f":"IF(SUM(D34:K34)>Properties!$B$5,\"Y\",\"N\")","v":"N"},null,null,"Purchased Locally","F.2",null,null,null,0,null,null,0,null,null,0]
[null,"Imported","F.3",0,0,0,0,0,0,0,0,{"$f":"IF(SUM(D35:K35)>Properties!$B$5,\"Y\",\"N\")","v":"N"},null,null,"Imported","F.3",null,null,null,0,null,null,0,null,null,0]
[null,"Exports","F.4",0,0,0,0,0,0,0,0,{"$f":"IF(SUM(D36:K36)>Properties!$B$5,\"Y\",\"N\")","v":"N"},null,null,"Other","F.4",null,null,null,0,null,null,0,null,null,0]
[null,null,"F.5",0,0,0,0,0,0,0,0,{"$f":"IF(SUM(D37:K37)>Properties!$B$5,\"Y\",\"N\")","v":"N"},null,null,null,"F.5",null,null,null,0,null,null,0,null,null,0]
[null,null,"F.6",0,0,0,0,0,0,0,0,{"$f":"IF(SUM(D38:K38)>Properties!$B$5,\"Y\",\"N\")","v":"N"},null,null,null,"F.6",null,null,null,0,null,null,0,null,null,0]
[null,null,"Total Score",{"$f":"SUM(D33:D38)","v":0},0,0,0,0,0,0,0]

{"sheet":"3.WEF Status-Base","index":3,"n_rows":43,"n_cols":57,"rows_kept":43,"cut":false,"hidden":false,"merged":[]}
["WEF Security"]
["WEF Status - Baseline"]
[{"$f":"'2.WEF Inventory Base'!C3","v":"Community A"}]
["User Guidance Notes"]
["WEF SECURITY CRITERIA"]
["Availability",null,null,"x",null,null,"x",null,null,"x",null,null,"x",null,null,"x",null,null,"x"]
["Source","X",null,{"$f":"'2.WEF Inventory Base'!L9","v":"N"},{"$f":"'2.WEF Inventory Base'!B9","v":"Surface Water"},null,{"$f":"'2.WEF Inventory Base'!L10","v":"N"},{"$f":"'2.WEF Inventory Base'!B10","v":"Groundwater"},null,{"$f":"'2.WEF Inventory Base'!L11","v":"N"},{"$f":"'2.WEF Inventory Base'!B11","v":"Storage Water"},null,{"$f":"'2.WEF Inventory Base'!L12","v":"N"},{"$f":"'2.WEF Inventory Base'!B12","v":"Rain Water Harvest"},null,{"$f":"'2.WEF Inventory Base'!L13","v":"N"},{"$f":"'2.WEF Inventory Base'!B13","v":"Imported"},null,{"$f":"'2.WEF Inventory Base'!L14","v":"N"},{"$f":"'2.WEF Inventory Base'!B14","v":"Other"},null,{"$f":"'2.WEF Inventory Base'!L21","v":"N"},{"$f":"'2.WEF Inventory Base'!B21","v":"Biomass (Wood, etc.)"},null,{"$f":"'2.WEF Inventory Base'!L22","v":"N"},{"$f":"'2.WEF Inventory Base'!B22","v":"Diesel, Petrol"},null,{"$f":"'2.WEF Inventory Base'!L23","v":"N"},{"$f":"'2.WEF Inventory Base'!B23","v":"Electric Grid"},null,{"$f":"'2.WEF Inventory Base'!L24","v":"N"},{"$f":"'2.WEF Inventory Base'!B24","v":"Propane (Gas)"},null,{"$f":"'2.WEF Inventory Base'!L25","v":"N"},{"$f":"'2.WEF Inventory Base'!B25","v":"Renewable"},null,{"$f":"'2.WEF Inventory Base'!L26","v":"N"},{"$f":"'2.WEF Inventory Base'!B26","v":"Other"},null,{"$f":"'2.WEF Inventory Base'!L33","v":"N"},{"$f":"'2.WEF Inventory Base'!B33","v":"Self Produced"},null,{"$f":"'2.WEF Inventory Base'!L34","v":"N"},{"$f":"'2.WEF Inventory Base'!B34","v":"Purchased Locally"},null,{"$f":"'2.WEF Inventory Base'!L35","v":"N"},{"$f":"'2.WEF Inventory Base'!B35","v":"Imported"},null,{"$f":"'2.WEF Inventory Base'!L36","v":"N"},{"$f":"'2.WEF Inventory Base'!B36","v":"Exports"},null,{"$f":"'2.WEF Inventory Base'!L37","v":"N"},{"$f":"'2.WEF Inventory Base'!B37","v":0},null,{"$f":"'2.WEF Inventory Base'!L38","v":"N"},{"$f":"'2.WEF Inventory Base'!B38","v":0}]
["Source Description",null,null,"x",null,null,"x",null,null,"x",null,null,"x",null,null,"x",null,null,"x",null,null,null,"Primarily wood and dairy cattle dung",null,null,null,null,null,"Power line supplied",null,null,"Canisters purchased in markets"]
["Use Description","X",null,"x",{"$f":"'2.WEF Inventory Base'!M9","v":0},null,"x",{"$f":"'2.WEF Inventory Base'!M10","v":0},null,"x",{"$f":"'2.WEF Inventory Base'!M11","v":0},null,"x",{"$f":"'2.WEF Inventory Base'!M12","v":0},null,"x",{"$f":"'2.WEF Inventory Base'!M13","v":0},null,"x",{"$f":"'2.WEF Inventory Base'!M14","v":0},null,null,{"$f":"'2.WEF Inventory Base'!M21","v":0},null,null,{"$f":"'2.WEF Inventory Base'!M22","v":0},null,null,{"$f":"'2.WEF Inventory Base'!M23","v":0},null,null,{"$f":"'2.WEF Inventory Base'!M24","v":0},null,null,{"$f":"'2.WEF Inventory Base'!M25","v":0},null,null,{"$f":"'2.WEF Inventory Base'!M26","v":0},null,null,{"$f":"'2.WEF Inventory Base'!M33","v":0},null,null,{"$f":"'2.WEF Inventory Base'!M34","v":0},null,null,{"$f":"'2.WEF Inventory Base'!M35","v":0},null,null,{"$f":"'2.WEF Inventory Base'!M36","v":0},null,null,{"$f":"'2.WEF Inventory Base'!M37","v":0},null,null,{"$f":"'2.WEF Inventory Base'!M38","v":0},"Important Interconnections"]
["Availability (Other)","X",null,"X",null,null,"X",null,null,"X",null,null,"X",null,null,"X",null,null,"X"]
["Processing, treatment, conversion",{"$f":"MAX(D11:BE11)","v":0},null,0,null,null,0,null,null,0,null,null,0,null,null,0,null,null,0,null,null,0,null,null,0,null,null,0,null,null,0,null,null,0,null,null,0,null,null,0,null,null,0,null,null,0,null,null,0,null,null,0,null,null,0]
["Storage (long term, short term)",{"$f":"MAX(D12:BE12)","v":0},null,0,null,null,0,null,null,0,null,null,0,null,null,0,null,null,0,null,null,0,null,null,0,null,null,0,null,null,0,null,null,0,null,null,0,null,null,0,null,null,0,null,null,0,null,null,0,null,null,0,null,null,0]
["Distribution (pipes, canals, etc.)",{"$f":"MAX(D13:BE13)","v":0},null,0,null,null,0,null,null,0,null,null,0,null,null,0,null,null,0,null,null,0,null,null,0,null,null,0,null,null,0,null,null,0,null,null,0,null,null,0,null,null,0,null,null,0,null,null,0,null,null,0,null,null,0]
["Markets",{"$f":"MAX(D14:BE14)","v":0},null,0,null,null,0,null,null,0,null,null,0,null,null,0,null,null,0,null,null,0,null,null,0,null,null,0,null,null,0,null,null,0,null,null,0,null,null,0,null,null,0,null,null,0,null,null,0,null,null,0,null,null,0]
["Access","X","X","X","X","X","X","X","X","X","X","X","X","X","X","X","X","X","X","X","X","X","X","X","X","X","X","X","X","X","X","X","X","X","X","X","X","X","X","X","X","X","X","X","X","X","X","X","X","X","X","X","X","X","X","X","X"]
["Purchasing power (livelihood income, remittances, credit)\n",{"$f":"MAX(D16:BE16)","v":0},null,0,null,null,0,null,null,0,null,null,0,null,null,0,null,null,0,null,null,0,null,null,0,null,null,0,null,null,0,null,null,0,null,null,0,null,null,0,null,null,0,null,null,0,null,null,0,null,null,0,null,null,0]
["Aid (direct provision, safety nets, subsidies)\n",{"$f":"MAX(D17:BE17)","v":0},null,0,null,null,0,null,null,0,null,null,0,null,null,0,null,null,0,null,null,0,null,null,0,null,null,0,null,null,0,null,null,0,null,null,0,null,null,0,null,null,0,null,null,0,null,null,0,null,null,0,null,null,0]
["Self-production (water wells, off-grid power, individual/community gardens)\n",{"$f":"MAX(D18:BE18)","v":0},null,0,null,null,0,null,null,0,null,null,0,null,null,0,null,null,0,null,null,0,null,null,0,null,null,0,null,null,0,null,null,0,null,null,0,null,null,0,null,null,0,null,null,0,null,null,0,null,null,0,null,null,0]
["Barter",{"$f":"MAX(D19:BE19)","v":0},null,0,null,null,0,null,null,0,null,null,0,null,null,0,null,null,0,null,null,0,null,null,0,null,null,0,null,null,0,null,null,0,null,null,0,null,null,0,null,null,0,null,null,0,null,null,0,null,null,0,null,null,0]
["Supporting Infrastructure","X","X","X","X","X","X","X","X","X","X","X","X","X","X","X","X","X","X","X","X","X","X","X","X","X","X","X","X","X","X","X","X","X","X","X","X","X","X","X","X","X","X","X","X","X","X","X","X","X","X","X","X","X","X","X","X"]
["Built Infrastructure",{"$f":"MAX(D21:BE21)","v":0},null,0,null,null,0,null,null,0,null,null,0,null,null,0,null,null,0,null,null,0,null,null,0,null,null,0,null,null,0,null,null,0,null,null,0,null,null,0,null,null,0,null,null,0]
["     Transportation",0,null,0,null,null,0,null,null,0,null,null,0,null,null,0,null,null,0,null,null,0,null,null,0,null,null,0,null,null,0,null,null,0,null,null,0,null,null,0,null,null,0,null,null,0,null,null,0,null,null,0,null,null,0]
["     Communication",0,null,0,null,null,0,null,null,0,null,null,0,null,null,0,null,null,0,null,null,0,null,null,0,null,null,0,null,null,0,null,null,0,null,null,0,null,null,0,null,null,0,null,null,0,null,null,0,null,null,0,null,null,0]
["     Waste removal/disposal",0,null,0,null,null,0,null,null,0,null,null,0,null,null,0,null,null,0,null,null,0,null,null,0,null,null,0,null,null,0,null,null,0,null,null,0,null,null,0,null,null,0,null,null,0,null,null,0,null,null,0,null,null,0]
["Natural Infrastructure",0,null,0,null,null,0,null,null,0,null,null,0,null,null,0,null,null,0,null,null,0,null,null,0,null,null,0,null,null,0,null,null,0,null,null,0,null,null,0,null,null,0,null,null,0]
["     Air quality maintenance",0,null,0,null,null,0,null,null,0,null,null,0,null,null,0,null,null,0,null,null,0,null,null,0,null,null,0,null,null,0,null,null,0,null,null,0,null,null,0,null,null,0,null,null,0,null,null,0,null,null,0,null,null,0]
["     Erosion control",0,null,0,null,null,0,null,null,0,null,null,0,null,null,0,null,null,0,null,null,0,null,null,0,null,null,0,null,null,0,null,null,0,null,null,0,null,null,0,null,null,0,null,null,0,null,null,0,null,null,0,null,null,0]
["     Water purification and treatment",0,null,0,null,null,0,null,null,0,null,null,0,null,null,0,null,null,0,null,null,0,null,null,0,null,null,0,null,null,0,null,null,0,null,null,0,null,null,0,null,null,0,null,null,0,null,null,0,null,null,0,null,null,0]
["     Biological control",0,null,0,null,null,0,null,null,0,null,null,0,null,null,0,null,null,0,null,null,0,null,null,0,null,null,0,null,null,0,null,null,0,null,null,0,null,null,0,null,null,0,null,null,0,null,null,0,null,null,0,null,null,0]
["     Pollination",0,null,0,null,null,0,null,null,0,null,null,0,null,null,0,null,null,0,null,null,0,null,null,0,null,null,0,null,null,0,null,null,0,null,null,0,null,null,0,null,null,0,null,null,0,null,null,0,null,null,0,null,null,0]
["     Storm protection",0,null,0,null,null,0,null,null,0,null,null,0,null,null,0,null,null,0,null,null,0,null,null,0,null,null,0,null,null,0,null,null,0,null,null,0,null,null,0,null,null,0,null,null,0,null,null,0,null,null,0,null,null,0]
["Supporting Institutions and Policies","X","X","X","X","X","X","X","X","X","X","X","X","X","X","X","X","X","X","X","X","X","X","X","X","X","X","X","X","X","X","X","X","X","X","X","X","X","X","X","X","X","X","X","X","X","X","X","X","X","X","X","X","X","X","X","X"]
["Institutions",0,null,0,null,null,0,null,null,0,null,null,0,null,null,0,null,null,0,null,null,0,null,null,0,null,null,0,null,null,0,null,null,0,null,null,0,null,null,0,null,null,0,null,null,0]
["    Regulatory Organizations",{"$f":"MAX(D34:BE34)","v":0},null,0,null,null,0,null,null,0,null,null,0,null,null,0,null,null,0,null,null,0,null,null,0,null,null,0,null,null,0,null,null,0,null,null,0,null,null,0,null,null,0,null,null,0,null,null,0,null,null,0,null,null,0]
["     Resource co-ops",0,null,0,null,null,0,null,null,0,null,null,0,null,null,0,null,null,0,null,null,0,null,null,0,null,null,0,null,null,0,null,null,0,null,null,0,null,null,0,null,null,0,null,null,0,null,null,0,null,null,0,null,null,0]
["     Safety oversight agencies",0,null,0,null,null,0,null,null,0,null,null,0,null,null,0,null,null,0,null,null,0,null,null,0,null,null,0,null,null,0,null,null,0,null,null,0,null,null,0,null,null,0,null,null,0,null,null,0,null,null,0,null,null,0]
["     Education and training",0,null,0,null,null,0,null,null,0,null,null,0,null,null,0,null,null,0,null,null,0,null,null,0,null,null,0,null,null,0,null,null,0,null,null,0,null,null,0,null,null,0,null,null,0,null,null,0,null,null,0,null,null,0]
["     Law enforcement and security",0,null,0,null,null,0,null,null,0,null,null,0,null,null,0,null,null,0,null,null,0,null,null,0,null,null,0,null,null,0,null,null,0,null,null,0,null,null,0,null,null,0,null,null,0,null,null,0,null,null,0,null,null,0]
["Policies and Plans",0,null,0,null,null,0,null,null,0,null,null,0,null,null,0,null,null,0,null,null,0,null,null,0,null,null,0,null,null,0,null,null,0,null,null,0,null,null,0,null,null,0,null,null,0]
["     Resource use",0,null,0,null,null,0,null,null,0,null,null,0,null,null,0,null,null,0,null,null,0,null,null,0,null,null,0,null,null,0,null,null,0,null,null,0,null,null,0,null,null,0,null,null,0,null,null,0,null,null,0,null,null,0]
["     Climate change adaptation",0,null,0,null,null,0,null,null,0,null,null,0,null,null,0,null,null,0,null,null,0,null,null,0,null,null,0,null,null,0,null,null,0,null,null,0,null,null,0,null,null,0,null,null,0,null,null,0,null,null,0,null,null,0]
["     Disaster recovery and risk management ",0,null,0,null,null,0,null,null,0,null,null,0,null,null,0,null,null,0,null,null,0,null,null,0,null,null,0,null,null,0,null,null,0,null,null,0,null,null,0,null,null,0,null,null,0,null,null,0,null,null,0,null,null,0]
["     R&D and Innovation",0,null,0,null,null,0,null,null,0,null,null,0,null,null,0,null,null,0,null,null,0,null,null,0,null,null,0,null,null,0,null,null,0,null,null,0,null,null,0,null,null,0,null,null,0,null,null,0,null,null,0,null,null,0]

{"sheet":"4.WEF Diagram-Base","index":4,"n_rows":42,"n_cols":31,"rows_kept":42,"cut":false,"hidden":false,"merged":[[3,1,3,3]]}
[null,"WEF Security"]
[null,"WEF -Baseline",null,null,null,null,null,null,null,null,null,null,null,null,null,null,null,null,null,null,null,null,"PALETTE"]
[null,{"$f":"'2.WEF Inventory Base'!C3","v":"Community A"},null,null,null,null,null,null,null,null,null,null,null,null,null,null,null,null,null,null,null,null,"Source Palette",null,null,null,null,null,null,null,"Use Palette"]
[null,"User Guidance Notes"]
[]
[]
[]
[]
[]
[]
[]
[]
[]
[]
[]
[]
[]
[]
[]
[]
[]
[]
[]
[]
[]
[]
[]
[]
[]
[]
[]
[]
[]
[]
[]
[]
[]
[]
[null,null,null,null,null,null,null,null,null,null,null,null,null,null,null,null,null,null,null,null,null,null,"Source - Use Connections"]
[]
[]
[null,null,null,null,null,null,null,null,null,null,null,null,null,null,null,null,null,null,null,null,null,null,"Source - Source Connections"]

{"sheet":"5.Mining Profile","index":5,"n_rows":57,"n_cols":8,"rows_kept":57,"cut":false,"hidden":false,"merged":[[12,2,12,4],[12,5,12,7]]}
[null,"WEF Security "]
[null,"Mining Operation Overview"]
[null,"User Guidance Notes"]
[]
[null,"General"]
[null,"Name of Mine Operation:"]
[null,"Company:"]
[null,"Primary Ore Type Being Mined:"]
[null,"Primary Mining Method:"]
[null,"Year started:"]
[null,"Previouslyy mined?:","Y"]
[null,"Current Stage of Mining:","Development"]
[null,null,"Full Operation",null,null,"Closure"]
[null,"Mine Personnel","Description","Quantity","Unit","Description","Quantity","Unit"]
[null,"Number of employees:",null,null,"per",null,null,{"$f":"E15","v":"per"}]
[null,"% of employees that are local:",null,null,"%",null,null,{"$f":"E16","v":"%"}]
[null,"Average salary of local employees:",null,null,"$ USD/yr",null,null,{"$f":"E17","v":"$ USD/yr"}]
[null,"Land use  ","Description","Quantity","Unit","Description","Quantity","Unit"]
[null,"Roads:",null,null,"km",null,null,{"$f":"E19","v":"km"}]
[null,"Total mine footprint:",null,null,"km2",null,null,"km2"]
[null,"Land type disturbed 1:",null,null,"km2",null,null,"km2"]
[null,"2:",null,null,"km2",null,null,"km2"]
[null,"3:",null,null,"km2",null,null,"km2"]
[null,"Water use:","Description","Quantity","Unit","Description","Quantity","Unit"]
[null,"Surface water use:",null,null,{"$f":"[2]Properties!$A$48","v":"M3/yr"},null,null,{"$f":"E25","v":"M3/yr"}]
[null,"Groundwater use:",null,null,{"$f":"[2]Properties!$A$48","v":"M3/yr"},null,null,{"$f":"E26","v":"M3/yr"}]
[null,"Energy use:","Description","Quantity","Unit","Description","Quantity","Unit"]
[null,"Primary electricity source: "]
[null,"Secondary electricity source:"]
[null,"Total electricity use: ",null,null,"kWh",null,null,{"$f":"E30","v":"kWh"}]
[null,"Total electricity generated:",null,null,"kWh",null,null,{"$f":"E31","v":"kWh"}]
[null,"Food use:","Description","Quantity","Unit","Description","Quantity","Unit"]
[null,"Food produced onsite:",null,null,"%",null,null,{"$f":"E33","v":"%"}]
[null,"Food purchased locally:",null,null,"%",null,null,{"$f":"E34","v":"%"}]
[null,"Food imported:",null,null,"%",null,null,{"$f":"E35","v":"%"}]
[null,"Waste","Description","Quantity","Unit","Description","Quantity","Unit"]
[null,"Mine Pit"]
[null,"Effluent from mine dewatering to surface water:",null,null,"M3/yr",null,null,"km3"]
[null,"Effluent from mine dewatering to groundwater:",null,null,{"$f":"[2]Properties!$A$48","v":"M3/yr"},null,null,{"$f":"[2]Properties!$A$48","v":"M3/yr"}]
[null,"Leach Piles:"]
[null,"Volume: ",null,null,"m3",null,null,"m3"]
[null,"Area: ",null,null,"m2",null,null,"m2"]
[null,"Constituents of Concern:"]
[null,"Tailings Piles:"]
[null,"Volume: ",null,null,"m3",null,null,"m3"]
[null,"Area: ",null,null,"km2",null,null,"km2"]
[null,"Constituents of Concern:"]
[null,"Tailings water effluent to surface water: ",null,null,"m3/yr",null,null,"m3/yr"]
[null,"Tailings water seepage to groundwater: ",null,null,"cm/yr",null,null,"cm/yr"]
[null,"Waste Rock Piles:"]
[null,"Volume: ",null,null,"m3",null,null,"m3"]
[null,"Area: ",null,null,"m2",null,null,"m2"]
[null,"Constituents of Concern:"]
[null,"Waste rock effluent to surface water: ",null,null,"m3/yr",null,null,"m3/yr"]
[null,"Waste rock seepage to groundwater: ",null,null,"cm/yr",null,null,"cm/yr"]
[null,"Process waste  "]
[null,"Process waste water effluent to tailings pond: ",null,null,"m3/yr",null,null,{"$f":"[2]Properties!$A$48","v":"M3/yr"}]

{"sheet":"6.WEF Inventory Mine","index":6,"n_rows":40,"n_cols":31,"rows_kept":40,"cut":false,"hidden":false,"merged":[[3,1,3,3],[7,25,8,25],[19,25,20,25],[31,25,32,25],[31,3,32,3],[19,3,20,3],[7,3,8,3],[7,29,8,29],[19,29,20,29],[31,29,32,29],[6,5,6,12],[18,5,18,12],[19,14,20,14],[30,5,30,12],[7,21,8,21],[19,21,20,21],[31,21,32,21],[31,14,32,14],[7,14,8,14]]}
[null,"WEF Security"]
[null,"Use-Source Mining"]
[null,{"$f":"'2.WEF Inventory Base'!C3","v":"Community A"}]
[null,"User Guidance Notes"]
[]
[null,"INVENTORY",null,null,null,null,null,null,null,null,null,null,null,null,null,null,null,null,null,"CONNECTIONS"]
[null,"WATER",null,null,null,"Uses (%)"]
[null,null,null,"Change of Source",null,"Agriculture \n(non-irrigation)","Commercial","Domestic Use","Energy","Industrial","Irrigation","Transport","Other","Mining","Relevant",null,null,null,null,"Water Source Code","Prior Connection Direction","Change in Connection","WATER","Energy Source Code","Prior Connection Direction","Change in Connection","ENERGY","Food Source Code","Prior Connection Direction","Change in Connection","FOOD"]
[null,"Sources",null,null,"Change Description",0,0,0,0,0,0,0,0,0,null,"Use Description",null,null,null,"Key","Key",null,"Water Connection Description","Key","Key",null,"Energy Connection Description","Key","Key",null,"Food Connection Description"]
[null,"Surface Water","W.1",0,null,{"$f":"'2.WEF Inventory Base'!D9","v":0},{"$f":"'2.WEF Inventory Base'!E9","v":0},{"$f":"'2.WEF Inventory Base'!F9","v":0},{"$f":"'2.WEF Inventory Base'!G9","v":0},{"$f":"'2.WEF Inventory Base'!H9","v":0},{"$f":"'2.WEF Inventory Base'!I9","v":0},{"$f":"'2.WEF Inventory Base'!J9","v":0},{"$f":"'2.WEF Inventory Base'!K9","v":0},0,{"$f":"IF(SUM(F10:M10)>Properties!$B$5,\"Y\",\"N\")","v":"N"},{"$f":"'2.WEF Inventory Base'!M9","v":0},null,null,null,{"$f":"'2.WEF Inventory Base'!S9","v":0},{"$f":"'2.WEF Inventory Base'!T9","v":0},0,{"$f":"'2.WEF Inventory Base'!U9","v":0},{"$f":"'2.WEF Inventory Base'!V9","v":0},{"$f":"'2.WEF Inventory Base'!W9","v":0},0,{"$f":"'2.WEF Inventory Base'!X9","v":0},{"$f":"'2.WEF Inventory Base'!Y9","v":0},{"$f":"'2.WEF Inventory Base'!Z9","v":0},0,{"$f":"'2.WEF Inventory Base'!AA9","v":0}]
[null,"Groundwater","W.2",0,null,{"$f":"'2.WEF Inventory Base'!D10","v":0},{"$f":"'2.WEF Inventory Base'!E10","v":0},{"$f":"'2.WEF Inventory Base'!F10","v":0},{"$f":"'2.WEF Inventory Base'!G10","v":0},0,{"$f":"'2.WEF Inventory Base'!I10","v":0},{"$f":"'2.WEF Inventory Base'!J10","v":0},{"$f":"'2.WEF Inventory Base'!K10","v":0},0,{"$f":"IF(SUM(F11:M11)>Properties!$B$5,\"Y\",\"N\")","v":"N"},{"$f":"'2.WEF Inventory Base'!M10","v":0},null,null,null,{"$f":"'2.WEF Inventory Base'!S10","v":0},{"$f":"'2.WEF Inventory Base'!T10","v":0},0,{"$f":"'2.WEF Inventory Base'!U10","v":0},{"$f":"'2.WEF Inventory Base'!V10","v":0},{"$f":"'2.WEF Inventory Base'!W10","v":0},0,{"$f":"'2.WEF Inventory Base'!X10","v":0},{"$f":"'2.WEF Inventory Base'!Y10","v":0},{"$f":"'2.WEF Inventory Base'!Z10","v":0},0,{"$f":"'2.WEF Inventory Base'!AA10","v":0}]
[null,"Storage Water","W.3",0,null,{"$f":"'2.WEF Inventory Base'!D11","v":0},{"$f":"'2.WEF Inventory Base'!E11","v":0},{"$f":"'2.WEF Inventory Base'!F11","v":0},{"$f":"'2.WEF Inventory Base'!G11","v":0},{"$f":"'2.WEF Inventory Base'!H11","v":0},{"$f":"'2.WEF Inventory Base'!I11","v":0},{"$f":"'2.WEF Inventory Base'!J11","v":0},{"$f":"'2.WEF Inventory Base'!K11","v":0},0,{"$f":"IF(SUM(F12:M12)>Properties!$B$5,\"Y\",\"N\")","v":"N"},{"$f":"'2.WEF Inventory Base'!M11","v":0},null,null,null,{"$f":"'2.WEF Inventory Base'!S11","v":0},{"$f":"'2.WEF Inventory Base'!T11","v":0},0,{"$f":"'2.WEF Inventory Base'!U11","v":0},{"$f":"'2.WEF Inventory Base'!V11","v":0},{"$f":"'2.WEF Inventory Base'!W11","v":0},0,{"$f":"'2.WEF Inventory Base'!X11","v":0},{"$f":"'2.WEF Inventory Base'!Y11","v":0},{"$f":"'2.WEF Inventory Base'!Z11","v":0},0,{"$f":"'2.WEF Inventory Base'!AA11","v":0}]
[null,"Rainwater Harvest","W.4",0,null,{"$f":"'2.WEF Inventory Base'!D12","v":0},{"$f":"'2.WEF Inventory Base'!E12","v":0},{"$f":"'2.WEF Inventory Base'!F12","v":0},{"$f":"'2.WEF Inventory Base'!G12","v":0},{"$f":"'2.WEF Inventory Base'!H12","v":0},{"$f":"'2.WEF Inventory Base'!I12","v":0},{"$f":"'2.WEF Inventory Base'!J12","v":0},{"$f":"'2.WEF Inventory Base'!K12","v":0},0,{"$f":"IF(SUM(F13:M13)>Properties!$B$5,\"Y\",\"N\")","v":"N"},{"$f":"'2.WEF Inventory Base'!M12","v":0},null,null,null,{"$f":"'2.WEF Inventory Base'!S12","v":0},{"$f":"'2.WEF Inventory Base'!T12","v":0},0,{"$f":"'2.WEF Inventory Base'!U12","v":0},{"$f":"'2.WEF Inventory Base'!V12","v":0},{"$f":"'2.WEF Inventory Base'!W12","v":0},0,{"$f":"'2.WEF Inventory Base'!X12","v":0},{"$f":"'2.WEF Inventory Base'!Y12","v":0},{"$f":"'2.WEF Inventory Base'!Z12","v":0},0,{"$f":"'2.WEF Inventory Base'!AA12","v":0}]
[null,"Imported","W.5",0,null,{"$f":"'2.WEF Inventory Base'!D13","v":0},{"$f":"'2.WEF Inventory Base'!E13","v":0},{"$f":"'2.WEF Inventory Base'!F13","v":0},{"$f":"'2.WEF Inventory Base'!G13","v":0},{"$f":"'2.WEF Inventory Base'!H13","v":0},{"$f":"'2.WEF Inventory Base'!I13","v":0},{"$f":"'2.WEF Inventory Base'!J13","v":0},{"$f":"'2.WEF Inventory Base'!K13","v":0},0,{"$f":"IF(SUM(F14:M14)>Properties!$B$5,\"Y\",\"N\")","v":"N"},{"$f":"'2.WEF Inventory Base'!M13","v":0},null,null,null,{"$f":"'2.WEF Inventory Base'!S13","v":0},{"$f":"'2.WEF Inventory Base'!T13","v":0},0,{"$f":"'2.WEF Inventory Base'!U13","v":0},{"$f":"'2.WEF Inventory Base'!V13","v":0},{"$f":"'2.WEF Inventory Base'!W13","v":0},0,null,{"$f":"'2.WEF Inventory Base'!Y13","v":0},{"$f":"'2.WEF Inventory Base'!Z13","v":0},0,{"$f":"'2.WEF Inventory Base'!AA13","v":0}]
[null,"Other","W.6",0,null,{"$f":"'2.WEF Inventory Base'!D14","v":0},{"$f":"'2.WEF Inventory Base'!E14","v":0},{"$f":"'2.WEF Inventory Base'!F14","v":0},{"$f":"'2.WEF Inventory Base'!G14","v":0},{"$f":"'2.WEF Inventory Base'!H14","v":0},{"$f":"'2.WEF Inventory Base'!I14","v":0},{"$f":"'2.WEF Inventory Base'!J14","v":0},{"$f":"'2.WEF Inventory Base'!K14","v":0},0,{"$f":"IF(SUM(F15:M15)>Properties!$B$5,\"Y\",\"N\")","v":"N"},{"$f":"'2.WEF Inventory Base'!M14","v":0},null,null,null,{"$f":"'2.WEF Inventory Base'!S14","v":0},{"$f":"'2.WEF Inventory Base'!T14","v":0},0,{"$f":"'2.WEF Inventory Base'!U14","v":0},{"$f":"'2.WEF Inventory Base'!V14","v":0},{"$f":"'2.WEF Inventory Base'!W14","v":0},0,{"$f":"'2.WEF Inventory Base'!X14","v":0},{"$f":"'2.WEF Inventory Base'!Y14","v":0},{"$f":"'2.WEF Inventory Base'!Z14","v":0},0,{"$f":"'2.WEF Inventory Base'!AA14","v":0}]
[null,null,null,null,"Total Score",{"$f":"SUM(F10:F15)","v":0},{"$f":"SUM(G10:G15)","v":0},0,0,0,0,0,0,0]
[]
[]
[null,"ENERGY",null,null,null,"Uses (%)"]
[null,null,null,"Change of Source",null,"Cooking","Household (e.g. Lighting)","Irrigation","Business","Refrigeration/ Storage","Transportation","Industrial","Other","Mining","Relevant",null,null,null,null,"Water Source Code","Prior Connection Direction","Change in Connection","WATER","Energy Source Code","Prior Connection Direction","Change in Connection","ENERGY","Food Source Code","Prior Connection Direction","Change in Connection","FOOD"]
[null,"Sources",null,null,"Change Description",0,0,0,0,0,0,0,0,0,null,"Use Description",null,null,null,"Key","Key",null,"Water Connection Description","Key","Key",null,"Energy Connection Description","Key","Key",null,"Food Connection Description"]
[null,"Biomass (Wood)","E.1",0,null,{"$f":"'2.WEF Inventory Base'!D21","v":0},{"$f":"'2.WEF Inventory Base'!E21","v":0},{"$f":"'2.WEF Inventory Base'!F21","v":0},{"$f":"'2.WEF Inventory Base'!G21","v":0},{"$f":"'2.WEF Inventory Base'!H21","v":0},{"$f":"'2.WEF Inventory Base'!I21","v":0},{"$f":"'2.WEF Inventory Base'!J21","v":0},{"$f":"'2.WEF Inventory Base'!K21","v":0},0,{"$f":"IF(SUM(F22:M22)>Properties!$B$5,\"Y\",\"N\")","v":"N"},{"$f":"'2.WEF Inventory Base'!M21","v":0},null,null,null,{"$f":"'2.WEF Inventory Base'!S21","v":0},{"$f":"'2.WEF Inventory Base'!T21","v":0},0,{"$f":"'2.WEF Inventory Base'!U21","v":0},{"$f":"'2.WEF Inventory Base'!V21","v":0},{"$f":"'2.WEF Inventory Base'!W21","v":0},0,{"$f":"'2.WEF Inventory Base'!X21","v":0},{"$f":"'2.WEF Inventory Base'!Y21","v":0},{"$f":"'2.WEF Inventory Base'!Z21","v":0},0,{"$f":"'2.WEF Inventory Base'!AA21","v":0}]
[null,"Diesel, Petrol","E.2",0,null,{"$f":"'2.WEF Inventory Base'!D22","v":0},{"$f":"'2.WEF Inventory Base'!E22","v":0},{"$f":"'2.WEF Inventory Base'!F22","v":0},{"$f":"'2.WEF Inventory Base'!G22","v":0},{"$f":"'2.WEF Inventory Base'!H22","v":0},{"$f":"'2.WEF Inventory Base'!I22","v":0},{"$f":"'2.WEF Inventory Base'!J22","v":0},{"$f":"'2.WEF Inventory Base'!K22","v":0},0,{"$f":"IF(SUM(F23:M23)>Properties!$B$5,\"Y\",\"N\")","v":"N"},{"$f":"'2.WEF Inventory Base'!M22","v":0},null,null,null,{"$f":"'2.WEF Inventory Base'!S22","v":0},{"$f":"'2.WEF Inventory Base'!T22","v":0},0,{"$f":"'2.WEF Inventory Base'!U22","v":0},{"$f":"'2.WEF Inventory Base'!V22","v":0},{"$f":"'2.WEF Inventory Base'!W22","v":0},0,{"$f":"'2.WEF Inventory Base'!X22","v":0},{"$f":"'2.WEF Inventory Base'!Y22","v":0},{"$f":"'2.WEF Inventory Base'!Z22","v":0},0,{"$f":"'2.WEF Inventory Base'!AA22","v":0}]
[null,"Electric Grid","E.3",0,null,{"$f":"'2.WEF Inventory Base'!D23","v":0},{"$f":"'2.WEF Inventory Base'!E23","v":0},{"$f":"'2.WEF Inventory Base'!F23","v":0},{"$f":"'2.WEF Inventory Base'!G23","v":0},{"$f":"'2.WEF Inventory Base'!H23","v":0},{"$f":"'2.WEF Inventory Base'!I23","v":0},{"$f":"'2.WEF Inventory Base'!J23","v":0},{"$f":"'2.WEF Inventory Base'!K23","v":0},0,{"$f":"IF(SUM(F24:M24)>Properties!$B$5,\"Y\",\"N\")","v":"N"},{"$f":"'2.WEF Inventory Base'!M23","v":0},null,null,null,{"$f":"'2.WEF Inventory Base'!S23","v":0},{"$f":"'2.WEF Inventory Base'!T23","v":0},0,{"$f":"'2.WEF Inventory Base'!U23","v":0},{"$f":"'2.WEF Inventory Base'!V23","v":0},{"$f":"'2.WEF Inventory Base'!W23","v":0},0,{"$f":"'2.WEF Inventory Base'!X23","v":0},{"$f":"'2.WEF Inventory Base'!Y23","v":0},{"$f":"'2.WEF Inventory Base'!Z23","v":0},0,{"$f":"'2.WEF Inventory Base'!AA23","v":0}]
[null,"Propane (Gas)","E.4",0,null,{"$f":"'2.WEF Inventory Base'!D24","v":0},{"$f":"'2.WEF Inventory Base'!E24","v":0},{"$f":"'2.WEF Inventory Base'!F24","v":0},{"$f":"'2.WEF Inventory Base'!G24","v":0},{"$f":"'2.WEF Inventory Base'!H24","v":0},{"$f":"'2.WEF Inventory Base'!I24","v":0},{"$f":"'2.WEF Inventory Base'!J24","v":0},{"$f":"'2.WEF Inventory Base'!K24","v":0},0,{"$f":"IF(SUM(F25:M25)>Properties!$B$5,\"Y\",\"N\")","v":"N"},{"$f":"'2.WEF Inventory Base'!M24","v":0},null,null,null,{"$f":"'2.WEF Inventory Base'!S24","v":0},{"$f":"'2.WEF Inventory Base'!T24","v":0},0,{"$f":"'2.WEF Inventory Base'!U24","v":0},{"$f":"'2.WEF Inventory Base'!V24","v":0},{"$f":"'2.WEF Inventory Base'!W24","v":0},0,null,{"$f":"'2.WEF Inventory Base'!Y24","v":0},{"$f":"'2.WEF Inventory Base'!Z24","v":0},0,{"$f":"'2.WEF Inventory Base'!AA24","v":0}]
[null,"Renewable","E.5",0,null,{"$f":"'2.WEF Inventory Base'!D25","v":0},{"$f":"'2.WEF Inventory Base'!E25","v":0},{"$f":"'2.WEF Inventory Base'!F25","v":0},{"$f":"'2.WEF Inventory Base'!G25","v":0},{"$f":"'2.WEF Inventory Base'!H25","v":0},{"$f":"'2.WEF Inventory Base'!I25","v":0},{"$f":"'2.WEF Inventory Base'!J25","v":0},{"$f":"'2.WEF Inventory Base'!K25","v":0},0,{"$f":"IF(SUM(F26:M26)>Properties!$B$5,\"Y\",\"N\")","v":"N"},{"$f":"'2.WEF Inventory Base'!M25","v":0},null,null,null,{"$f":"'2.WEF Inventory Base'!S25","v":0},{"$f":"'2.WEF Inventory Base'!T25","v":0},0,{"$f":"'2.WEF Inventory Base'!U25","v":0},{"$f":"'2.WEF Inventory Base'!V25","v":0},{"$f":"'2.WEF Inventory Base'!W25","v":0},0,{"$f":"'2.WEF Inventory Base'!X25","v":0},{"$f":"'2.WEF Inventory Base'!Y25","v":0},{"$f":"'2.WEF Inventory Base'!Z25","v":0},0,{"$f":"'2.WEF Inventory Base'!AA25","v":0}]
[null,"Other","E.6",0,null,{"$f":"'2.WEF Inventory Base'!D26","v":0},{"$f":"'2.WEF Inventory Base'!E26","v":0},{"$f":"'2.WEF Inventory Base'!F26","v":0},{"$f":"'2.WEF Inventory Base'!G26","v":0},{"$f":"'2.WEF Inventory Base'!H26","v":0},{"$f":"'2.WEF Inventory Base'!I26","v":0},{"$f":"'2.WEF Inventory Base'!J26","v":0},{"$f":"'2.WEF Inventory Base'!K26","v":0},0,{"$f":"IF(SUM(F27:M27)>Properties!$B$5,\"Y\",\"N\")","v":"N"},{"$f":"'2.WEF Inventory Base'!M26","v":0},null,null,null,{"$f":"'2.WEF Inventory Base'!S26","v":0},{"$f":"'2.WEF Inventory Base'!T26","v":0},0,{"$f":"'2.WEF Inventory Base'!U26","v":0},{"$f":"'2.WEF Inventory Base'!V26","v":0},{"$f":"'2.WEF Inventory Base'!W26","v":0},0,{"$f":"'2.WEF Inventory Base'!X26","v":0},{"$f":"'2.WEF Inventory Base'!Y26","v":0},{"$f":"'2.WEF Inventory Base'!Z26","v":0},0,{"$f":"'2.WEF Inventory Base'!AA26","v":0}]
[null,null,null,null,"Total Score",{"$f":"SUM(F22:F27)","v":0},0,0,0,0,0,0,0,0]
[]
[]
[null,"FOOD",null,null,null,"Uses (%)"]
[null,null,null,"Change of Source",null,"Dairy","Fish/Seafood","Fruits","Grains","Meats","Nuts","Vegetables","Other","Mining","Relevant",null,null,null,null,"Water Source Code","Prior Connection Direction","Change in Connection","WATER","Energy Source Code","Prior Connection Direction","Change in Connection","ENERGY","Food Source Code","Prior Connection Direction","Change in Connection","FOOD"]
[null,"Sources",null,null,"Change Description",0,0,0,0,0,0,0,0,0,null,"Use Description",null,null,null,"Key","Key",null,"Water Connection Description","Key","Key",null,"Energy Connection Description","Key","Key",null,"Food Connection Description"]
[null,"Self Produced","F.1",0,null,{"$f":"'2.WEF Inventory Base'!D33","v":0},{"$f":"'2.WEF Inventory Base'!E33","v":0},{"$f":"'2.WEF Inventory Base'!F33","v":0},{"$f":"'2.WEF Inventory Base'!G33","v":0},{"$f":"'2.WEF Inventory Base'!H33","v":0},{"$f":"'2.WEF Inventory Base'!I33","v":0},{"$f":"'2.WEF Inventory Base'!J33","v":0},{"$f":"'2.WEF Inventory Base'!K33","v":0},0,{"$f":"IF(SUM(K34:N34)>Properties!$B$5,\"Y\",\"N\")","v":"N"},{"$f":"'2.WEF Inventory Base'!M33","v":0},null,null,null,{"$f":"'2.WEF Inventory Base'!S33","v":0},{"$f":"'2.WEF Inventory Base'!T33","v":0},0,{"$f":"'2.WEF Inventory Base'!U33","v":0},{"$f":"'2.WEF Inventory Base'!V33","v":0},{"$f":"'2.WEF Inventory Base'!W33","v":0},0,{"$f":"'2.WEF Inventory Base'!X33","v":0},{"$f":"'2.WEF Inventory Base'!Y33","v":0},{"$f":"'2.WEF Inventory Base'!Z33","v":0},0,{"$f":"'2.WEF Inventory Base'!AA33","v":0}]
[null,"Purchased Locally","F.2",0,null,{"$f":"'2.WEF Inventory Base'!D34","v":0},{"$f":"'2.WEF Inventory Base'!E34","v":0},{"$f":"'2.WEF Inventory Base'!F34","v":0},{"$f":"'2.WEF Inventory Base'!G34","v":0},{"$f":"'2.WEF Inventory Base'!H34","v":0},{"$f":"'2.WEF Inventory Base'!I34","v":0},{"$f":"'2.WEF Inventory Base'!J34","v":0},{"$f":"'2.WEF Inventory Base'!K34","v":0},0,{"$f":"IF(SUM(K35:N35)>Properties!$B$5,\"Y\",\"N\")","v":"N"},{"$f":"'2.WEF Inventory Base'!M34","v":0},null,null,null,{"$f":"'2.WEF Inventory Base'!S34","v":0},0,0,{"$f":"'2.WEF Inventory Base'!U34","v":0},{"$f":"'2.WEF Inventory Base'!V34","v":0},{"$f":"'2.WEF Inventory Base'!W34","v":0},0,{"$f":"'2.WEF Inventory Base'!X34","v":0},{"$f":"'2.WEF Inventory Base'!Y34","v":0},{"$f":"'2.WEF Inventory Base'!Z34","v":0},0,{"$f":"'2.WEF Inventory Base'!AA34","v":0}]
[null,"Imported","F.3",0,null,{"$f":"'2.WEF Inventory Base'!D35","v":0},{"$f":"'2.WEF Inventory Base'!E35","v":0},{"$f":"'2.WEF Inventory Base'!F35","v":0},{"$f":"'2.WEF Inventory Base'!G35","v":0},{"$f":"'2.WEF Inventory Base'!H35","v":0},{"$f":"'2.WEF Inventory Base'!I35","v":0},{"$f":"'2.WEF Inventory Base'!J35","v":0},{"$f":"'2.WEF Inventory Base'!K35","v":0},0,{"$f":"IF(SUM(K36:N36)>Properties!$B$5,\"Y\",\"N\")","v":"N"},{"$f":"'2.WEF Inventory Base'!M35","v":0},null,null,null,{"$f":"'2.WEF Inventory Base'!S35","v":0},{"$f":"'2.WEF Inventory Base'!T35","v":0},0,{"$f":"'2.WEF Inventory Base'!U35","v":0},{"$f":"'2.WEF Inventory Base'!V35","v":0},{"$f":"'2.WEF Inventory Base'!W35","v":0},0,{"$f":"'2.WEF Inventory Base'!X35","v":0},{"$f":"'2.WEF Inventory Base'!Y35","v":0},{"$f":"'2.WEF Inventory Base'!Z35","v":0},0,{"$f":"'2.WEF Inventory Base'!AA35","v":0}]
[null,"Other","F.4",0,null,{"$f":"'2.WEF Inventory Base'!D36","v":0},{"$f":"'2.WEF Inventory Base'!E36","v":0},{"$f":"'2.WEF Inventory Base'!F36","v":0},{"$f":"'2.WEF Inventory Base'!G36","v":0},{"$f":"'2.WEF Inventory Base'!H36","v":0},{"$f":"'2.WEF Inventory Base'!I36","v":0},{"$f":"'2.WEF Inventory Base'!J36","v":0},{"$f":"'2.WEF Inventory Base'!K36","v":0},0,{"$f":"IF(SUM(K37:N37)>Properties!$B$5,\"Y\",\"N\")","v":"N"},{"$f":"'2.WEF Inventory Base'!M36","v":0},null,null,null,{"$f":"'2.WEF Inventory Base'!S36","v":0},{"$f":"'2.WEF Inventory Base'!T36","v":0},0,{"$f":"'2.WEF Inventory Base'!U36","v":0},{"$f":"'2.WEF Inventory Base'!V36","v":0},{"$f":"'2.WEF Inventory Base'!W36","v":0},0,{"$f":"'2.WEF Inventory Base'!X36","v":0},{"$f":"'2.WEF Inventory Base'!Y36","v":0},{"$f":"'2.WEF Inventory Base'!Z36","v":0},0,{"$f":"'2.WEF Inventory Base'!AA36","v":0}]
[null,null,"F.5",0,null,{"$f":"'2.WEF Inventory Base'!D37","v":0},{"$f":"'2.WEF Inventory Base'!E37","v":0},{"$f":"'2.WEF Inventory Base'!F37","v":0},{"$f":"'2.WEF Inventory Base'!G37","v":0},{"$f":"'2.WEF Inventory Base'!H37","v":0},{"$f":"'2.WEF Inventory Base'!I37","v":0},{"$f":"'2.WEF Inventory Base'!J37","v":0},{"$f":"'2.WEF Inventory Base'!K37","v":0},0,{"$f":"IF(SUM(K38:N38)>Properties!$B$5,\"Y\",\"N\")","v":"N"},{"$f":"'2.WEF Inventory Base'!M37","v":0},null,null,null,{"$f":"'2.WEF Inventory Base'!S37","v":0},{"$f":"'2.WEF Inventory Base'!T37","v":0},0,{"$f":"'2.WEF Inventory Base'!U37","v":0},{"$f":"'2.WEF Inventory Base'!V37","v":0},{"$f":"'2.WEF Inventory Base'!W37","v":0},0,{"$f":"'2.WEF Inventory Base'!X37","v":0},{"$f":"'2.WEF Inventory Base'!Y37","v":0},{"$f":"'2.WEF Inventory Base'!Z37","v":0},0,{"$f":"'2.WEF Inventory Base'!AA37","v":0}]
[null,null,"F.6",0,null,{"$f":"'2.WEF Inventory Base'!D38","v":0},{"$f":"'2.WEF Inventory Base'!E38","v":0},{"$f":"'2.WEF Inventory Base'!F38","v":0},{"$f":"'2.WEF Inventory Base'!G38","v":0},{"$f":"'2.WEF Inventory Base'!H38","v":0},{"$f":"'2.WEF Inventory Base'!I38","v":0},{"$f":"'2.WEF Inventory Base'!J38","v":0},{"$f":"'2.WEF Inventory Base'!K38","v":0},0,{"$f":"IF(SUM(K39:N39)>Properties!$B$5,\"Y\",\"N\")","v":"N"},{"$f":"'2.WEF Inventory Base'!M38","v":0},null,null,null,{"$f":"'2.WEF Inventory Base'!S38","v":0},{"$f":"'2.WEF Inventory Base'!T38","v":0},0,{"$f":"'2.WEF Inventory Base'!U38","v":0},{"$f":"'2.WEF Inventory Base'!V38","v":0},{"$f":"'2.WEF Inventory Base'!W38","v":0},0,{"$f":"'2.WEF Inventory Base'!X38","v":0},{"$f":"'2.WEF Inventory Base'!Y38","v":0},{"$f":"'2.WEF Inventory Base'!Z38","v":0},0,{"$f":"'2.WEF Inventory Base'!AA38","v":0}]
[null,null,null,null,"Total Score",{"$f":"SUM(F34:F39)","v":0},0,0,0,0,0,0,0,0]

{"sheet":"7.WEF Influence-Mine","index":7,"n_rows":337,"n_cols":152,"rows_kept":337,"cut":false,"hidden":false,"merged":[[8,75,8,76],[8,63,8,64],[8,59,8,60],[8,55,8,56],[8,39,8,40],[8,43,8,44],[8,47,8,48],[8,51,8,52],[8,67,8,68],[8,71,8,72],[301,2,302,2],[301,3,302,3],[8,7,8,8],[8,15,8,16],[8,19,8,20],[10,4,11,4],[2,2,2,8],[8,27,8,28],[8,11,8,12],[10,2,11,2],[10,3,11,3],[8,23,8,24]]}
["WEF Security",null,null,null,null,null,null,null,null,null,null,null,null,null,null,null,null,null,null,null,null,null,null,null,null,null,null,null,null,null,null,null,null,null,null,null,null,null,null,null,null,null,null,null,null,null,null,null,null,null,null,null,null,null,null,null,null,null,null,null,null,null,null,null,null,null,null,null,null,null,null,null,null,null,null,null,null,"no"]
["WEF Status - Mining Worksheet"]
[null,{"$f":"'2.WEF Inventory Base'!C3","v":"Community A"}]
["Stage","Operational",{"$f":"VLOOKUP($B$4,Properties!$A$31:$B$33,2,FALSE)","v":0},{"$f":"VLOOKUP($B$4,Properties!$A$31:$C$32,3,FALSE)","v":6}]
["Aspect","Mineral Extraction",{"$f":"VLOOKUP($B$5,Properties!$A$53:$C$57,2,FALSE)","v":1},{"$f":"VLOOKUP($B$5,Properties!$A$53:$C$57,3,FALSE)","v":100}]
["Description",{"$f":"VLOOKUP(B5,Properties!A53:D57,4,FALSE)","v":"Surface (pit), Underground (tunnel), Placer, Hydraulic"},{"$f":"C4+C5","v":1}]
[null,"User Guidance Notes"]
["x","WEF SECURITY Components"]
["x","Source",null,null,null,null,{"$f":"'2.WEF Inventory Base'!$L9","v":"N"},{"$f":"'6.WEF Inventory Mine'!B10","v":"Surface Water"},null,null,{"$f":"'6.WEF Inventory Mine'!$O11","v":"N"},{"$f":"'6.WEF Inventory Mine'!B11","v":"Groundwater"},null,null,{"$f":"'6.WEF Inventory Mine'!$O12","v":"N"},{"$f":"'6.WEF Inventory Mine'!B12","v":"Storage Water"},null,null,{"$f":"'6.WEF Inventory Mine'!$O13","v":"N"},{"$f":"'6.WEF Inventory Mine'!B13","v":"Rainwater Harvest"},null,null,{"$f":"'6.WEF Inventory Mine'!$O14","v":"N"},{"$f":"'6.WEF Inventory Mine'!B14","v":"Imported"},null,null,{"$f":"'6.WEF Inventory Mine'!$O15","v":"N"},{"$f":"'6.WEF Inventory Mine'!B15","v":"Other"},null,null,{"$f":"'6.WEF Inventory Mine'!$O22","v":"N"},null,{"$f":"'6.WEF Inventory Mine'!B22","v":"Biomass (Wood)"},null,{"$f":"'6.WEF Inventory Mine'!$O23","v":"N"},null,{"$f":"'6.WEF Inventory Mine'!B23","v":"Diesel, Petrol"},null,{"$f":"'6.WEF Inventory Mine'!$O24","v":"N"},{"$f":"'6.WEF Inventory Mine'!B24","v":"Electric Grid"},null,null,{"$f":"'6.WEF Inventory Mine'!$O25","v":"N"},{"$f":"'6.WEF Inventory Mine'!B25","v":"Propane (Gas)"},null,null,{"$f":"'6.WEF Inventory Mine'!$O26","v":"N"},{"$f":"'6.WEF Inventory Mine'!B26","v":"Renewable"},null,null,{"$f":"'6.WEF Inventory Mine'!$O27","v":"N"},{"$f":"'6.WEF Inventory Mine'!B27","v":"Other"},null,null,{"$f":"'6.WEF Inventory Mine'!$O34","v":"N"},{"$f":"'6.WEF Inventory Mine'!B34","v":"Self Produced"},null,null,{"$f":"'6.WEF Inventory Mine'!$O35","v":"N"},{"$f":"'6.WEF Inventory Mine'!B35","v":"Purchased Locally"},null,null,{"$f":"'6.WEF Inventory Mine'!$O36","v":"N"},{"$f":"'6.WEF Inventory Mine'!B36","v":"Imported"},null,null,{"$f":"'6.WEF Inventory Mine'!$O37","v":"N"},{"$f":"'6.WEF Inventory Mine'!B37","v":"Other"},null,null,{"$f":"'6.WEF Inventory Mine'!$O39","v":"N"},{"$f":"'6.WEF Inventory Mine'!B39","v":0},null,null,{"$f":"'6.WEF Inventory Mine'!$O40","v":0},{"$f":"'6.WEF Inventory Mine'!B40","v":0}]
["x","Use",null,null,null,null,null,null,{"$f":"'6.WEF Inventory Mine'!P10","v":0},null,null,null,{"$f":"'6.WEF Inventory Mine'!P11","v":0},null,null,null,{"$f":"'6.WEF Inventory Mine'!P12","v":0},null,null,null,{"$f":"'6.WEF Inventory Mine'!P13","v":0},null,null,null,{"$f":"'6.WEF Inventory Mine'!L15","v":0},null,null,null,{"$f":"'6.WEF Inventory Mine'!P15","v":0},null,null,null,{"$f":"'6.WEF Inventory Mine'!P22","v":0},null,null,null,{"$f":"'6.WEF Inventory Mine'!P23","v":0},null,null,null,{"$f":"'6.WEF Inventory Mine'!P24","v":0},null,null,null,{"$f":"'6.WEF Inventory Mine'!P25","v":0},null,null,null,{"$f":"'6.WEF Inventory Mine'!P26","v":0},null,null,null,{"$f":"'6.WEF Inventory Mine'!P27","v":0},null,null,null,{"$f":"'6.WEF Inventory Mine'!P34","v":0},null,null,null,{"$f":"'6.WEF Inventory Mine'!P35","v":0},null,null,null,{"$f":"'6.WEF Inventory Mine'!P36","v":0},null,null,null,{"$f":"'6.WEF Inventory Mine'!P37","v":0},null,null,null,{"$f":"'6.WEF Inventory Mine'!P39","v":0},null,null,null,{"$f":"'6.WEF Inventory Mine'!P40","v":0},"Important Interconnnections"]
["x","Change in Use","Baseline","+ Change ","- Change "]
["x","Change in Source",null,null,null,null,"Baseline",0,null,null,"Baseline",0,null,null,"Baseline",0,null,null,"Baseline",0,null,null,"Baseline",0,null,null,"Baseline",0,null,null,"Baseline",0,null,null,"Baseline",0,null,null,"Baseline",0,null,null,"Baseline",0,null,null,"Baseline",0,null,null,"Baseline",0,null,null,"Baseline",0,null,null,"Baseline",0,null,null,"Baseline",0,null,null,"Baseline",0,null,null,"Baseline",0,null,null,"Baseline",0]
["x","Availability (Other)","X","X",null,1]
[{"$f":"INDEX(Properties!$B$61:$L$94,$F14,$C$6)","v":"X"},"Processing/treatment/conversion",{"$f":"'3.WEF Status-Base'!$B$11","v":0},{"$f":"MAX($H14,$L14,$P14,$T14,$X14,$AB14,$AF14,$AJ14,$AN14,$AR14,$AV14,$BD14,$AZ14,$BH14,$BL14,$BP14,$BT14,$BX14)","v":0},{"$f":"MIN($H14,$L14,$P14,$T14,$X14,$AB14,$AF14,$AJ14,$AN14,$AR14,$AV14,$BD14,$AZ14,$BH14,$BL14,$BP14,$BT14,$BX14)","v":0},2,0,0,0,null,0,0,0,null,0,0,0,null,0,0,0,null,0,0,0,null,0,0,0,null,0,0,0,null,0,0,0,null,0,0,0,null,0,0,0,null,0,0,0,null,0,0,0,null,0,0,0,null,0,0,0,null,0,0,0,null,0,0,0,null,0,0,0,null,0,0,0,0]
[{"$f":"INDEX(Properties!$B$61:$L$94,$F15,$C$6)","v":"X"},"Storage (short and long term)",{"$f":"'3.WEF Status-Base'!$B$12","v":0},{"$f":"MAX($H15,$L15,$P15,$T15,$X15,$AB15,$AF15,$AJ15,$AN15,$AR15,$AV15,$BD15,$AZ15,$BH15,$BL15,$BP15,$BT15,$BX15)","v":0},{"$f":"MIN($H15,$L15,$P15,$T15,$X15,$AB15,$AF15,$AJ15,$AN15,$AR15,$AV15,$BD15,$AZ15,$BH15,$BL15,$BP15,$BT15,$BX15)","v":0},3,0,0,0,null,0,0,0,null,0,0,0,null,0,0,0,null,0,0,0,null,0,0,0,null,0,0,0,null,0,0,0,null,0,0,0,null,0,0,0,null,0,0,0,null,0,0,0,null,0,0,0,null,0,0,0,null,0,0,0,null,0,0,0,null,0,0,0,null,0,0,0,0]
[{"$f":"INDEX(Properties!$B$61:$L$94,$F16,$C$6)","v":"-"},"Distribution (water towers)",{"$f":"'3.WEF Status-Base'!$B$13","v":0},{"$f":"MAX($H16,$L16,$P16,$T16,$X16,$AB16,$AF16,$AJ16,$AN16,$AR16,$AV16,$BD16,$AZ16,$BH16,$BL16,$BP16,$BT16,$BX16)","v":0},{"$f":"MIN($H16,$L16,$P16,$T16,$X16,$AB16,$AF16,$AJ16,$AN16,$AR16,$AV16,$BD16,$AZ16,$BH16,$BL16,$BP16,$BT16,$BX16)","v":0},4,0,0,0,null,0,0,0,null,0,0,0,null,0,0,0,null,0,0,0,null,0,0,0,null,0,0,0,null,0,0,0,null,0,0,0,null,0,0,0,null,0,0,0,null,0,0,0,null,0,0,0,null,0,0,0,null,0,0,0,null,0,0,0,null,0,0,0,null,0,0,0,0]
[{"$f":"INDEX(Properties!$B$61:$L$94,$F17,$C$6)","v":"X"},"Markets",{"$f":"'3.WEF Status-Base'!$B$14","v":0},{"$f":"MAX($H17,$L17,$P17,$T17,$X17,$AB17,$AF17,$AJ17,$AN17,$AR17,$AV17,$BD17,$AZ17,$BH17,$BL17,$BP17,$BT17,$BX17)","v":0},{"$f":"MIN($H17,$L17,$P17,$T17,$X17,$AB17,$AF17,$AJ17,$AN17,$AR17,$AV17,$BD17,$AZ17,$BH17,$BL17,$BP17,$BT17,$BX17)","v":0},5,0,0,0,null,0,0,0,null,0,0,0,null,0,0,0,null,0,0,0,null,0,0,0,null,0,0,0,null,0,0,0,null,0,0,0,null,0,0,0,null,0,0,0,null,0,0,0,null,0,0,0,null,0,0,0,null,0,0,0,null,0,0,0,null,0,0,0,null,0,0,0,0]
["X","Access","X","X","X",6]
[{"$f":"INDEX(Properties!$B$61:$L$94,$F19,$C$6)","v":"-"},"Purchasing Power (livelihood income, remittances, credit)\n",{"$f":"'3.WEF Status-Base'!$B$16","v":0},{"$f":"MAX($H19,$L19,$P19,$T19,$X19,$AB19,$AF19,$AJ19,$AN19,$AR19,$AV19,$BD19,$AZ19,$BH19,$BL19,$BP19,$BT19,$BX19)","v":0},{"$f":"MIN($H19,$L19,$P19,$T19,$X19,$AB19,$AF19,$AJ19,$AN19,$AR19,$AV19,$BD19,$AZ19,$BH19,$BL19,$BP19,$BT19,$BX19)","v":0},7,0,0,0,null,0,0,0,null,0,0,0,null,0,0,0,null,0,0,0,null,0,0,0,null,0,0,0,null,0,0,0,null,0,0,0,null,0,0,0,null,0,0,0,null,0,0,0,null,0,0,0,null,0,0,0,null,0,0,0,null,0,0,0,null,0,0,0,null,0,0,0,0]
[{"$f":"INDEX(Properties!$B$61:$L$94,$F20,$C$6)","v":"-"},"Aid (direct provision, safety nets, subsidies)\n",{"$f":"'3.WEF Status-Base'!$B$17","v":0},{"$f":"MAX($H20,$L20,$P20,$T20,$X20,$AB20,$AF20,$AJ20,$AN20,$AR20,$AV20,$BD20,$AZ20,$BH20,$BL20,$BP20,$BT20,$BX20)","v":0},{"$f":"MIN($H20,$L20,$P20,$T20,$X20,$AB20,$AF20,$AJ20,$AN20,$AR20,$AV20,$BD20,$AZ20,$BH20,$BL20,$BP20,$BT20,$BX20)","v":0},8,0,0,0,null,0,0,0,null,0,0,0,null,0,0,0,null,0,0,0,null,0,0,0,null,0,0,0,null,0,0,0,null,0,0,0,null,0,0,0,null,0,0,0,null,0,0,0,null,0,0,0,null,0,0,0,null,0,0,0,null,0,0,0,null,0,0,0,null,0,0,0,0]
[{"$f":"INDEX(Properties!$B$61:$L$94,$F21,$C$6)","v":"-"},"Self-production (water wells, off-grid power, individual/community gardens)\n",{"$f":"'3.WEF Status-Base'!$B$18","v":0},{"$f":"MAX($H21,$L21,$P21,$T21,$X21,$AB21,$AF21,$AJ21,$AN21,$AR21,$AV21,$BD21,$AZ21,$BH21,$BL21,$BP21,$BT21,$BX21)","v":0},{"$f":"MIN($H21,$L21,$P21,$T21,$X21,$AB21,$AF21,$AJ21,$AN21,$AR21,$AV21,$BD21,$AZ21,$BH21,$BL21,$BP21,$BT21,$BX21)","v":0},9,0,0,0,null,0,0,0,null,0,0,0,null,0,0,0,null,0,0,0,null,0,0,0,null,0,0,0,null,0,0,0,null,0,0,0,null,0,0,0,null,0,0,0,null,0,0,0,null,0,0,0,null,0,0,0,null,0,0,0,null,0,0,0,null,0,0,0,null,0,0,0,0]
[{"$f":"INDEX(Properties!$B$61:$L$94,$F22,$C$6)","v":"-"},"Barter",{"$f":"'3.WEF Status-Base'!$B$19","v":0},{"$f":"MAX($H22,$L22,$P22,$T22,$X22,$AB22,$AF22,$AJ22,$AN22,$AR22,$AV22,$BD22,$AZ22,$BH22,$BL22,$BP22,$BT22,$BX22)","v":0},{"$f":"MIN($H22,$L22,$P22,$T22,$X22,$AB22,$AF22,$AJ22,$AN22,$AR22,$AV22,$BD22,$AZ22,$BH22,$BL22,$BP22,$BT22,$BX22)","v":0},10,0,0,0,null,0,0,0,null,0,0,0,null,0,0,0,null,0,0,0,null,0,0,0,null,0,0,0,null,0,0,0,null,0,0,0,null,0,0,0,null,0,0,0,null,0,0,0,null,0,0,0,null,0,0,0,null,0,0,0,null,0,0,0,null,0,0,0,null,0,0,0,0]
["X","Supporting Infrastructure","X","X","X",11]
["x","Built Infrastructure",null,null,null,12,0,0,0,null,0,0,0,null,0,0,0,null,0,0,0,null,0,0,0,null,0,0,0,null,0,0,0,null,0,0,0,null,0,0,0,null,0,0,0,null,0,0,0,null,0,0,0,null,0,0,0,null,0,0,0,null,0,0,0,null,0,0,0,null,0,0,0,null,0,0,0,0]
[{"$f":"INDEX(Properties!$B$61:$L$94,$F25,$C$6)","v":"X"},"     Transportation",{"$f":"'3.WEF Status-Base'!$B$22","v":0},{"$f":"MAX($H25,$L25,$P25,$T25,$X25,$AB25,$AF25,$AJ25,$AN25,$AR25,$AV25,$BD25,$AZ25,$BH25,$BL25,$BP25,$BT25,$BX25)","v":0},{"$f":"MIN($H25,$L25,$P25,$T25,$X25,$AB25,$AF25,$AJ25,$AN25,$AR25,$AV25,$BD25,$AZ25,$BH25,$BL25,$BP25,$BT25,$BX25)","v":0},13,0,0,0,null,0,0,0,null,0,0,0,null,0,0,0,null,0,0,0,null,0,0,0,null,0,0,0,null,0,0,0,null,0,0,0,null,0,0,0,null,0,0,0,null,0,0,0,null,0,0,0,null,0,0,0,null,0,0,0,null,0,0,0,null,0,0,0,null,0,0,0,0]
[{"$f":"INDEX(Properties!$B$61:$L$94,$F26,$C$6)","v":"-"},"     Communication",{"$f":"'3.WEF Status-Base'!$B$23","v":0},{"$f":"MAX($H26,$L26,$P26,$T26,$X26,$AB26,$AF26,$AJ26,$AN26,$AR26,$AV26,$BD26,$AZ26,$BH26,$BL26,$BP26,$BT26,$BX26)","v":0},{"$f":"MIN($H26,$L26,$P26,$T26,$X26,$AB26,$AF26,$AJ26,$AN26,$AR26,$AV26,$BD26,$AZ26,$BH26,$BL26,$BP26,$BT26,$BX26)","v":0},14,0,0,0,null,0,0,0,null,0,0,0,null,0,0,0,null,0,0,0,null,0,0,0,null,0,0,0,null,0,0,0,null,0,0,0,null,0,0,0,null,0,0,0,null,0,0,0,null,0,0,0,null,0,0,0,null,0,0,0,null,0,0,0,null,0,0,0,null,0,0,0,0]
[{"$f":"INDEX(Properties!$B$61:$L$94,$F27,$C$6)","v":"-"},"     Waste removal/disposal",{"$f":"'3.WEF Status-Base'!$B$24","v":0},{"$f":"MAX($H27,$L27,$P27,$T27,$X27,$AB27,$AF27,$AJ27,$AN27,$AR27,$AV27,$BD27,$AZ27,$BH27,$BL27,$BP27,$BT27,$BX27)","v":0},{"$f":"MIN($H27,$L27,$P27,$T27,$X27,$AB27,$AF27,$AJ27,$AN27,$AR27,$AV27,$BD27,$AZ27,$BH27,$BL27,$BP27,$BT27,$BX27)","v":0},15,0,0,0,null,0,0,0,null,0,0,0,null,0,0,0,null,0,0,0,null,0,0,0,null,0,0,0,null,0,0,0,null,0,0,0,null,0,0,0,null,0,0,0,null,0,0,0,null,0,0,0,null,0,0,0,null,0,0,0,null,0,0,0,null,0,0,0,null,0,0,0,0]
["x","Natural Infrastructure",null,null,null,16,0,0,0,null,0,0,0,null,0,0,0,null,0,0,0,null,0,0,0,null,0,0,0,null,0,0,0,null,0,0,0,null,0,0,0,null,0,0,0,null,0,0,0,null,0,0,0,null,0,0,0,null,0,0,0,null,0,0,0,null,0,0,0,null,0,0,0,null,0,0,0,0]
[null,"     Air quality maintenance",{"$f":"'3.WEF Status-Base'!$B$26","v":0},{"$f":"MAX($H29,$L29,$P29,$T29,$X29,$AB29,$AF29,$AJ29,$AN29,$AR29,$AV29,$BD29,$AZ29,$BH29,$BL29,$BP29,$BT29,$BX29)","v":0},{"$f":"MIN($H29,$L29,$P29,$T29,$X29,$AB29,$AF29,$AJ29,$AN29,$AR29,$AV29,$BD29,$AZ29,$BH29,$BL29,$BP29,$BT29,$BX29)","v":0},17,0,0,0,null,0,0,0,null,0,0,0,null,0,0,0,null,0,0,0,null,0,0,0,null,0,0,0,null,0,0,0,null,0,0,0,null,0,0,0,null,0,0,0,null,0,0,0,null,0,0,0,null,0,0,0,null,0,0,0,null,0,0,0,null,0,0,0,null,0,0,0,0]
[{"$f":"INDEX(Properties!$B$61:$L$94,$F30,$C$6)","v":"X"},"     Erosion control",{"$f":"'3.WEF Status-Base'!$B$27","v":0},0,0,18,0,0,0,null,0,0,0,null,0,0,0,null,0,0,0,null,0,0,0,null,0,0,0,null,0,0,0,null,0,0,0,null,0,0,0,null,0,0,0,null,0,0,0,null,0,0,0,null,0,0,0,null,0,0,0,null,0,0,0,null,0,0,0,null,0,0,0,null,0,0,0,0]
[{"$f":"INDEX(Properties!$B$61:$L$94,$F31,$C$6)","v":"X"},"     Water purification and treatment",{"$f":"'3.WEF Status-Base'!$B$28","v":0},0,0,19,0,0,0,null,0,0,0,null,0,0,0,null,0,0,0,null,0,0,0,null,0,0,0,null,0,0,0,null,0,0,0,null,0,0,0,null,0,0,0,null,0,0,0,null,0,0,0,null,0,0,0,null,0,0,0,null,0,0,0,null,0,0,0,null,0,0,0,null,0,0,0,0]
[{"$f":"INDEX(Properties!$B$61:$L$94,$F32,$C$6)","v":"X"},"     Biological control",{"$f":"'3.WEF Status-Base'!$B$29","v":0},0,0,20,0,0,0,null,0,0,0,null,0,0,0,null,0,0,0,null,0,0,0,null,0,0,0,null,0,0,0,null,0,0,0,null,0,0,0,null,0,0,0,null,0,0,0,null,0,0,0,null,0,0,0,null,0,0,0,null,0,0,0,null,0,0,0,null,0,0,0,null,0,0,0,0]
[{"$f":"INDEX(Properties!$B$61:$L$94,$F33,$C$6)","v":"X"},"     Pollination",{"$f":"'3.WEF Status-Base'!$B$30","v":0},0,0,21,0,0,0,null,0,0,0,null,0,0,0,null,0,0,0,null,0,0,0,null,0,0,0,null,0,0,0,null,0,0,0,null,0,0,0,null,0,0,0,null,0,0,0,null,0,0,0,null,0,0,0,null,0,0,0,null,0,0,0,null,0,0,0,null,0,0,0,null,0,0,0,0]
[{"$f":"INDEX(Properties!$B$61:$L$94,$F34,$C$6)","v":"-"},"     Storm protection",{"$f":"'3.WEF Status-Base'!$B$31","v":0},0,0,22,0,0,0,null,0,0,0,null,0,0,0,null,0,0,0,null,0,0,0,null,0,0,0,null,0,0,0,null,0,0,0,null,0,0,0,null,0,0,0,null,0,0,0,null,0,0,0,null,0,0,0,null,0,0,0,null,0,0,0,null,0,0,0,null,0,0,0,null,0,0,0,0]
["X","Supporting Institutions and Policies","X","X","X",23]
["x","Institutions","x","x","x",24,0,0,0,null,0,0,0,null,0,0,0,null,0,0,0,null,0,0,0,null,0,0,0,null,0,0,0,null,0,0,0,null,0,0,0,null,0,0,0,null,0,0,0,null,0,0,0,null,0,0,0,null,0,0,0,null,0,0,0,null,0,0,0,null,0,0,0,null,0,0,0,0]
[{"$f":"INDEX(Properties!$B$61:$L$94,$F37,$C$6)","v":"-"},"     Utility boards",{"$f":"'3.WEF Status-Base'!$B$34","v":0},{"$f":"MAX($H37,$L37,$P37,$T37,$X37,$AB37,$AF37,$AJ37,$AN37,$AR37,$AV37,$BD37,$AZ37,$BH37,$BL37,$BP37,$BT37,$BX37)","v":0},{"$f":"MIN($H37,$L37,$P37,$T37,$X37,$AB37,$AF37,$AJ37,$AN37,$AR37,$AV37,$BD37,$AZ37,$BH37,$BL37,$BP37,$BT37,$BX37)","v":0},25,0,0,0,null,0,0,0,null,0,0,0,null,0,0,0,null,0,0,0,null,0,0,0,null,0,0,0,null,0,0,0,null,0,0,0,null,0,0,0,null,0,0,0,null,0,0,0,null,0,0,0,null,0,0,0,null,0,0,0,null,0,0,0,null,0,0,0,null,0,0,0,0]
[{"$f":"INDEX(Properties!$B$61:$L$94,$F38,$C$6)","v":"-"},"     Resource Coops",{"$f":"'3.WEF Status-Base'!$B$35","v":0},{"$f":"MAX($H38,$L38,$P38,$T38,$X38,$AB38,$AF38,$AJ38,$AN38,$AR38,$AV38,$BD38,$AZ38,$BH38,$BL38,$BP38,$BT38,$BX38)","v":0},{"$f":"MIN($H38,$L38,$P38,$T38,$X38,$AB38,$AF38,$AJ38,$AN38,$AR38,$AV38,$BD38,$AZ38,$BH38,$BL38,$BP38,$BT38,$BX38)","v":0},26,0,0,0,null,0,0,0,null,0,0,0,null,0,0,0,null,0,0,0,null,0,0,0,null,0,0,0,null,0,0,0,null,0,0,0,null,0,0,0,null,0,0,0,null,0,0,0,null,0,0,0,null,0,0,0,null,0,0,0,null,0,0,0,null,0,0,0,null,0,0,0,0]
[{"$f":"INDEX(Properties!$B$61:$L$94,$F39,$C$6)","v":"X"},"     Safety oversight agencies",{"$f":"'3.WEF Status-Base'!$B$36","v":0},{"$f":"MAX($H39,$L39,$P39,$T39,$X39,$AB39,$AF39,$AJ39,$AN39,$AR39,$AV39,$BD39,$AZ39,$BH39,$BL39,$BP39,$BT39,$BX39)","v":0},{"$f":"MIN($H39,$L39,$P39,$T39,$X39,$AB39,$AF39,$AJ39,$AN39,$AR39,$AV39,$BD39,$AZ39,$BH39,$BL39,$BP39,$BT39,$BX39)","v":0},27,0,0,0,null,0,0,0,null,0,0,0,null,0,0,0,null,0,0,0,null,0,0,0,null,0,0,0,null,0,0,0,null,0,0,0,null,0,0,0,null,0,0,0,null,0,0,0,null,0,0,0,null,0,0,0,null,0,0,0,null,0,0,0,null,0,0,0,null,0,0,0,0]
[{"$f":"INDEX(Properties!$B$61:$L$94,$F40,$C$6)","v":"X"},"     Education and training",{"$f":"'3.WEF Status-Base'!$B$37","v":0},{"$f":"MAX($H40,$L40,$P40,$T40,$X40,$AB40,$AF40,$AJ40,$AN40,$AR40,$AV40,$BD40,$AZ40,$BH40,$BL40,$BP40,$BT40,$BX40)","v":0},{"$f":"MIN($H40,$L40,$P40,$T40,$X40,$AB40,$AF40,$AJ40,$AN40,$AR40,$AV40,$BD40,$AZ40,$BH40,$BL40,$BP40,$BT40,$BX40)","v":0},28,0,0,0,null,0,0,0,null,0,0,0,null,0,0,0,null,0,0,0,null,0,0,0,null,0,0,0,null,0,0,0,null,0,0,0,null,0,0,0,null,0,0,0,null,0,0,0,null,0,0,0,null,0,0,0,null,0,0,0,null,0,0,0,null,0,0,0,null,0,0,0,0]
[{"$f":"INDEX(Properties!$B$61:$L$94,$F41,$C$6)","v":"-"},"     Law enforcement and security",{"$f":"'3.WEF Status-Base'!$B$38","v":0},{"$f":"MAX($H41,$L41,$P41,$T41,$X41,$AB41,$AF41,$AJ41,$AN41,$AR41,$AV41,$BD41,$AZ41,$BH41,$BL41,$BP41,$BT41,$BX41)","v":0},{"$f":"MIN($H41,$L41,$P41,$T41,$X41,$AB41,$AF41,$AJ41,$AN41,$AR41,$AV41,$BD41,$AZ41,$BH41,$BL41,$BP41,$BT41,$BX41)","v":0},29,0,0,0,null,0,0,0,null,0,0,0,null,0,0,0,null,0,0,0,null,0,0,0,null,0,0,0,null,0,0,0,null,0,0,0,null,0,0,0,null,0,0,0,null,0,0,0,null,0,0,0,null,0,0,0,null,0,0,0,null,0,0,0,null,0,0,0,null,0,0,0,0]
["x","Policies and Plans",null,null,null,30,0,0,0,null,0,0,0,null,0,0,0,null,0,0,0,null,0,0,0,null,0,0,0,null,0,0,0,null,0,0,0,null,0,0,0,null,0,0,0,null,0,0,0,null,0,0,0,null,0,0,0,null,0,0,0,null,0,0,0,null,0,0,0,null,0,0,0,null,0,0,0,0]
[{"$f":"INDEX(Properties!$B$61:$L$94,$F43,$C$6)","v":"X"},"     Resource use",{"$f":"'3.WEF Status-Base'!$B$40","v":0},{"$f":"MAX($H43,$L43,$P43,$T43,$X43,$AB43,$AF43,$AJ43,$AN43,$AR43,$AV43,$BD43,$AZ43,$BH43,$BL43,$BP43,$BT43,$BX43)","v":0},{"$f":"MIN($H43,$L43,$P43,$T43,$X43,$AB43,$AF43,$AJ43,$AN43,$AR43,$AV43,$BD43,$AZ43,$BH43,$BL43,$BP43,$BT43,$BX43)","v":0},31,0,0,0,null,0,0,0,null,0,0,0,null,0,0,0,null,0,0,0,null,0,0,0,null,0,0,0,null,0,0,0,null,0,0,0,null,0,0,0,null,0,0,0,null,0,0,0,null,0,0,0,null,0,0,0,null,0,0,0,null,0,0,0,null,0,0,0,null,0,0,0,0]
[{"$f":"INDEX(Properties!$B$61:$L$94,$F44,$C$6)","v":"-"},"     Climate change adaptation",{"$f":"'3.WEF Status-Base'!$B$41","v":0},{"$f":"MAX($H44,$L44,$P44,$T44,$X44,$AB44,$AF44,$AJ44,$AN44,$AR44,$AV44,$BD44,$AZ44,$BH44,$BL44,$BP44,$BT44,$BX44)","v":0},{"$f":"MIN($H44,$L44,$P44,$T44,$X44,$AB44,$AF44,$AJ44,$AN44,$AR44,$AV44,$BD44,$AZ44,$BH44,$BL44,$BP44,$BT44,$BX44)","v":0},32,0,0,0,null,0,0,0,null,0,0,0,null,0,0,0,null,0,0,0,null,0,0,0,null,0,0,0,null,0,0,0,null,0,0,0,null,0,0,0,null,0,0,0,null,0,0,0,null,0,0,0,null,0,0,0,null,0,0,0,null,0,0,0,null,0,0,0,null,0,0,0,0]
[{"$f":"INDEX(Properties!$B$61:$L$94,$F45,$C$6)","v":"X"},"     Disaster recovery and risk management ",{"$f":"'3.WEF Status-Base'!$B$42","v":0},{"$f":"MAX($H45,$L45,$P45,$T45,$X45,$AB45,$AF45,$AJ45,$AN45,$AR45,$AV45,$BD45,$AZ45,$BH45,$BL45,$BP45,$BT45,$BX45)","v":0},{"$f":"MIN($H45,$L45,$P45,$T45,$X45,$AB45,$AF45,$AJ45,$AN45,$AR45,$AV45,$BD45,$AZ45,$BH45,$BL45,$BP45,$BT45,$BX45)","v":0},33,0,0,0,null,0,0,0,null,0,0,0,null,0,0,0,null,0,0,0,null,0,0,0,null,0,0,0,null,0,0,0,null,0,0,0,null,0,0,0,null,0,0,0,null,0,0,0,null,0,0,0,null,0,0,0,null,0,0,0,null,0,0,0,null,0,0,0,null,0,0,0,0]
[{"$f":"INDEX(Properties!$B$61:$L$94,$F46,$C$6)","v":"-"},"     R&D and Innovation",{"$f":"'3.WEF Status-Base'!$B$43","v":0},{"$f":"MAX($H46,$L46,$P46,$T46,$X46,$AB46,$AF46,$AJ46,$AN46,$AR46,$AV46,$BD46,$AZ46,$BH46,$BL46,$BP46,$BT46,$BX46)","v":0},{"$f":"MIN($H46,$L46,$P46,$T46,$X46,$AB46,$AF46,$AJ46,$AN46,$AR46,$AV46,$BD46,$AZ46,$BH46,$BL46,$BP46,$BT46,$BX46)","v":0},34,0,0,0,null,0,0,0,null,0,0,0,null,0,0,0,null,0,0,0,null,0,0,0,null,0,0,0,null,0,0,0,null,0,0,0,null,0,0,0,null,0,0,0,null,0,0,0,null,0,0,0,null,0,0,0,null,0,0,0,null,0,0,0,null,0,0,0,null,0,0,0,0]
[]
[]
[]
[]
[]
[]
[]
[]
[]
[]
[]
[]
[]
[]
[]
[]
[]
[]
[]
[]
[]
[]
[]
[]
[]
[]
[]
[]
[]
[]
[]
[]
[]
[]
[]
[]
[]
[]
[]
[]
[]
[]
[]
[]
[]
[]
[]
[]
[]
[]
[]
[]
[]
[null,"Operation","Mine Extraction"]
[null,"Change in Use"]
[null,"Change in source description due to process","Baseline","Change",null,null,"Baseline",0,null,null,"Baseline",0,null,null,"Baseline",0,null,null,"Baseline",0,null,null,"Baseline",0,null,null,"Baseline",0,null,null,"Baseline",0,null,null,"Baseline",0,null,null,"Baseline",0,null,null,"Baseline",0,null,null,"Baseline",0,null,null,"Baseline",0,null,null,"Baseline",0,null,null,"Baseline",0,null,null,"Baseline",0,null,null,"Baseline",0,null,null,"Baseline",0,null,null,"Baseline",0,null,null,null,null,"Baseline",0,null,null,"Baseline",0,null,null,"Baseline",0,null,null,"Baseline",0,null,null,"Baseline",0,null,null,"Baseline",0,null,null,"Baseline",0,null,null,"Baseline",0,null,null,"Baseline",0,null,null,"Baseline",0,null,null,"Baseline",0,null,null,"Baseline",0,null,null,"Baseline",0,null,null,"Baseline",0,null,null,"Baseline",0,null,null,"Baseline",0,null,null,"Baseline",0,null,null,"Baseline",0]
[1,"Availability (Other)",null,null,null,1,null,null,null,null,null,null,null,null,null,null,null,null,null,null,null,null,null,null,null,null,null,null,null,null,null,null,null,null,null,null,null,null,null,null,null,null,null,null,null,null,null,null,null,null,null,null,null,null,null,null,null,null,null,null,null,null,null,null,null,null,null,null,null,null,null,null,null,null,null,null,null,null,null,1]
[1,"Processing/treatment/conversion",{"$f":"'3.WEF Status-Base'!B101","v":0},{"$f":"MAX(H104,L104,P104,T104,X104,AB104,AF104,AJ104,AN104,AR104,AV104,BD104,AZ104,BH104,BL104,BP104,BT104,BX104)","v":0},null,2,{"$f":"'3.WEF Status-Base'!$D$11","v":0},0,{"$f":"'3.WEF Status-Base'!$E$11","v":0},null,{"$f":"'3.WEF Status-Base'!$G$11","v":0},0,{"$f":"'3.WEF Status-Base'!$H$11","v":0},null,{"$f":"'3.WEF Status-Base'!$J$11","v":0},0,{"$f":"'3.WEF Status-Base'!$K$11","v":0},null,{"$f":"'3.WEF Status-Base'!$M$11","v":0},0,{"$f":"'3.WEF Status-Base'!$N$11","v":0},null,{"$f":"'3.WEF Status-Base'!$P$11","v":0},0,{"$f":"'3.WEF Status-Base'!$Q$11","v":0},null,{"$f":"'3.WEF Status-Base'!$S$11","v":0},0,{"$f":"'3.WEF Status-Base'!$T$11","v":0},null,{"$f":"'3.WEF Status-Base'!$V$11","v":0},0,{"$f":"'3.WEF Status-Base'!$W$11","v":0},null,{"$f":"'3.WEF Status-Base'!$Y$11","v":0},0,{"$f":"'3.WEF Status-Base'!$Z$11","v":0},null,{"$f":"'3.WEF Status-Base'!$AB$11","v":0},0,{"$f":"'3.WEF Status-Base'!$AC$11","v":0},null,{"$f":"'3.WEF Status-Base'!$AE$11","v":0},0,{"$f":"'3.WEF Status-Base'!$AF$11","v":0},null,{"$f":"'3.WEF Status-Base'!$AH$11","v":0},0,{"$f":"'3.WEF Status-Base'!$AI$11","v":0},null,{"$f":"'3.WEF Status-Base'!$AK$11","v":0},0,{"$f":"'3.WEF Status-Base'!$AL$11","v":0},null,{"$f":"'3.WEF Status-Base'!$AN$11","v":0},0,{"$f":"'3.WEF Status-Base'!$AO$11","v":0},null,{"$f":"'3.WEF Status-Base'!$AQ$11","v":0},0,{"$f":"'3.WEF Status-Base'!$AR$11","v":0},null,{"$f":"'3.WEF Status-Base'!$AT$11","v":0},0,{"$f":"'3.WEF Status-Base'!$AU$11","v":0},null,{"$f":"'3.WEF Status-Base'!$AW$11","v":0},0,{"$f":"'3.WEF Status-Base'!$AX$11","v":0},null,{"$f":"'3.WEF Status-Base'!$AZ$11","v":0},0,{"$f":"'3.WEF Status-Base'!$BA$11","v":0},null,{"$f":"'3.WEF Status-Base'!$BC$11","v":0},0,{"$f":"'3.WEF Status-Base'!$BD$11","v":0},{"$f":"'3.WEF Status-Base'!$BE$11","v":0},null,2,{"$f":"'3.WEF Status-Base'!$D$11","v":0},0,{"$f":"'3.WEF Status-Base'!$E$11","v":0},null,{"$f":"'3.WEF Status-Base'!$G$11","v":0},0,{"$f":"'3.WEF Status-Base'!$H$11","v":0},null,{"$f":"'3.WEF Status-Base'!$J$11","v":0},0,{"$f":"'3.WEF Status-Base'!$K$11","v":0},null,{"$f":"'3.WEF Status-Base'!$M$11","v":0},0,{"$f":"'3.WEF Status-Base'!$N$11","v":0},null,{"$f":"'3.WEF Status-Base'!$P$11","v":0},0,{"$f":"'3.WEF Status-Base'!$Q$11","v":0},null,{"$f":"'3.WEF Status-Base'!$S$11","v":0},0,{"$f":"'3.WEF Status-Base'!$T$11","v":0},null,{"$f":"'3.WEF Status-Base'!$V$11","v":0},0,{"$f":"'3.WEF Status-Base'!$W$11","v":0},null,{"$f":"'3.WEF Status-Base'!$Y$11","v":0},0,{"$f":"'3.WEF Status-Base'!$Z$11","v":0},null,{"$f":"'3.WEF Status-Base'!$AB$11","v":0},0,{"$f":"'3.WEF Status-Base'!$AC$11","v":0},null,{"$f":"'3.WEF Status-Base'!$AE$11","v":0},0,{"$f":"'3.WEF Status-Base'!$AF$11","v":0},null,{"$f":"'3.WEF Status-Base'!$AH$11","v":0},0,{"$f":"'3.WEF Status-Base'!$AI$11","v":0},null,{"$f":"'3.WEF Status-Base'!$AK$11","v":0},0,{"$f":"'3.WEF Status-Base'!$AL$11","v":0},null,{"$f":"'3.WEF Status-Base'!$AN$11","v":0},0,{"$f":"'3.WEF Status-Base'!$AO$11","v":0},null,{"$f":"'3.WEF Status-Base'!$AQ$11","v":0},0,{"$f":"'3.WEF Status-Base'!$AR$11","v":0},null,{"$f":"'3.WEF Status-Base'!$AT$11","v":0},0,{"$f":"'3.WEF Status-Base'!$AU$11","v":0},null,{"$f":"'3.WEF Status-Base'!$AW$11","v":0},0,{"$f":"'3.WEF Status-Base'!$AX$11","v":0},null,{"$f":"'3.WEF Status-Base'!$AZ$11","v":0},0,{"$f":"'3.WEF Status-Base'!$BA$11","v":0},null,{"$f":"'3.WEF Status-Base'!$BC$11","v":0},0,{"$f":"'3.WEF Status-Base'!$BD$11","v":0},{"$f":"'3.WEF Status-Base'!$BE$11","v":0}]
[1,"Timing of delivery (storage)",{"$f":"'3.WEF Status-Base'!B102","v":0},{"$f":"MAX(H105,L105,P105,T105,X105,AB105,AF105,AJ105,AN105,AR105,AV105,BD105,AZ105,BH105,BL105,BP105,BT105,BX105)","v":0},null,3,{"$f":"'3.WEF Status-Base'!$D$12","v":0},0,{"$f":"'3.WEF Status-Base'!$E$12","v":0},null,{"$f":"'3.WEF Status-Base'!$G$12","v":0},0,{"$f":"'3.WEF Status-Base'!$H$12","v":0},null,{"$f":"'3.WEF Status-Base'!$J$12","v":0},0,{"$f":"'3.WEF Status-Base'!$K$12","v":0},null,{"$f":"'3.WEF Status-Base'!$M$12","v":0},0,{"$f":"'3.WEF Status-Base'!$N$12","v":0},null,{"$f":"'3.WEF Status-Base'!$P$12","v":0},0,{"$f":"'3.WEF Status-Base'!$Q$12","v":0},null,{"$f":"'3.WEF Status-Base'!$S$12","v":0},0,{"$f":"'3.WEF Status-Base'!$T$12","v":0},null,{"$f":"'3.WEF Status-Base'!$V$12","v":0},0,{"$f":"'3.WEF Status-Base'!$W$12","v":0},null,{"$f":"'3.WEF Status-Base'!$Y$12","v":0},0,{"$f":"'3.WEF Status-Base'!$Z$12","v":0},null,{"$f":"'3.WEF Status-Base'!$AB$12","v":0},0,{"$f":"'3.WEF Status-Base'!$AC$12","v":0},null,{"$f":"'3.WEF Status-Base'!$AE$12","v":0},0,{"$f":"'3.WEF Status-Base'!$AF$12","v":0},null,{"$f":"'3.WEF Status-Base'!$AH$12","v":0},0,{"$f":"'3.WEF Status-Base'!$AI$12","v":0},null,{"$f":"'3.WEF Status-Base'!$AK$12","v":0},0,{"$f":"'3.WEF Status-Base'!$AL$12","v":0},null,{"$f":"'3.WEF Status-Base'!$AN$12","v":0},0,{"$f":"'3.WEF Status-Base'!$AO$12","v":0},null,{"$f":"'3.WEF Status-Base'!$AQ$12","v":0},0,{"$f":"'3.WEF Status-Base'!$AR$12","v":0},null,{"$f":"'3.WEF Status-Base'!$AT$12","v":0},0,{"$f":"'3.WEF Status-Base'!$AU$12","v":0},null,{"$f":"'3.WEF Status-Base'!$AW$12","v":0},0,{"$f":"'3.WEF Status-Base'!$AX$12","v":0},null,{"$f":"'3.WEF Status-Base'!$AZ$12","v":0},0,{"$f":"'3.WEF Status-Base'!$BA$12","v":0},null,{"$f":"'3.WEF Status-Base'!$BC$12","v":0},0,{"$f":"'3.WEF Status-Base'!$BD$12","v":0},{"$f":"'3.WEF Status-Base'!$BE$12","v":0},null,3,{"$f":"'3.WEF Status-Base'!$D$12","v":0},0,{"$f":"'3.WEF Status-Base'!$E$12","v":0},null,{"$f":"'3.WEF Status-Base'!$G$12","v":0},0,{"$f":"'3.WEF Status-Base'!$H$12","v":0},null,{"$f":"'3.WEF Status-Base'!$J$12","v":0},0,{"$f":"'3.WEF Status-Base'!$K$12","v":0},null,{"$f":"'3.WEF Status-Base'!$M$12","v":0},0,{"$f":"'3.WEF Status-Base'!$N$12","v":0},null,{"$f":"'3.WEF Status-Base'!$P$12","v":0},0,{"$f":"'3.WEF Status-Base'!$Q$12","v":0},null,{"$f":"'3.WEF Status-Base'!$S$12","v":0},0,{"$f":"'3.WEF Status-Base'!$T$12","v":0},null,{"$f":"'3.WEF Status-Base'!$V$12","v":0},0,{"$f":"'3.WEF Status-Base'!$W$12","v":0},null,{"$f":"'3.WEF Status-Base'!$Y$12","v":0},0,{"$f":"'3.WEF Status-Base'!$Z$12","v":0},null,{"$f":"'3.WEF Status-Base'!$AB$12","v":0},0,{"$f":"'3.WEF Status-Base'!$AC$12","v":0},null,{"$f":"'3.WEF Status-Base'!$AE$12","v":0},0,{"$f":"'3.WEF Status-Base'!$AF$12","v":0},null,{"$f":"'3.WEF Status-Base'!$AH$12","v":0},0,{"$f":"'3.WEF Status-Base'!$AI$12","v":0},null,{"$f":"'3.WEF Status-Base'!$AK$12","v":0},0,{"$f":"'3.WEF Status-Base'!$AL$12","v":0},null,{"$f":"'3.WEF Status-Base'!$AN$12","v":0},0,{"$f":"'3.WEF Status-Base'!$AO$12","v":0},null,{"$f":"'3.WEF Status-Base'!$AQ$12","v":0},0,{"$f":"'3.WEF Status-Base'!$AR$12","v":0},null,{"$f":"'3.WEF Status-Base'!$AT$12","v":0},0,{"$f":"'3.WEF Status-Base'!$AU$12","v":0},null,{"$f":"'3.WEF Status-Base'!$AW$12","v":0},0,{"$f":"'3.WEF Status-Base'!$AX$12","v":0},null,{"$f":"'3.WEF Status-Base'!$AZ$12","v":0},0,{"$f":"'3.WEF Status-Base'!$BA$12","v":0},null,{"$f":"'3.WEF Status-Base'!$BC$12","v":0},0,{"$f":"'3.WEF Status-Base'!$BD$12","v":0},{"$f":"'3.WEF Status-Base'!$BE$12","v":0}]
[null,"Distribution (water towers)",{"$f":"'3.WEF Status-Base'!B103","v":0},{"$f":"MAX(H106,L106,P106,T106,X106,AB106,AF106,AJ106,AN106,AR106,AV106,BD106,AZ106,BH106,BL106,BP106,BT106,BX106)","v":0},null,4,{"$f":"'3.WEF Status-Base'!$D$13","v":0},0,{"$f":"'3.WEF Status-Base'!$E$13","v":0},null,{"$f":"'3.WEF Status-Base'!$G$13","v":0},0,{"$f":"'3.WEF Status-Base'!$H$13","v":0},null,{"$f":"'3.WEF Status-Base'!$J$13","v":0},0,{"$f":"'3.WEF Status-Base'!$K$13","v":0},null,{"$f":"'3.WEF Status-Base'!$M$13","v":0},0,{"$f":"'3.WEF Status-Base'!$N$13","v":0},null,{"$f":"'3.WEF Status-Base'!$P$13","v":0},0,{"$f":"'3.WEF Status-Base'!$Q$13","v":0},null,{"$f":"'3.WEF Status-Base'!$S$13","v":0},0,{"$f":"'3.WEF Status-Base'!$T$13","v":0},null,{"$f":"'3.WEF Status-Base'!$V$13","v":0},0,{"$f":"'3.WEF Status-Base'!$W$13","v":0},null,{"$f":"'3.WEF Status-Base'!$Y$13","v":0},0,{"$f":"'3.WEF Status-Base'!$Z$13","v":0},null,{"$f":"'3.WEF Status-Base'!$AB$13","v":0},0,{"$f":"'3.WEF Status-Base'!$AC$13","v":0},null,{"$f":"'3.WEF Status-Base'!$AE$13","v":0},0,{"$f":"'3.WEF Status-Base'!$AF$13","v":0},null,{"$f":"'3.WEF Status-Base'!$AH$13","v":0},0,{"$f":"'3.WEF Status-Base'!$AI$13","v":0},null,{"$f":"'3.WEF Status-Base'!$AK$13","v":0},0,{"$f":"'3.WEF Status-Base'!$AL$13","v":0},null,{"$f":"'3.WEF Status-Base'!$AN$13","v":0},0,{"$f":"'3.WEF Status-Base'!$AO$13","v":0},null,{"$f":"'3.WEF Status-Base'!$AQ$13","v":0},0,{"$f":"'3.WEF Status-Base'!$AR$13","v":0},null,{"$f":"'3.WEF Status-Base'!$AT$13","v":0},0,{"$f":"'3.WEF Status-Base'!$AU$13","v":0},null,{"$f":"'3.WEF Status-Base'!$AW$13","v":0},0,{"$f":"'3.WEF Status-Base'!$AX$13","v":0},null,{"$f":"'3.WEF Status-Base'!$AZ$13","v":0},0,{"$f":"'3.WEF Status-Base'!$BA$13","v":0},null,{"$f":"'3.WEF Status-Base'!$BC$13","v":0},0,{"$f":"'3.WEF Status-Base'!$BD$13","v":0},{"$f":"'3.WEF Status-Base'!$BE$13","v":0},null,4,{"$f":"'3.WEF Status-Base'!$D$13","v":0},0,{"$f":"'3.WEF Status-Base'!$E$13","v":0},null,{"$f":"'3.WEF Status-Base'!$G$13","v":0},0,{"$f":"'3.WEF Status-Base'!$H$13","v":0},null,{"$f":"'3.WEF Status-Base'!$J$13","v":0},0,{"$f":"'3.WEF Status-Base'!$K$13","v":0},null,{"$f":"'3.WEF Status-Base'!$M$13","v":0},0,{"$f":"'3.WEF Status-Base'!$N$13","v":0},null,{"$f":"'3.WEF Status-Base'!$P$13","v":0},0,{"$f":"'3.WEF Status-Base'!$Q$13","v":0},null,{"$f":"'3.WEF Status-Base'!$S$13","v":0},0,{"$f":"'3.WEF Status-Base'!$T$13","v":0},null,{"$f":"'3.WEF Status-Base'!$V$13","v":0},0,{"$f":"'3.WEF Status-Base'!$W$13","v":0},null,{"$f":"'3.WEF Status-Base'!$Y$13","v":0},0,{"$f":"'3.WEF Status-Base'!$Z$13","v":0},null,{"$f":"'3.WEF Status-Base'!$AB$13","v":0},0,{"$f":"'3.WEF Status-Base'!$AC$13","v":0},null,{"$f":"'3.WEF Status-Base'!$AE$13","v":0},0,{"$f":"'3.WEF Status-Base'!$AF$13","v":0},null,{"$f":"'3.WEF Status-Base'!$AH$13","v":0},0,{"$f":"'3.WEF Status-Base'!$AI$13","v":0},null,{"$f":"'3.WEF Status-Base'!$AK$13","v":0},0,{"$f":"'3.WEF Status-Base'!$AL$13","v":0},null,{"$f":"'3.WEF Status-Base'!$AN$13","v":0},0,{"$f":"'3.WEF Status-Base'!$AO$13","v":0},null,{"$f":"'3.WEF Status-Base'!$AQ$13","v":0},0,{"$f":"'3.WEF Status-Base'!$AR$13","v":0},null,{"$f":"'3.WEF Status-Base'!$AT$13","v":0},0,{"$f":"'3.WEF Status-Base'!$AU$13","v":0},null,{"$f":"'3.WEF Status-Base'!$AW$13","v":0},0,{"$f":"'3.WEF Status-Base'!$AX$13","v":0},null,{"$f":"'3.WEF Status-Base'!$AZ$13","v":0},0,{"$f":"'3.WEF Status-Base'!$BA$13","v":0},null,{"$f":"'3.WEF Status-Base'!$BC$13","v":0},0,{"$f":"'3.WEF Status-Base'!$BD$13","v":0},{"$f":"'3.WEF Status-Base'!$BE$13","v":0}]
[null,"Retail (market prices)",{"$f":"'3.WEF Status-Base'!B104","v":0},{"$f":"MAX(H107,L107,P107,T107,X107,AB107,AF107,AJ107,AN107,AR107,AV107,BD107,AZ107,BH107,BL107,BP107,BT107,BX107)","v":0},null,5,{"$f":"'3.WEF Status-Base'!$D$14","v":0},0,{"$f":"'3.WEF Status-Base'!$E$14","v":0},null,{"$f":"'3.WEF Status-Base'!$G$14","v":0},0,{"$f":"'3.WEF Status-Base'!$H$14","v":0},null,{"$f":"'3.WEF Status-Base'!$J$14","v":0},0,{"$f":"'3.WEF Status-Base'!$K$14","v":0},null,{"$f":"'3.WEF Status-Base'!$M$14","v":0},0,{"$f":"'3.WEF Status-Base'!$N$14","v":0},null,{"$f":"'3.WEF Status-Base'!$P$14","v":0},0,{"$f":"'3.WEF Status-Base'!$Q$14","v":0},null,{"$f":"'3.WEF Status-Base'!$S$14","v":0},0,{"$f":"'3.WEF Status-Base'!$T$14","v":0},null,{"$f":"'3.WEF Status-Base'!$V$14","v":0},0,{"$f":"'3.WEF Status-Base'!$W$14","v":0},null,{"$f":"'3.WEF Status-Base'!$Y$14","v":0},0,{"$f":"'3.WEF Status-Base'!$Z$14","v":0},null,{"$f":"'3.WEF Status-Base'!$AB$14","v":0},0,{"$f":"'3.WEF Status-Base'!$AC$14","v":0},null,{"$f":"'3.WEF Status-Base'!$AE$14","v":0},0,{"$f":"'3.WEF Status-Base'!$AF$14","v":0},null,{"$f":"'3.WEF Status-Base'!$AH$14","v":0},0,{"$f":"'3.WEF Status-Base'!$AI$14","v":0},null,{"$f":"'3.WEF Status-Base'!$AK$14","v":0},0,{"$f":"'3.WEF Status-Base'!$AL$14","v":0},null,{"$f":"'3.WEF Status-Base'!$AN$14","v":0},0,{"$f":"'3.WEF Status-Base'!$AO$14","v":0},null,{"$f":"'3.WEF Status-Base'!$AQ$14","v":0},0,{"$f":"'3.WEF Status-Base'!$AR$14","v":0},null,{"$f":"'3.WEF Status-Base'!$AT$14","v":0},0,{"$f":"'3.WEF Status-Base'!$AU$14","v":0},null,{"$f":"'3.WEF Status-Base'!$AW$14","v":0},0,{"$f":"'3.WEF Status-Base'!$AX$14","v":0},null,{"$f":"'3.WEF Status-Base'!$AZ$14","v":0},0,{"$f":"'3.WEF Status-Base'!$BA$14","v":0},null,{"$f":"'3.WEF Status-Base'!$BC$14","v":0},0,{"$f":"'3.WEF Status-Base'!$BD$14","v":0},{"$f":"'3.WEF Status-Base'!$BE$14","v":0},null,5,{"$f":"'3.WEF Status-Base'!$D$14","v":0},0,{"$f":"'3.WEF Status-Base'!$E$14","v":0},null,{"$f":"'3.WEF Status-Base'!$G$14","v":0},0,{"$f":"'3.WEF Status-Base'!$H$14","v":0},null,{"$f":"'3.WEF Status-Base'!$J$14","v":0},0,{"$f":"'3.WEF Status-Base'!$K$14","v":0},null,{"$f":"'3.WEF Status-Base'!$M$14","v":0},0,{"$f":"'3.WEF Status-Base'!$N$14","v":0},null,{"$f":"'3.WEF Status-Base'!$P$14","v":0},0,{"$f":"'3.WEF Status-Base'!$Q$14","v":0},null,{"$f":"'3.WEF Status-Base'!$S$14","v":0},0,{"$f":"'3.WEF Status-Base'!$T$14","v":0},null,{"$f":"'3.WEF Status-Base'!$V$14","v":0},0,{"$f":"'3.WEF Status-Base'!$W$14","v":0},null,{"$f":"'3.WEF Status-Base'!$Y$14","v":0},0,{"$f":"'3.WEF Status-Base'!$Z$14","v":0},null,{"$f":"'3.WEF Status-Base'!$AB$14","v":0},0,{"$f":"'3.WEF Status-Base'!$AC$14","v":0},null,{"$f":"'3.WEF Status-Base'!$AE$14","v":0},0,{"$f":"'3.WEF Status-Base'!$AF$14","v":0},null,{"$f":"'3.WEF Status-Base'!$AH$14","v":0},0,{"$f":"'3.WEF Status-Base'!$AI$14","v":0},null,{"$f":"'3.WEF Status-Base'!$AK$14","v":0},0,{"$f":"'3.WEF Status-Base'!$AL$14","v":0},null,{"$f":"'3.WEF Status-Base'!$AN$14","v":0},0,{"$f":"'3.WEF Status-Base'!$AO$14","v":0},null,{"$f":"'3.WEF Status-Base'!$AQ$14","v":0},0,{"$f":"'3.WEF Status-Base'!$AR$14","v":0},null,{"$f":"'3.WEF Status-Base'!$AT$14","v":0},0,{"$f":"'3.WEF Status-Base'!$AU$14","v":0},null,{"$f":"'3.WEF Status-Base'!$AW$14","v":0},0,{"$f":"'3.WEF Status-Base'!$AX$14","v":0},null,{"$f":"'3.WEF Status-Base'!$AZ$14","v":0},0,{"$f":"'3.WEF Status-Base'!$BA$14","v":0},null,{"$f":"'3.WEF Status-Base'!$BC$14","v":0},0,{"$f":"'3.WEF Status-Base'!$BD$14","v":0},{"$f":"'3.WEF Status-Base'!$BE$14","v":0}]
[null,"Access",null,null,null,6,null,null,null,null,null,null,null,null,null,null,null,null,null,null,null,null,null,null,null,null,null,null,null,null,null,null,null,null,null,null,null,null,null,null,null,null,null,null,null,null,null,null,null,null,null,null,null,null,null,null,null,null,null,null,null,null,null,null,null,null,null,null,null,null,null,null,null,null,null,null,null,null,null,6]
[null,"Purchasing power (livelihood income, remittances, credit)\n",{"$f":"'3.WEF Status-Base'!B106","v":0},{"$f":"MAX(H109,L109,P109,T109,X109,AB109,AF109,AJ109,AN109,AR109,AV109,BD109,AZ109,BH109,BL109,BP109,BT109,BX109)","v":0},null,7,{"$f":"'3.WEF Status-Base'!$D$16","v":0},0,{"$f":"'3.WEF Status-Base'!$E$16","v":0},null,{"$f":"'3.WEF Status-Base'!$G$16","v":0},0,{"$f":"'3.WEF Status-Base'!$H$16","v":0},null,{"$f":"'3.WEF Status-Base'!$J$16","v":0},0,{"$f":"'3.WEF Status-Base'!$K$16","v":0},null,{"$f":"'3.WEF Status-Base'!$M$16","v":0},0,{"$f":"'3.WEF Status-Base'!$N$16","v":0},null,{"$f":"'3.WEF Status-Base'!$P$16","v":0},0,{"$f":"'3.WEF Status-Base'!$Q$16","v":0},null,{"$f":"'3.WEF Status-Base'!$S$16","v":0},0,{"$f":"'3.WEF Status-Base'!$T$16","v":0},null,{"$f":"'3.WEF Status-Base'!$V$16","v":0},0,{"$f":"'3.WEF Status-Base'!$W$16","v":0},null,{"$f":"'3.WEF Status-Base'!$Y$16","v":0},0,{"$f":"'3.WEF Status-Base'!$Z$16","v":0},null,{"$f":"'3.WEF Status-Base'!$AB$16","v":0},0,{"$f":"'3.WEF Status-Base'!$AC$16","v":0},null,{"$f":"'3.WEF Status-Base'!$AE$16","v":0},0,{"$f":"'3.WEF Status-Base'!$AF$16","v":0},null,{"$f":"'3.WEF Status-Base'!$AH$16","v":0},0,{"$f":"'3.WEF Status-Base'!$AI$16","v":0},null,{"$f":"'3.WEF Status-Base'!$AK$16","v":0},0,{"$f":"'3.WEF Status-Base'!$AL$16","v":0},null,{"$f":"'3.WEF Status-Base'!$AN$16","v":0},0,{"$f":"'3.WEF Status-Base'!$AO$16","v":0},null,{"$f":"'3.WEF Status-Base'!$AQ$16","v":0},0,{"$f":"'3.WEF Status-Base'!$AR$16","v":0},null,{"$f":"'3.WEF Status-Base'!$AT$16","v":0},0,{"$f":"'3.WEF Status-Base'!$AU$16","v":0},null,{"$f":"'3.WEF Status-Base'!$AW$16","v":0},0,{"$f":"'3.WEF Status-Base'!$AX$16","v":0},null,{"$f":"'3.WEF Status-Base'!$AZ$16","v":0},0,{"$f":"'3.WEF Status-Base'!$BA$16","v":0},null,{"$f":"'3.WEF Status-Base'!$BC$16","v":0},0,{"$f":"'3.WEF Status-Base'!$BD$16","v":0},{"$f":"'3.WEF Status-Base'!$BE$16","v":0},null,7,{"$f":"'3.WEF Status-Base'!$D$16","v":0},0,{"$f":"'3.WEF Status-Base'!$E$16","v":0},null,{"$f":"'3.WEF Status-Base'!$G$16","v":0},0,{"$f":"'3.WEF Status-Base'!$H$16","v":0},null,{"$f":"'3.WEF Status-Base'!$J$16","v":0},0,{"$f":"'3.WEF Status-Base'!$K$16","v":0},null,{"$f":"'3.WEF Status-Base'!$M$16","v":0},0,{"$f":"'3.WEF Status-Base'!$N$16","v":0},null,{"$f":"'3.WEF Status-Base'!$P$16","v":0},0,{"$f":"'3.WEF Status-Base'!$Q$16","v":0},null,{"$f":"'3.WEF Status-Base'!$S$16","v":0},0,{"$f":"'3.WEF Status-Base'!$T$16","v":0},null,{"$f":"'3.WEF Status-Base'!$V$16","v":0},0,{"$f":"'3.WEF Status-Base'!$W$16","v":0},null,{"$f":"'3.WEF Status-Base'!$Y$16","v":0},0,{"$f":"'3.WEF Status-Base'!$Z$16","v":0},null,{"$f":"'3.WEF Status-Base'!$AB$16","v":0},0,{"$f":"'3.WEF Status-Base'!$AC$16","v":0},null,{"$f":"'3.WEF Status-Base'!$AE$16","v":0},0,{"$f":"'3.WEF Status-Base'!$AF$16","v":0},null,{"$f":"'3.WEF Status-Base'!$AH$16","v":0},0,{"$f":"'3.WEF Status-Base'!$AI$16","v":0},null,{"$f":"'3.WEF Status-Base'!$AK$16","v":0},0,{"$f":"'3.WEF Status-Base'!$AL$16","v":0},null,{"$f":"'3.WEF Status-Base'!$AN$16","v":0},0,{"$f":"'3.WEF Status-Base'!$AO$16","v":0},null,{"$f":"'3.WEF Status-Base'!$AQ$16","v":0},0,{"$f":"'3.WEF Status-Base'!$AR$16","v":0},null,{"$f":"'3.WEF Status-Base'!$AT$16","v":0},0,{"$f":"'3.WEF Status-Base'!$AU$16","v":0},null,{"$f":"'3.WEF Status-Base'!$AW$16","v":0},0,{"$f":"'3.WEF Status-Base'!$AX$16","v":0},null,{"$f":"'3.WEF Status-Base'!$AZ$16","v":0},0,{"$f":"'3.WEF Status-Base'!$BA$16","v":0},null,{"$f":"'3.WEF Status-Base'!$BC$16","v":0},0,{"$f":"'3.WEF Status-Base'!$BD$16","v":0},{"$f":"'3.WEF Status-Base'!$BE$16","v":0}]
[null,"Aid (direct provision, saftey nets, subsidies)\n",{"$f":"'3.WEF Status-Base'!B107","v":0},{"$f":"MAX(H110,L110,P110,T110,X110,AB110,AF110,AJ110,AN110,AR110,AV110,BD110,AZ110,BH110,BL110,BP110,BT110,BX110)","v":0},null,8,{"$f":"'3.WEF Status-Base'!$D$17","v":0},0,{"$f":"'3.WEF Status-Base'!$E$17","v":0},null,{"$f":"'3.WEF Status-Base'!$G$17","v":0},0,{"$f":"'3.WEF Status-Base'!$H$17","v":0},null,{"$f":"'3.WEF Status-Base'!$J$17","v":0},0,{"$f":"'3.WEF Status-Base'!$K$17","v":0},null,{"$f":"'3.WEF Status-Base'!$M$17","v":0},0,{"$f":"'3.WEF Status-Base'!$N$17","v":0},null,{"$f":"'3.WEF Status-Base'!$P$17","v":0},0,{"$f":"'3.WEF Status-Base'!$Q$17","v":0},null,{"$f":"'3.WEF Status-Base'!$S$17","v":0},0,{"$f":"'3.WEF Status-Base'!$T$17","v":0},null,{"$f":"'3.WEF Status-Base'!$V$17","v":0},0,{"$f":"'3.WEF Status-Base'!$W$17","v":0},null,{"$f":"'3.WEF Status-Base'!$Y$17","v":0},0,{"$f":"'3.WEF Status-Base'!$Z$17","v":0},null,{"$f":"'3.WEF Status-Base'!$AB$17","v":0},0,{"$f":"'3.WEF Status-Base'!$AC$17","v":0},null,{"$f":"'3.WEF Status-Base'!$AE$17","v":0},0,{"$f":"'3.WEF Status-Base'!$AF$17","v":0},null,{"$f":"'3.WEF Status-Base'!$AH$17","v":0},0,{"$f":"'3.WEF Status-Base'!$AI$17","v":0},null,{"$f":"'3.WEF Status-Base'!$AK$17","v":0},0,{"$f":"'3.WEF Status-Base'!$AL$17","v":0},null,{"$f":"'3.WEF Status-Base'!$AN$17","v":0},0,{"$f":"'3.WEF Status-Base'!$AO$17","v":0},null,{"$f":"'3.WEF Status-Base'!$AQ$17","v":0},0,{"$f":"'3.WEF Status-Base'!$AR$17","v":0},null,{"$f":"'3.WEF Status-Base'!$AT$17","v":0},0,{"$f":"'3.WEF Status-Base'!$AU$17","v":0},null,{"$f":"'3.WEF Status-Base'!$AW$17","v":0},0,{"$f":"'3.WEF Status-Base'!$AX$17","v":0},null,{"$f":"'3.WEF Status-Base'!$AZ$17","v":0},0,{"$f":"'3.WEF Status-Base'!$BA$17","v":0},null,{"$f":"'3.WEF Status-Base'!$BC$17","v":0},0,{"$f":"'3.WEF Status-Base'!$BD$17","v":0},{"$f":"'3.WEF Status-Base'!$BE$17","v":0},null,8,{"$f":"'3.WEF Status-Base'!$D$17","v":0},0,{"$f":"'3.WEF Status-Base'!$E$17","v":0},null,{"$f":"'3.WEF Status-Base'!$G$17","v":0},0,{"$f":"'3.WEF Status-Base'!$H$17","v":0},null,{"$f":"'3.WEF Status-Base'!$J$17","v":0},0,{"$f":"'3.WEF Status-Base'!$K$17","v":0},null,{"$f":"'3.WEF Status-Base'!$M$17","v":0},0,{"$f":"'3.WEF Status-Base'!$N$17","v":0},null,{"$f":"'3.WEF Status-Base'!$P$17","v":0},0,{"$f":"'3.WEF Status-Base'!$Q$17","v":0},null,{"$f":"'3.WEF Status-Base'!$S$17","v":0},0,{"$f":"'3.WEF Status-Base'!$T$17","v":0},null,{"$f":"'3.WEF Status-Base'!$V$17","v":0},0,{"$f":"'3.WEF Status-Base'!$W$17","v":0},null,{"$f":"'3.WEF Status-Base'!$Y$17","v":0},0,{"$f":"'3.WEF Status-Base'!$Z$17","v":0},null,{"$f":"'3.WEF Status-Base'!$AB$17","v":0},0,{"$f":"'3.WEF Status-Base'!$AC$17","v":0},null,{"$f":"'3.WEF Status-Base'!$AE$17","v":0},0,{"$f":"'3.WEF Status-Base'!$AF$17","v":0},null,{"$f":"'3.WEF Status-Base'!$AH$17","v":0},0,{"$f":"'3.WEF Status-Base'!$AI$17","v":0},null,{"$f":"'3.WEF Status-Base'!$AK$17","v":0},0,{"$f":"'3.WEF Status-Base'!$AL$17","v":0},null,{"$f":"'3.WEF Status-Base'!$AN$17","v":0},0,{"$f":"'3.WEF Status-Base'!$AO$17","v":0},null,{"$f":"'3.WEF Status-Base'!$AQ$17","v":0},0,{"$f":"'3.WEF Status-Base'!$AR$17","v":0},null,{"$f":"'3.WEF Status-Base'!$AT$17","v":0},0,{"$f":"'3.WEF Status-Base'!$AU$17","v":0},null,{"$f":"'3.WEF Status-Base'!$AW$17","v":0},0,{"$f":"'3.WEF Status-Base'!$AX$17","v":0},null,{"$f":"'3.WEF Status-Base'!$AZ$17","v":0},0,{"$f":"'3.WEF Status-Base'!$BA$17","v":0},null,{"$f":"'3.WEF Status-Base'!$BC$17","v":0},0,{"$f":"'3.WEF Status-Base'!$BD$17","v":0},{"$f":"'3.WEF Status-Base'!$BE$17","v":0}]
[null,"Self-production (water wells, off-grid power, individual/community gardens)\n",{"$f":"'3.WEF Status-Base'!B108","v":0},{"$f":"MAX(H111,L111,P111,T111,X111,AB111,AF111,AJ111,AN111,AR111,AV111,BD111,AZ111,BH111,BL111,BP111,BT111,BX111)","v":0},null,9,{"$f":"'3.WEF Status-Base'!$D$18","v":0},0,{"$f":"'3.WEF Status-Base'!$E$18","v":0},null,{"$f":"'3.WEF Status-Base'!$G$18","v":0},0,{"$f":"'3.WEF Status-Base'!$H$18","v":0},null,{"$f":"'3.WEF Status-Base'!$J$18","v":0},0,{"$f":"'3.WEF Status-Base'!$K$18","v":0},null,{"$f":"'3.WEF Status-Base'!$M$18","v":0},0,{"$f":"'3.WEF Status-Base'!$N$18","v":0},null,{"$f":"'3.WEF Status-Base'!$P$18","v":0},0,{"$f":"'3.WEF Status-Base'!$Q$18","v":0},null,{"$f":"'3.WEF Status-Base'!$S$18","v":0},0,{"$f":"'3.WEF Status-Base'!$T$18","v":0},null,{"$f":"'3.WEF Status-Base'!$V$18","v":0},0,{"$f":"'3.WEF Status-Base'!$W$18","v":0},null,{"$f":"'3.WEF Status-Base'!$Y$18","v":0},0,{"$f":"'3.WEF Status-Base'!$Z$18","v":0},null,{"$f":"'3.WEF Status-Base'!$AB$18","v":0},0,{"$f":"'3.WEF Status-Base'!$AC$18","v":0},null,{"$f":"'3.WEF Status-Base'!$AE$18","v":0},0,{"$f":"'3.WEF Status-Base'!$AF$18","v":0},null,{"$f":"'3.WEF Status-Base'!$AH$18","v":0},0,{"$f":"'3.WEF Status-Base'!$AI$18","v":0},null,{"$f":"'3.WEF Status-Base'!$AK$18","v":0},0,{"$f":"'3.WEF Status-Base'!$AL$18","v":0},null,{"$f":"'3.WEF Status-Base'!$AN$18","v":0},0,{"$f":"'3.WEF Status-Base'!$AO$18","v":0},null,{"$f":"'3.WEF Status-Base'!$AQ$18","v":0},0,{"$f":"'3.WEF Status-Base'!$AR$18","v":0},null,{"$f":"'3.WEF Status-Base'!$AT$18","v":0},0,{"$f":"'3.WEF Status-Base'!$AU$18","v":0},null,{"$f":"'3.WEF Status-Base'!$AW$18","v":0},0,{"$f":"'3.WEF Status-Base'!$AX$18","v":0},null,{"$f":"'3.WEF Status-Base'!$AZ$18","v":0},0,{"$f":"'3.WEF Status-Base'!$BA$18","v":0},null,{"$f":"'3.WEF Status-Base'!$BC$18","v":0},0,{"$f":"'3.WEF Status-Base'!$BD$18","v":0},{"$f":"'3.WEF Status-Base'!$BE$18","v":0},null,9,{"$f":"'3.WEF Status-Base'!$D$18","v":0},0,{"$f":"'3.WEF Status-Base'!$E$18","v":0},null,{"$f":"'3.WEF Status-Base'!$G$18","v":0},0,{"$f":"'3.WEF Status-Base'!$H$18","v":0},null,{"$f":"'3.WEF Status-Base'!$J$18","v":0},0,{"$f":"'3.WEF Status-Base'!$K$18","v":0},null,{"$f":"'3.WEF Status-Base'!$M$18","v":0},0,{"$f":"'3.WEF Status-Base'!$N$18","v":0},null,{"$f":"'3.WEF Status-Base'!$P$18","v":0},0,{"$f":"'3.WEF Status-Base'!$Q$18","v":0},null,{"$f":"'3.WEF Status-Base'!$S$18","v":0},0,{"$f":"'3.WEF Status-Base'!$T$18","v":0},null,{"$f":"'3.WEF Status-Base'!$V$18","v":0},0,{"$f":"'3.WEF Status-Base'!$W$18","v":0},null,{"$f":"'3.WEF Status-Base'!$Y$18","v":0},0,{"$f":"'3.WEF Status-Base'!$Z$18","v":0},null,{"$f":"'3.WEF Status-Base'!$AB$18","v":0},0,{"$f":"'3.WEF Status-Base'!$AC$18","v":0},null,{"$f":"'3.WEF Status-Base'!$AE$18","v":0},0,{"$f":"'3.WEF Status-Base'!$AF$18","v":0},null,{"$f":"'3.WEF Status-Base'!$AH$18","v":0},0,{"$f":"'3.WEF Status-Base'!$AI$18","v":0},null,{"$f":"'3.WEF Status-Base'!$AK$18","v":0},0,{"$f":"'3.WEF Status-Base'!$AL$18","v":0},null,{"$f":"'3.WEF Status-Base'!$AN$18","v":0},0,{"$f":"'3.WEF Status-Base'!$AO$18","v":0},null,{"$f":"'3.WEF Status-Base'!$AQ$18","v":0},0,{"$f":"'3.WEF Status-Base'!$AR$18","v":0},null,{"$f":"'3.WEF Status-Base'!$AT$18","v":0},0,{"$f":"'3.WEF Status-Base'!$AU$18","v":0},null,{"$f":"'3.WEF Status-Base'!$AW$18","v":0},0,{"$f":"'3.WEF Status-Base'!$AX$18","v":0},null,{"$f":"'3.WEF Status-Base'!$AZ$18","v":0},0,{"$f":"'3.WEF Status-Base'!$BA$18","v":0},null,{"$f":"'3.WEF Status-Base'!$BC$18","v":0},0,{"$f":"'3.WEF Status-Base'!$BD$18","v":0},{"$f":"'3.WEF Status-Base'!$BE$18","v":0}]
[null,"Barter",{"$f":"'3.WEF Status-Base'!B109","v":0},{"$f":"MAX(H112,L112,P112,T112,X112,AB112,AF112,AJ112,AN112,AR112,AV112,BD112,AZ112,BH112,BL112,BP112,BT112,BX112)","v":0},null,10,{"$f":"'3.WEF Status-Base'!$D$19","v":0},0,{"$f":"'3.WEF Status-Base'!$E$19","v":0},null,{"$f":"'3.WEF Status-Base'!$G$19","v":0},0,{"$f":"'3.WEF Status-Base'!$H$19","v":0},null,{"$f":"'3.WEF Status-Base'!$J$19","v":0},0,{"$f":"'3.WEF Status-Base'!$K$19","v":0},null,{"$f":"'3.WEF Status-Base'!$M$19","v":0},0,{"$f":"'3.WEF Status-Base'!$N$19","v":0},null,{"$f":"'3.WEF Status-Base'!$P$19","v":0},0,{"$f":"'3.WEF Status-Base'!$Q$19","v":0},null,{"$f":"'3.WEF Status-Base'!$S$19","v":0},0,{"$f":"'3.WEF Status-Base'!$T$19","v":0},null,{"$f":"'3.WEF Status-Base'!$V$19","v":0},0,{"$f":"'3.WEF Status-Base'!$W$19","v":0},null,{"$f":"'3.WEF Status-Base'!$Y$19","v":0},0,{"$f":"'3.WEF Status-Base'!$Z$19","v":0},null,{"$f":"'3.WEF Status-Base'!$AB$19","v":0},0,{"$f":"'3.WEF Status-Base'!$AC$19","v":0},null,{"$f":"'3.WEF Status-Base'!$AE$19","v":0},0,{"$f":"'3.WEF Status-Base'!$AF$19","v":0},null,{"$f":"'3.WEF Status-Base'!$AH$19","v":0},0,{"$f":"'3.WEF Status-Base'!$AI$19","v":0},null,{"$f":"'3.WEF Status-Base'!$AK$19","v":0},0,{"$f":"'3.WEF Status-Base'!$AL$19","v":0},null,{"$f":"'3.WEF Status-Base'!$AN$19","v":0},0,{"$f":"'3.WEF Status-Base'!$AO$19","v":0},null,{"$f":"'3.WEF Status-Base'!$AQ$19","v":0},0,{"$f":"'3.WEF Status-Base'!$AR$19","v":0},null,{"$f":"'3.WEF Status-Base'!$AT$19","v":0},0,{"$f":"'3.WEF Status-Base'!$AU$19","v":0},null,{"$f":"'3.WEF Status-Base'!$AW$19","v":0},0,{"$f":"'3.WEF Status-Base'!$AX$19","v":0},null,{"$f":"'3.WEF Status-Base'!$AZ$19","v":0},0,{"$f":"'3.WEF Status-Base'!$BA$19","v":0},null,{"$f":"'3.WEF Status-Base'!$BC$19","v":0},0,{"$f":"'3.WEF Status-Base'!$BD$19","v":0},{"$f":"'3.WEF Status-Base'!$BE$19","v":0},null,10,{"$f":"'3.WEF Status-Base'!$D$19","v":0},0,{"$f":"'3.WEF Status-Base'!$E$19","v":0},null,{"$f":"'3.WEF Status-Base'!$G$19","v":0},0,{"$f":"'3.WEF Status-Base'!$H$19","v":0},null,{"$f":"'3.WEF Status-Base'!$J$19","v":0},0,{"$f":"'3.WEF Status-Base'!$K$19","v":0},null,{"$f":"'3.WEF Status-Base'!$M$19","v":0},0,{"$f":"'3.WEF Status-Base'!$N$19","v":0},null,{"$f":"'3.WEF Status-Base'!$P$19","v":0},0,{"$f":"'3.WEF Status-Base'!$Q$19","v":0},null,{"$f":"'3.WEF Status-Base'!$S$19","v":0},0,{"$f":"'3.WEF Status-Base'!$T$19","v":0},null,{"$f":"'3.WEF Status-Base'!$V$19","v":0},0,{"$f":"'3.WEF Status-Base'!$W$19","v":0},null,{"$f":"'3.WEF Status-Base'!$Y$19","v":0},0,{"$f":"'3.WEF Status-Base'!$Z$19","v":0},null,{"$f":"'3.WEF Status-Base'!$AB$19","v":0},0,{"$f":"'3.WEF Status-Base'!$AC$19","v":0},null,{"$f":"'3.WEF Status-Base'!$AE$19","v":0},0,{"$f":"'3.WEF Status-Base'!$AF$19","v":0},null,{"$f":"'3.WEF Status-Base'!$AH$19","v":0},0,{"$f":"'3.WEF Status-Base'!$AI$19","v":0},null,{"$f":"'3.WEF Status-Base'!$AK$19","v":0},0,{"$f":"'3.WEF Status-Base'!$AL$19","v":0},null,{"$f":"'3.WEF Status-Base'!$AN$19","v":0},0,{"$f":"'3.WEF Status-Base'!$AO$19","v":0},null,{"$f":"'3.WEF Status-Base'!$AQ$19","v":0},0,{"$f":"'3.WEF Status-Base'!$AR$19","v":0},null,{"$f":"'3.WEF Status-Base'!$AT$19","v":0},0,{"$f":"'3.WEF Status-Base'!$AU$19","v":0},null,{"$f":"'3.WEF Status-Base'!$AW$19","v":0},0,{"$f":"'3.WEF Status-Base'!$AX$19","v":0},null,{"$f":"'3.WEF Status-Base'!$AZ$19","v":0},0,{"$f":"'3.WEF Status-Base'!$BA$19","v":0},null,{"$f":"'3.WEF Status-Base'!$BC$19","v":0},0,{"$f":"'3.WEF Status-Base'!$BD$19","v":0},{"$f":"'3.WEF Status-Base'!$BE$19","v":0}]
[null,"Supporting Infrastructure",null,null,null,11,null,null,null,null,null,null,null,null,null,null,null,null,null,null,null,null,null,null,null,null,null,null,null,null,null,null,null,null,null,null,null,null,null,null,null,null,null,null,null,null,null,null,null,null,null,null,null,null,null,null,null,null,null,null,null,null,null,null,null,null,null,null,null,null,null,null,null,null,null,null,null,null,null,11]
[null,"Built Infrastructure",{"$f":"'3.WEF Status-Base'!B111","v":0},{"$f":"MAX(H114,L114,P114,T114,X114,AB114,AF114,AJ114,AN114,AR114,AV114,BD114,AZ114,BH114,BL114,BP114,BT114,BX114)","v":0},null,12,{"$f":"'3.WEF Status-Base'!$D$21","v":0},0,{"$f":"'3.WEF Status-Base'!$E$21","v":0},null,{"$f":"'3.WEF Status-Base'!$G$21","v":0},0,{"$f":"'3.WEF Status-Base'!$H$21","v":0},null,{"$f":"'3.WEF Status-Base'!$J$21","v":0},0,{"$f":"'3.WEF Status-Base'!$K$21","v":0},null,{"$f":"'3.WEF Status-Base'!$M$21","v":0},0,{"$f":"'3.WEF Status-Base'!$N$21","v":0},null,{"$f":"'3.WEF Status-Base'!$P$21","v":0},0,{"$f":"'3.WEF Status-Base'!$Q$21","v":0},null,{"$f":"'3.WEF Status-Base'!$S$21","v":0},0,{"$f":"'3.WEF Status-Base'!$T$21","v":0},null,{"$f":"'3.WEF Status-Base'!$V$21","v":0},0,{"$f":"'3.WEF Status-Base'!$W$21","v":0},null,{"$f":"'3.WEF Status-Base'!$Y$21","v":0},0,{"$f":"'3.WEF Status-Base'!$Z$21","v":0},null,{"$f":"'3.WEF Status-Base'!$AB$21","v":0},0,{"$f":"'3.WEF Status-Base'!$AC$21","v":0},null,{"$f":"'3.WEF Status-Base'!$AE$21","v":0},0,{"$f":"'3.WEF Status-Base'!$AF$21","v":0},null,{"$f":"'3.WEF Status-Base'!$AH$21","v":0},0,{"$f":"'3.WEF Status-Base'!$AI$21","v":0},null,{"$f":"'3.WEF Status-Base'!$AK$21","v":0},0,{"$f":"'3.WEF Status-Base'!$AL$21","v":0},null,{"$f":"'3.WEF Status-Base'!$AN$21","v":0},0,{"$f":"'3.WEF Status-Base'!$AO$21","v":0},null,{"$f":"'3.WEF Status-Base'!$AQ$21","v":0},0,{"$f":"'3.WEF Status-Base'!$AR$21","v":0},null,{"$f":"'3.WEF Status-Base'!$AT$21","v":0},0,{"$f":"'3.WEF Status-Base'!$AU$21","v":0},null,{"$f":"'3.WEF Status-Base'!$AW$21","v":0},0,{"$f":"'3.WEF Status-Base'!$AX$21","v":0},null,{"$f":"'3.WEF Status-Base'!$AZ$21","v":0},0,{"$f":"'3.WEF Status-Base'!$BA$21","v":0},null,{"$f":"'3.WEF Status-Base'!$BC$21","v":0},0,{"$f":"'3.WEF Status-Base'!$BD$21","v":0},{"$f":"'3.WEF Status-Base'!$BE$21","v":0},null,12,{"$f":"'3.WEF Status-Base'!$D$21","v":0},0,{"$f":"'3.WEF Status-Base'!$E$21","v":0},null,{"$f":"'3.WEF Status-Base'!$G$21","v":0},0,{"$f":"'3.WEF Status-Base'!$H$21","v":0},null,{"$f":"'3.WEF Status-Base'!$J$21","v":0},0,{"$f":"'3.WEF Status-Base'!$K$21","v":0},null,{"$f":"'3.WEF Status-Base'!$M$21","v":0},0,{"$f":"'3.WEF Status-Base'!$N$21","v":0},null,{"$f":"'3.WEF Status-Base'!$P$21","v":0},0,{"$f":"'3.WEF Status-Base'!$Q$21","v":0},null,{"$f":"'3.WEF Status-Base'!$S$21","v":0},0,{"$f":"'3.WEF Status-Base'!$T$21","v":0},null,{"$f":"'3.WEF Status-Base'!$V$21","v":0},0,{"$f":"'3.WEF Status-Base'!$W$21","v":0},null,{"$f":"'3.WEF Status-Base'!$Y$21","v":0},0,{"$f":"'3.WEF Status-Base'!$Z$21","v":0},null,{"$f":"'3.WEF Status-Base'!$AB$21","v":0},0,{"$f":"'3.WEF Status-Base'!$AC$21","v":0},null,{"$f":"'3.WEF Status-Base'!$AE$21","v":0},0,{"$f":"'3.WEF Status-Base'!$AF$21","v":0},null,{"$f":"'3.WEF Status-Base'!$AH$21","v":0},0,{"$f":"'3.WEF Status-Base'!$AI$21","v":0},null,{"$f":"'3.WEF Status-Base'!$AK$21","v":0},0,{"$f":"'3.WEF Status-Base'!$AL$21","v":0},null,{"$f":"'3.WEF Status-Base'!$AN$21","v":0},0,{"$f":"'3.WEF Status-Base'!$AO$21","v":0},null,{"$f":"'3.WEF Status-Base'!$AQ$21","v":0},0,{"$f":"'3.WEF Status-Base'!$AR$21","v":0},null,{"$f":"'3.WEF Status-Base'!$AT$21","v":0},0,{"$f":"'3.WEF Status-Base'!$AU$21","v":0},null,{"$f":"'3.WEF Status-Base'!$AW$21","v":0},0,{"$f":"'3.WEF Status-Base'!$AX$21","v":0},null,{"$f":"'3.WEF Status-Base'!$AZ$21","v":0},0,{"$f":"'3.WEF Status-Base'!$BA$21","v":0},null,{"$f":"'3.WEF Status-Base'!$BC$21","v":0},0,{"$f":"'3.WEF Status-Base'!$BD$21","v":0},{"$f":"'3.WEF Status-Base'!$BE$21","v":0}]
[null,"     Transportation",{"$f":"'3.WEF Status-Base'!B112","v":0},0,null,13,{"$f":"'3.WEF Status-Base'!$D$22","v":0},0,{"$f":"'3.WEF Status-Base'!$E$22","v":0},null,{"$f":"'3.WEF Status-Base'!$G$22","v":0},0,{"$f":"'3.WEF Status-Base'!$H$22","v":0},null,{"$f":"'3.WEF Status-Base'!$J$22","v":0},0,{"$f":"'3.WEF Status-Base'!$K$22","v":0},null,{"$f":"'3.WEF Status-Base'!$M$22","v":0},0,{"$f":"'3.WEF Status-Base'!$N$22","v":0},null,{"$f":"'3.WEF Status-Base'!$P$22","v":0},0,{"$f":"'3.WEF Status-Base'!$Q$22","v":0},null,{"$f":"'3.WEF Status-Base'!$S$22","v":0},0,{"$f":"'3.WEF Status-Base'!$T$22","v":0},null,{"$f":"'3.WEF Status-Base'!$V$22","v":0},0,{"$f":"'3.WEF Status-Base'!$W$22","v":0},null,{"$f":"'3.WEF Status-Base'!$Y$22","v":0},0,{"$f":"'3.WEF Status-Base'!$Z$22","v":0},null,{"$f":"'3.WEF Status-Base'!$AB$22","v":0},0,{"$f":"'3.WEF Status-Base'!$AC$22","v":0},null,{"$f":"'3.WEF Status-Base'!$AE$22","v":0},0,{"$f":"'3.WEF Status-Base'!$AF$22","v":0},null,{"$f":"'3.WEF Status-Base'!$AH$22","v":0},0,{"$f":"'3.WEF Status-Base'!$AI$22","v":0},null,{"$f":"'3.WEF Status-Base'!$AK$22","v":0},0,{"$f":"'3.WEF Status-Base'!$AL$22","v":0},null,{"$f":"'3.WEF Status-Base'!$AN$22","v":0},0,{"$f":"'3.WEF Status-Base'!$AO$22","v":0},null,{"$f":"'3.WEF Status-Base'!$AQ$22","v":0},0,{"$f":"'3.WEF Status-Base'!$AR$22","v":0},null,{"$f":"'3.WEF Status-Base'!$AT$22","v":0},0,{"$f":"'3.WEF Status-Base'!$AU$22","v":0},null,{"$f":"'3.WEF Status-Base'!$AW$22","v":0},0,{"$f":"'3.WEF Status-Base'!$AX$22","v":0},null,{"$f":"'3.WEF Status-Base'!$AZ$22","v":0},0,{"$f":"'3.WEF Status-Base'!$BA$22","v":0},null,{"$f":"'3.WEF Status-Base'!$BC$22","v":0},0,{"$f":"'3.WEF Status-Base'!$BD$22","v":0},{"$f":"'3.WEF Status-Base'!$BE$22","v":0},null,13,{"$f":"'3.WEF Status-Base'!$D$22","v":0},0,{"$f":"'3.WEF Status-Base'!$E$22","v":0},null,{"$f":"'3.WEF Status-Base'!$G$22","v":0},0,{"$f":"'3.WEF Status-Base'!$H$22","v":0},null,{"$f":"'3.WEF Status-Base'!$J$22","v":0},0,{"$f":"'3.WEF Status-Base'!$K$22","v":0},null,{"$f":"'3.WEF Status-Base'!$M$22","v":0},0,{"$f":"'3.WEF Status-Base'!$N$22","v":0},null,{"$f":"'3.WEF Status-Base'!$P$22","v":0},0,{"$f":"'3.WEF Status-Base'!$Q$22","v":0},null,{"$f":"'3.WEF Status-Base'!$S$22","v":0},0,{"$f":"'3.WEF Status-Base'!$T$22","v":0},null,{"$f":"'3.WEF Status-Base'!$V$22","v":0},0,{"$f":"'3.WEF Status-Base'!$W$22","v":0},null,{"$f":"'3.WEF Status-Base'!$Y$22","v":0},0,{"$f":"'3.WEF Status-Base'!$Z$22","v":0},null,{"$f":"'3.WEF Status-Base'!$AB$22","v":0},0,{"$f":"'3.WEF Status-Base'!$AC$22","v":0},null,{"$f":"'3.WEF Status-Base'!$AE$22","v":0},0,{"$f":"'3.WEF Status-Base'!$AF$22","v":0},null,{"$f":"'3.WEF Status-Base'!$AH$22","v":0},0,{"$f":"'3.WEF Status-Base'!$AI$22","v":0},null,{"$f":"'3.WEF Status-Base'!$AK$22","v":0},0,{"$f":"'3.WEF Status-Base'!$AL$22","v":0},null,{"$f":"'3.WEF Status-Base'!$AN$22","v":0},0,{"$f":"'3.WEF Status-Base'!$AO$22","v":0},null,{"$f":"'3.WEF Status-Base'!$AQ$22","v":0},0,{"$f":"'3.WEF Status-Base'!$AR$22","v":0},null,{"$f":"'3.WEF Status-Base'!$AT$22","v":0},0,{"$f":"'3.WEF Status-Base'!$AU$22","v":0},null,{"$f":"'3.WEF Status-Base'!$AW$22","v":0},0,{"$f":"'3.WEF Status-Base'!$AX$22","v":0},null,{"$f":"'3.WEF Status-Base'!$AZ$22","v":0},0,{"$f":"'3.WEF Status-Base'!$BA$22","v":0},null,{"$f":"'3.WEF Status-Base'!$BC$22","v":0},0,{"$f":"'3.WEF Status-Base'!$BD$22","v":0},{"$f":"'3.WEF Status-Base'!$BE$22","v":0}]
[null,"     Communication",{"$f":"'3.WEF Status-Base'!B113","v":0},0,null,14,{"$f":"'3.WEF Status-Base'!$D$23","v":0},0,{"$f":"'3.WEF Status-Base'!$E$23","v":0},null,{"$f":"'3.WEF Status-Base'!$G$23","v":0},0,{"$f":"'3.WEF Status-Base'!$H$23","v":0},null,{"$f":"'3.WEF Status-Base'!$J$23","v":0},0,{"$f":"'3.WEF Status-Base'!$K$23","v":0},null,{"$f":"'3.WEF Status-Base'!$M$23","v":0},0,{"$f":"'3.WEF Status-Base'!$N$23","v":0},null,{"$f":"'3.WEF Status-Base'!$P$23","v":0},0,{"$f":"'3.WEF Status-Base'!$Q$23","v":0},null,{"$f":"'3.WEF Status-Base'!$S$23","v":0},0,{"$f":"'3.WEF Status-Base'!$T$23","v":0},null,{"$f":"'3.WEF Status-Base'!$V$23","v":0},0,{"$f":"'3.WEF Status-Base'!$W$23","v":0},null,{"$f":"'3.WEF Status-Base'!$Y$23","v":0},0,{"$f":"'3.WEF Status-Base'!$Z$23","v":0},null,{"$f":"'3.WEF Status-Base'!$AB$23","v":0},0,{"$f":"'3.WEF Status-Base'!$AC$23","v":0},null,{"$f":"'3.WEF Status-Base'!$AE$23","v":0},0,{"$f":"'3.WEF Status-Base'!$AF$23","v":0},null,{"$f":"'3.WEF Status-Base'!$AH$23","v":0},0,{"$f":"'3.WEF Status-Base'!$AI$23","v":0},null,{"$f":"'3.WEF Status-Base'!$AK$23","v":0},0,{"$f":"'3.WEF Status-Base'!$AL$23","v":0},null,{"$f":"'3.WEF Status-Base'!$AN$23","v":0},0,{"$f":"'3.WEF Status-Base'!$AO$23","v":0},null,{"$f":"'3.WEF Status-Base'!$AQ$23","v":0},0,{"$f":"'3.WEF Status-Base'!$AR$23","v":0},null,{"$f":"'3.WEF Status-Base'!$AT$23","v":0},0,{"$f":"'3.WEF Status-Base'!$AU$23","v":0},null,{"$f":"'3.WEF Status-Base'!$AW$23","v":0},0,{"$f":"'3.WEF Status-Base'!$AX$23","v":0},null,{"$f":"'3.WEF Status-Base'!$AZ$23","v":0},0,{"$f":"'3.WEF Status-Base'!$BA$23","v":0},null,{"$f":"'3.WEF Status-Base'!$BC$23","v":0},0,{"$f":"'3.WEF Status-Base'!$BD$23","v":0},{"$f":"'3.WEF Status-Base'!$BE$23","v":0},null,14,{"$f":"'3.WEF Status-Base'!$D$23","v":0},0,{"$f":"'3.WEF Status-Base'!$E$23","v":0},null,{"$f":"'3.WEF Status-Base'!$G$23","v":0},0,{"$f":"'3.WEF Status-Base'!$H$23","v":0},null,{"$f":"'3.WEF Status-Base'!$J$23","v":0},0,{"$f":"'3.WEF Status-Base'!$K$23","v":0},null,{"$f":"'3.WEF Status-Base'!$M$23","v":0},0,{"$f":"'3.WEF Status-Base'!$N$23","v":0},null,{"$f":"'3.WEF Status-Base'!$P$23","v":0},0,{"$f":"'3.WEF Status-Base'!$Q$23","v":0},null,{"$f":"'3.WEF Status-Base'!$S$23","v":0},0,{"$f":"'3.WEF Status-Base'!$T$23","v":0},null,{"$f":"'3.WEF Status-Base'!$V$23","v":0},0,{"$f":"'3.WEF Status-Base'!$W$23","v":0},null,{"$f":"'3.WEF Status-Base'!$Y$23","v":0},0,{"$f":"'3.WEF Status-Base'!$Z$23","v":0},null,{"$f":"'3.WEF Status-Base'!$AB$23","v":0},0,{"$f":"'3.WEF Status-Base'!$AC$23","v":0},null,{"$f":"'3.WEF Status-Base'!$AE$23","v":0},0,{"$f":"'3.WEF Status-Base'!$AF$23","v":0},null,{"$f":"'3.WEF Status-Base'!$AH$23","v":0},0,{"$f":"'3.WEF Status-Base'!$AI$23","v":0},null,{"$f":"'3.WEF Status-Base'!$AK$23","v":0},0,{"$f":"'3.WEF Status-Base'!$AL$23","v":0},null,{"$f":"'3.WEF Status-Base'!$AN$23","v":0},0,{"$f":"'3.WEF Status-Base'!$AO$23","v":0},null,{"$f":"'3.WEF Status-Base'!$AQ$23","v":0},0,{"$f":"'3.WEF Status-Base'!$AR$23","v":0},null,{"$f":"'3.WEF Status-Base'!$AT$23","v":0},0,{"$f":"'3.WEF Status-Base'!$AU$23","v":0},null,{"$f":"'3.WEF Status-Base'!$AW$23","v":0},0,{"$f":"'3.WEF Status-Base'!$AX$23","v":0},null,{"$f":"'3.WEF Status-Base'!$AZ$23","v":0},0,{"$f":"'3.WEF Status-Base'!$BA$23","v":0},null,{"$f":"'3.WEF Status-Base'!$BC$23","v":0},0,{"$f":"'3.WEF Status-Base'!$BD$23","v":0},{"$f":"'3.WEF Status-Base'!$BE$23","v":0}]
[null,"     Waste removal/disposal",{"$f":"'3.WEF Status-Base'!B114","v":0},0,null,15,{"$f":"'3.WEF Status-Base'!$D$24","v":0},0,{"$f":"'3.WEF Status-Base'!$E$24","v":0},null,{"$f":"'3.WEF Status-Base'!$G$24","v":0},0,{"$f":"'3.WEF Status-Base'!$H$24","v":0},null,{"$f":"'3.WEF Status-Base'!$J$24","v":0},0,{"$f":"'3.WEF Status-Base'!$K$24","v":0},null,{"$f":"'3.WEF Status-Base'!$M$24","v":0},0,{"$f":"'3.WEF Status-Base'!$N$24","v":0},null,{"$f":"'3.WEF Status-Base'!$P$24","v":0},0,{"$f":"'3.WEF Status-Base'!$Q$24","v":0},null,{"$f":"'3.WEF Status-Base'!$S$24","v":0},0,{"$f":"'3.WEF Status-Base'!$T$24","v":0},null,{"$f":"'3.WEF Status-Base'!$V$24","v":0},0,{"$f":"'3.WEF Status-Base'!$W$24","v":0},null,{"$f":"'3.WEF Status-Base'!$Y$24","v":0},0,{"$f":"'3.WEF Status-Base'!$Z$24","v":0},null,{"$f":"'3.WEF Status-Base'!$AB$24","v":0},0,{"$f":"'3.WEF Status-Base'!$AC$24","v":0},null,{"$f":"'3.WEF Status-Base'!$AE$24","v":0},0,{"$f":"'3.WEF Status-Base'!$AF$24","v":0},null,{"$f":"'3.WEF Status-Base'!$AH$24","v":0},0,{"$f":"'3.WEF Status-Base'!$AI$24","v":0},null,{"$f":"'3.WEF Status-Base'!$AK$24","v":0},0,{"$f":"'3.WEF Status-Base'!$AL$24","v":0},null,{"$f":"'3.WEF Status-Base'!$AN$24","v":0},0,{"$f":"'3.WEF Status-Base'!$AO$24","v":0},null,{"$f":"'3.WEF Status-Base'!$AQ$24","v":0},0,{"$f":"'3.WEF Status-Base'!$AR$24","v":0},null,{"$f":"'3.WEF Status-Base'!$AT$24","v":0},0,{"$f":"'3.WEF Status-Base'!$AU$24","v":0},null,{"$f":"'3.WEF Status-Base'!$AW$24","v":0},0,{"$f":"'3.WEF Status-Base'!$AX$24","v":0},null,{"$f":"'3.WEF Status-Base'!$AZ$24","v":0},0,{"$f":"'3.WEF Status-Base'!$BA$24","v":0},null,{"$f":"'3.WEF Status-Base'!$BC$24","v":0},0,{"$f":"'3.WEF Status-Base'!$BD$24","v":0},{"$f":"'3.WEF Status-Base'!$BE$24","v":0},null,15,{"$f":"'3.WEF Status-Base'!$D$24","v":0},0,{"$f":"'3.WEF Status-Base'!$E$24","v":0},null,{"$f":"'3.WEF Status-Base'!$G$24","v":0},0,{"$f":"'3.WEF Status-Base'!$H$24","v":0},null,{"$f":"'3.WEF Status-Base'!$J$24","v":0},0,{"$f":"'3.WEF Status-Base'!$K$24","v":0},null,{"$f":"'3.WEF Status-Base'!$M$24","v":0},0,{"$f":"'3.WEF Status-Base'!$N$24","v":0},null,{"$f":"'3.WEF Status-Base'!$P$24","v":0},0,{"$f":"'3.WEF Status-Base'!$Q$24","v":0},null,{"$f":"'3.WEF Status-Base'!$S$24","v":0},0,{"$f":"'3.WEF Status-Base'!$T$24","v":0},null,{"$f":"'3.WEF Status-Base'!$V$24","v":0},0,{"$f":"'3.WEF Status-Base'!$W$24","v":0},null,{"$f":"'3.WEF Status-Base'!$Y$24","v":0},0,{"$f":"'3.WEF Status-Base'!$Z$24","v":0},null,{"$f":"'3.WEF Status-Base'!$AB$24","v":0},0,{"$f":"'3.WEF Status-Base'!$AC$24","v":0},null,{"$f":"'3.WEF Status-Base'!$AE$24","v":0},0,{"$f":"'3.WEF Status-Base'!$AF$24","v":0},null,{"$f":"'3.WEF Status-Base'!$AH$24","v":0},0,{"$f":"'3.WEF Status-Base'!$AI$24","v":0},null,{"$f":"'3.WEF Status-Base'!$AK$24","v":0},0,{"$f":"'3.WEF Status-Base'!$AL$24","v":0},null,{"$f":"'3.WEF Status-Base'!$AN$24","v":0},0,{"$f":"'3.WEF Status-Base'!$AO$24","v":0},null,{"$f":"'3.WEF Status-Base'!$AQ$24","v":0},0,{"$f":"'3.WEF Status-Base'!$AR$24","v":0},null,{"$f":"'3.WEF Status-Base'!$AT$24","v":0},0,{"$f":"'3.WEF Status-Base'!$AU$24","v":0},null,{"$f":"'3.WEF Status-Base'!$AW$24","v":0},0,{"$f":"'3.WEF Status-Base'!$AX$24","v":0},null,{"$f":"'3.WEF Status-Base'!$AZ$24","v":0},0,{"$f":"'3.WEF Status-Base'!$BA$24","v":0},null,{"$f":"'3.WEF Status-Base'!$BC$24","v":0},0,{"$f":"'3.WEF Status-Base'!$BD$24","v":0},{"$f":"'3.WEF Status-Base'!$BE$24","v":0}]
[null,"Natural Infrastructure",{"$f":"'3.WEF Status-Base'!B115","v":0},0,null,16,{"$f":"'3.WEF Status-Base'!$D$25","v":0},0,{"$f":"'3.WEF Status-Base'!$E$25","v":0},null,{"$f":"'3.WEF Status-Base'!$G$25","v":0},0,{"$f":"'3.WEF Status-Base'!$H$25","v":0},null,{"$f":"'3.WEF Status-Base'!$J$25","v":0},0,{"$f":"'3.WEF Status-Base'!$K$25","v":0},null,{"$f":"'3.WEF Status-Base'!$M$25","v":0},0,{"$f":"'3.WEF Status-Base'!$N$25","v":0},null,{"$f":"'3.WEF Status-Base'!$P$25","v":0},0,{"$f":"'3.WEF Status-Base'!$Q$25","v":0},null,{"$f":"'3.WEF Status-Base'!$S$25","v":0},0,{"$f":"'3.WEF Status-Base'!$T$25","v":0},null,{"$f":"'3.WEF Status-Base'!$V$25","v":0},0,{"$f":"'3.WEF Status-Base'!$W$25","v":0},null,{"$f":"'3.WEF Status-Base'!$Y$25","v":0},0,{"$f":"'3.WEF Status-Base'!$Z$25","v":0},null,{"$f":"'3.WEF Status-Base'!$AB$25","v":0},0,{"$f":"'3.WEF Status-Base'!$AC$25","v":0},null,{"$f":"'3.WEF Status-Base'!$AE$25","v":0},0,{"$f":"'3.WEF Status-Base'!$AF$25","v":0},null,{"$f":"'3.WEF Status-Base'!$AH$25","v":0},0,{"$f":"'3.WEF Status-Base'!$AI$25","v":0},null,{"$f":"'3.WEF Status-Base'!$AK$25","v":0},0,{"$f":"'3.WEF Status-Base'!$AL$25","v":0},null,{"$f":"'3.WEF Status-Base'!$AN$25","v":0},0,{"$f":"'3.WEF Status-Base'!$AO$25","v":0},null,{"$f":"'3.WEF Status-Base'!$AQ$25","v":0},0,{"$f":"'3.WEF Status-Base'!$AR$25","v":0},null,{"$f":"'3.WEF Status-Base'!$AT$25","v":0},0,{"$f":"'3.WEF Status-Base'!$AU$25","v":0},null,{"$f":"'3.WEF Status-Base'!$AW$25","v":0},0,{"$f":"'3.WEF Status-Base'!$AX$25","v":0},null,{"$f":"'3.WEF Status-Base'!$AZ$25","v":0},0,{"$f":"'3.WEF Status-Base'!$BA$25","v":0},null,{"$f":"'3.WEF Status-Base'!$BC$25","v":0},0,{"$f":"'3.WEF Status-Base'!$BD$25","v":0},{"$f":"'3.WEF Status-Base'!$BE$25","v":0},null,16,{"$f":"'3.WEF Status-Base'!$D$25","v":0},0,{"$f":"'3.WEF Status-Base'!$E$25","v":0},null,{"$f":"'3.WEF Status-Base'!$G$25","v":0},0,{"$f":"'3.WEF Status-Base'!$H$25","v":0},null,{"$f":"'3.WEF Status-Base'!$J$25","v":0},0,{"$f":"'3.WEF Status-Base'!$K$25","v":0},null,{"$f":"'3.WEF Status-Base'!$M$25","v":0},0,{"$f":"'3.WEF Status-Base'!$N$25","v":0},null,{"$f":"'3.WEF Status-Base'!$P$25","v":0},0,{"$f":"'3.WEF Status-Base'!$Q$25","v":0},null,{"$f":"'3.WEF Status-Base'!$S$25","v":0},0,{"$f":"'3.WEF Status-Base'!$T$25","v":0},null,{"$f":"'3.WEF Status-Base'!$V$25","v":0},0,{"$f":"'3.WEF Status-Base'!$W$25","v":0},null,{"$f":"'3.WEF Status-Base'!$Y$25","v":0},0,{"$f":"'3.WEF Status-Base'!$Z$25","v":0},null,{"$f":"'3.WEF Status-Base'!$AB$25","v":0},0,{"$f":"'3.WEF Status-Base'!$AC$25","v":0},null,{"$f":"'3.WEF Status-Base'!$AE$25","v":0},0,{"$f":"'3.WEF Status-Base'!$AF$25","v":0},null,{"$f":"'3.WEF Status-Base'!$AH$25","v":0},0,{"$f":"'3.WEF Status-Base'!$AI$25","v":0},null,{"$f":"'3.WEF Status-Base'!$AK$25","v":0},0,{"$f":"'3.WEF Status-Base'!$AL$25","v":0},null,{"$f":"'3.WEF Status-Base'!$AN$25","v":0},0,{"$f":"'3.WEF Status-Base'!$AO$25","v":0},null,{"$f":"'3.WEF Status-Base'!$AQ$25","v":0},0,{"$f":"'3.WEF Status-Base'!$AR$25","v":0},null,{"$f":"'3.WEF Status-Base'!$AT$25","v":0},0,{"$f":"'3.WEF Status-Base'!$AU$25","v":0},null,{"$f":"'3.WEF Status-Base'!$AW$25","v":0},0,{"$f":"'3.WEF Status-Base'!$AX$25","v":0},null,{"$f":"'3.WEF Status-Base'!$AZ$25","v":0},0,{"$f":"'3.WEF Status-Base'!$BA$25","v":0},null,{"$f":"'3.WEF Status-Base'!$BC$25","v":0},0,{"$f":"'3.WEF Status-Base'!$BD$25","v":0},{"$f":"'3.WEF Status-Base'!$BE$25","v":0}]
[null,"     Air quality maintenance",{"$f":"'3.WEF Status-Base'!B116","v":0},0,null,17,{"$f":"'3.WEF Status-Base'!$D$26","v":0},0,{"$f":"'3.WEF Status-Base'!$E$26","v":0},null,{"$f":"'3.WEF Status-Base'!$G$26","v":0},0,{"$f":"'3.WEF Status-Base'!$H$26","v":0},null,{"$f":"'3.WEF Status-Base'!$J$26","v":0},0,{"$f":"'3.WEF Status-Base'!$K$26","v":0},null,{"$f":"'3.WEF Status-Base'!$M$26","v":0},0,{"$f":"'3.WEF Status-Base'!$N$26","v":0},null,{"$f":"'3.WEF Status-Base'!$P$26","v":0},0,{"$f":"'3.WEF Status-Base'!$Q$26","v":0},null,{"$f":"'3.WEF Status-Base'!$S$26","v":0},0,{"$f":"'3.WEF Status-Base'!$T$26","v":0},null,{"$f":"'3.WEF Status-Base'!$V$26","v":0},0,{"$f":"'3.WEF Status-Base'!$W$26","v":0},null,{"$f":"'3.WEF Status-Base'!$Y$26","v":0},0,{"$f":"'3.WEF Status-Base'!$Z$26","v":0},null,{"$f":"'3.WEF Status-Base'!$AB$26","v":0},0,{"$f":"'3.WEF Status-Base'!$AC$26","v":0},null,{"$f":"'3.WEF Status-Base'!$AE$26","v":0},0,{"$f":"'3.WEF Status-Base'!$AF$26","v":0},null,{"$f":"'3.WEF Status-Base'!$AH$26","v":0},0,{"$f":"'3.WEF Status-Base'!$AI$26","v":0},null,{"$f":"'3.WEF Status-Base'!$AK$26","v":0},0,{"$f":"'3.WEF Status-Base'!$AL$26","v":0},null,{"$f":"'3.WEF Status-Base'!$AN$26","v":0},0,{"$f":"'3.WEF Status-Base'!$AO$26","v":0},null,{"$f":"'3.WEF Status-Base'!$AQ$26","v":0},0,{"$f":"'3.WEF Status-Base'!$AR$26","v":0},null,{"$f":"'3.WEF Status-Base'!$AT$26","v":0},0,{"$f":"'3.WEF Status-Base'!$AU$26","v":0},null,{"$f":"'3.WEF Status-Base'!$AW$26","v":0},0,{"$f":"'3.WEF Status-Base'!$AX$26","v":0},null,{"$f":"'3.WEF Status-Base'!$AZ$26","v":0},0,{"$f":"'3.WEF Status-Base'!$BA$26","v":0},null,{"$f":"'3.WEF Status-Base'!$BC$26","v":0},0,{"$f":"'3.WEF Status-Base'!$BD$26","v":0},{"$f":"'3.WEF Status-Base'!$BE$26","v":0},null,17,{"$f":"'3.WEF Status-Base'!$D$26","v":0},0,{"$f":"'3.WEF Status-Base'!$E$26","v":0},null,{"$f":"'3.WEF Status-Base'!$G$26","v":0},0,{"$f":"'3.WEF Status-Base'!$H$26","v":0},null,{"$f":"'3.WEF Status-Base'!$J$26","v":0},0,{"$f":"'3.WEF Status-Base'!$K$26","v":0},null,{"$f":"'3.WEF Status-Base'!$M$26","v":0},0,{"$f":"'3.WEF Status-Base'!$N$26","v":0},null,{"$f":"'3.WEF Status-Base'!$P$26","v":0},0,{"$f":"'3.WEF Status-Base'!$Q$26","v":0},null,{"$f":"'3.WEF Status-Base'!$S$26","v":0},0,{"$f":"'3.WEF Status-Base'!$T$26","v":0},null,{"$f":"'3.WEF Status-Base'!$V$26","v":0},0,{"$f":"'3.WEF Status-Base'!$W$26","v":0},null,{"$f":"'3.WEF Status-Base'!$Y$26","v":0},0,{"$f":"'3.WEF Status-Base'!$Z$26","v":0},null,{"$f":"'3.WEF Status-Base'!$AB$26","v":0},0,{"$f":"'3.WEF Status-Base'!$AC$26","v":0},null,{"$f":"'3.WEF Status-Base'!$AE$26","v":0},0,{"$f":"'3.WEF Status-Base'!$AF$26","v":0},null,{"$f":"'3.WEF Status-Base'!$AH$26","v":0},0,{"$f":"'3.WEF Status-Base'!$AI$26","v":0},null,{"$f":"'3.WEF Status-Base'!$AK$26","v":0},0,{"$f":"'3.WEF Status-Base'!$AL$26","v":0},null,{"$f":"'3.WEF Status-Base'!$AN$26","v":0},0,{"$f":"'3.WEF Status-Base'!$AO$26","v":0},null,{"$f":"'3.WEF Status-Base'!$AQ$26","v":0},0,{"$f":"'3.WEF Status-Base'!$AR$26","v":0},null,{"$f":"'3.WEF Status-Base'!$AT$26","v":0},0,{"$f":"'3.WEF Status-Base'!$AU$26","v":0},null,{"$f":"'3.WEF Status-Base'!$AW$26","v":0},0,{"$f":"'3.WEF Status-Base'!$AX$26","v":0},null,{"$f":"'3.WEF Status-Base'!$AZ$26","v":0},0,{"$f":"'3.WEF Status-Base'!$BA$26","v":0},null,{"$f":"'3.WEF Status-Base'!$BC$26","v":0},0,{"$f":"'3.WEF Status-Base'!$BD$26","v":0},{"$f":"'3.WEF Status-Base'!$BE$26","v":0}]
[null,"     Erosion control",{"$f":"'3.WEF Status-Base'!B117","v":0},0,null,18,{"$f":"'3.WEF Status-Base'!$D$27","v":0},0,{"$f":"'3.WEF Status-Base'!$E$27","v":0},null,{"$f":"'3.WEF Status-Base'!$G$27","v":0},0,{"$f":"'3.WEF Status-Base'!$H$27","v":0},null,{"$f":"'3.WEF Status-Base'!$J$27","v":0},0,{"$f":"'3.WEF Status-Base'!$K$27","v":0},null,{"$f":"'3.WEF Status-Base'!$M$27","v":0},0,{"$f":"'3.WEF Status-Base'!$N$27","v":0},null,{"$f":"'3.WEF Status-Base'!$P$27","v":0},0,{"$f":"'3.WEF Status-Base'!$Q$27","v":0},null,{"$f":"'3.WEF Status-Base'!$S$27","v":0},0,{"$f":"'3.WEF Status-Base'!$T$27","v":0},null,{"$f":"'3.WEF Status-Base'!$V$27","v":0},0,{"$f":"'3.WEF Status-Base'!$W$27","v":0},null,{"$f":"'3.WEF Status-Base'!$Y$27","v":0},0,{"$f":"'3.WEF Status-Base'!$Z$27","v":0},null,{"$f":"'3.WEF Status-Base'!$AB$27","v":0},0,{"$f":"'3.WEF Status-Base'!$AC$27","v":0},null,{"$f":"'3.WEF Status-Base'!$AE$27","v":0},0,{"$f":"'3.WEF Status-Base'!$AF$27","v":0},null,{"$f":"'3.WEF Status-Base'!$AH$27","v":0},0,{"$f":"'3.WEF Status-Base'!$AI$27","v":0},null,{"$f":"'3.WEF Status-Base'!$AK$27","v":0},0,{"$f":"'3.WEF Status-Base'!$AL$27","v":0},null,{"$f":"'3.WEF Status-Base'!$AN$27","v":0},0,{"$f":"'3.WEF Status-Base'!$AO$27","v":0},null,{"$f":"'3.WEF Status-Base'!$AQ$27","v":0},0,{"$f":"'3.WEF Status-Base'!$AR$27","v":0},null,{"$f":"'3.WEF Status-Base'!$AT$27","v":0},0,{"$f":"'3.WEF Status-Base'!$AU$27","v":0},null,{"$f":"'3.WEF Status-Base'!$AW$27","v":0},0,{"$f":"'3.WEF Status-Base'!$AX$27","v":0},null,{"$f":"'3.WEF Status-Base'!$AZ$27","v":0},0,{"$f":"'3.WEF Status-Base'!$BA$27","v":0},null,{"$f":"'3.WEF Status-Base'!$BC$27","v":0},0,{"$f":"'3.WEF Status-Base'!$BD$27","v":0},{"$f":"'3.WEF Status-Base'!$BE$27","v":0},null,18,{"$f":"'3.WEF Status-Base'!$D$27","v":0},0,{"$f":"'3.WEF Status-Base'!$E$27","v":0},null,{"$f":"'3.WEF Status-Base'!$G$27","v":0},0,{"$f":"'3.WEF Status-Base'!$H$27","v":0},null,{"$f":"'3.WEF Status-Base'!$J$27","v":0},0,{"$f":"'3.WEF Status-Base'!$K$27","v":0},null,{"$f":"'3.WEF Status-Base'!$M$27","v":0},0,{"$f":"'3.WEF Status-Base'!$N$27","v":0},null,{"$f":"'3.WEF Status-Base'!$P$27","v":0},0,{"$f":"'3.WEF Status-Base'!$Q$27","v":0},null,{"$f":"'3.WEF Status-Base'!$S$27","v":0},0,{"$f":"'3.WEF Status-Base'!$T$27","v":0},null,{"$f":"'3.WEF Status-Base'!$V$27","v":0},0,{"$f":"'3.WEF Status-Base'!$W$27","v":0},null,{"$f":"'3.WEF Status-Base'!$Y$27","v":0},0,{"$f":"'3.WEF Status-Base'!$Z$27","v":0},null,{"$f":"'3.WEF Status-Base'!$AB$27","v":0},0,{"$f":"'3.WEF Status-Base'!$AC$27","v":0},null,{"$f":"'3.WEF Status-Base'!$AE$27","v":0},0,{"$f":"'3.WEF Status-Base'!$AF$27","v":0},null,{"$f":"'3.WEF Status-Base'!$AH$27","v":0},0,{"$f":"'3.WEF Status-Base'!$AI$27","v":0},null,{"$f":"'3.WEF Status-Base'!$AK$27","v":0},0,{"$f":"'3.WEF Status-Base'!$AL$27","v":0},null,{"$f":"'3.WEF Status-Base'!$AN$27","v":0},0,{"$f":"'3.WEF Status-Base'!$AO$27","v":0},null,{"$f":"'3.WEF Status-Base'!$AQ$27","v":0},0,{"$f":"'3.WEF Status-Base'!$AR$27","v":0},null,{"$f":"'3.WEF Status-Base'!$AT$27","v":0},0,{"$f":"'3.WEF Status-Base'!$AU$27","v":0},null,{"$f":"'3.WEF Status-Base'!$AW$27","v":0},0,{"$f":"'3.WEF Status-Base'!$AX$27","v":0},null,{"$f":"'3.WEF Status-Base'!$AZ$27","v":0},0,{"$f":"'3.WEF Status-Base'!$BA$27","v":0},null,{"$f":"'3.WEF Status-Base'!$BC$27","v":0},0,{"$f":"'3.WEF Status-Base'!$BD$27","v":0},{"$f":"'3.WEF Status-Base'!$BE$27","v":0}]
[null,"     Water purification and treatment",{"$f":"'3.WEF Status-Base'!B118","v":0},0,null,19,{"$f":"'3.WEF Status-Base'!$D$28","v":0},0,{"$f":"'3.WEF Status-Base'!$E$28","v":0},null,{"$f":"'3.WEF Status-Base'!$G$28","v":0},0,{"$f":"'3.WEF Status-Base'!$H$28","v":0},null,{"$f":"'3.WEF Status-Base'!$J$28","v":0},0,{"$f":"'3.WEF Status-Base'!$K$28","v":0},null,{"$f":"'3.WEF Status-Base'!$M$28","v":0},0,{"$f":"'3.WEF Status-Base'!$N$28","v":0},null,{"$f":"'3.WEF Status-Base'!$P$28","v":0},0,{"$f":"'3.WEF Status-Base'!$Q$28","v":0},null,{"$f":"'3.WEF Status-Base'!$S$28","v":0},0,{"$f":"'3.WEF Status-Base'!$T$28","v":0},null,{"$f":"'3.WEF Status-Base'!$V$28","v":0},0,{"$f":"'3.WEF Status-Base'!$W$28","v":0},null,{"$f":"'3.WEF Status-Base'!$Y$28","v":0},0,{"$f":"'3.WEF Status-Base'!$Z$28","v":0},null,{"$f":"'3.WEF Status-Base'!$AB$28","v":0},0,{"$f":"'3.WEF Status-Base'!$AC$28","v":0},null,{"$f":"'3.WEF Status-Base'!$AE$28","v":0},0,{"$f":"'3.WEF Status-Base'!$AF$28","v":0},null,{"$f":"'3.WEF Status-Base'!$AH$28","v":0},0,{"$f":"'3.WEF Status-Base'!$AI$28","v":0},null,{"$f":"'3.WEF Status-Base'!$AK$28","v":0},0,{"$f":"'3.WEF Status-Base'!$AL$28","v":0},null,{"$f":"'3.WEF Status-Base'!$AN$28","v":0},0,{"$f":"'3.WEF Status-Base'!$AO$28","v":0},null,{"$f":"'3.WEF Status-Base'!$AQ$28","v":0},0,{"$f":"'3.WEF Status-Base'!$AR$28","v":0},null,{"$f":"'3.WEF Status-Base'!$AT$28","v":0},0,{"$f":"'3.WEF Status-Base'!$AU$28","v":0},null,{"$f":"'3.WEF Status-Base'!$AW$28","v":0},0,{"$f":"'3.WEF Status-Base'!$AX$28","v":0},null,{"$f":"'3.WEF Status-Base'!$AZ$28","v":0},0,{"$f":"'3.WEF Status-Base'!$BA$28","v":0},null,{"$f":"'3.WEF Status-Base'!$BC$28","v":0},0,{"$f":"'3.WEF Status-Base'!$BD$28","v":0},{"$f":"'3.WEF Status-Base'!$BE$28","v":0},null,19,{"$f":"'3.WEF Status-Base'!$D$28","v":0},0,{"$f":"'3.WEF Status-Base'!$E$28","v":0},null,{"$f":"'3.WEF Status-Base'!$G$28","v":0},0,{"$f":"'3.WEF Status-Base'!$H$28","v":0},null,{"$f":"'3.WEF Status-Base'!$J$28","v":0},0,{"$f":"'3.WEF Status-Base'!$K$28","v":0},null,{"$f":"'3.WEF Status-Base'!$M$28","v":0},0,{"$f":"'3.WEF Status-Base'!$N$28","v":0},null,{"$f":"'3.WEF Status-Base'!$P$28","v":0},0,{"$f":"'3.WEF Status-Base'!$Q$28","v":0},null,{"$f":"'3.WEF Status-Base'!$S$28","v":0},0,{"$f":"'3.WEF Status-Base'!$T$28","v":0},null,{"$f":"'3.WEF Status-Base'!$V$28","v":0},0,{"$f":"'3.WEF Status-Base'!$W$28","v":0},null,{"$f":"'3.WEF Status-Base'!$Y$28","v":0},0,{"$f":"'3.WEF Status-Base'!$Z$28","v":0},null,{"$f":"'3.WEF Status-Base'!$AB$28","v":0},0,{"$f":"'3.WEF Status-Base'!$AC$28","v":0},null,{"$f":"'3.WEF Status-Base'!$AE$28","v":0},0,{"$f":"'3.WEF Status-Base'!$AF$28","v":0},null,{"$f":"'3.WEF Status-Base'!$AH$28","v":0},0,{"$f":"'3.WEF Status-Base'!$AI$28","v":0},null,{"$f":"'3.WEF Status-Base'!$AK$28","v":0},0,{"$f":"'3.WEF Status-Base'!$AL$28","v":0},null,{"$f":"'3.WEF Status-Base'!$AN$28","v":0},0,{"$f":"'3.WEF Status-Base'!$AO$28","v":0},null,{"$f":"'3.WEF Status-Base'!$AQ$28","v":0},0,{"$f":"'3.WEF Status-Base'!$AR$28","v":0},null,{"$f":"'3.WEF Status-Base'!$AT$28","v":0},0,{"$f":"'3.WEF Status-Base'!$AU$28","v":0},null,{"$f":"'3.WEF Status-Base'!$AW$28","v":0},0,{"$f":"'3.WEF Status-Base'!$AX$28","v":0},null,{"$f":"'3.WEF Status-Base'!$AZ$28","v":0},0,{"$f":"'3.WEF Status-Base'!$BA$28","v":0},null,{"$f":"'3.WEF Status-Base'!$BC$28","v":0},0,{"$f":"'3.WEF Status-Base'!$BD$28","v":0},{"$f":"'3.WEF Status-Base'!$BE$28","v":0}]
[null,"     Biological control",{"$f":"'3.WEF Status-Base'!B119","v":0},0,null,20,{"$f":"'3.WEF Status-Base'!$D$29","v":0},0,{"$f":"'3.WEF Status-Base'!$E$29","v":0},null,{"$f":"'3.WEF Status-Base'!$G$29","v":0},0,{"$f":"'3.WEF Status-Base'!$H$29","v":0},null,{"$f":"'3.WEF Status-Base'!$J$29","v":0},0,{"$f":"'3.WEF Status-Base'!$K$29","v":0},null,{"$f":"'3.WEF Status-Base'!$M$29","v":0},0,{"$f":"'3.WEF Status-Base'!$N$29","v":0},null,{"$f":"'3.WEF Status-Base'!$P$29","v":0},0,{"$f":"'3.WEF Status-Base'!$Q$29","v":0},null,{"$f":"'3.WEF Status-Base'!$S$29","v":0},0,{"$f":"'3.WEF Status-Base'!$T$29","v":0},null,{"$f":"'3.WEF Status-Base'!$V$29","v":0},0,{"$f":"'3.WEF Status-Base'!$W$29","v":0},null,{"$f":"'3.WEF Status-Base'!$Y$29","v":0},0,{"$f":"'3.WEF Status-Base'!$Z$29","v":0},null,{"$f":"'3.WEF Status-Base'!$AB$29","v":0},0,{"$f":"'3.WEF Status-Base'!$AC$29","v":0},null,{"$f":"'3.WEF Status-Base'!$AE$29","v":0},0,{"$f":"'3.WEF Status-Base'!$AF$29","v":0},null,{"$f":"'3.WEF Status-Base'!$AH$29","v":0},0,{"$f":"'3.WEF Status-Base'!$AI$29","v":0},null,{"$f":"'3.WEF Status-Base'!$AK$29","v":0},0,{"$f":"'3.WEF Status-Base'!$AL$29","v":0},null,{"$f":"'3.WEF Status-Base'!$AN$29","v":0},0,{"$f":"'3.WEF Status-Base'!$AO$29","v":0},null,{"$f":"'3.WEF Status-Base'!$AQ$29","v":0},0,{"$f":"'3.WEF Status-Base'!$AR$29","v":0},null,{"$f":"'3.WEF Status-Base'!$AT$29","v":0},0,{"$f":"'3.WEF Status-Base'!$AU$29","v":0},null,{"$f":"'3.WEF Status-Base'!$AW$29","v":0},0,{"$f":"'3.WEF Status-Base'!$AX$29","v":0},null,{"$f":"'3.WEF Status-Base'!$AZ$29","v":0},0,{"$f":"'3.WEF Status-Base'!$BA$29","v":0},null,{"$f":"'3.WEF Status-Base'!$BC$29","v":0},0,{"$f":"'3.WEF Status-Base'!$BD$29","v":0},{"$f":"'3.WEF Status-Base'!$BE$29","v":0},null,20,{"$f":"'3.WEF Status-Base'!$D$29","v":0},0,{"$f":"'3.WEF Status-Base'!$E$29","v":0},null,{"$f":"'3.WEF Status-Base'!$G$29","v":0},0,{"$f":"'3.WEF Status-Base'!$H$29","v":0},null,{"$f":"'3.WEF Status-Base'!$J$29","v":0},0,{"$f":"'3.WEF Status-Base'!$K$29","v":0},null,{"$f":"'3.WEF Status-Base'!$M$29","v":0},0,{"$f":"'3.WEF Status-Base'!$N$29","v":0},null,{"$f":"'3.WEF Status-Base'!$P$29","v":0},0,{"$f":"'3.WEF Status-Base'!$Q$29","v":0},null,{"$f":"'3.WEF Status-Base'!$S$29","v":0},0,{"$f":"'3.WEF Status-Base'!$T$29","v":0},null,{"$f":"'3.WEF Status-Base'!$V$29","v":0},0,{"$f":"'3.WEF Status-Base'!$W$29","v":0},null,{"$f":"'3.WEF Status-Base'!$Y$29","v":0},0,{"$f":"'3.WEF Status-Base'!$Z$29","v":0},null,{"$f":"'3.WEF Status-Base'!$AB$29","v":0},0,{"$f":"'3.WEF Status-Base'!$AC$29","v":0},null,{"$f":"'3.WEF Status-Base'!$AE$29","v":0},0,{"$f":"'3.WEF Status-Base'!$AF$29","v":0},null,{"$f":"'3.WEF Status-Base'!$AH$29","v":0},0,{"$f":"'3.WEF Status-Base'!$AI$29","v":0},null,{"$f":"'3.WEF Status-Base'!$AK$29","v":0},0,{"$f":"'3.WEF Status-Base'!$AL$29","v":0},null,{"$f":"'3.WEF Status-Base'!$AN$29","v":0},0,{"$f":"'3.WEF Status-Base'!$AO$29","v":0},null,{"$f":"'3.WEF Status-Base'!$AQ$29","v":0},0,{"$f":"'3.WEF Status-Base'!$AR$29","v":0},null,{"$f":"'3.WEF Status-Base'!$AT$29","v":0},0,{"$f":"'3.WEF Status-Base'!$AU$29","v":0},null,{"$f":"'3.WEF Status-Base'!$AW$29","v":0},0,{"$f":"'3.WEF Status-Base'!$AX$29","v":0},null,{"$f":"'3.WEF Status-Base'!$AZ$29","v":0},0,{"$f":"'3.WEF Status-Base'!$BA$29","v":0},null,{"$f":"'3.WEF Status-Base'!$BC$29","v":0},0,{"$f":"'3.WEF Status-Base'!$BD$29","v":0},{"$f":"'3.WEF Status-Base'!$BE$29","v":0}]
[null,"     Pollination",{"$f":"'3.WEF Status-Base'!B120","v":0},0,null,21,{"$f":"'3.WEF Status-Base'!$D$30","v":0},0,{"$f":"'3.WEF Status-Base'!$E$30","v":0},null,{"$f":"'3.WEF Status-Base'!$G$30","v":0},0,{"$f":"'3.WEF Status-Base'!$H$30","v":0},null,{"$f":"'3.WEF Status-Base'!$J$30","v":0},0,{"$f":"'3.WEF Status-Base'!$K$30","v":0},null,{"$f":"'3.WEF Status-Base'!$M$30","v":0},0,{"$f":"'3.WEF Status-Base'!$N$30","v":0},null,{"$f":"'3.WEF Status-Base'!$P$30","v":0},0,{"$f":"'3.WEF Status-Base'!$Q$30","v":0},null,{"$f":"'3.WEF Status-Base'!$S$30","v":0},0,{"$f":"'3.WEF Status-Base'!$T$30","v":0},null,{"$f":"'3.WEF Status-Base'!$V$30","v":0},0,{"$f":"'3.WEF Status-Base'!$W$30","v":0},null,{"$f":"'3.WEF Status-Base'!$Y$30","v":0},0,{"$f":"'3.WEF Status-Base'!$Z$30","v":0},null,{"$f":"'3.WEF Status-Base'!$AB$30","v":0},0,{"$f":"'3.WEF Status-Base'!$AC$30","v":0},null,{"$f":"'3.WEF Status-Base'!$AE$30","v":0},0,{"$f":"'3.WEF Status-Base'!$AF$30","v":0},null,{"$f":"'3.WEF Status-Base'!$AH$30","v":0},0,{"$f":"'3.WEF Status-Base'!$AI$30","v":0},null,{"$f":"'3.WEF Status-Base'!$AK$30","v":0},0,{"$f":"'3.WEF Status-Base'!$AL$30","v":0},null,{"$f":"'3.WEF Status-Base'!$AN$30","v":0},0,{"$f":"'3.WEF Status-Base'!$AO$30","v":0},null,{"$f":"'3.WEF Status-Base'!$AQ$30","v":0},0,{"$f":"'3.WEF Status-Base'!$AR$30","v":0},null,{"$f":"'3.WEF Status-Base'!$AT$30","v":0},0,{"$f":"'3.WEF Status-Base'!$AU$30","v":0},null,{"$f":"'3.WEF Status-Base'!$AW$30","v":0},0,{"$f":"'3.WEF Status-Base'!$AX$30","v":0},null,{"$f":"'3.WEF Status-Base'!$AZ$30","v":0},0,{"$f":"'3.WEF Status-Base'!$BA$30","v":0},null,{"$f":"'3.WEF Status-Base'!$BC$30","v":0},0,{"$f":"'3.WEF Status-Base'!$BD$30","v":0},{"$f":"'3.WEF Status-Base'!$BE$30","v":0},null,21,{"$f":"'3.WEF Status-Base'!$D$30","v":0},0,{"$f":"'3.WEF Status-Base'!$E$30","v":0},null,{"$f":"'3.WEF Status-Base'!$G$30","v":0},0,{"$f":"'3.WEF Status-Base'!$H$30","v":0},null,{"$f":"'3.WEF Status-Base'!$J$30","v":0},0,{"$f":"'3.WEF Status-Base'!$K$30","v":0},null,{"$f":"'3.WEF Status-Base'!$M$30","v":0},0,{"$f":"'3.WEF Status-Base'!$N$30","v":0},null,{"$f":"'3.WEF Status-Base'!$P$30","v":0},0,{"$f":"'3.WEF Status-Base'!$Q$30","v":0},null,{"$f":"'3.WEF Status-Base'!$S$30","v":0},0,{"$f":"'3.WEF Status-Base'!$T$30","v":0},null,{"$f":"'3.WEF Status-Base'!$V$30","v":0},0,{"$f":"'3.WEF Status-Base'!$W$30","v":0},null,{"$f":"'3.WEF Status-Base'!$Y$30","v":0},0,{"$f":"'3.WEF Status-Base'!$Z$30","v":0},null,{"$f":"'3.WEF Status-Base'!$AB$30","v":0},0,{"$f":"'3.WEF Status-Base'!$AC$30","v":0},null,{"$f":"'3.WEF Status-Base'!$AE$30","v":0},0,{"$f":"'3.WEF Status-Base'!$AF$30","v":0},null,{"$f":"'3.WEF Status-Base'!$AH$30","v":0},0,{"$f":"'3.WEF Status-Base'!$AI$30","v":0},null,{"$f":"'3.WEF Status-Base'!$AK$30","v":0},0,{"$f":"'3.WEF Status-Base'!$AL$30","v":0},null,{"$f":"'3.WEF Status-Base'!$AN$30","v":0},0,{"$f":"'3.WEF Status-Base'!$AO$30","v":0},null,{"$f":"'3.WEF Status-Base'!$AQ$30","v":0},0,{"$f":"'3.WEF Status-Base'!$AR$30","v":0},null,{"$f":"'3.WEF Status-Base'!$AT$30","v":0},0,{"$f":"'3.WEF Status-Base'!$AU$30","v":0},null,{"$f":"'3.WEF Status-Base'!$AW$30","v":0},0,{"$f":"'3.WEF Status-Base'!$AX$30","v":0},null,{"$f":"'3.WEF Status-Base'!$AZ$30","v":0},0,{"$f":"'3.WEF Status-Base'!$BA$30","v":0},null,{"$f":"'3.WEF Status-Base'!$BC$30","v":0},0,{"$f":"'3.WEF Status-Base'!$BD$30","v":0},{"$f":"'3.WEF Status-Base'!$BE$30","v":0}]
[null,"     Storm protection",{"$f":"'3.WEF Status-Base'!B121","v":0},0,null,22,{"$f":"'3.WEF Status-Base'!$D$31","v":0},0,{"$f":"'3.WEF Status-Base'!$E$31","v":0},null,{"$f":"'3.WEF Status-Base'!$G$31","v":0},0,{"$f":"'3.WEF Status-Base'!$H$31","v":0},null,{"$f":"'3.WEF Status-Base'!$J$31","v":0},0,{"$f":"'3.WEF Status-Base'!$K$31","v":0},null,{"$f":"'3.WEF Status-Base'!$M$31","v":0},0,{"$f":"'3.WEF Status-Base'!$N$31","v":0},null,{"$f":"'3.WEF Status-Base'!$P$31","v":0},0,{"$f":"'3.WEF Status-Base'!$Q$31","v":0},null,{"$f":"'3.WEF Status-Base'!$S$31","v":0},0,{"$f":"'3.WEF Status-Base'!$T$31","v":0},null,{"$f":"'3.WEF Status-Base'!$V$31","v":0},0,{"$f":"'3.WEF Status-Base'!$W$31","v":0},null,{"$f":"'3.WEF Status-Base'!$Y$31","v":0},0,{"$f":"'3.WEF Status-Base'!$Z$31","v":0},null,{"$f":"'3.WEF Status-Base'!$AB$31","v":0},0,{"$f":"'3.WEF Status-Base'!$AC$31","v":0},null,{"$f":"'3.WEF Status-Base'!$AE$31","v":0},0,{"$f":"'3.WEF Status-Base'!$AF$31","v":0},null,{"$f":"'3.WEF Status-Base'!$AH$31","v":0},0,{"$f":"'3.WEF Status-Base'!$AI$31","v":0},null,{"$f":"'3.WEF Status-Base'!$AK$31","v":0},0,{"$f":"'3.WEF Status-Base'!$AL$31","v":0},null,{"$f":"'3.WEF Status-Base'!$AN$31","v":0},0,{"$f":"'3.WEF Status-Base'!$AO$31","v":0},null,{"$f":"'3.WEF Status-Base'!$AQ$31","v":0},0,{"$f":"'3.WEF Status-Base'!$AR$31","v":0},null,{"$f":"'3.WEF Status-Base'!$AT$31","v":0},0,{"$f":"'3.WEF Status-Base'!$AU$31","v":0},null,{"$f":"'3.WEF Status-Base'!$AW$31","v":0},0,{"$f":"'3.WEF Status-Base'!$AX$31","v":0},null,{"$f":"'3.WEF Status-Base'!$AZ$31","v":0},0,{"$f":"'3.WEF Status-Base'!$BA$31","v":0},null,{"$f":"'3.WEF Status-Base'!$BC$31","v":0},0,{"$f":"'3.WEF Status-Base'!$BD$31","v":0},{"$f":"'3.WEF Status-Base'!$BE$31","v":0},null,22,{"$f":"'3.WEF Status-Base'!$D$31","v":0},0,{"$f":"'3.WEF Status-Base'!$E$31","v":0},null,{"$f":"'3.WEF Status-Base'!$G$31","v":0},0,{"$f":"'3.WEF Status-Base'!$H$31","v":0},null,{"$f":"'3.WEF Status-Base'!$J$31","v":0},0,{"$f":"'3.WEF Status-Base'!$K$31","v":0},null,{"$f":"'3.WEF Status-Base'!$M$31","v":0},0,{"$f":"'3.WEF Status-Base'!$N$31","v":0},null,{"$f":"'3.WEF Status-Base'!$P$31","v":0},0,{"$f":"'3.WEF Status-Base'!$Q$31","v":0},null,{"$f":"'3.WEF Status-Base'!$S$31","v":0},0,{"$f":"'3.WEF Status-Base'!$T$31","v":0},null,{"$f":"'3.WEF Status-Base'!$V$31","v":0},0,{"$f":"'3.WEF Status-Base'!$W$31","v":0},null,{"$f":"'3.WEF Status-Base'!$Y$31","v":0},0,{"$f":"'3.WEF Status-Base'!$Z$31","v":0},null,{"$f":"'3.WEF Status-Base'!$AB$31","v":0},0,{"$f":"'3.WEF Status-Base'!$AC$31","v":0},null,{"$f":"'3.WEF Status-Base'!$AE$31","v":0},0,{"$f":"'3.WEF Status-Base'!$AF$31","v":0},null,{"$f":"'3.WEF Status-Base'!$AH$31","v":0},0,{"$f":"'3.WEF Status-Base'!$AI$31","v":0},null,{"$f":"'3.WEF Status-Base'!$AK$31","v":0},0,{"$f":"'3.WEF Status-Base'!$AL$31","v":0},null,{"$f":"'3.WEF Status-Base'!$AN$31","v":0},0,{"$f":"'3.WEF Status-Base'!$AO$31","v":0},null,{"$f":"'3.WEF Status-Base'!$AQ$31","v":0},0,{"$f":"'3.WEF Status-Base'!$AR$31","v":0},null,{"$f":"'3.WEF Status-Base'!$AT$31","v":0},0,{"$f":"'3.WEF Status-Base'!$AU$31","v":0},null,{"$f":"'3.WEF Status-Base'!$AW$31","v":0},0,{"$f":"'3.WEF Status-Base'!$AX$31","v":0},null,{"$f":"'3.WEF Status-Base'!$AZ$31","v":0},0,{"$f":"'3.WEF Status-Base'!$BA$31","v":0},null,{"$f":"'3.WEF Status-Base'!$BC$31","v":0},0,{"$f":"'3.WEF Status-Base'!$BD$31","v":0},{"$f":"'3.WEF Status-Base'!$BE$31","v":0}]
[null,"Supporting Institutions and Policies",null,null,null,23,null,null,null,null,null,null,null,null,null,null,null,null,null,null,null,null,null,null,null,null,null,null,null,null,null,null,null,null,null,null,null,null,null,null,null,null,null,null,null,null,null,null,null,null,null,null,null,null,null,null,null,null,null,null,null,null,null,null,null,null,null,null,null,null,null,null,null,null,null,null,null,null,null,23]
[null,"Institutions",{"$f":"'3.WEF Status-Base'!B123","v":0},{"$f":"MAX(H126,L126,P126,T126,X126,AB126,AF126,AJ126,AN126,AR126,AV126,BD126,AZ126,BH126,BL126,BP126,BT126,BX126)","v":0},null,24,{"$f":"'3.WEF Status-Base'!$D$33","v":0},0,{"$f":"'3.WEF Status-Base'!$E$33","v":0},null,{"$f":"'3.WEF Status-Base'!$G$33","v":0},0,{"$f":"'3.WEF Status-Base'!$H$33","v":0},null,{"$f":"'3.WEF Status-Base'!$J$33","v":0},0,{"$f":"'3.WEF Status-Base'!$K$33","v":0},null,{"$f":"'3.WEF Status-Base'!$M$33","v":0},0,{"$f":"'3.WEF Status-Base'!$N$33","v":0},null,{"$f":"'3.WEF Status-Base'!$P$33","v":0},0,{"$f":"'3.WEF Status-Base'!$Q$33","v":0},null,{"$f":"'3.WEF Status-Base'!$S$33","v":0},0,{"$f":"'3.WEF Status-Base'!$T$33","v":0},null,{"$f":"'3.WEF Status-Base'!$V$33","v":0},0,{"$f":"'3.WEF Status-Base'!$W$33","v":0},null,{"$f":"'3.WEF Status-Base'!$Y$33","v":0},0,{"$f":"'3.WEF Status-Base'!$Z$33","v":0},null,{"$f":"'3.WEF Status-Base'!$AB$33","v":0},0,{"$f":"'3.WEF Status-Base'!$AC$33","v":0},null,{"$f":"'3.WEF Status-Base'!$AE$33","v":0},0,{"$f":"'3.WEF Status-Base'!$AF$33","v":0},null,{"$f":"'3.WEF Status-Base'!$AH$33","v":0},0,{"$f":"'3.WEF Status-Base'!$AI$33","v":0},null,{"$f":"'3.WEF Status-Base'!$AK$33","v":0},0,{"$f":"'3.WEF Status-Base'!$AL$33","v":0},null,{"$f":"'3.WEF Status-Base'!$AN$33","v":0},0,{"$f":"'3.WEF Status-Base'!$AO$33","v":0},null,{"$f":"'3.WEF Status-Base'!$AQ$33","v":0},0,{"$f":"'3.WEF Status-Base'!$AR$33","v":0},null,{"$f":"'3.WEF Status-Base'!$AT$33","v":0},0,{"$f":"'3.WEF Status-Base'!$AU$33","v":0},null,{"$f":"'3.WEF Status-Base'!$AW$33","v":0},0,{"$f":"'3.WEF Status-Base'!$AX$33","v":0},null,{"$f":"'3.WEF Status-Base'!$AZ$33","v":0},0,{"$f":"'3.WEF Status-Base'!$BA$33","v":0},null,{"$f":"'3.WEF Status-Base'!$BC$33","v":0},0,{"$f":"'3.WEF Status-Base'!$BD$33","v":0},{"$f":"'3.WEF Status-Base'!$BE$33","v":0},null,24,{"$f":"'3.WEF Status-Base'!$D$33","v":0},0,{"$f":"'3.WEF Status-Base'!$E$33","v":0},null,{"$f":"'3.WEF Status-Base'!$G$33","v":0},0,{"$f":"'3.WEF Status-Base'!$H$33","v":0},null,{"$f":"'3.WEF Status-Base'!$J$33","v":0},0,{"$f":"'3.WEF Status-Base'!$K$33","v":0},null,{"$f":"'3.WEF Status-Base'!$M$33","v":0},0,{"$f":"'3.WEF Status-Base'!$N$33","v":0},null,{"$f":"'3.WEF Status-Base'!$P$33","v":0},0,{"$f":"'3.WEF Status-Base'!$Q$33","v":0},null,{"$f":"'3.WEF Status-Base'!$S$33","v":0},0,{"$f":"'3.WEF Status-Base'!$T$33","v":0},null,{"$f":"'3.WEF Status-Base'!$V$33","v":0},0,{"$f":"'3.WEF Status-Base'!$W$33","v":0},null,{"$f":"'3.WEF Status-Base'!$Y$33","v":0},0,{"$f":"'3.WEF Status-Base'!$Z$33","v":0},null,{"$f":"'3.WEF Status-Base'!$AB$33","v":0},0,{"$f":"'3.WEF Status-Base'!$AC$33","v":0},null,{"$f":"'3.WEF Status-Base'!$AE$33","v":0},0,{"$f":"'3.WEF Status-Base'!$AF$33","v":0},null,{"$f":"'3.WEF Status-Base'!$AH$33","v":0},0,{"$f":"'3.WEF Status-Base'!$AI$33","v":0},null,{"$f":"'3.WEF Status-Base'!$AK$33","v":0},0,{"$f":"'3.WEF Status-Base'!$AL$33","v":0},null,{"$f":"'3.WEF Status-Base'!$AN$33","v":0},0,{"$f":"'3.WEF Status-Base'!$AO$33","v":0},null,{"$f":"'3.WEF Status-Base'!$AQ$33","v":0},0,{"$f":"'3.WEF Status-Base'!$AR$33","v":0},null,{"$f":"'3.WEF Status-Base'!$AT$33","v":0},0,{"$f":"'3.WEF Status-Base'!$AU$33","v":0},null,{"$f":"'3.WEF Status-Base'!$AW$33","v":0},0,{"$f":"'3.WEF Status-Base'!$AX$33","v":0},null,{"$f":"'3.WEF Status-Base'!$AZ$33","v":0},0,{"$f":"'3.WEF Status-Base'!$BA$33","v":0},null,{"$f":"'3.WEF Status-Base'!$BC$33","v":0},0,{"$f":"'3.WEF Status-Base'!$BD$33","v":0},{"$f":"'3.WEF Status-Base'!$BE$33","v":0}]
[null,"     Utility boards",{"$f":"'3.WEF Status-Base'!B124","v":0},0,null,25,{"$f":"'3.WEF Status-Base'!$D$34","v":0},0,{"$f":"'3.WEF Status-Base'!$E$34","v":0},null,{"$f":"'3.WEF Status-Base'!$G$34","v":0},0,{"$f":"'3.WEF Status-Base'!$H$34","v":0},null,{"$f":"'3.WEF Status-Base'!$J$34","v":0},0,{"$f":"'3.WEF Status-Base'!$K$34","v":0},null,{"$f":"'3.WEF Status-Base'!$M$34","v":0},0,{"$f":"'3.WEF Status-Base'!$N$34","v":0},null,{"$f":"'3.WEF Status-Base'!$P$34","v":0},0,{"$f":"'3.WEF Status-Base'!$Q$34","v":0},null,{"$f":"'3.WEF Status-Base'!$S$34","v":0},0,{"$f":"'3.WEF Status-Base'!$T$34","v":0},null,{"$f":"'3.WEF Status-Base'!$V$34","v":0},0,{"$f":"'3.WEF Status-Base'!$W$34","v":0},null,{"$f":"'3.WEF Status-Base'!$Y$34","v":0},0,{"$f":"'3.WEF Status-Base'!$Z$34","v":0},null,{"$f":"'3.WEF Status-Base'!$AB$34","v":0},0,{"$f":"'3.WEF Status-Base'!$AC$34","v":0},null,{"$f":"'3.WEF Status-Base'!$AE$34","v":0},0,{"$f":"'3.WEF Status-Base'!$AF$34","v":0},null,{"$f":"'3.WEF Status-Base'!$AH$34","v":0},0,{"$f":"'3.WEF Status-Base'!$AI$34","v":0},null,{"$f":"'3.WEF Status-Base'!$AK$34","v":0},0,{"$f":"'3.WEF Status-Base'!$AL$34","v":0},null,{"$f":"'3.WEF Status-Base'!$AN$34","v":0},0,{"$f":"'3.WEF Status-Base'!$AO$34","v":0},null,{"$f":"'3.WEF Status-Base'!$AQ$34","v":0},0,{"$f":"'3.WEF Status-Base'!$AR$34","v":0},null,{"$f":"'3.WEF Status-Base'!$AT$34","v":0},0,{"$f":"'3.WEF Status-Base'!$AU$34","v":0},null,{"$f":"'3.WEF Status-Base'!$AW$34","v":0},0,{"$f":"'3.WEF Status-Base'!$AX$34","v":0},null,{"$f":"'3.WEF Status-Base'!$AZ$34","v":0},0,{"$f":"'3.WEF Status-Base'!$BA$34","v":0},null,{"$f":"'3.WEF Status-Base'!$BC$34","v":0},0,{"$f":"'3.WEF Status-Base'!$BD$34","v":0},{"$f":"'3.WEF Status-Base'!$BE$34","v":0},null,25,{"$f":"'3.WEF Status-Base'!$D$34","v":0},0,{"$f":"'3.WEF Status-Base'!$E$34","v":0},null,{"$f":"'3.WEF Status-Base'!$G$34","v":0},0,{"$f":"'3.WEF Status-Base'!$H$34","v":0},null,{"$f":"'3.WEF Status-Base'!$J$34","v":0},0,{"$f":"'3.WEF Status-Base'!$K$34","v":0},null,{"$f":"'3.WEF Status-Base'!$M$34","v":0},0,{"$f":"'3.WEF Status-Base'!$N$34","v":0},null,{"$f":"'3.WEF Status-Base'!$P$34","v":0},0,{"$f":"'3.WEF Status-Base'!$Q$34","v":0},null,{"$f":"'3.WEF Status-Base'!$S$34","v":0},0,{"$f":"'3.WEF Status-Base'!$T$34","v":0},null,{"$f":"'3.WEF Status-Base'!$V$34","v":0},0,{"$f":"'3.WEF Status-Base'!$W$34","v":0},null,{"$f":"'3.WEF Status-Base'!$Y$34","v":0},0,{"$f":"'3.WEF Status-Base'!$Z$34","v":0},null,{"$f":"'3.WEF Status-Base'!$AB$34","v":0},0,{"$f":"'3.WEF Status-Base'!$AC$34","v":0},null,{"$f":"'3.WEF Status-Base'!$AE$34","v":0},0,{"$f":"'3.WEF Status-Base'!$AF$34","v":0},null,{"$f":"'3.WEF Status-Base'!$AH$34","v":0},0,{"$f":"'3.WEF Status-Base'!$AI$34","v":0},null,{"$f":"'3.WEF Status-Base'!$AK$34","v":0},0,{"$f":"'3.WEF Status-Base'!$AL$34","v":0},null,{"$f":"'3.WEF Status-Base'!$AN$34","v":0},0,{"$f":"'3.WEF Status-Base'!$AO$34","v":0},null,{"$f":"'3.WEF Status-Base'!$AQ$34","v":0},0,{"$f":"'3.WEF Status-Base'!$AR$34","v":0},null,{"$f":"'3.WEF Status-Base'!$AT$34","v":0},0,{"$f":"'3.WEF Status-Base'!$AU$34","v":0},null,{"$f":"'3.WEF Status-Base'!$AW$34","v":0},0,{"$f":"'3.WEF Status-Base'!$AX$34","v":0},null,{"$f":"'3.WEF Status-Base'!$AZ$34","v":0},0,{"$f":"'3.WEF Status-Base'!$BA$34","v":0},null,{"$f":"'3.WEF Status-Base'!$BC$34","v":0},0,{"$f":"'3.WEF Status-Base'!$BD$34","v":0},{"$f":"'3.WEF Status-Base'!$BE$34","v":0}]
[null,"     Resource Coops",{"$f":"'3.WEF Status-Base'!B125","v":0},0,null,26,{"$f":"'3.WEF Status-Base'!$D$35","v":0},0,{"$f":"'3.WEF Status-Base'!$E$35","v":0},null,{"$f":"'3.WEF Status-Base'!$G$35","v":0},0,{"$f":"'3.WEF Status-Base'!$H$35","v":0},null,{"$f":"'3.WEF Status-Base'!$J$35","v":0},0,{"$f":"'3.WEF Status-Base'!$K$35","v":0},null,{"$f":"'3.WEF Status-Base'!$M$35","v":0},0,{"$f":"'3.WEF Status-Base'!$N$35","v":0},null,{"$f":"'3.WEF Status-Base'!$P$35","v":0},0,{"$f":"'3.WEF Status-Base'!$Q$35","v":0},null,{"$f":"'3.WEF Status-Base'!$S$35","v":0},0,{"$f":"'3.WEF Status-Base'!$T$35","v":0},null,{"$f":"'3.WEF Status-Base'!$V$35","v":0},0,{"$f":"'3.WEF Status-Base'!$W$35","v":0},null,{"$f":"'3.WEF Status-Base'!$Y$35","v":0},0,{"$f":"'3.WEF Status-Base'!$Z$35","v":0},null,{"$f":"'3.WEF Status-Base'!$AB$35","v":0},0,{"$f":"'3.WEF Status-Base'!$AC$35","v":0},null,{"$f":"'3.WEF Status-Base'!$AE$35","v":0},0,{"$f":"'3.WEF Status-Base'!$AF$35","v":0},null,{"$f":"'3.WEF Status-Base'!$AH$35","v":0},0,{"$f":"'3.WEF Status-Base'!$AI$35","v":0},null,{"$f":"'3.WEF Status-Base'!$AK$35","v":0},0,{"$f":"'3.WEF Status-Base'!$AL$35","v":0},null,{"$f":"'3.WEF Status-Base'!$AN$35","v":0},0,{"$f":"'3.WEF Status-Base'!$AO$35","v":0},null,{"$f":"'3.WEF Status-Base'!$AQ$35","v":0},0,{"$f":"'3.WEF Status-Base'!$AR$35","v":0},null,{"$f":"'3.WEF Status-Base'!$AT$35","v":0},0,{"$f":"'3.WEF Status-Base'!$AU$35","v":0},null,{"$f":"'3.WEF Status-Base'!$AW$35","v":0},0,{"$f":"'3.WEF Status-Base'!$AX$35","v":0},null,{"$f":"'3.WEF Status-Base'!$AZ$35","v":0},0,{"$f":"'3.WEF Status-Base'!$BA$35","v":0},null,{"$f":"'3.WEF Status-Base'!$BC$35","v":0},0,{"$f":"'3.WEF Status-Base'!$BD$35","v":0},{"$f":"'3.WEF Status-Base'!$BE$35","v":0},null,26,{"$f":"'3.WEF Status-Base'!$D$35","v":0},0,{"$f":"'3.WEF Status-Base'!$E$35","v":0},null,{"$f":"'3.WEF Status-Base'!$G$35","v":0},0,{"$f":"'3.WEF Status-Base'!$H$35","v":0},null,{"$f":"'3.WEF Status-Base'!$J$35","v":0},0,{"$f":"'3.WEF Status-Base'!$K$35","v":0},null,{"$f":"'3.WEF Status-Base'!$M$35","v":0},0,{"$f":"'3.WEF Status-Base'!$N$35","v":0},null,{"$f":"'3.WEF Status-Base'!$P$35","v":0},0,{"$f":"'3.WEF Status-Base'!$Q$35","v":0},null,{"$f":"'3.WEF Status-Base'!$S$35","v":0},0,{"$f":"'3.WEF Status-Base'!$T$35","v":0},null,{"$f":"'3.WEF Status-Base'!$V$35","v":0},0,{"$f":"'3.WEF Status-Base'!$W$35","v":0},null,{"$f":"'3.WEF Status-Base'!$Y$35","v":0},0,{"$f":"'3.WEF Status-Base'!$Z$35","v":0},null,{"$f":"'3.WEF Status-Base'!$AB$35","v":0},0,{"$f":"'3.WEF Status-Base'!$AC$35","v":0},null,{"$f":"'3.WEF Status-Base'!$AE$35","v":0},0,{"$f":"'3.WEF Status-Base'!$AF$35","v":0},null,{"$f":"'3.WEF Status-Base'!$AH$35","v":0},0,{"$f":"'3.WEF Status-Base'!$AI$35","v":0},null,{"$f":"'3.WEF Status-Base'!$AK$35","v":0},0,{"$f":"'3.WEF Status-Base'!$AL$35","v":0},null,{"$f":"'3.WEF Status-Base'!$AN$35","v":0},0,{"$f":"'3.WEF Status-Base'!$AO$35","v":0},null,{"$f":"'3.WEF Status-Base'!$AQ$35","v":0},0,{"$f":"'3.WEF Status-Base'!$AR$35","v":0},null,{"$f":"'3.WEF Status-Base'!$AT$35","v":0},0,{"$f":"'3.WEF Status-Base'!$AU$35","v":0},null,{"$f":"'3.WEF Status-Base'!$AW$35","v":0},0,{"$f":"'3.WEF Status-Base'!$AX$35","v":0},null,{"$f":"'3.WEF Status-Base'!$AZ$35","v":0},0,{"$f":"'3.WEF Status-Base'!$BA$35","v":0},null,{"$f":"'3.WEF Status-Base'!$BC$35","v":0},0,{"$f":"'3.WEF Status-Base'!$BD$35","v":0},{"$f":"'3.WEF Status-Base'!$BE$35","v":0}]
[null,"     Safety oversight agencies",{"$f":"'3.WEF Status-Base'!B126","v":0},0,null,27,{"$f":"'3.WEF Status-Base'!$D$36","v":0},0,{"$f":"'3.WEF Status-Base'!$E$36","v":0},null,{"$f":"'3.WEF Status-Base'!$G$36","v":0},0,{"$f":"'3.WEF Status-Base'!$H$36","v":0},null,{"$f":"'3.WEF Status-Base'!$J$36","v":0},0,{"$f":"'3.WEF Status-Base'!$K$36","v":0},null,{"$f":"'3.WEF Status-Base'!$M$36","v":0},0,{"$f":"'3.WEF Status-Base'!$N$36","v":0},null,{"$f":"'3.WEF Status-Base'!$P$36","v":0},0,{"$f":"'3.WEF Status-Base'!$Q$36","v":0},null,{"$f":"'3.WEF Status-Base'!$S$36","v":0},0,{"$f":"'3.WEF Status-Base'!$T$36","v":0},null,{"$f":"'3.WEF Status-Base'!$V$36","v":0},0,{"$f":"'3.WEF Status-Base'!$W$36","v":0},null,{"$f":"'3.WEF Status-Base'!$Y$36","v":0},0,{"$f":"'3.WEF Status-Base'!$Z$36","v":0},null,{"$f":"'3.WEF Status-Base'!$AB$36","v":0},0,{"$f":"'3.WEF Status-Base'!$AC$36","v":0},null,{"$f":"'3.WEF Status-Base'!$AE$36","v":0},0,{"$f":"'3.WEF Status-Base'!$AF$36","v":0},null,{"$f":"'3.WEF Status-Base'!$AH$36","v":0},0,{"$f":"'3.WEF Status-Base'!$AI$36","v":0},null,{"$f":"'3.WEF Status-Base'!$AK$36","v":0},0,{"$f":"'3.WEF Status-Base'!$AL$36","v":0},null,{"$f":"'3.WEF Status-Base'!$AN$36","v":0},0,{"$f":"'3.WEF Status-Base'!$AO$36","v":0},null,{"$f":"'3.WEF Status-Base'!$AQ$36","v":0},0,{"$f":"'3.WEF Status-Base'!$AR$36","v":0},null,{"$f":"'3.WEF Status-Base'!$AT$36","v":0},0,{"$f":"'3.WEF Status-Base'!$AU$36","v":0},null,{"$f":"'3.WEF Status-Base'!$AW$36","v":0},0,{"$f":"'3.WEF Status-Base'!$AX$36","v":0},null,{"$f":"'3.WEF Status-Base'!$AZ$36","v":0},0,{"$f":"'3.WEF Status-Base'!$BA$36","v":0},null,{"$f":"'3.WEF Status-Base'!$BC$36","v":0},0,{"$f":"'3.WEF Status-Base'!$BD$36","v":0},{"$f":"'3.WEF Status-Base'!$BE$36","v":0},null,27,{"$f":"'3.WEF Status-Base'!$D$36","v":0},0,{"$f":"'3.WEF Status-Base'!$E$36","v":0},null,{"$f":"'3.WEF Status-Base'!$G$36","v":0},0,{"$f":"'3.WEF Status-Base'!$H$36","v":0},null,{"$f":"'3.WEF Status-Base'!$J$36","v":0},0,{"$f":"'3.WEF Status-Base'!$K$36","v":0},null,{"$f":"'3.WEF Status-Base'!$M$36","v":0},0,{"$f":"'3.WEF Status-Base'!$N$36","v":0},null,{"$f":"'3.WEF Status-Base'!$P$36","v":0},0,{"$f":"'3.WEF Status-Base'!$Q$36","v":0},null,{"$f":"'3.WEF Status-Base'!$S$36","v":0},0,{"$f":"'3.WEF Status-Base'!$T$36","v":0},null,{"$f":"'3.WEF Status-Base'!$V$36","v":0},0,{"$f":"'3.WEF Status-Base'!$W$36","v":0},null,{"$f":"'3.WEF Status-Base'!$Y$36","v":0},0,{"$f":"'3.WEF Status-Base'!$Z$36","v":0},null,{"$f":"'3.WEF Status-Base'!$AB$36","v":0},0,{"$f":"'3.WEF Status-Base'!$AC$36","v":0},null,{"$f":"'3.WEF Status-Base'!$AE$36","v":0},0,{"$f":"'3.WEF Status-Base'!$AF$36","v":0},null,{"$f":"'3.WEF Status-Base'!$AH$36","v":0},0,{"$f":"'3.WEF Status-Base'!$AI$36","v":0},null,{"$f":"'3.WEF Status-Base'!$AK$36","v":0},0,{"$f":"'3.WEF Status-Base'!$AL$36","v":0},null,{"$f":"'3.WEF Status-Base'!$AN$36","v":0},0,{"$f":"'3.WEF Status-Base'!$AO$36","v":0},null,{"$f":"'3.WEF Status-Base'!$AQ$36","v":0},0,{"$f":"'3.WEF Status-Base'!$AR$36","v":0},null,{"$f":"'3.WEF Status-Base'!$AT$36","v":0},0,{"$f":"'3.WEF Status-Base'!$AU$36","v":0},null,{"$f":"'3.WEF Status-Base'!$AW$36","v":0},0,{"$f":"'3.WEF Status-Base'!$AX$36","v":0},null,{"$f":"'3.WEF Status-Base'!$AZ$36","v":0},0,{"$f":"'3.WEF Status-Base'!$BA$36","v":0},null,{"$f":"'3.WEF Status-Base'!$BC$36","v":0},0,{"$f":"'3.WEF Status-Base'!$BD$36","v":0},{"$f":"'3.WEF Status-Base'!$BE$36","v":0}]
[null,"     Education and training",{"$f":"'3.WEF Status-Base'!B127","v":0},0,null,28,{"$f":"'3.WEF Status-Base'!$D$37","v":0},0,{"$f":"'3.WEF Status-Base'!$E$37","v":0},null,{"$f":"'3.WEF Status-Base'!$G$37","v":0},0,{"$f":"'3.WEF Status-Base'!$H$37","v":0},null,{"$f":"'3.WEF Status-Base'!$J$37","v":0},0,{"$f":"'3.WEF Status-Base'!$K$37","v":0},null,{"$f":"'3.WEF Status-Base'!$M$37","v":0},0,{"$f":"'3.WEF Status-Base'!$N$37","v":0},null,{"$f":"'3.WEF Status-Base'!$P$37","v":0},0,{"$f":"'3.WEF Status-Base'!$Q$37","v":0},null,{"$f":"'3.WEF Status-Base'!$S$37","v":0},0,{"$f":"'3.WEF Status-Base'!$T$37","v":0},null,{"$f":"'3.WEF Status-Base'!$V$37","v":0},0,{"$f":"'3.WEF Status-Base'!$W$37","v":0},null,{"$f":"'3.WEF Status-Base'!$Y$37","v":0},0,{"$f":"'3.WEF Status-Base'!$Z$37","v":0},null,{"$f":"'3.WEF Status-Base'!$AB$37","v":0},0,{"$f":"'3.WEF Status-Base'!$AC$37","v":0},null,{"$f":"'3.WEF Status-Base'!$AE$37","v":0},0,{"$f":"'3.WEF Status-Base'!$AF$37","v":0},null,{"$f":"'3.WEF Status-Base'!$AH$37","v":0},0,{"$f":"'3.WEF Status-Base'!$AI$37","v":0},null,{"$f":"'3.WEF Status-Base'!$AK$37","v":0},0,{"$f":"'3.WEF Status-Base'!$AL$37","v":0},null,{"$f":"'3.WEF Status-Base'!$AN$37","v":0},0,{"$f":"'3.WEF Status-Base'!$AO$37","v":0},null,{"$f":"'3.WEF Status-Base'!$AQ$37","v":0},0,{"$f":"'3.WEF Status-Base'!$AR$37","v":0},null,{"$f":"'3.WEF Status-Base'!$AT$37","v":0},0,{"$f":"'3.WEF Status-Base'!$AU$37","v":0},null,{"$f":"'3.WEF Status-Base'!$AW$37","v":0},0,{"$f":"'3.WEF Status-Base'!$AX$37","v":0},null,{"$f":"'3.WEF Status-Base'!$AZ$37","v":0},0,{"$f":"'3.WEF Status-Base'!$BA$37","v":0},null,{"$f":"'3.WEF Status-Base'!$BC$37","v":0},0,{"$f":"'3.WEF Status-Base'!$BD$37","v":0},{"$f":"'3.WEF Status-Base'!$BE$37","v":0},null,28,{"$f":"'3.WEF Status-Base'!$D$37","v":0},0,{"$f":"'3.WEF Status-Base'!$E$37","v":0},null,{"$f":"'3.WEF Status-Base'!$G$37","v":0},0,{"$f":"'3.WEF Status-Base'!$H$37","v":0},null,{"$f":"'3.WEF Status-Base'!$J$37","v":0},0,{"$f":"'3.WEF Status-Base'!$K$37","v":0},null,{"$f":"'3.WEF Status-Base'!$M$37","v":0},0,{"$f":"'3.WEF Status-Base'!$N$37","v":0},null,{"$f":"'3.WEF Status-Base'!$P$37","v":0},0,{"$f":"'3.WEF Status-Base'!$Q$37","v":0},null,{"$f":"'3.WEF Status-Base'!$S$37","v":0},0,{"$f":"'3.WEF Status-Base'!$T$37","v":0},null,{"$f":"'3.WEF Status-Base'!$V$37","v":0},0,{"$f":"'3.WEF Status-Base'!$W$37","v":0},null,{"$f":"'3.WEF Status-Base'!$Y$37","v":0},0,{"$f":"'3.WEF Status-Base'!$Z$37","v":0},null,{"$f":"'3.WEF Status-Base'!$AB$37","v":0},0,{"$f":"'3.WEF Status-Base'!$AC$37","v":0},null,{"$f":"'3.WEF Status-Base'!$AE$37","v":0},0,{"$f":"'3.WEF Status-Base'!$AF$37","v":0},null,{"$f":"'3.WEF Status-Base'!$AH$37","v":0},0,{"$f":"'3.WEF Status-Base'!$AI$37","v":0},null,{"$f":"'3.WEF Status-Base'!$AK$37","v":0},0,{"$f":"'3.WEF Status-Base'!$AL$37","v":0},null,{"$f":"'3.WEF Status-Base'!$AN$37","v":0},0,{"$f":"'3.WEF Status-Base'!$AO$37","v":0},null,{"$f":"'3.WEF Status-Base'!$AQ$37","v":0},0,{"$f":"'3.WEF Status-Base'!$AR$37","v":0},null,{"$f":"'3.WEF Status-Base'!$AT$37","v":0},0,{"$f":"'3.WEF Status-Base'!$AU$37","v":0},null,{"$f":"'3.WEF Status-Base'!$AW$37","v":0},0,{"$f":"'3.WEF Status-Base'!$AX$37","v":0},null,{"$f":"'3.WEF Status-Base'!$AZ$37","v":0},0,{"$f":"'3.WEF Status-Base'!$BA$37","v":0},null,{"$f":"'3.WEF Status-Base'!$BC$37","v":0},0,{"$f":"'3.WEF Status-Base'!$BD$37","v":0},{"$f":"'3.WEF Status-Base'!$BE$37","v":0}]
[null,"     Law enforcement and security",{"$f":"'3.WEF Status-Base'!B128","v":0},0,null,29,{"$f":"'3.WEF Status-Base'!$D$38","v":0},0,{"$f":"'3.WEF Status-Base'!$E$38","v":0},null,{"$f":"'3.WEF Status-Base'!$G$38","v":0},0,{"$f":"'3.WEF Status-Base'!$H$38","v":0},null,{"$f":"'3.WEF Status-Base'!$J$38","v":0},0,{"$f":"'3.WEF Status-Base'!$K$38","v":0},null,{"$f":"'3.WEF Status-Base'!$M$38","v":0},0,{"$f":"'3.WEF Status-Base'!$N$38","v":0},null,{"$f":"'3.WEF Status-Base'!$P$38","v":0},0,{"$f":"'3.WEF Status-Base'!$Q$38","v":0},null,{"$f":"'3.WEF Status-Base'!$S$38","v":0},0,{"$f":"'3.WEF Status-Base'!$T$38","v":0},null,{"$f":"'3.WEF Status-Base'!$V$38","v":0},0,{"$f":"'3.WEF Status-Base'!$W$38","v":0},null,{"$f":"'3.WEF Status-Base'!$Y$38","v":0},0,{"$f":"'3.WEF Status-Base'!$Z$38","v":0},null,{"$f":"'3.WEF Status-Base'!$AB$38","v":0},0,{"$f":"'3.WEF Status-Base'!$AC$38","v":0},null,{"$f":"'3.WEF Status-Base'!$AE$38","v":0},0,{"$f":"'3.WEF Status-Base'!$AF$38","v":0},null,{"$f":"'3.WEF Status-Base'!$AH$38","v":0},0,{"$f":"'3.WEF Status-Base'!$AI$38","v":0},null,{"$f":"'3.WEF Status-Base'!$AK$38","v":0},0,{"$f":"'3.WEF Status-Base'!$AL$38","v":0},null,{"$f":"'3.WEF Status-Base'!$AN$38","v":0},0,{"$f":"'3.WEF Status-Base'!$AO$38","v":0},null,{"$f":"'3.WEF Status-Base'!$AQ$38","v":0},0,{"$f":"'3.WEF Status-Base'!$AR$38","v":0},null,{"$f":"'3.WEF Status-Base'!$AT$38","v":0},0,{"$f":"'3.WEF Status-Base'!$AU$38","v":0},null,{"$f":"'3.WEF Status-Base'!$AW$38","v":0},0,{"$f":"'3.WEF Status-Base'!$AX$38","v":0},null,{"$f":"'3.WEF Status-Base'!$AZ$38","v":0},0,{"$f":"'3.WEF Status-Base'!$BA$38","v":0},null,{"$f":"'3.WEF Status-Base'!$BC$38","v":0},0,{"$f":"'3.WEF Status-Base'!$BD$38","v":0},{"$f":"'3.WEF Status-Base'!$BE$38","v":0},null,29,{"$f":"'3.WEF Status-Base'!$D$38","v":0},0,{"$f":"'3.WEF Status-Base'!$E$38","v":0},null,{"$f":"'3.WEF Status-Base'!$G$38","v":0},0,{"$f":"'3.WEF Status-Base'!$H$38","v":0},null,{"$f":"'3.WEF Status-Base'!$J$38","v":0},0,{"$f":"'3.WEF Status-Base'!$K$38","v":0},null,{"$f":"'3.WEF Status-Base'!$M$38","v":0},0,{"$f":"'3.WEF Status-Base'!$N$38","v":0},null,{"$f":"'3.WEF Status-Base'!$P$38","v":0},0,{"$f":"'3.WEF Status-Base'!$Q$38","v":0},null,{"$f":"'3.WEF Status-Base'!$S$38","v":0},0,{"$f":"'3.WEF Status-Base'!$T$38","v":0},null,{"$f":"'3.WEF Status-Base'!$V$38","v":0},0,{"$f":"'3.WEF Status-Base'!$W$38","v":0},null,{"$f":"'3.WEF Status-Base'!$Y$38","v":0},0,{"$f":"'3.WEF Status-Base'!$Z$38","v":0},null,{"$f":"'3.WEF Status-Base'!$AB$38","v":0},0,{"$f":"'3.WEF Status-Base'!$AC$38","v":0},null,{"$f":"'3.WEF Status-Base'!$AE$38","v":0},0,{"$f":"'3.WEF Status-Base'!$AF$38","v":0},null,{"$f":"'3.WEF Status-Base'!$AH$38","v":0},0,{"$f":"'3.WEF Status-Base'!$AI$38","v":0},null,{"$f":"'3.WEF Status-Base'!$AK$38","v":0},0,{"$f":"'3.WEF Status-Base'!$AL$38","v":0},null,{"$f":"'3.WEF Status-Base'!$AN$38","v":0},0,{"$f":"'3.WEF Status-Base'!$AO$38","v":0},null,{"$f":"'3.WEF Status-Base'!$AQ$38","v":0},0,{"$f":"'3.WEF Status-Base'!$AR$38","v":0},null,{"$f":"'3.WEF Status-Base'!$AT$38","v":0},0,{"$f":"'3.WEF Status-Base'!$AU$38","v":0},null,{"$f":"'3.WEF Status-Base'!$AW$38","v":0},0,{"$f":"'3.WEF Status-Base'!$AX$38","v":0},null,{"$f":"'3.WEF Status-Base'!$AZ$38","v":0},0,{"$f":"'3.WEF Status-Base'!$BA$38","v":0},null,{"$f":"'3.WEF Status-Base'!$BC$38","v":0},0,{"$f":"'3.WEF Status-Base'!$BD$38","v":0},{"$f":"'3.WEF Status-Base'!$BE$38","v":0}]
[null,"Policies and Plans",{"$f":"'3.WEF Status-Base'!B129","v":0},0,null,30,{"$f":"'3.WEF Status-Base'!$D$39","v":0},0,{"$f":"'3.WEF Status-Base'!$E$39","v":0},null,{"$f":"'3.WEF Status-Base'!$G$39","v":0},0,{"$f":"'3.WEF Status-Base'!$H$39","v":0},null,{"$f":"'3.WEF Status-Base'!$J$39","v":0},0,{"$f":"'3.WEF Status-Base'!$K$39","v":0},null,{"$f":"'3.WEF Status-Base'!$M$39","v":0},0,{"$f":"'3.WEF Status-Base'!$N$39","v":0},null,{"$f":"'3.WEF Status-Base'!$P$39","v":0},0,{"$f":"'3.WEF Status-Base'!$Q$39","v":0},null,{"$f":"'3.WEF Status-Base'!$S$39","v":0},0,{"$f":"'3.WEF Status-Base'!$T$39","v":0},null,{"$f":"'3.WEF Status-Base'!$V$39","v":0},0,{"$f":"'3.WEF Status-Base'!$W$39","v":0},null,{"$f":"'3.WEF Status-Base'!$Y$39","v":0},0,{"$f":"'3.WEF Status-Base'!$Z$39","v":0},null,{"$f":"'3.WEF Status-Base'!$AB$39","v":0},0,{"$f":"'3.WEF Status-Base'!$AC$39","v":0},null,{"$f":"'3.WEF Status-Base'!$AE$39","v":0},0,{"$f":"'3.WEF Status-Base'!$AF$39","v":0},null,{"$f":"'3.WEF Status-Base'!$AH$39","v":0},0,{"$f":"'3.WEF Status-Base'!$AI$39","v":0},null,{"$f":"'3.WEF Status-Base'!$AK$39","v":0},0,{"$f":"'3.WEF Status-Base'!$AL$39","v":0},null,{"$f":"'3.WEF Status-Base'!$AN$39","v":0},0,{"$f":"'3.WEF Status-Base'!$AO$39","v":0},null,{"$f":"'3.WEF Status-Base'!$AQ$39","v":0},0,{"$f":"'3.WEF Status-Base'!$AR$39","v":0},null,{"$f":"'3.WEF Status-Base'!$AT$39","v":0},0,{"$f":"'3.WEF Status-Base'!$AU$39","v":0},null,{"$f":"'3.WEF Status-Base'!$AW$39","v":0},0,{"$f":"'3.WEF Status-Base'!$AX$39","v":0},null,{"$f":"'3.WEF Status-Base'!$AZ$39","v":0},0,{"$f":"'3.WEF Status-Base'!$BA$39","v":0},null,{"$f":"'3.WEF Status-Base'!$BC$39","v":0},0,{"$f":"'3.WEF Status-Base'!$BD$39","v":0},{"$f":"'3.WEF Status-Base'!$BE$39","v":0},null,30,{"$f":"'3.WEF Status-Base'!$D$39","v":0},0,{"$f":"'3.WEF Status-Base'!$E$39","v":0},null,{"$f":"'3.WEF Status-Base'!$G$39","v":0},0,{"$f":"'3.WEF Status-Base'!$H$39","v":0},null,{"$f":"'3.WEF Status-Base'!$J$39","v":0},0,{"$f":"'3.WEF Status-Base'!$K$39","v":0},null,{"$f":"'3.WEF Status-Base'!$M$39","v":0},0,{"$f":"'3.WEF Status-Base'!$N$39","v":0},null,{"$f":"'3.WEF Status-Base'!$P$39","v":0},0,{"$f":"'3.WEF Status-Base'!$Q$39","v":0},null,{"$f":"'3.WEF Status-Base'!$S$39","v":0},0,{"$f":"'3.WEF Status-Base'!$T$39","v":0},null,{"$f":"'3.WEF Status-Base'!$V$39","v":0},0,{"$f":"'3.WEF Status-Base'!$W$39","v":0},null,{"$f":"'3.WEF Status-Base'!$Y$39","v":0},0,{"$f":"'3.WEF Status-Base'!$Z$39","v":0},null,{"$f":"'3.WEF Status-Base'!$AB$39","v":0},0,{"$f":"'3.WEF Status-Base'!$AC$39","v":0},null,{"$f":"'3.WEF Status-Base'!$AE$39","v":0},0,{"$f":"'3.WEF Status-Base'!$AF$39","v":0},null,{"$f":"'3.WEF Status-Base'!$AH$39","v":0},0,{"$f":"'3.WEF Status-Base'!$AI$39","v":0},null,{"$f":"'3.WEF Status-Base'!$AK$39","v":0},0,{"$f":"'3.WEF Status-Base'!$AL$39","v":0},null,{"$f":"'3.WEF Status-Base'!$AN$39","v":0},0,{"$f":"'3.WEF Status-Base'!$AO$39","v":0},null,{"$f":"'3.WEF Status-Base'!$AQ$39","v":0},0,{"$f":"'3.WEF Status-Base'!$AR$39","v":0},null,{"$f":"'3.WEF Status-Base'!$AT$39","v":0},0,{"$f":"'3.WEF Status-Base'!$AU$39","v":0},null,{"$f":"'3.WEF Status-Base'!$AW$39","v":0},0,{"$f":"'3.WEF Status-Base'!$AX$39","v":0},null,{"$f":"'3.WEF Status-Base'!$AZ$39","v":0},0,{"$f":"'3.WEF Status-Base'!$BA$39","v":0},null,{"$f":"'3.WEF Status-Base'!$BC$39","v":0},0,{"$f":"'3.WEF Status-Base'!$BD$39","v":0},{"$f":"'3.WEF Status-Base'!$BE$39","v":0}]
[null,"     Resource use",{"$f":"'3.WEF Status-Base'!B130","v":0},0,null,31,{"$f":"'3.WEF Status-Base'!$D$40","v":0},0,{"$f":"'3.WEF Status-Base'!$E$40","v":0},null,{"$f":"'3.WEF Status-Base'!$G$40","v":0},0,{"$f":"'3.WEF Status-Base'!$H$40","v":0},null,{"$f":"'3.WEF Status-Base'!$J$40","v":0},0,{"$f":"'3.WEF Status-Base'!$K$40","v":0},null,{"$f":"'3.WEF Status-Base'!$M$40","v":0},0,{"$f":"'3.WEF Status-Base'!$N$40","v":0},null,{"$f":"'3.WEF Status-Base'!$P$40","v":0},0,{"$f":"'3.WEF Status-Base'!$Q$40","v":0},null,{"$f":"'3.WEF Status-Base'!$S$40","v":0},0,{"$f":"'3.WEF Status-Base'!$T$40","v":0},null,{"$f":"'3.WEF Status-Base'!$V$40","v":0},0,{"$f":"'3.WEF Status-Base'!$W$40","v":0},null,{"$f":"'3.WEF Status-Base'!$Y$40","v":0},0,{"$f":"'3.WEF Status-Base'!$Z$40","v":0},null,{"$f":"'3.WEF Status-Base'!$AB$40","v":0},0,{"$f":"'3.WEF Status-Base'!$AC$40","v":0},null,{"$f":"'3.WEF Status-Base'!$AE$40","v":0},0,{"$f":"'3.WEF Status-Base'!$AF$40","v":0},null,{"$f":"'3.WEF Status-Base'!$AH$40","v":0},0,{"$f":"'3.WEF Status-Base'!$AI$40","v":0},null,{"$f":"'3.WEF Status-Base'!$AK$40","v":0},0,{"$f":"'3.WEF Status-Base'!$AL$40","v":0},null,{"$f":"'3.WEF Status-Base'!$AN$40","v":0},0,{"$f":"'3.WEF Status-Base'!$AO$40","v":0},null,{"$f":"'3.WEF Status-Base'!$AQ$40","v":0},0,{"$f":"'3.WEF Status-Base'!$AR$40","v":0},null,{"$f":"'3.WEF Status-Base'!$AT$40","v":0},0,{"$f":"'3.WEF Status-Base'!$AU$40","v":0},null,{"$f":"'3.WEF Status-Base'!$AW$40","v":0},0,{"$f":"'3.WEF Status-Base'!$AX$40","v":0},null,{"$f":"'3.WEF Status-Base'!$AZ$40","v":0},0,{"$f":"'3.WEF Status-Base'!$BA$40","v":0},null,{"$f":"'3.WEF Status-Base'!$BC$40","v":0},0,{"$f":"'3.WEF Status-Base'!$BD$40","v":0},{"$f":"'3.WEF Status-Base'!$BE$40","v":0},null,31,{"$f":"'3.WEF Status-Base'!$D$40","v":0},0,{"$f":"'3.WEF Status-Base'!$E$40","v":0},null,{"$f":"'3.WEF Status-Base'!$G$40","v":0},0,{"$f":"'3.WEF Status-Base'!$H$40","v":0},null,{"$f":"'3.WEF Status-Base'!$J$40","v":0},0,{"$f":"'3.WEF Status-Base'!$K$40","v":0},null,{"$f":"'3.WEF Status-Base'!$M$40","v":0},0,{"$f":"'3.WEF Status-Base'!$N$40","v":0},null,{"$f":"'3.WEF Status-Base'!$P$40","v":0},0,{"$f":"'3.WEF Status-Base'!$Q$40","v":0},null,{"$f":"'3.WEF Status-Base'!$S$40","v":0},0,{"$f":"'3.WEF Status-Base'!$T$40","v":0},null,{"$f":"'3.WEF Status-Base'!$V$40","v":0},0,{"$f":"'3.WEF Status-Base'!$W$40","v":0},null,{"$f":"'3.WEF Status-Base'!$Y$40","v":0},0,{"$f":"'3.WEF Status-Base'!$Z$40","v":0},null,{"$f":"'3.WEF Status-Base'!$AB$40","v":0},0,{"$f":"'3.WEF Status-Base'!$AC$40","v":0},null,{"$f":"'3.WEF Status-Base'!$AE$40","v":0},0,{"$f":"'3.WEF Status-Base'!$AF$40","v":0},null,{"$f":"'3.WEF Status-Base'!$AH$40","v":0},0,{"$f":"'3.WEF Status-Base'!$AI$40","v":0},null,{"$f":"'3.WEF Status-Base'!$AK$40","v":0},0,{"$f":"'3.WEF Status-Base'!$AL$40","v":0},null,{"$f":"'3.WEF Status-Base'!$AN$40","v":0},0,{"$f":"'3.WEF Status-Base'!$AO$40","v":0},null,{"$f":"'3.WEF Status-Base'!$AQ$40","v":0},0,{"$f":"'3.WEF Status-Base'!$AR$40","v":0},null,{"$f":"'3.WEF Status-Base'!$AT$40","v":0},0,{"$f":"'3.WEF Status-Base'!$AU$40","v":0},null,{"$f":"'3.WEF Status-Base'!$AW$40","v":0},0,{"$f":"'3.WEF Status-Base'!$AX$40","v":0},null,{"$f":"'3.WEF Status-Base'!$AZ$40","v":0},0,{"$f":"'3.WEF Status-Base'!$BA$40","v":0},null,{"$f":"'3.WEF Status-Base'!$BC$40","v":0},0,{"$f":"'3.WEF Status-Base'!$BD$40","v":0},{"$f":"'3.WEF Status-Base'!$BE$40","v":0}]
[null,"     Climate change adaptation",{"$f":"'3.WEF Status-Base'!B131","v":0},0,null,32,{"$f":"'3.WEF Status-Base'!$D$41","v":0},0,{"$f":"'3.WEF Status-Base'!$E$41","v":0},null,{"$f":"'3.WEF Status-Base'!$G$41","v":0},0,{"$f":"'3.WEF Status-Base'!$H$41","v":0},null,{"$f":"'3.WEF Status-Base'!$J$41","v":0},0,{"$f":"'3.WEF Status-Base'!$K$41","v":0},null,{"$f":"'3.WEF Status-Base'!$M$41","v":0},0,{"$f":"'3.WEF Status-Base'!$N$41","v":0},null,{"$f":"'3.WEF Status-Base'!$P$41","v":0},0,{"$f":"'3.WEF Status-Base'!$Q$41","v":0},null,{"$f":"'3.WEF Status-Base'!$S$41","v":0},0,{"$f":"'3.WEF Status-Base'!$T$41","v":0},null,{"$f":"'3.WEF Status-Base'!$V$41","v":0},0,{"$f":"'3.WEF Status-Base'!$W$41","v":0},null,{"$f":"'3.WEF Status-Base'!$Y$41","v":0},0,{"$f":"'3.WEF Status-Base'!$Z$41","v":0},null,{"$f":"'3.WEF Status-Base'!$AB$41","v":0},0,{"$f":"'3.WEF Status-Base'!$AC$41","v":0},null,{"$f":"'3.WEF Status-Base'!$AE$41","v":0},0,{"$f":"'3.WEF Status-Base'!$AF$41","v":0},null,{"$f":"'3.WEF Status-Base'!$AH$41","v":0},0,{"$f":"'3.WEF Status-Base'!$AI$41","v":0},null,{"$f":"'3.WEF Status-Base'!$AK$41","v":0},0,{"$f":"'3.WEF Status-Base'!$AL$41","v":0},null,{"$f":"'3.WEF Status-Base'!$AN$41","v":0},0,{"$f":"'3.WEF Status-Base'!$AO$41","v":0},null,{"$f":"'3.WEF Status-Base'!$AQ$41","v":0},0,{"$f":"'3.WEF Status-Base'!$AR$41","v":0},null,{"$f":"'3.WEF Status-Base'!$AT$41","v":0},0,{"$f":"'3.WEF Status-Base'!$AU$41","v":0},null,{"$f":"'3.WEF Status-Base'!$AW$41","v":0},0,{"$f":"'3.WEF Status-Base'!$AX$41","v":0},null,{"$f":"'3.WEF Status-Base'!$AZ$41","v":0},0,{"$f":"'3.WEF Status-Base'!$BA$41","v":0},null,{"$f":"'3.WEF Status-Base'!$BC$41","v":0},0,{"$f":"'3.WEF Status-Base'!$BD$41","v":0},{"$f":"'3.WEF Status-Base'!$BE$41","v":0},null,32,{"$f":"'3.WEF Status-Base'!$D$41","v":0},0,{"$f":"'3.WEF Status-Base'!$E$41","v":0},null,{"$f":"'3.WEF Status-Base'!$G$41","v":0},0,{"$f":"'3.WEF Status-Base'!$H$41","v":0},null,{"$f":"'3.WEF Status-Base'!$J$41","v":0},0,{"$f":"'3.WEF Status-Base'!$K$41","v":0},null,{"$f":"'3.WEF Status-Base'!$M$41","v":0},0,{"$f":"'3.WEF Status-Base'!$N$41","v":0},null,{"$f":"'3.WEF Status-Base'!$P$41","v":0},0,{"$f":"'3.WEF Status-Base'!$Q$41","v":0},null,{"$f":"'3.WEF Status-Base'!$S$41","v":0},0,{"$f":"'3.WEF Status-Base'!$T$41","v":0},null,{"$f":"'3.WEF Status-Base'!$V$41","v":0},0,{"$f":"'3.WEF Status-Base'!$W$41","v":0},null,{"$f":"'3.WEF Status-Base'!$Y$41","v":0},0,{"$f":"'3.WEF Status-Base'!$Z$41","v":0},null,{"$f":"'3.WEF Status-Base'!$AB$41","v":0},0,{"$f":"'3.WEF Status-Base'!$AC$41","v":0},null,{"$f":"'3.WEF Status-Base'!$AE$41","v":0},0,{"$f":"'3.WEF Status-Base'!$AF$41","v":0},null,{"$f":"'3.WEF Status-Base'!$AH$41","v":0},0,{"$f":"'3.WEF Status-Base'!$AI$41","v":0},null,{"$f":"'3.WEF Status-Base'!$AK$41","v":0},0,{"$f":"'3.WEF Status-Base'!$AL$41","v":0},null,{"$f":"'3.WEF Status-Base'!$AN$41","v":0},0,{"$f":"'3.WEF Status-Base'!$AO$41","v":0},null,{"$f":"'3.WEF Status-Base'!$AQ$41","v":0},0,{"$f":"'3.WEF Status-Base'!$AR$41","v":0},null,{"$f":"'3.WEF Status-Base'!$AT$41","v":0},0,{"$f":"'3.WEF Status-Base'!$AU$41","v":0},null,{"$f":"'3.WEF Status-Base'!$AW$41","v":0},0,{"$f":"'3.WEF Status-Base'!$AX$41","v":0},null,{"$f":"'3.WEF Status-Base'!$AZ$41","v":0},0,{"$f":"'3.WEF Status-Base'!$BA$41","v":0},null,{"$f":"'3.WEF Status-Base'!$BC$41","v":0},0,{"$f":"'3.WEF Status-Base'!$BD$41","v":0},{"$f":"'3.WEF Status-Base'!$BE$41","v":0}]
[null,"     Disaster recovery and risk management ",{"$f":"'3.WEF Status-Base'!B132","v":0},0,null,33,{"$f":"'3.WEF Status-Base'!$D$42","v":0},0,{"$f":"'3.WEF Status-Base'!$E$42","v":0},null,{"$f":"'3.WEF Status-Base'!$G$42","v":0},0,{"$f":"'3.WEF Status-Base'!$H$42","v":0},null,{"$f":"'3.WEF Status-Base'!$J$42","v":0},0,{"$f":"'3.WEF Status-Base'!$K$42","v":0},null,{"$f":"'3.WEF Status-Base'!$M$42","v":0},0,{"$f":"'3.WEF Status-Base'!$N$42","v":0},null,{"$f":"'3.WEF Status-Base'!$P$42","v":0},0,{"$f":"'3.WEF Status-Base'!$Q$42","v":0},null,{"$f":"'3.WEF Status-Base'!$S$42","v":0},0,{"$f":"'3.WEF Status-Base'!$T$42","v":0},null,{"$f":"'3.WEF Status-Base'!$V$42","v":0},0,{"$f":"'3.WEF Status-Base'!$W$42","v":0},null,{"$f":"'3.WEF Status-Base'!$Y$42","v":0},0,{"$f":"'3.WEF Status-Base'!$Z$42","v":0},null,{"$f":"'3.WEF Status-Base'!$AB$42","v":0},0,{"$f":"'3.WEF Status-Base'!$AC$42","v":0},null,{"$f":"'3.WEF Status-Base'!$AE$42","v":0},0,{"$f":"'3.WEF Status-Base'!$AF$42","v":0},null,{"$f":"'3.WEF Status-Base'!$AH$42","v":0},0,{"$f":"'3.WEF Status-Base'!$AI$42","v":0},null,{"$f":"'3.WEF Status-Base'!$AK$42","v":0},0,{"$f":"'3.WEF Status-Base'!$AL$42","v":0},null,{"$f":"'3.WEF Status-Base'!$AN$42","v":0},0,{"$f":"'3.WEF Status-Base'!$AO$42","v":0},null,{"$f":"'3.WEF Status-Base'!$AQ$42","v":0},0,{"$f":"'3.WEF Status-Base'!$AR$42","v":0},null,{"$f":"'3.WEF Status-Base'!$AT$42","v":0},0,{"$f":"'3.WEF Status-Base'!$AU$42","v":0},null,{"$f":"'3.WEF Status-Base'!$AW$42","v":0},0,{"$f":"'3.WEF Status-Base'!$AX$42","v":0},null,{"$f":"'3.WEF Status-Base'!$AZ$42","v":0},0,{"$f":"'3.WEF Status-Base'!$BA$42","v":0},null,{"$f":"'3.WEF Status-Base'!$BC$42","v":0},0,{"$f":"'3.WEF Status-Base'!$BD$42","v":0},{"$f":"'3.WEF Status-Base'!$BE$42","v":0},null,33,{"$f":"'3.WEF Status-Base'!$D$42","v":0},0,{"$f":"'3.WEF Status-Base'!$E$42","v":0},null,{"$f":"'3.WEF Status-Base'!$G$42","v":0},0,{"$f":"'3.WEF Status-Base'!$H$42","v":0},null,{"$f":"'3.WEF Status-Base'!$J$42","v":0},0,{"$f":"'3.WEF Status-Base'!$K$42","v":0},null,{"$f":"'3.WEF Status-Base'!$M$42","v":0},0,{"$f":"'3.WEF Status-Base'!$N$42","v":0},null,{"$f":"'3.WEF Status-Base'!$P$42","v":0},0,{"$f":"'3.WEF Status-Base'!$Q$42","v":0},null,{"$f":"'3.WEF Status-Base'!$S$42","v":0},0,{"$f":"'3.WEF Status-Base'!$T$42","v":0},null,{"$f":"'3.WEF Status-Base'!$V$42","v":0},0,{"$f":"'3.WEF Status-Base'!$W$42","v":0},null,{"$f":"'3.WEF Status-Base'!$Y$42","v":0},0,{"$f":"'3.WEF Status-Base'!$Z$42","v":0},null,{"$f":"'3.WEF Status-Base'!$AB$42","v":0},0,{"$f":"'3.WEF Status-Base'!$AC$42","v":0},null,{"$f":"'3.WEF Status-Base'!$AE$42","v":0},0,{"$f":"'3.WEF Status-Base'!$AF$42","v":0},null,{"$f":"'3.WEF Status-Base'!$AH$42","v":0},0,{"$f":"'3.WEF Status-Base'!$AI$42","v":0},null,{"$f":"'3.WEF Status-Base'!$AK$42","v":0},0,{"$f":"'3.WEF Status-Base'!$AL$42","v":0},null,{"$f":"'3.WEF Status-Base'!$AN$42","v":0},0,{"$f":"'3.WEF Status-Base'!$AO$42","v":0},null,{"$f":"'3.WEF Status-Base'!$AQ$42","v":0},0,{"$f":"'3.WEF Status-Base'!$AR$42","v":0},null,{"$f":"'3.WEF Status-Base'!$AT$42","v":0},0,{"$f":"'3.WEF Status-Base'!$AU$42","v":0},null,{"$f":"'3.WEF Status-Base'!$AW$42","v":0},0,{"$f":"'3.WEF Status-Base'!$AX$42","v":0},null,{"$f":"'3.WEF Status-Base'!$AZ$42","v":0},0,{"$f":"'3.WEF Status-Base'!$BA$42","v":0},null,{"$f":"'3.WEF Status-Base'!$BC$42","v":0},0,{"$f":"'3.WEF Status-Base'!$BD$42","v":0},{"$f":"'3.WEF Status-Base'!$BE$42","v":0}]
[null,"     R&D and innovation",{"$f":"'3.WEF Status-Base'!B133","v":0},0,null,34,{"$f":"'3.WEF Status-Base'!$D$43","v":0},0,{"$f":"'3.WEF Status-Base'!$E$43","v":0},null,{"$f":"'3.WEF Status-Base'!$G$43","v":0},0,{"$f":"'3.WEF Status-Base'!$H$43","v":0},null,{"$f":"'3.WEF Status-Base'!$J$43","v":0},0,{"$f":"'3.WEF Status-Base'!$K$43","v":0},null,{"$f":"'3.WEF Status-Base'!$M$43","v":0},0,{"$f":"'3.WEF Status-Base'!$N$43","v":0},null,{"$f":"'3.WEF Status-Base'!$P$43","v":0},0,{"$f":"'3.WEF Status-Base'!$Q$43","v":0},null,{"$f":"'3.WEF Status-Base'!$S$43","v":0},0,{"$f":"'3.WEF Status-Base'!$T$43","v":0},null,{"$f":"'3.WEF Status-Base'!$V$43","v":0},0,{"$f":"'3.WEF Status-Base'!$W$43","v":0},null,{"$f":"'3.WEF Status-Base'!$Y$43","v":0},0,{"$f":"'3.WEF Status-Base'!$Z$43","v":0},null,{"$f":"'3.WEF Status-Base'!$AB$43","v":0},0,{"$f":"'3.WEF Status-Base'!$AC$43","v":0},null,{"$f":"'3.WEF Status-Base'!$AE$43","v":0},0,{"$f":"'3.WEF Status-Base'!$AF$43","v":0},null,{"$f":"'3.WEF Status-Base'!$AH$43","v":0},0,{"$f":"'3.WEF Status-Base'!$AI$43","v":0},null,{"$f":"'3.WEF Status-Base'!$AK$43","v":0},0,{"$f":"'3.WEF Status-Base'!$AL$43","v":0},null,{"$f":"'3.WEF Status-Base'!$AN$43","v":0},0,{"$f":"'3.WEF Status-Base'!$AO$43","v":0},null,{"$f":"'3.WEF Status-Base'!$AQ$43","v":0},0,{"$f":"'3.WEF Status-Base'!$AR$43","v":0},null,{"$f":"'3.WEF Status-Base'!$AT$43","v":0},0,{"$f":"'3.WEF Status-Base'!$AU$43","v":0},null,{"$f":"'3.WEF Status-Base'!$AW$43","v":0},0,{"$f":"'3.WEF Status-Base'!$AX$43","v":0},null,{"$f":"'3.WEF Status-Base'!$AZ$43","v":0},0,{"$f":"'3.WEF Status-Base'!$BA$43","v":0},null,{"$f":"'3.WEF Status-Base'!$BC$43","v":0},0,{"$f":"'3.WEF Status-Base'!$BD$43","v":0},{"$f":"'3.WEF Status-Base'!$BE$43","v":0},null,34,{"$f":"'3.WEF Status-Base'!$D$43","v":0},0,{"$f":"'3.WEF Status-Base'!$E$43","v":0},null,{"$f":"'3.WEF Status-Base'!$G$43","v":0},0,{"$f":"'3.WEF Status-Base'!$H$43","v":0},null,{"$f":"'3.WEF Status-Base'!$J$43","v":0},0,{"$f":"'3.WEF Status-Base'!$K$43","v":0},null,{"$f":"'3.WEF Status-Base'!$M$43","v":0},0,{"$f":"'3.WEF Status-Base'!$N$43","v":0},null,{"$f":"'3.WEF Status-Base'!$P$43","v":0},0,{"$f":"'3.WEF Status-Base'!$Q$43","v":0},null,{"$f":"'3.WEF Status-Base'!$S$43","v":0},0,{"$f":"'3.WEF Status-Base'!$T$43","v":0},null,{"$f":"'3.WEF Status-Base'!$V$43","v":0},0,{"$f":"'3.WEF Status-Base'!$W$43","v":0},null,{"$f":"'3.WEF Status-Base'!$Y$43","v":0},0,{"$f":"'3.WEF Status-Base'!$Z$43","v":0},null,{"$f":"'3.WEF Status-Base'!$AB$43","v":0},0,{"$f":"'3.WEF Status-Base'!$AC$43","v":0},null,{"$f":"'3.WEF Status-Base'!$AE$43","v":0},0,{"$f":"'3.WEF Status-Base'!$AF$43","v":0},null,{"$f":"'3.WEF Status-Base'!$AH$43","v":0},0,{"$f":"'3.WEF Status-Base'!$AI$43","v":0},null,{"$f":"'3.WEF Status-Base'!$AK$43","v":0},0,{"$f":"'3.WEF Status-Base'!$AL$43","v":0},null,{"$f":"'3.WEF Status-Base'!$AN$43","v":0},0,{"$f":"'3.WEF Status-Base'!$AO$43","v":0},null,{"$f":"'3.WEF Status-Base'!$AQ$43","v":0},0,{"$f":"'3.WEF Status-Base'!$AR$43","v":0},null,{"$f":"'3.WEF Status-Base'!$AT$43","v":0},0,{"$f":"'3.WEF Status-Base'!$AU$43","v":0},null,{"$f":"'3.WEF Status-Base'!$AW$43","v":0},0,{"$f":"'3.WEF Status-Base'!$AX$43","v":0},null,{"$f":"'3.WEF Status-Base'!$AZ$43","v":0},0,{"$f":"'3.WEF Status-Base'!$BA$43","v":0},null,{"$f":"'3.WEF Status-Base'!$BC$43","v":0},0,{"$f":"'3.WEF Status-Base'!$BD$43","v":0},{"$f":"'3.WEF Status-Base'!$BE$43","v":0}]
[]
[]
[]
[null,"Operation","Mine Processing"]
[null,"Change in Use"]
[null,"Change in source description due to process","Baseline","Change",null,null,"Baseline",0,null,null,"Baseline",0,null,null,"Baseline",0,null,null,"Baseline",0,null,null,"Baseline",0,null,null,"Baseline",0,null,null,"Baseline",0,null,null,"Baseline",0,null,null,"Baseline",0,null,null,"Baseline",0,null,null,"Baseline",0,null,null,"Baseline",0,null,null,"Baseline",0,null,null,"Baseline",0,null,null,"Baseline",0,null,null,"Baseline",0,null,null,"Baseline",0,null,null,"Baseline",0,null,null,null,null,"Baseline",0,null,null,"Baseline",0,null,null,"Baseline",0,null,null,"Baseline",0,null,null,"Baseline",0,null,null,"Baseline",0,null,null,"Baseline",0,null,null,"Baseline",0,null,null,"Baseline",0,null,null,"Baseline",0,null,null,"Baseline",0,null,null,"Baseline",0,null,null,"Baseline",0,null,null,"Baseline",0,null,null,"Baseline",0,null,null,"Baseline",0,null,null,"Baseline",0,null,null,"Baseline",0]
[null,"Availability (Other)",null,null,null,1,null,null,null,null,null,null,null,null,null,null,null,null,null,null,null,null,null,null,null,null,null,null,null,null,null,null,null,null,null,null,null,null,null,null,null,null,null,null,null,null,null,null,null,null,null,null,null,null,null,null,null,null,null,null,null,null,null,null,null,null,null,null,null,null,null,null,null,null,null,null,null,null,null,1]
[null,"Processing/treatment/conversion",null,{"$f":"MAX(H144:BZ144)","v":0},null,2,{"$f":"'3.WEF Status-Base'!$D$11","v":0},0,{"$f":"'3.WEF Status-Base'!$E$11","v":0},null,{"$f":"'3.WEF Status-Base'!$G$11","v":0},0,{"$f":"'3.WEF Status-Base'!$H$11","v":0},null,{"$f":"'3.WEF Status-Base'!$J$11","v":0},0,{"$f":"'3.WEF Status-Base'!$K$11","v":0},null,{"$f":"'3.WEF Status-Base'!$M$11","v":0},0,{"$f":"'3.WEF Status-Base'!$N$11","v":0},null,{"$f":"'3.WEF Status-Base'!$P$11","v":0},0,{"$f":"'3.WEF Status-Base'!$Q$11","v":0},null,{"$f":"'3.WEF Status-Base'!$S$11","v":0},0,{"$f":"'3.WEF Status-Base'!$T$11","v":0},null,{"$f":"'3.WEF Status-Base'!$V$11","v":0},0,{"$f":"'3.WEF Status-Base'!$W$11","v":0},null,{"$f":"'3.WEF Status-Base'!$Y$11","v":0},0,{"$f":"'3.WEF Status-Base'!$Z$11","v":0},null,{"$f":"'3.WEF Status-Base'!$AB$11","v":0},0,{"$f":"'3.WEF Status-Base'!$AC$11","v":0},null,{"$f":"'3.WEF Status-Base'!$AE$11","v":0},0,{"$f":"'3.WEF Status-Base'!$AF$11","v":0},null,{"$f":"'3.WEF Status-Base'!$AH$11","v":0},0,{"$f":"'3.WEF Status-Base'!$AI$11","v":0},null,{"$f":"'3.WEF Status-Base'!$AK$11","v":0},0,{"$f":"'3.WEF Status-Base'!$AL$11","v":0},null,{"$f":"'3.WEF Status-Base'!$AN$11","v":0},0,{"$f":"'3.WEF Status-Base'!$AO$11","v":0},null,{"$f":"'3.WEF Status-Base'!$AQ$11","v":0},0,{"$f":"'3.WEF Status-Base'!$AR$11","v":0},null,{"$f":"'3.WEF Status-Base'!$AT$11","v":0},0,{"$f":"'3.WEF Status-Base'!$AU$11","v":0},null,{"$f":"'3.WEF Status-Base'!$AW$11","v":0},0,{"$f":"'3.WEF Status-Base'!$AX$11","v":0},null,{"$f":"'3.WEF Status-Base'!$AZ$11","v":0},0,{"$f":"'3.WEF Status-Base'!$BA$11","v":0},null,{"$f":"'3.WEF Status-Base'!$BC$11","v":0},0,{"$f":"'3.WEF Status-Base'!$BD$11","v":0},{"$f":"'3.WEF Status-Base'!$BE$11","v":0},null,2,{"$f":"'3.WEF Status-Base'!$D$11","v":0},0,{"$f":"'3.WEF Status-Base'!$E$11","v":0},null,{"$f":"'3.WEF Status-Base'!$G$11","v":0},0,{"$f":"'3.WEF Status-Base'!$H$11","v":0},null,{"$f":"'3.WEF Status-Base'!$J$11","v":0},0,{"$f":"'3.WEF Status-Base'!$K$11","v":0},null,{"$f":"'3.WEF Status-Base'!$M$11","v":0},0,{"$f":"'3.WEF Status-Base'!$N$11","v":0},null,{"$f":"'3.WEF Status-Base'!$P$11","v":0},0,{"$f":"'3.WEF Status-Base'!$Q$11","v":0},null,{"$f":"'3.WEF Status-Base'!$S$11","v":0},0,{"$f":"'3.WEF Status-Base'!$T$11","v":0},null,{"$f":"'3.WEF Status-Base'!$V$11","v":0},0,{"$f":"'3.WEF Status-Base'!$W$11","v":0},null,{"$f":"'3.WEF Status-Base'!$Y$11","v":0},0,{"$f":"'3.WEF Status-Base'!$Z$11","v":0},null,{"$f":"'3.WEF Status-Base'!$AB$11","v":0},0,{"$f":"'3.WEF Status-Base'!$AC$11","v":0},null,{"$f":"'3.WEF Status-Base'!$AE$11","v":0},0,{"$f":"'3.WEF Status-Base'!$AF$11","v":0},null,{"$f":"'3.WEF Status-Base'!$AH$11","v":0},0,{"$f":"'3.WEF Status-Base'!$AI$11","v":0},null,{"$f":"'3.WEF Status-Base'!$AK$11","v":0},0,{"$f":"'3.WEF Status-Base'!$AL$11","v":0},null,{"$f":"'3.WEF Status-Base'!$AN$11","v":0},0,{"$f":"'3.WEF Status-Base'!$AO$11","v":0},null,{"$f":"'3.WEF Status-Base'!$AQ$11","v":0},0,{"$f":"'3.WEF Status-Base'!$AR$11","v":0},null,{"$f":"'3.WEF Status-Base'!$AT$11","v":0},0,{"$f":"'3.WEF Status-Base'!$AU$11","v":0},null,{"$f":"'3.WEF Status-Base'!$AW$11","v":0},0,{"$f":"'3.WEF Status-Base'!$AX$11","v":0},null,{"$f":"'3.WEF Status-Base'!$AZ$11","v":0},0,{"$f":"'3.WEF Status-Base'!$BA$11","v":0},null,{"$f":"'3.WEF Status-Base'!$BC$11","v":0},0,{"$f":"'3.WEF Status-Base'!$BD$11","v":0},{"$f":"'3.WEF Status-Base'!$BE$11","v":0}]
[null,"Timing of delivery (storage)",null,{"$f":"MAX(H145:BZ145)","v":0},null,3,{"$f":"'3.WEF Status-Base'!$D$12","v":0},0,{"$f":"'3.WEF Status-Base'!$E$12","v":0},null,{"$f":"'3.WEF Status-Base'!$G$12","v":0},0,{"$f":"'3.WEF Status-Base'!$H$12","v":0},null,{"$f":"'3.WEF Status-Base'!$J$12","v":0},0,{"$f":"'3.WEF Status-Base'!$K$12","v":0},null,{"$f":"'3.WEF Status-Base'!$M$12","v":0},0,{"$f":"'3.WEF Status-Base'!$N$12","v":0},null,{"$f":"'3.WEF Status-Base'!$P$12","v":0},0,{"$f":"'3.WEF Status-Base'!$Q$12","v":0},null,{"$f":"'3.WEF Status-Base'!$S$12","v":0},0,{"$f":"'3.WEF Status-Base'!$T$12","v":0},null,{"$f":"'3.WEF Status-Base'!$V$12","v":0},0,{"$f":"'3.WEF Status-Base'!$W$12","v":0},null,{"$f":"'3.WEF Status-Base'!$Y$12","v":0},0,{"$f":"'3.WEF Status-Base'!$Z$12","v":0},null,{"$f":"'3.WEF Status-Base'!$AB$12","v":0},0,{"$f":"'3.WEF Status-Base'!$AC$12","v":0},null,{"$f":"'3.WEF Status-Base'!$AE$12","v":0},0,{"$f":"'3.WEF Status-Base'!$AF$12","v":0},null,{"$f":"'3.WEF Status-Base'!$AH$12","v":0},0,{"$f":"'3.WEF Status-Base'!$AI$12","v":0},null,{"$f":"'3.WEF Status-Base'!$AK$12","v":0},0,{"$f":"'3.WEF Status-Base'!$AL$12","v":0},null,{"$f":"'3.WEF Status-Base'!$AN$12","v":0},0,{"$f":"'3.WEF Status-Base'!$AO$12","v":0},null,{"$f":"'3.WEF Status-Base'!$AQ$12","v":0},0,{"$f":"'3.WEF Status-Base'!$AR$12","v":0},null,{"$f":"'3.WEF Status-Base'!$AT$12","v":0},0,{"$f":"'3.WEF Status-Base'!$AU$12","v":0},null,{"$f":"'3.WEF Status-Base'!$AW$12","v":0},0,{"$f":"'3.WEF Status-Base'!$AX$12","v":0},null,{"$f":"'3.WEF Status-Base'!$AZ$12","v":0},0,{"$f":"'3.WEF Status-Base'!$BA$12","v":0},null,{"$f":"'3.WEF Status-Base'!$BC$12","v":0},0,{"$f":"'3.WEF Status-Base'!$BD$12","v":0},{"$f":"'3.WEF Status-Base'!$BE$12","v":0},null,3,{"$f":"'3.WEF Status-Base'!$D$12","v":0},0,{"$f":"'3.WEF Status-Base'!$E$12","v":0},null,{"$f":"'3.WEF Status-Base'!$G$12","v":0},0,{"$f":"'3.WEF Status-Base'!$H$12","v":0},null,{"$f":"'3.WEF Status-Base'!$J$12","v":0},0,{"$f":"'3.WEF Status-Base'!$K$12","v":0},null,{"$f":"'3.WEF Status-Base'!$M$12","v":0},0,{"$f":"'3.WEF Status-Base'!$N$12","v":0},null,{"$f":"'3.WEF Status-Base'!$P$12","v":0},0,{"$f":"'3.WEF Status-Base'!$Q$12","v":0},null,{"$f":"'3.WEF Status-Base'!$S$12","v":0},0,{"$f":"'3.WEF Status-Base'!$T$12","v":0},null,{"$f":"'3.WEF Status-Base'!$V$12","v":0},0,{"$f":"'3.WEF Status-Base'!$W$12","v":0},null,{"$f":"'3.WEF Status-Base'!$Y$12","v":0},0,{"$f":"'3.WEF Status-Base'!$Z$12","v":0},null,{"$f":"'3.WEF Status-Base'!$AB$12","v":0},0,{"$f":"'3.WEF Status-Base'!$AC$12","v":0},null,{"$f":"'3.WEF Status-Base'!$AE$12","v":0},0,{"$f":"'3.WEF Status-Base'!$AF$12","v":0},null,{"$f":"'3.WEF Status-Base'!$AH$12","v":0},0,{"$f":"'3.WEF Status-Base'!$AI$12","v":0},null,{"$f":"'3.WEF Status-Base'!$AK$12","v":0},0,{"$f":"'3.WEF Status-Base'!$AL$12","v":0},null,{"$f":"'3.WEF Status-Base'!$AN$12","v":0},0,{"$f":"'3.WEF Status-Base'!$AO$12","v":0},null,{"$f":"'3.WEF Status-Base'!$AQ$12","v":0},0,{"$f":"'3.WEF Status-Base'!$AR$12","v":0},null,{"$f":"'3.WEF Status-Base'!$AT$12","v":0},0,{"$f":"'3.WEF Status-Base'!$AU$12","v":0},null,{"$f":"'3.WEF Status-Base'!$AW$12","v":0},0,{"$f":"'3.WEF Status-Base'!$AX$12","v":0},null,{"$f":"'3.WEF Status-Base'!$AZ$12","v":0},0,{"$f":"'3.WEF Status-Base'!$BA$12","v":0},null,{"$f":"'3.WEF Status-Base'!$BC$12","v":0},0,{"$f":"'3.WEF Status-Base'!$BD$12","v":0},{"$f":"'3.WEF Status-Base'!$BE$12","v":0}]
[null,"Distribution (water towers)",null,{"$f":"MAX(H146:BZ146)","v":0},null,4,{"$f":"'3.WEF Status-Base'!$D$13","v":0},0,{"$f":"'3.WEF Status-Base'!$E$13","v":0},null,{"$f":"'3.WEF Status-Base'!$G$13","v":0},0,{"$f":"'3.WEF Status-Base'!$H$13","v":0},null,{"$f":"'3.WEF Status-Base'!$J$13","v":0},0,{"$f":"'3.WEF Status-Base'!$K$13","v":0},null,{"$f":"'3.WEF Status-Base'!$M$13","v":0},0,{"$f":"'3.WEF Status-Base'!$N$13","v":0},null,{"$f":"'3.WEF Status-Base'!$P$13","v":0},0,{"$f":"'3.WEF Status-Base'!$Q$13","v":0},null,{"$f":"'3.WEF Status-Base'!$S$13","v":0},0,{"$f":"'3.WEF Status-Base'!$T$13","v":0},null,{"$f":"'3.WEF Status-Base'!$V$13","v":0},0,{"$f":"'3.WEF Status-Base'!$W$13","v":0},null,{"$f":"'3.WEF Status-Base'!$Y$13","v":0},0,{"$f":"'3.WEF Status-Base'!$Z$13","v":0},null,{"$f":"'3.WEF Status-Base'!$AB$13","v":0},0,{"$f":"'3.WEF Status-Base'!$AC$13","v":0},null,{"$f":"'3.WEF Status-Base'!$AE$13","v":0},0,{"$f":"'3.WEF Status-Base'!$AF$13","v":0},null,{"$f":"'3.WEF Status-Base'!$AH$13","v":0},0,{"$f":"'3.WEF Status-Base'!$AI$13","v":0},null,{"$f":"'3.WEF Status-Base'!$AK$13","v":0},0,{"$f":"'3.WEF Status-Base'!$AL$13","v":0},null,{"$f":"'3.WEF Status-Base'!$AN$13","v":0},0,{"$f":"'3.WEF Status-Base'!$AO$13","v":0},null,{"$f":"'3.WEF Status-Base'!$AQ$13","v":0},0,{"$f":"'3.WEF Status-Base'!$AR$13","v":0},null,{"$f":"'3.WEF Status-Base'!$AT$13","v":0},0,{"$f":"'3.WEF Status-Base'!$AU$13","v":0},null,{"$f":"'3.WEF Status-Base'!$AW$13","v":0},0,{"$f":"'3.WEF Status-Base'!$AX$13","v":0},null,{"$f":"'3.WEF Status-Base'!$AZ$13","v":0},0,{"$f":"'3.WEF Status-Base'!$BA$13","v":0},null,{"$f":"'3.WEF Status-Base'!$BC$13","v":0},0,{"$f":"'3.WEF Status-Base'!$BD$13","v":0},{"$f":"'3.WEF Status-Base'!$BE$13","v":0},null,4,{"$f":"'3.WEF Status-Base'!$D$13","v":0},0,{"$f":"'3.WEF Status-Base'!$E$13","v":0},null,{"$f":"'3.WEF Status-Base'!$G$13","v":0},0,{"$f":"'3.WEF Status-Base'!$H$13","v":0},null,{"$f":"'3.WEF Status-Base'!$J$13","v":0},0,{"$f":"'3.WEF Status-Base'!$K$13","v":0},null,{"$f":"'3.WEF Status-Base'!$M$13","v":0},0,{"$f":"'3.WEF Status-Base'!$N$13","v":0},null,{"$f":"'3.WEF Status-Base'!$P$13","v":0},0,{"$f":"'3.WEF Status-Base'!$Q$13","v":0},null,{"$f":"'3.WEF Status-Base'!$S$13","v":0},0,{"$f":"'3.WEF Status-Base'!$T$13","v":0},null,{"$f":"'3.WEF Status-Base'!$V$13","v":0},0,{"$f":"'3.WEF Status-Base'!$W$13","v":0},null,{"$f":"'3.WEF Status-Base'!$Y$13","v":0},0,{"$f":"'3.WEF Status-Base'!$Z$13","v":0},null,{"$f":"'3.WEF Status-Base'!$AB$13","v":0},0,{"$f":"'3.WEF Status-Base'!$AC$13","v":0},null,{"$f":"'3.WEF Status-Base'!$AE$13","v":0},0,{"$f":"'3.WEF Status-Base'!$AF$13","v":0},null,{"$f":"'3.WEF Status-Base'!$AH$13","v":0},0,{"$f":"'3.WEF Status-Base'!$AI$13","v":0},null,{"$f":"'3.WEF Status-Base'!$AK$13","v":0},0,{"$f":"'3.WEF Status-Base'!$AL$13","v":0},null,{"$f":"'3.WEF Status-Base'!$AN$13","v":0},0,{"$f":"'3.WEF Status-Base'!$AO$13","v":0},null,{"$f":"'3.WEF Status-Base'!$AQ$13","v":0},0,{"$f":"'3.WEF Status-Base'!$AR$13","v":0},null,{"$f":"'3.WEF Status-Base'!$AT$13","v":0},0,{"$f":"'3.WEF Status-Base'!$AU$13","v":0},null,{"$f":"'3.WEF Status-Base'!$AW$13","v":0},0,{"$f":"'3.WEF Status-Base'!$AX$13","v":0},null,{"$f":"'3.WEF Status-Base'!$AZ$13","v":0},0,{"$f":"'3.WEF Status-Base'!$BA$13","v":0},null,{"$f":"'3.WEF Status-Base'!$BC$13","v":0},0,{"$f":"'3.WEF Status-Base'!$BD$13","v":0},{"$f":"'3.WEF Status-Base'!$BE$13","v":0}]
[null,"Retail (market prices)",null,{"$f":"MAX(H147:BZ147)","v":0},null,5,{"$f":"'3.WEF Status-Base'!$D$14","v":0},0,{"$f":"'3.WEF Status-Base'!$E$14","v":0},null,{"$f":"'3.WEF Status-Base'!$G$14","v":0},0,{"$f":"'3.WEF Status-Base'!$H$14","v":0},null,{"$f":"'3.WEF Status-Base'!$J$14","v":0},0,{"$f":"'3.WEF Status-Base'!$K$14","v":0},null,{"$f":"'3.WEF Status-Base'!$M$14","v":0},0,{"$f":"'3.WEF Status-Base'!$N$14","v":0},null,{"$f":"'3.WEF Status-Base'!$P$14","v":0},0,{"$f":"'3.WEF Status-Base'!$Q$14","v":0},null,{"$f":"'3.WEF Status-Base'!$S$14","v":0},0,{"$f":"'3.WEF Status-Base'!$T$14","v":0},null,{"$f":"'3.WEF Status-Base'!$V$14","v":0},0,{"$f":"'3.WEF Status-Base'!$W$14","v":0},null,{"$f":"'3.WEF Status-Base'!$Y$14","v":0},0,{"$f":"'3.WEF Status-Base'!$Z$14","v":0},null,{"$f":"'3.WEF Status-Base'!$AB$14","v":0},0,{"$f":"'3.WEF Status-Base'!$AC$14","v":0},null,{"$f":"'3.WEF Status-Base'!$AE$14","v":0},0,{"$f":"'3.WEF Status-Base'!$AF$14","v":0},null,{"$f":"'3.WEF Status-Base'!$AH$14","v":0},0,{"$f":"'3.WEF Status-Base'!$AI$14","v":0},null,{"$f":"'3.WEF Status-Base'!$AK$14","v":0},0,{"$f":"'3.WEF Status-Base'!$AL$14","v":0},null,{"$f":"'3.WEF Status-Base'!$AN$14","v":0},0,{"$f":"'3.WEF Status-Base'!$AO$14","v":0},null,{"$f":"'3.WEF Status-Base'!$AQ$14","v":0},0,{"$f":"'3.WEF Status-Base'!$AR$14","v":0},null,{"$f":"'3.WEF Status-Base'!$AT$14","v":0},0,{"$f":"'3.WEF Status-Base'!$AU$14","v":0},null,{"$f":"'3.WEF Status-Base'!$AW$14","v":0},0,{"$f":"'3.WEF Status-Base'!$AX$14","v":0},null,{"$f":"'3.WEF Status-Base'!$AZ$14","v":0},0,{"$f":"'3.WEF Status-Base'!$BA$14","v":0},null,{"$f":"'3.WEF Status-Base'!$BC$14","v":0},0,{"$f":"'3.WEF Status-Base'!$BD$14","v":0},{"$f":"'3.WEF Status-Base'!$BE$14","v":0},null,5,{"$f":"'3.WEF Status-Base'!$D$14","v":0},0,{"$f":"'3.WEF Status-Base'!$E$14","v":0},null,{"$f":"'3.WEF Status-Base'!$G$14","v":0},0,{"$f":"'3.WEF Status-Base'!$H$14","v":0},null,{"$f":"'3.WEF Status-Base'!$J$14","v":0},0,{"$f":"'3.WEF Status-Base'!$K$14","v":0},null,{"$f":"'3.WEF Status-Base'!$M$14","v":0},0,{"$f":"'3.WEF Status-Base'!$N$14","v":0},null,{"$f":"'3.WEF Status-Base'!$P$14","v":0},0,{"$f":"'3.WEF Status-Base'!$Q$14","v":0},null,{"$f":"'3.WEF Status-Base'!$S$14","v":0},0,{"$f":"'3.WEF Status-Base'!$T$14","v":0},null,{"$f":"'3.WEF Status-Base'!$V$14","v":0},0,{"$f":"'3.WEF Status-Base'!$W$14","v":0},null,{"$f":"'3.WEF Status-Base'!$Y$14","v":0},0,{"$f":"'3.WEF Status-Base'!$Z$14","v":0},null,{"$f":"'3.WEF Status-Base'!$AB$14","v":0},0,{"$f":"'3.WEF Status-Base'!$AC$14","v":0},null,{"$f":"'3.WEF Status-Base'!$AE$14","v":0},0,{"$f":"'3.WEF Status-Base'!$AF$14","v":0},null,{"$f":"'3.WEF Status-Base'!$AH$14","v":0},0,{"$f":"'3.WEF Status-Base'!$AI$14","v":0},null,{"$f":"'3.WEF Status-Base'!$AK$14","v":0},0,{"$f":"'3.WEF Status-Base'!$AL$14","v":0},null,{"$f":"'3.WEF Status-Base'!$AN$14","v":0},0,{"$f":"'3.WEF Status-Base'!$AO$14","v":0},null,{"$f":"'3.WEF Status-Base'!$AQ$14","v":0},0,{"$f":"'3.WEF Status-Base'!$AR$14","v":0},null,{"$f":"'3.WEF Status-Base'!$AT$14","v":0},0,{"$f":"'3.WEF Status-Base'!$AU$14","v":0},null,{"$f":"'3.WEF Status-Base'!$AW$14","v":0},0,{"$f":"'3.WEF Status-Base'!$AX$14","v":0},null,{"$f":"'3.WEF Status-Base'!$AZ$14","v":0},0,{"$f":"'3.WEF Status-Base'!$BA$14","v":0},null,{"$f":"'3.WEF Status-Base'!$BC$14","v":0},0,{"$f":"'3.WEF Status-Base'!$BD$14","v":0},{"$f":"'3.WEF Status-Base'!$BE$14","v":0}]
[null,"Access",null,null,null,6,null,null,null,null,null,null,null,null,null,null,null,null,null,null,null,null,null,null,null,null,null,null,null,null,null,null,null,null,null,null,null,null,null,null,null,null,null,null,null,null,null,null,null,null,null,null,null,null,null,null,null,null,null,null,null,null,null,null,null,null,null,null,null,null,null,null,null,null,null,null,null,null,null,6]
[null,"Purchasing power (livelihood income, remittances, credit)\n",null,{"$f":"MAX(H149:BZ149)","v":0},null,7,{"$f":"'3.WEF Status-Base'!$D$16","v":0},0,{"$f":"'3.WEF Status-Base'!$E$16","v":0},null,{"$f":"'3.WEF Status-Base'!$G$16","v":0},0,{"$f":"'3.WEF Status-Base'!$H$16","v":0},null,{"$f":"'3.WEF Status-Base'!$J$16","v":0},0,{"$f":"'3.WEF Status-Base'!$K$16","v":0},null,{"$f":"'3.WEF Status-Base'!$M$16","v":0},0,{"$f":"'3.WEF Status-Base'!$N$16","v":0},null,{"$f":"'3.WEF Status-Base'!$P$16","v":0},0,{"$f":"'3.WEF Status-Base'!$Q$16","v":0},null,{"$f":"'3.WEF Status-Base'!$S$16","v":0},0,{"$f":"'3.WEF Status-Base'!$T$16","v":0},null,{"$f":"'3.WEF Status-Base'!$V$16","v":0},0,{"$f":"'3.WEF Status-Base'!$W$16","v":0},null,{"$f":"'3.WEF Status-Base'!$Y$16","v":0},0,{"$f":"'3.WEF Status-Base'!$Z$16","v":0},null,{"$f":"'3.WEF Status-Base'!$AB$16","v":0},0,{"$f":"'3.WEF Status-Base'!$AC$16","v":0},null,{"$f":"'3.WEF Status-Base'!$AE$16","v":0},0,{"$f":"'3.WEF Status-Base'!$AF$16","v":0},null,{"$f":"'3.WEF Status-Base'!$AH$16","v":0},0,{"$f":"'3.WEF Status-Base'!$AI$16","v":0},null,{"$f":"'3.WEF Status-Base'!$AK$16","v":0},0,{"$f":"'3.WEF Status-Base'!$AL$16","v":0},null,{"$f":"'3.WEF Status-Base'!$AN$16","v":0},0,{"$f":"'3.WEF Status-Base'!$AO$16","v":0},null,{"$f":"'3.WEF Status-Base'!$AQ$16","v":0},0,{"$f":"'3.WEF Status-Base'!$AR$16","v":0},null,{"$f":"'3.WEF Status-Base'!$AT$16","v":0},0,{"$f":"'3.WEF Status-Base'!$AU$16","v":0},null,{"$f":"'3.WEF Status-Base'!$AW$16","v":0},0,{"$f":"'3.WEF Status-Base'!$AX$16","v":0},null,{"$f":"'3.WEF Status-Base'!$AZ$16","v":0},0,{"$f":"'3.WEF Status-Base'!$BA$16","v":0},null,{"$f":"'3.WEF Status-Base'!$BC$16","v":0},0,{"$f":"'3.WEF Status-Base'!$BD$16","v":0},{"$f":"'3.WEF Status-Base'!$BE$16","v":0},null,7,{"$f":"'3.WEF Status-Base'!$D$16","v":0},0,{"$f":"'3.WEF Status-Base'!$E$16","v":0},null,{"$f":"'3.WEF Status-Base'!$G$16","v":0},0,{"$f":"'3.WEF Status-Base'!$H$16","v":0},null,{"$f":"'3.WEF Status-Base'!$J$16","v":0},0,{"$f":"'3.WEF Status-Base'!$K$16","v":0},null,{"$f":"'3.WEF Status-Base'!$M$16","v":0},0,{"$f":"'3.WEF Status-Base'!$N$16","v":0},null,{"$f":"'3.WEF Status-Base'!$P$16","v":0},0,{"$f":"'3.WEF Status-Base'!$Q$16","v":0},null,{"$f":"'3.WEF Status-Base'!$S$16","v":0},0,{"$f":"'3.WEF Status-Base'!$T$16","v":0},null,{"$f":"'3.WEF Status-Base'!$V$16","v":0},0,{"$f":"'3.WEF Status-Base'!$W$16","v":0},null,{"$f":"'3.WEF Status-Base'!$Y$16","v":0},0,{"$f":"'3.WEF Status-Base'!$Z$16","v":0},null,{"$f":"'3.WEF Status-Base'!$AB$16","v":0},0,{"$f":"'3.WEF Status-Base'!$AC$16","v":0},null,{"$f":"'3.WEF Status-Base'!$AE$16","v":0},0,{"$f":"'3.WEF Status-Base'!$AF$16","v":0},null,{"$f":"'3.WEF Status-Base'!$AH$16","v":0},0,{"$f":"'3.WEF Status-Base'!$AI$16","v":0},null,{"$f":"'3.WEF Status-Base'!$AK$16","v":0},0,{"$f":"'3.WEF Status-Base'!$AL$16","v":0},null,{"$f":"'3.WEF Status-Base'!$AN$16","v":0},0,{"$f":"'3.WEF Status-Base'!$AO$16","v":0},null,{"$f":"'3.WEF Status-Base'!$AQ$16","v":0},0,{"$f":"'3.WEF Status-Base'!$AR$16","v":0},null,{"$f":"'3.WEF Status-Base'!$AT$16","v":0},0,{"$f":"'3.WEF Status-Base'!$AU$16","v":0},null,{"$f":"'3.WEF Status-Base'!$AW$16","v":0},0,{"$f":"'3.WEF Status-Base'!$AX$16","v":0},null,{"$f":"'3.WEF Status-Base'!$AZ$16","v":0},0,{"$f":"'3.WEF Status-Base'!$BA$16","v":0},null,{"$f":"'3.WEF Status-Base'!$BC$16","v":0},0,{"$f":"'3.WEF Status-Base'!$BD$16","v":0},{"$f":"'3.WEF Status-Base'!$BE$16","v":0}]
[null,"Aid (direct provision, saftey nets, subsidies)\n",null,{"$f":"MAX(H150:BZ150)","v":0},null,8,{"$f":"'3.WEF Status-Base'!$D$17","v":0},0,{"$f":"'3.WEF Status-Base'!$E$17","v":0},null,{"$f":"'3.WEF Status-Base'!$G$17","v":0},0,{"$f":"'3.WEF Status-Base'!$H$17","v":0},null,{"$f":"'3.WEF Status-Base'!$J$17","v":0},0,{"$f":"'3.WEF Status-Base'!$K$17","v":0},null,{"$f":"'3.WEF Status-Base'!$M$17","v":0},0,{"$f":"'3.WEF Status-Base'!$N$17","v":0},null,{"$f":"'3.WEF Status-Base'!$P$17","v":0},0,{"$f":"'3.WEF Status-Base'!$Q$17","v":0},null,{"$f":"'3.WEF Status-Base'!$S$17","v":0},0,{"$f":"'3.WEF Status-Base'!$T$17","v":0},null,{"$f":"'3.WEF Status-Base'!$V$17","v":0},0,{"$f":"'3.WEF Status-Base'!$W$17","v":0},null,{"$f":"'3.WEF Status-Base'!$Y$17","v":0},0,{"$f":"'3.WEF Status-Base'!$Z$17","v":0},null,{"$f":"'3.WEF Status-Base'!$AB$17","v":0},0,{"$f":"'3.WEF Status-Base'!$AC$17","v":0},null,{"$f":"'3.WEF Status-Base'!$AE$17","v":0},0,{"$f":"'3.WEF Status-Base'!$AF$17","v":0},null,{"$f":"'3.WEF Status-Base'!$AH$17","v":0},0,{"$f":"'3.WEF Status-Base'!$AI$17","v":0},null,{"$f":"'3.WEF Status-Base'!$AK$17","v":0},0,{"$f":"'3.WEF Status-Base'!$AL$17","v":0},null,{"$f":"'3.WEF Status-Base'!$AN$17","v":0},0,{"$f":"'3.WEF Status-Base'!$AO$17","v":0},null,{"$f":"'3.WEF Status-Base'!$AQ$17","v":0},0,{"$f":"'3.WEF Status-Base'!$AR$17","v":0},null,{"$f":"'3.WEF Status-Base'!$AT$17","v":0},0,{"$f":"'3.WEF Status-Base'!$AU$17","v":0},null,{"$f":"'3.WEF Status-Base'!$AW$17","v":0},0,{"$f":"'3.WEF Status-Base'!$AX$17","v":0},null,{"$f":"'3.WEF Status-Base'!$AZ$17","v":0},0,{"$f":"'3.WEF Status-Base'!$BA$17","v":0},null,{"$f":"'3.WEF Status-Base'!$BC$17","v":0},0,{"$f":"'3.WEF Status-Base'!$BD$17","v":0},{"$f":"'3.WEF Status-Base'!$BE$17","v":0},null,8,{"$f":"'3.WEF Status-Base'!$D$17","v":0},0,{"$f":"'3.WEF Status-Base'!$E$17","v":0},null,{"$f":"'3.WEF Status-Base'!$G$17","v":0},0,{"$f":"'3.WEF Status-Base'!$H$17","v":0},null,{"$f":"'3.WEF Status-Base'!$J$17","v":0},0,{"$f":"'3.WEF Status-Base'!$K$17","v":0},null,{"$f":"'3.WEF Status-Base'!$M$17","v":0},0,{"$f":"'3.WEF Status-Base'!$N$17","v":0},null,{"$f":"'3.WEF Status-Base'!$P$17","v":0},0,{"$f":"'3.WEF Status-Base'!$Q$17","v":0},null,{"$f":"'3.WEF Status-Base'!$S$17","v":0},0,{"$f":"'3.WEF Status-Base'!$T$17","v":0},null,{"$f":"'3.WEF Status-Base'!$V$17","v":0},0,{"$f":"'3.WEF Status-Base'!$W$17","v":0},null,{"$f":"'3.WEF Status-Base'!$Y$17","v":0},0,{"$f":"'3.WEF Status-Base'!$Z$17","v":0},null,{"$f":"'3.WEF Status-Base'!$AB$17","v":0},0,{"$f":"'3.WEF Status-Base'!$AC$17","v":0},null,{"$f":"'3.WEF Status-Base'!$AE$17","v":0},0,{"$f":"'3.WEF Status-Base'!$AF$17","v":0},null,{"$f":"'3.WEF Status-Base'!$AH$17","v":0},0,{"$f":"'3.WEF Status-Base'!$AI$17","v":0},null,{"$f":"'3.WEF Status-Base'!$AK$17","v":0},0,{"$f":"'3.WEF Status-Base'!$AL$17","v":0},null,{"$f":"'3.WEF Status-Base'!$AN$17","v":0},0,{"$f":"'3.WEF Status-Base'!$AO$17","v":0},null,{"$f":"'3.WEF Status-Base'!$AQ$17","v":0},0,{"$f":"'3.WEF Status-Base'!$AR$17","v":0},null,{"$f":"'3.WEF Status-Base'!$AT$17","v":0},0,{"$f":"'3.WEF Status-Base'!$AU$17","v":0},null,{"$f":"'3.WEF Status-Base'!$AW$17","v":0},0,{"$f":"'3.WEF Status-Base'!$AX$17","v":0},null,{"$f":"'3.WEF Status-Base'!$AZ$17","v":0},0,{"$f":"'3.WEF Status-Base'!$BA$17","v":0},null,{"$f":"'3.WEF Status-Base'!$BC$17","v":0},0,{"$f":"'3.WEF Status-Base'!$BD$17","v":0},{"$f":"'3.WEF Status-Base'!$BE$17","v":0}]
[null,"Self-production (water wells, off-grid power, individual/community gardens)\n",null,{"$f":"MAX(H151:BZ151)","v":0},null,9,{"$f":"'3.WEF Status-Base'!$D$18","v":0},0,{"$f":"'3.WEF Status-Base'!$E$18","v":0},null,{"$f":"'3.WEF Status-Base'!$G$18","v":0},0,{"$f":"'3.WEF Status-Base'!$H$18","v":0},null,{"$f":"'3.WEF Status-Base'!$J$18","v":0},0,{"$f":"'3.WEF Status-Base'!$K$18","v":0},null,{"$f":"'3.WEF Status-Base'!$M$18","v":0},0,{"$f":"'3.WEF Status-Base'!$N$18","v":0},null,{"$f":"'3.WEF Status-Base'!$P$18","v":0},0,{"$f":"'3.WEF Status-Base'!$Q$18","v":0},null,{"$f":"'3.WEF Status-Base'!$S$18","v":0},0,{"$f":"'3.WEF Status-Base'!$T$18","v":0},null,{"$f":"'3.WEF Status-Base'!$V$18","v":0},0,{"$f":"'3.WEF Status-Base'!$W$18","v":0},null,{"$f":"'3.WEF Status-Base'!$Y$18","v":0},0,{"$f":"'3.WEF Status-Base'!$Z$18","v":0},null,{"$f":"'3.WEF Status-Base'!$AB$18","v":0},0,{"$f":"'3.WEF Status-Base'!$AC$18","v":0},null,{"$f":"'3.WEF Status-Base'!$AE$18","v":0},0,{"$f":"'3.WEF Status-Base'!$AF$18","v":0},null,{"$f":"'3.WEF Status-Base'!$AH$18","v":0},0,{"$f":"'3.WEF Status-Base'!$AI$18","v":0},null,{"$f":"'3.WEF Status-Base'!$AK$18","v":0},0,{"$f":"'3.WEF Status-Base'!$AL$18","v":0},null,{"$f":"'3.WEF Status-Base'!$AN$18","v":0},0,{"$f":"'3.WEF Status-Base'!$AO$18","v":0},null,{"$f":"'3.WEF Status-Base'!$AQ$18","v":0},0,{"$f":"'3.WEF Status-Base'!$AR$18","v":0},null,{"$f":"'3.WEF Status-Base'!$AT$18","v":0},0,{"$f":"'3.WEF Status-Base'!$AU$18","v":0},null,{"$f":"'3.WEF Status-Base'!$AW$18","v":0},0,{"$f":"'3.WEF Status-Base'!$AX$18","v":0},null,{"$f":"'3.WEF Status-Base'!$AZ$18","v":0},0,{"$f":"'3.WEF Status-Base'!$BA$18","v":0},null,{"$f":"'3.WEF Status-Base'!$BC$18","v":0},0,{"$f":"'3.WEF Status-Base'!$BD$18","v":0},{"$f":"'3.WEF Status-Base'!$BE$18","v":0},null,9,{"$f":"'3.WEF Status-Base'!$D$18","v":0},0,{"$f":"'3.WEF Status-Base'!$E$18","v":0},null,{"$f":"'3.WEF Status-Base'!$G$18","v":0},0,{"$f":"'3.WEF Status-Base'!$H$18","v":0},null,{"$f":"'3.WEF Status-Base'!$J$18","v":0},0,{"$f":"'3.WEF Status-Base'!$K$18","v":0},null,{"$f":"'3.WEF Status-Base'!$M$18","v":0},0,{"$f":"'3.WEF Status-Base'!$N$18","v":0},null,{"$f":"'3.WEF Status-Base'!$P$18","v":0},0,{"$f":"'3.WEF Status-Base'!$Q$18","v":0},null,{"$f":"'3.WEF Status-Base'!$S$18","v":0},0,{"$f":"'3.WEF Status-Base'!$T$18","v":0},null,{"$f":"'3.WEF Status-Base'!$V$18","v":0},0,{"$f":"'3.WEF Status-Base'!$W$18","v":0},null,{"$f":"'3.WEF Status-Base'!$Y$18","v":0},0,{"$f":"'3.WEF Status-Base'!$Z$18","v":0},null,{"$f":"'3.WEF Status-Base'!$AB$18","v":0},0,{"$f":"'3.WEF Status-Base'!$AC$18","v":0},null,{"$f":"'3.WEF Status-Base'!$AE$18","v":0},0,{"$f":"'3.WEF Status-Base'!$AF$18","v":0},null,{"$f":"'3.WEF Status-Base'!$AH$18","v":0},0,{"$f":"'3.WEF Status-Base'!$AI$18","v":0},null,{"$f":"'3.WEF Status-Base'!$AK$18","v":0},0,{"$f":"'3.WEF Status-Base'!$AL$18","v":0},null,{"$f":"'3.WEF Status-Base'!$AN$18","v":0},0,{"$f":"'3.WEF Status-Base'!$AO$18","v":0},null,{"$f":"'3.WEF Status-Base'!$AQ$18","v":0},0,{"$f":"'3.WEF Status-Base'!$AR$18","v":0},null,{"$f":"'3.WEF Status-Base'!$AT$18","v":0},0,{"$f":"'3.WEF Status-Base'!$AU$18","v":0},null,{"$f":"'3.WEF Status-Base'!$AW$18","v":0},0,{"$f":"'3.WEF Status-Base'!$AX$18","v":0},null,{"$f":"'3.WEF Status-Base'!$AZ$18","v":0},0,{"$f":"'3.WEF Status-Base'!$BA$18","v":0},null,{"$f":"'3.WEF Status-Base'!$BC$18","v":0},0,{"$f":"'3.WEF Status-Base'!$BD$18","v":0},{"$f":"'3.WEF Status-Base'!$BE$18","v":0}]
[null,"Barter",null,{"$f":"MAX(H152:BZ152)","v":0},null,10,{"$f":"'3.WEF Status-Base'!$D$19","v":0},0,{"$f":"'3.WEF Status-Base'!$E$19","v":0},null,{"$f":"'3.WEF Status-Base'!$G$19","v":0},0,{"$f":"'3.WEF Status-Base'!$H$19","v":0},null,{"$f":"'3.WEF Status-Base'!$J$19","v":0},0,{"$f":"'3.WEF Status-Base'!$K$19","v":0},null,{"$f":"'3.WEF Status-Base'!$M$19","v":0},0,{"$f":"'3.WEF Status-Base'!$N$19","v":0},null,{"$f":"'3.WEF Status-Base'!$P$19","v":0},0,{"$f":"'3.WEF Status-Base'!$Q$19","v":0},null,{"$f":"'3.WEF Status-Base'!$S$19","v":0},0,{"$f":"'3.WEF Status-Base'!$T$19","v":0},null,{"$f":"'3.WEF Status-Base'!$V$19","v":0},0,{"$f":"'3.WEF Status-Base'!$W$19","v":0},null,{"$f":"'3.WEF Status-Base'!$Y$19","v":0},0,{"$f":"'3.WEF Status-Base'!$Z$19","v":0},null,{"$f":"'3.WEF Status-Base'!$AB$19","v":0},0,{"$f":"'3.WEF Status-Base'!$AC$19","v":0},null,{"$f":"'3.WEF Status-Base'!$AE$19","v":0},0,{"$f":"'3.WEF Status-Base'!$AF$19","v":0},null,{"$f":"'3.WEF Status-Base'!$AH$19","v":0},0,{"$f":"'3.WEF Status-Base'!$AI$19","v":0},null,{"$f":"'3.WEF Status-Base'!$AK$19","v":0},0,{"$f":"'3.WEF Status-Base'!$AL$19","v":0},null,{"$f":"'3.WEF Status-Base'!$AN$19","v":0},0,{"$f":"'3.WEF Status-Base'!$AO$19","v":0},null,{"$f":"'3.WEF Status-Base'!$AQ$19","v":0},0,{"$f":"'3.WEF Status-Base'!$AR$19","v":0},null,{"$f":"'3.WEF Status-Base'!$AT$19","v":0},0,{"$f":"'3.WEF Status-Base'!$AU$19","v":0},null,{"$f":"'3.WEF Status-Base'!$AW$19","v":0},0,{"$f":"'3.WEF Status-Base'!$AX$19","v":0},null,{"$f":"'3.WEF Status-Base'!$AZ$19","v":0},0,{"$f":"'3.WEF Status-Base'!$BA$19","v":0},null,{"$f":"'3.WEF Status-Base'!$BC$19","v":0},0,{"$f":"'3.WEF Status-Base'!$BD$19","v":0},{"$f":"'3.WEF Status-Base'!$BE$19","v":0},null,10,{"$f":"'3.WEF Status-Base'!$D$19","v":0},0,{"$f":"'3.WEF Status-Base'!$E$19","v":0},null,{"$f":"'3.WEF Status-Base'!$G$19","v":0},0,{"$f":"'3.WEF Status-Base'!$H$19","v":0},null,{"$f":"'3.WEF Status-Base'!$J$19","v":0},0,{"$f":"'3.WEF Status-Base'!$K$19","v":0},null,{"$f":"'3.WEF Status-Base'!$M$19","v":0},0,{"$f":"'3.WEF Status-Base'!$N$19","v":0},null,{"$f":"'3.WEF Status-Base'!$P$19","v":0},0,{"$f":"'3.WEF Status-Base'!$Q$19","v":0},null,{"$f":"'3.WEF Status-Base'!$S$19","v":0},0,{"$f":"'3.WEF Status-Base'!$T$19","v":0},null,{"$f":"'3.WEF Status-Base'!$V$19","v":0},0,{"$f":"'3.WEF Status-Base'!$W$19","v":0},null,{"$f":"'3.WEF Status-Base'!$Y$19","v":0},0,{"$f":"'3.WEF Status-Base'!$Z$19","v":0},null,{"$f":"'3.WEF Status-Base'!$AB$19","v":0},0,{"$f":"'3.WEF Status-Base'!$AC$19","v":0},null,{"$f":"'3.WEF Status-Base'!$AE$19","v":0},0,{"$f":"'3.WEF Status-Base'!$AF$19","v":0},null,{"$f":"'3.WEF Status-Base'!$AH$19","v":0},0,{"$f":"'3.WEF Status-Base'!$AI$19","v":0},null,{"$f":"'3.WEF Status-Base'!$AK$19","v":0},0,{"$f":"'3.WEF Status-Base'!$AL$19","v":0},null,{"$f":"'3.WEF Status-Base'!$AN$19","v":0},0,{"$f":"'3.WEF Status-Base'!$AO$19","v":0},null,{"$f":"'3.WEF Status-Base'!$AQ$19","v":0},0,{"$f":"'3.WEF Status-Base'!$AR$19","v":0},null,{"$f":"'3.WEF Status-Base'!$AT$19","v":0},0,{"$f":"'3.WEF Status-Base'!$AU$19","v":0},null,{"$f":"'3.WEF Status-Base'!$AW$19","v":0},0,{"$f":"'3.WEF Status-Base'!$AX$19","v":0},null,{"$f":"'3.WEF Status-Base'!$AZ$19","v":0},0,{"$f":"'3.WEF Status-Base'!$BA$19","v":0},null,{"$f":"'3.WEF Status-Base'!$BC$19","v":0},0,{"$f":"'3.WEF Status-Base'!$BD$19","v":0},{"$f":"'3.WEF Status-Base'!$BE$19","v":0}]
[null,"Supporting Infrastructure",null,null,null,11,null,null,null,null,null,null,null,null,null,null,null,null,null,null,null,null,null,null,null,null,null,null,null,null,null,null,null,null,null,null,null,null,null,null,null,null,null,null,null,null,null,null,null,null,null,null,null,null,null,null,null,null,null,null,null,null,null,null,null,null,null,null,null,null,null,null,null,null,null,null,null,null,null,11]
[null,"Built Infrastructure",null,{"$f":"MAX(H154:BZ154)","v":0},null,12,{"$f":"'3.WEF Status-Base'!$D$21","v":0},0,{"$f":"'3.WEF Status-Base'!$E$21","v":0},null,{"$f":"'3.WEF Status-Base'!$G$21","v":0},0,{"$f":"'3.WEF Status-Base'!$H$21","v":0},null,{"$f":"'3.WEF Status-Base'!$J$21","v":0},0,{"$f":"'3.WEF Status-Base'!$K$21","v":0},null,{"$f":"'3.WEF Status-Base'!$M$21","v":0},0,{"$f":"'3.WEF Status-Base'!$N$21","v":0},null,{"$f":"'3.WEF Status-Base'!$P$21","v":0},0,{"$f":"'3.WEF Status-Base'!$Q$21","v":0},null,{"$f":"'3.WEF Status-Base'!$S$21","v":0},0,{"$f":"'3.WEF Status-Base'!$T$21","v":0},null,{"$f":"'3.WEF Status-Base'!$V$21","v":0},0,{"$f":"'3.WEF Status-Base'!$W$21","v":0},null,{"$f":"'3.WEF Status-Base'!$Y$21","v":0},0,{"$f":"'3.WEF Status-Base'!$Z$21","v":0},null,{"$f":"'3.WEF Status-Base'!$AB$21","v":0},0,{"$f":"'3.WEF Status-Base'!$AC$21","v":0},null,{"$f":"'3.WEF Status-Base'!$AE$21","v":0},0,{"$f":"'3.WEF Status-Base'!$AF$21","v":0},null,{"$f":"'3.WEF Status-Base'!$AH$21","v":0},0,{"$f":"'3.WEF Status-Base'!$AI$21","v":0},null,{"$f":"'3.WEF Status-Base'!$AK$21","v":0},0,{"$f":"'3.WEF Status-Base'!$AL$21","v":0},null,{"$f":"'3.WEF Status-Base'!$AN$21","v":0},0,{"$f":"'3.WEF Status-Base'!$AO$21","v":0},null,{"$f":"'3.WEF Status-Base'!$AQ$21","v":0},0,{"$f":"'3.WEF Status-Base'!$AR$21","v":0},null,{"$f":"'3.WEF Status-Base'!$AT$21","v":0},0,{"$f":"'3.WEF Status-Base'!$AU$21","v":0},null,{"$f":"'3.WEF Status-Base'!$AW$21","v":0},0,{"$f":"'3.WEF Status-Base'!$AX$21","v":0},null,{"$f":"'3.WEF Status-Base'!$AZ$21","v":0},0,{"$f":"'3.WEF Status-Base'!$BA$21","v":0},null,{"$f":"'3.WEF Status-Base'!$BC$21","v":0},0,{"$f":"'3.WEF Status-Base'!$BD$21","v":0},{"$f":"'3.WEF Status-Base'!$BE$21","v":0},null,12,{"$f":"'3.WEF Status-Base'!$D$21","v":0},0,{"$f":"'3.WEF Status-Base'!$E$21","v":0},null,{"$f":"'3.WEF Status-Base'!$G$21","v":0},0,{"$f":"'3.WEF Status-Base'!$H$21","v":0},null,{"$f":"'3.WEF Status-Base'!$J$21","v":0},0,{"$f":"'3.WEF Status-Base'!$K$21","v":0},null,{"$f":"'3.WEF Status-Base'!$M$21","v":0},0,{"$f":"'3.WEF Status-Base'!$N$21","v":0},null,{"$f":"'3.WEF Status-Base'!$P$21","v":0},0,{"$f":"'3.WEF Status-Base'!$Q$21","v":0},null,{"$f":"'3.WEF Status-Base'!$S$21","v":0},0,{"$f":"'3.WEF Status-Base'!$T$21","v":0},null,{"$f":"'3.WEF Status-Base'!$V$21","v":0},0,{"$f":"'3.WEF Status-Base'!$W$21","v":0},null,{"$f":"'3.WEF Status-Base'!$Y$21","v":0},0,{"$f":"'3.WEF Status-Base'!$Z$21","v":0},null,{"$f":"'3.WEF Status-Base'!$AB$21","v":0},0,{"$f":"'3.WEF Status-Base'!$AC$21","v":0},null,{"$f":"'3.WEF Status-Base'!$AE$21","v":0},0,{"$f":"'3.WEF Status-Base'!$AF$21","v":0},null,{"$f":"'3.WEF Status-Base'!$AH$21","v":0},0,{"$f":"'3.WEF Status-Base'!$AI$21","v":0},null,{"$f":"'3.WEF Status-Base'!$AK$21","v":0},0,{"$f":"'3.WEF Status-Base'!$AL$21","v":0},null,{"$f":"'3.WEF Status-Base'!$AN$21","v":0},0,{"$f":"'3.WEF Status-Base'!$AO$21","v":0},null,{"$f":"'3.WEF Status-Base'!$AQ$21","v":0},0,{"$f":"'3.WEF Status-Base'!$AR$21","v":0},null,{"$f":"'3.WEF Status-Base'!$AT$21","v":0},0,{"$f":"'3.WEF Status-Base'!$AU$21","v":0},null,{"$f":"'3.WEF Status-Base'!$AW$21","v":0},0,{"$f":"'3.WEF Status-Base'!$AX$21","v":0},null,{"$f":"'3.WEF Status-Base'!$AZ$21","v":0},0,{"$f":"'3.WEF Status-Base'!$BA$21","v":0},null,{"$f":"'3.WEF Status-Base'!$BC$21","v":0},0,{"$f":"'3.WEF Status-Base'!$BD$21","v":0},{"$f":"'3.WEF Status-Base'!$BE$21","v":0}]
[null,"     Transportation",null,0,null,13,{"$f":"'3.WEF Status-Base'!$D$22","v":0},0,{"$f":"'3.WEF Status-Base'!$E$22","v":0},null,{"$f":"'3.WEF Status-Base'!$G$22","v":0},0,{"$f":"'3.WEF Status-Base'!$H$22","v":0},null,{"$f":"'3.WEF Status-Base'!$J$22","v":0},0,{"$f":"'3.WEF Status-Base'!$K$22","v":0},null,{"$f":"'3.WEF Status-Base'!$M$22","v":0},0,{"$f":"'3.WEF Status-Base'!$N$22","v":0},null,{"$f":"'3.WEF Status-Base'!$P$22","v":0},0,{"$f":"'3.WEF Status-Base'!$Q$22","v":0},null,{"$f":"'3.WEF Status-Base'!$S$22","v":0},0,{"$f":"'3.WEF Status-Base'!$T$22","v":0},null,{"$f":"'3.WEF Status-Base'!$V$22","v":0},0,{"$f":"'3.WEF Status-Base'!$W$22","v":0},null,{"$f":"'3.WEF Status-Base'!$Y$22","v":0},0,{"$f":"'3.WEF Status-Base'!$Z$22","v":0},null,{"$f":"'3.WEF Status-Base'!$AB$22","v":0},0,{"$f":"'3.WEF Status-Base'!$AC$22","v":0},null,{"$f":"'3.WEF Status-Base'!$AE$22","v":0},0,{"$f":"'3.WEF Status-Base'!$AF$22","v":0},null,{"$f":"'3.WEF Status-Base'!$AH$22","v":0},0,{"$f":"'3.WEF Status-Base'!$AI$22","v":0},null,{"$f":"'3.WEF Status-Base'!$AK$22","v":0},0,{"$f":"'3.WEF Status-Base'!$AL$22","v":0},null,{"$f":"'3.WEF Status-Base'!$AN$22","v":0},0,{"$f":"'3.WEF Status-Base'!$AO$22","v":0},null,{"$f":"'3.WEF Status-Base'!$AQ$22","v":0},0,{"$f":"'3.WEF Status-Base'!$AR$22","v":0},null,{"$f":"'3.WEF Status-Base'!$AT$22","v":0},0,{"$f":"'3.WEF Status-Base'!$AU$22","v":0},null,{"$f":"'3.WEF Status-Base'!$AW$22","v":0},0,{"$f":"'3.WEF Status-Base'!$AX$22","v":0},null,{"$f":"'3.WEF Status-Base'!$AZ$22","v":0},0,{"$f":"'3.WEF Status-Base'!$BA$22","v":0},null,{"$f":"'3.WEF Status-Base'!$BC$22","v":0},0,{"$f":"'3.WEF Status-Base'!$BD$22","v":0},{"$f":"'3.WEF Status-Base'!$BE$22","v":0},null,13,{"$f":"'3.WEF Status-Base'!$D$22","v":0},0,{"$f":"'3.WEF Status-Base'!$E$22","v":0},null,{"$f":"'3.WEF Status-Base'!$G$22","v":0},0,{"$f":"'3.WEF Status-Base'!$H$22","v":0},null,{"$f":"'3.WEF Status-Base'!$J$22","v":0},0,{"$f":"'3.WEF Status-Base'!$K$22","v":0},null,{"$f":"'3.WEF Status-Base'!$M$22","v":0},0,{"$f":"'3.WEF Status-Base'!$N$22","v":0},null,{"$f":"'3.WEF Status-Base'!$P$22","v":0},0,{"$f":"'3.WEF Status-Base'!$Q$22","v":0},null,{"$f":"'3.WEF Status-Base'!$S$22","v":0},0,{"$f":"'3.WEF Status-Base'!$T$22","v":0},null,{"$f":"'3.WEF Status-Base'!$V$22","v":0},0,{"$f":"'3.WEF Status-Base'!$W$22","v":0},null,{"$f":"'3.WEF Status-Base'!$Y$22","v":0},0,{"$f":"'3.WEF Status-Base'!$Z$22","v":0},null,{"$f":"'3.WEF Status-Base'!$AB$22","v":0},0,{"$f":"'3.WEF Status-Base'!$AC$22","v":0},null,{"$f":"'3.WEF Status-Base'!$AE$22","v":0},0,{"$f":"'3.WEF Status-Base'!$AF$22","v":0},null,{"$f":"'3.WEF Status-Base'!$AH$22","v":0},0,{"$f":"'3.WEF Status-Base'!$AI$22","v":0},null,{"$f":"'3.WEF Status-Base'!$AK$22","v":0},0,{"$f":"'3.WEF Status-Base'!$AL$22","v":0},null,{"$f":"'3.WEF Status-Base'!$AN$22","v":0},0,{"$f":"'3.WEF Status-Base'!$AO$22","v":0},null,{"$f":"'3.WEF Status-Base'!$AQ$22","v":0},0,{"$f":"'3.WEF Status-Base'!$AR$22","v":0},null,{"$f":"'3.WEF Status-Base'!$AT$22","v":0},0,{"$f":"'3.WEF Status-Base'!$AU$22","v":0},null,{"$f":"'3.WEF Status-Base'!$AW$22","v":0},0,{"$f":"'3.WEF Status-Base'!$AX$22","v":0},null,{"$f":"'3.WEF Status-Base'!$AZ$22","v":0},0,{"$f":"'3.WEF Status-Base'!$BA$22","v":0},null,{"$f":"'3.WEF Status-Base'!$BC$22","v":0},0,{"$f":"'3.WEF Status-Base'!$BD$22","v":0},{"$f":"'3.WEF Status-Base'!$BE$22","v":0}]
[null,"     Communication",null,0,null,14,{"$f":"'3.WEF Status-Base'!$D$23","v":0},0,{"$f":"'3.WEF Status-Base'!$E$23","v":0},null,{"$f":"'3.WEF Status-Base'!$G$23","v":0},0,{"$f":"'3.WEF Status-Base'!$H$23","v":0},null,{"$f":"'3.WEF Status-Base'!$J$23","v":0},0,{"$f":"'3.WEF Status-Base'!$K$23","v":0},null,{"$f":"'3.WEF Status-Base'!$M$23","v":0},0,{"$f":"'3.WEF Status-Base'!$N$23","v":0},null,{"$f":"'3.WEF Status-Base'!$P$23","v":0},0,{"$f":"'3.WEF Status-Base'!$Q$23","v":0},null,{"$f":"'3.WEF Status-Base'!$S$23","v":0},0,{"$f":"'3.WEF Status-Base'!$T$23","v":0},null,{"$f":"'3.WEF Status-Base'!$V$23","v":0},0,{"$f":"'3.WEF Status-Base'!$W$23","v":0},null,{"$f":"'3.WEF Status-Base'!$Y$23","v":0},0,{"$f":"'3.WEF Status-Base'!$Z$23","v":0},null,{"$f":"'3.WEF Status-Base'!$AB$23","v":0},0,{"$f":"'3.WEF Status-Base'!$AC$23","v":0},null,{"$f":"'3.WEF Status-Base'!$AE$23","v":0},0,{"$f":"'3.WEF Status-Base'!$AF$23","v":0},null,{"$f":"'3.WEF Status-Base'!$AH$23","v":0},0,{"$f":"'3.WEF Status-Base'!$AI$23","v":0},null,{"$f":"'3.WEF Status-Base'!$AK$23","v":0},0,{"$f":"'3.WEF Status-Base'!$AL$23","v":0},null,{"$f":"'3.WEF Status-Base'!$AN$23","v":0},0,{"$f":"'3.WEF Status-Base'!$AO$23","v":0},null,{"$f":"'3.WEF Status-Base'!$AQ$23","v":0},0,{"$f":"'3.WEF Status-Base'!$AR$23","v":0},null,{"$f":"'3.WEF Status-Base'!$AT$23","v":0},0,{"$f":"'3.WEF Status-Base'!$AU$23","v":0},null,{"$f":"'3.WEF Status-Base'!$AW$23","v":0},0,{"$f":"'3.WEF Status-Base'!$AX$23","v":0},null,{"$f":"'3.WEF Status-Base'!$AZ$23","v":0},0,{"$f":"'3.WEF Status-Base'!$BA$23","v":0},null,{"$f":"'3.WEF Status-Base'!$BC$23","v":0},0,{"$f":"'3.WEF Status-Base'!$BD$23","v":0},{"$f":"'3.WEF Status-Base'!$BE$23","v":0},null,14,{"$f":"'3.WEF Status-Base'!$D$23","v":0},0,{"$f":"'3.WEF Status-Base'!$E$23","v":0},null,{"$f":"'3.WEF Status-Base'!$G$23","v":0},0,{"$f":"'3.WEF Status-Base'!$H$23","v":0},null,{"$f":"'3.WEF Status-Base'!$J$23","v":0},0,{"$f":"'3.WEF Status-Base'!$K$23","v":0},null,{"$f":"'3.WEF Status-Base'!$M$23","v":0},0,{"$f":"'3.WEF Status-Base'!$N$23","v":0},null,{"$f":"'3.WEF Status-Base'!$P$23","v":0},0,{"$f":"'3.WEF Status-Base'!$Q$23","v":0},null,{"$f":"'3.WEF Status-Base'!$S$23","v":0},0,{"$f":"'3.WEF Status-Base'!$T$23","v":0},null,{"$f":"'3.WEF Status-Base'!$V$23","v":0},0,{"$f":"'3.WEF Status-Base'!$W$23","v":0},null,{"$f":"'3.WEF Status-Base'!$Y$23","v":0},0,{"$f":"'3.WEF Status-Base'!$Z$23","v":0},null,{"$f":"'3.WEF Status-Base'!$AB$23","v":0},0,{"$f":"'3.WEF Status-Base'!$AC$23","v":0},null,{"$f":"'3.WEF Status-Base'!$AE$23","v":0},0,{"$f":"'3.WEF Status-Base'!$AF$23","v":0},null,{"$f":"'3.WEF Status-Base'!$AH$23","v":0},0,{"$f":"'3.WEF Status-Base'!$AI$23","v":0},null,{"$f":"'3.WEF Status-Base'!$AK$23","v":0},0,{"$f":"'3.WEF Status-Base'!$AL$23","v":0},null,{"$f":"'3.WEF Status-Base'!$AN$23","v":0},0,{"$f":"'3.WEF Status-Base'!$AO$23","v":0},null,{"$f":"'3.WEF Status-Base'!$AQ$23","v":0},0,{"$f":"'3.WEF Status-Base'!$AR$23","v":0},null,{"$f":"'3.WEF Status-Base'!$AT$23","v":0},0,{"$f":"'3.WEF Status-Base'!$AU$23","v":0},null,{"$f":"'3.WEF Status-Base'!$AW$23","v":0},0,{"$f":"'3.WEF Status-Base'!$AX$23","v":0},null,{"$f":"'3.WEF Status-Base'!$AZ$23","v":0},0,{"$f":"'3.WEF Status-Base'!$BA$23","v":0},null,{"$f":"'3.WEF Status-Base'!$BC$23","v":0},0,{"$f":"'3.WEF Status-Base'!$BD$23","v":0},{"$f":"'3.WEF Status-Base'!$BE$23","v":0}]
[null,"     Waste removal/disposal",null,0,null,15,{"$f":"'3.WEF Status-Base'!$D$24","v":0},0,{"$f":"'3.WEF Status-Base'!$E$24","v":0},null,{"$f":"'3.WEF Status-Base'!$G$24","v":0},0,{"$f":"'3.WEF Status-Base'!$H$24","v":0},null,{"$f":"'3.WEF Status-Base'!$J$24","v":0},0,{"$f":"'3.WEF Status-Base'!$K$24","v":0},null,{"$f":"'3.WEF Status-Base'!$M$24","v":0},0,{"$f":"'3.WEF Status-Base'!$N$24","v":0},null,{"$f":"'3.WEF Status-Base'!$P$24","v":0},0,{"$f":"'3.WEF Status-Base'!$Q$24","v":0},null,{"$f":"'3.WEF Status-Base'!$S$24","v":0},0,{"$f":"'3.WEF Status-Base'!$T$24","v":0},null,{"$f":"'3.WEF Status-Base'!$V$24","v":0},0,{"$f":"'3.WEF Status-Base'!$W$24","v":0},null,{"$f":"'3.WEF Status-Base'!$Y$24","v":0},0,{"$f":"'3.WEF Status-Base'!$Z$24","v":0},null,{"$f":"'3.WEF Status-Base'!$AB$24","v":0},0,{"$f":"'3.WEF Status-Base'!$AC$24","v":0},null,{"$f":"'3.WEF Status-Base'!$AE$24","v":0},0,{"$f":"'3.WEF Status-Base'!$AF$24","v":0},null,{"$f":"'3.WEF Status-Base'!$AH$24","v":0},0,{"$f":"'3.WEF Status-Base'!$AI$24","v":0},null,{"$f":"'3.WEF Status-Base'!$AK$24","v":0},0,{"$f":"'3.WEF Status-Base'!$AL$24","v":0},null,{"$f":"'3.WEF Status-Base'!$AN$24","v":0},0,{"$f":"'3.WEF Status-Base'!$AO$24","v":0},null,{"$f":"'3.WEF Status-Base'!$AQ$24","v":0},0,{"$f":"'3.WEF Status-Base'!$AR$24","v":0},null,{"$f":"'3.WEF Status-Base'!$AT$24","v":0},0,{"$f":"'3.WEF Status-Base'!$AU$24","v":0},null,{"$f":"'3.WEF Status-Base'!$AW$24","v":0},0,{"$f":"'3.WEF Status-Base'!$AX$24","v":0},null,{"$f":"'3.WEF Status-Base'!$AZ$24","v":0},0,{"$f":"'3.WEF Status-Base'!$BA$24","v":0},null,{"$f":"'3.WEF Status-Base'!$BC$24","v":0},0,{"$f":"'3.WEF Status-Base'!$BD$24","v":0},{"$f":"'3.WEF Status-Base'!$BE$24","v":0},null,15,{"$f":"'3.WEF Status-Base'!$D$24","v":0},0,{"$f":"'3.WEF Status-Base'!$E$24","v":0},null,{"$f":"'3.WEF Status-Base'!$G$24","v":0},0,{"$f":"'3.WEF Status-Base'!$H$24","v":0},null,{"$f":"'3.WEF Status-Base'!$J$24","v":0},0,{"$f":"'3.WEF Status-Base'!$K$24","v":0},null,{"$f":"'3.WEF Status-Base'!$M$24","v":0},0,{"$f":"'3.WEF Status-Base'!$N$24","v":0},null,{"$f":"'3.WEF Status-Base'!$P$24","v":0},0,{"$f":"'3.WEF Status-Base'!$Q$24","v":0},null,{"$f":"'3.WEF Status-Base'!$S$24","v":0},0,{"$f":"'3.WEF Status-Base'!$T$24","v":0},null,{"$f":"'3.WEF Status-Base'!$V$24","v":0},0,{"$f":"'3.WEF Status-Base'!$W$24","v":0},null,{"$f":"'3.WEF Status-Base'!$Y$24","v":0},0,{"$f":"'3.WEF Status-Base'!$Z$24","v":0},null,{"$f":"'3.WEF Status-Base'!$AB$24","v":0},0,{"$f":"'3.WEF Status-Base'!$AC$24","v":0},null,{"$f":"'3.WEF Status-Base'!$AE$24","v":0},0,{"$f":"'3.WEF Status-Base'!$AF$24","v":0},null,{"$f":"'3.WEF Status-Base'!$AH$24","v":0},0,{"$f":"'3.WEF Status-Base'!$AI$24","v":0},null,{"$f":"'3.WEF Status-Base'!$AK$24","v":0},0,{"$f":"'3.WEF Status-Base'!$AL$24","v":0},null,{"$f":"'3.WEF Status-Base'!$AN$24","v":0},0,{"$f":"'3.WEF Status-Base'!$AO$24","v":0},null,{"$f":"'3.WEF Status-Base'!$AQ$24","v":0},0,{"$f":"'3.WEF Status-Base'!$AR$24","v":0},null,{"$f":"'3.WEF Status-Base'!$AT$24","v":0},0,{"$f":"'3.WEF Status-Base'!$AU$24","v":0},null,{"$f":"'3.WEF Status-Base'!$AW$24","v":0},0,{"$f":"'3.WEF Status-Base'!$AX$24","v":0},null,{"$f":"'3.WEF Status-Base'!$AZ$24","v":0},0,{"$f":"'3.WEF Status-Base'!$BA$24","v":0},null,{"$f":"'3.WEF Status-Base'!$BC$24","v":0},0,{"$f":"'3.WEF Status-Base'!$BD$24","v":0},{"$f":"'3.WEF Status-Base'!$BE$24","v":0}]
[null,"Natural Infrastructure",null,0,null,16,{"$f":"'3.WEF Status-Base'!$D$25","v":0},0,{"$f":"'3.WEF Status-Base'!$E$25","v":0},null,{"$f":"'3.WEF Status-Base'!$G$25","v":0},0,{"$f":"'3.WEF Status-Base'!$H$25","v":0},null,{"$f":"'3.WEF Status-Base'!$J$25","v":0},0,{"$f":"'3.WEF Status-Base'!$K$25","v":0},null,{"$f":"'3.WEF Status-Base'!$M$25","v":0},0,{"$f":"'3.WEF Status-Base'!$N$25","v":0},null,{"$f":"'3.WEF Status-Base'!$P$25","v":0},0,{"$f":"'3.WEF Status-Base'!$Q$25","v":0},null,{"$f":"'3.WEF Status-Base'!$S$25","v":0},0,{"$f":"'3.WEF Status-Base'!$T$25","v":0},null,{"$f":"'3.WEF Status-Base'!$V$25","v":0},0,{"$f":"'3.WEF Status-Base'!$W$25","v":0},null,{"$f":"'3.WEF Status-Base'!$Y$25","v":0},0,{"$f":"'3.WEF Status-Base'!$Z$25","v":0},null,{"$f":"'3.WEF Status-Base'!$AB$25","v":0},0,{"$f":"'3.WEF Status-Base'!$AC$25","v":0},null,{"$f":"'3.WEF Status-Base'!$AE$25","v":0},0,{"$f":"'3.WEF Status-Base'!$AF$25","v":0},null,{"$f":"'3.WEF Status-Base'!$AH$25","v":0},0,{"$f":"'3.WEF Status-Base'!$AI$25","v":0},null,{"$f":"'3.WEF Status-Base'!$AK$25","v":0},0,{"$f":"'3.WEF Status-Base'!$AL$25","v":0},null,{"$f":"'3.WEF Status-Base'!$AN$25","v":0},0,{"$f":"'3.WEF Status-Base'!$AO$25","v":0},null,{"$f":"'3.WEF Status-Base'!$AQ$25","v":0},0,{"$f":"'3.WEF Status-Base'!$AR$25","v":0},null,{"$f":"'3.WEF Status-Base'!$AT$25","v":0},0,{"$f":"'3.WEF Status-Base'!$AU$25","v":0},null,{"$f":"'3.WEF Status-Base'!$AW$25","v":0},0,{"$f":"'3.WEF Status-Base'!$AX$25","v":0},null,{"$f":"'3.WEF Status-Base'!$AZ$25","v":0},0,{"$f":"'3.WEF Status-Base'!$BA$25","v":0},null,{"$f":"'3.WEF Status-Base'!$BC$25","v":0},0,{"$f":"'3.WEF Status-Base'!$BD$25","v":0},{"$f":"'3.WEF Status-Base'!$BE$25","v":0},null,16,{"$f":"'3.WEF Status-Base'!$D$25","v":0},0,{"$f":"'3.WEF Status-Base'!$E$25","v":0},null,{"$f":"'3.WEF Status-Base'!$G$25","v":0},0,{"$f":"'3.WEF Status-Base'!$H$25","v":0},null,{"$f":"'3.WEF Status-Base'!$J$25","v":0},0,{"$f":"'3.WEF Status-Base'!$K$25","v":0},null,{"$f":"'3.WEF Status-Base'!$M$25","v":0},0,{"$f":"'3.WEF Status-Base'!$N$25","v":0},null,{"$f":"'3.WEF Status-Base'!$P$25","v":0},0,{"$f":"'3.WEF Status-Base'!$Q$25","v":0},null,{"$f":"'3.WEF Status-Base'!$S$25","v":0},0,{"$f":"'3.WEF Status-Base'!$T$25","v":0},null,{"$f":"'3.WEF Status-Base'!$V$25","v":0},0,{"$f":"'3.WEF Status-Base'!$W$25","v":0},null,{"$f":"'3.WEF Status-Base'!$Y$25","v":0},0,{"$f":"'3.WEF Status-Base'!$Z$25","v":0},null,{"$f":"'3.WEF Status-Base'!$AB$25","v":0},0,{"$f":"'3.WEF Status-Base'!$AC$25","v":0},null,{"$f":"'3.WEF Status-Base'!$AE$25","v":0},0,{"$f":"'3.WEF Status-Base'!$AF$25","v":0},null,{"$f":"'3.WEF Status-Base'!$AH$25","v":0},0,{"$f":"'3.WEF Status-Base'!$AI$25","v":0},null,{"$f":"'3.WEF Status-Base'!$AK$25","v":0},0,{"$f":"'3.WEF Status-Base'!$AL$25","v":0},null,{"$f":"'3.WEF Status-Base'!$AN$25","v":0},0,{"$f":"'3.WEF Status-Base'!$AO$25","v":0},null,{"$f":"'3.WEF Status-Base'!$AQ$25","v":0},0,{"$f":"'3.WEF Status-Base'!$AR$25","v":0},null,{"$f":"'3.WEF Status-Base'!$AT$25","v":0},0,{"$f":"'3.WEF Status-Base'!$AU$25","v":0},null,{"$f":"'3.WEF Status-Base'!$AW$25","v":0},0,{"$f":"'3.WEF Status-Base'!$AX$25","v":0},null,{"$f":"'3.WEF Status-Base'!$AZ$25","v":0},0,{"$f":"'3.WEF Status-Base'!$BA$25","v":0},null,{"$f":"'3.WEF Status-Base'!$BC$25","v":0},0,{"$f":"'3.WEF Status-Base'!$BD$25","v":0},{"$f":"'3.WEF Status-Base'!$BE$25","v":0}]
[null,"     Air quality maintenance",null,0,null,17,{"$f":"'3.WEF Status-Base'!$D$26","v":0},0,{"$f":"'3.WEF Status-Base'!$E$26","v":0},null,{"$f":"'3.WEF Status-Base'!$G$26","v":0},0,{"$f":"'3.WEF Status-Base'!$H$26","v":0},null,{"$f":"'3.WEF Status-Base'!$J$26","v":0},0,{"$f":"'3.WEF Status-Base'!$K$26","v":0},null,{"$f":"'3.WEF Status-Base'!$M$26","v":0},0,{"$f":"'3.WEF Status-Base'!$N$26","v":0},null,{"$f":"'3.WEF Status-Base'!$P$26","v":0},0,{"$f":"'3.WEF Status-Base'!$Q$26","v":0},null,{"$f":"'3.WEF Status-Base'!$S$26","v":0},0,{"$f":"'3.WEF Status-Base'!$T$26","v":0},null,{"$f":"'3.WEF Status-Base'!$V$26","v":0},0,{"$f":"'3.WEF Status-Base'!$W$26","v":0},null,{"$f":"'3.WEF Status-Base'!$Y$26","v":0},0,{"$f":"'3.WEF Status-Base'!$Z$26","v":0},null,{"$f":"'3.WEF Status-Base'!$AB$26","v":0},0,{"$f":"'3.WEF Status-Base'!$AC$26","v":0},null,{"$f":"'3.WEF Status-Base'!$AE$26","v":0},0,{"$f":"'3.WEF Status-Base'!$AF$26","v":0},null,{"$f":"'3.WEF Status-Base'!$AH$26","v":0},0,{"$f":"'3.WEF Status-Base'!$AI$26","v":0},null,{"$f":"'3.WEF Status-Base'!$AK$26","v":0},0,{"$f":"'3.WEF Status-Base'!$AL$26","v":0},null,{"$f":"'3.WEF Status-Base'!$AN$26","v":0},0,{"$f":"'3.WEF Status-Base'!$AO$26","v":0},null,{"$f":"'3.WEF Status-Base'!$AQ$26","v":0},0,{"$f":"'3.WEF Status-Base'!$AR$26","v":0},null,{"$f":"'3.WEF Status-Base'!$AT$26","v":0},0,{"$f":"'3.WEF Status-Base'!$AU$26","v":0},null,{"$f":"'3.WEF Status-Base'!$AW$26","v":0},0,{"$f":"'3.WEF Status-Base'!$AX$26","v":0},null,{"$f":"'3.WEF Status-Base'!$AZ$26","v":0},0,{"$f":"'3.WEF Status-Base'!$BA$26","v":0},null,{"$f":"'3.WEF Status-Base'!$BC$26","v":0},0,{"$f":"'3.WEF Status-Base'!$BD$26","v":0},{"$f":"'3.WEF Status-Base'!$BE$26","v":0},null,17,{"$f":"'3.WEF Status-Base'!$D$26","v":0},0,{"$f":"'3.WEF Status-Base'!$E$26","v":0},null,{"$f":"'3.WEF Status-Base'!$G$26","v":0},0,{"$f":"'3.WEF Status-Base'!$H$26","v":0},null,{"$f":"'3.WEF Status-Base'!$J$26","v":0},0,{"$f":"'3.WEF Status-Base'!$K$26","v":0},null,{"$f":"'3.WEF Status-Base'!$M$26","v":0},0,{"$f":"'3.WEF Status-Base'!$N$26","v":0},null,{"$f":"'3.WEF Status-Base'!$P$26","v":0},0,{"$f":"'3.WEF Status-Base'!$Q$26","v":0},null,{"$f":"'3.WEF Status-Base'!$S$26","v":0},0,{"$f":"'3.WEF Status-Base'!$T$26","v":0},null,{"$f":"'3.WEF Status-Base'!$V$26","v":0},0,{"$f":"'3.WEF Status-Base'!$W$26","v":0},null,{"$f":"'3.WEF Status-Base'!$Y$26","v":0},0,{"$f":"'3.WEF Status-Base'!$Z$26","v":0},null,{"$f":"'3.WEF Status-Base'!$AB$26","v":0},0,{"$f":"'3.WEF Status-Base'!$AC$26","v":0},null,{"$f":"'3.WEF Status-Base'!$AE$26","v":0},0,{"$f":"'3.WEF Status-Base'!$AF$26","v":0},null,{"$f":"'3.WEF Status-Base'!$AH$26","v":0},0,{"$f":"'3.WEF Status-Base'!$AI$26","v":0},null,{"$f":"'3.WEF Status-Base'!$AK$26","v":0},0,{"$f":"'3.WEF Status-Base'!$AL$26","v":0},null,{"$f":"'3.WEF Status-Base'!$AN$26","v":0},0,{"$f":"'3.WEF Status-Base'!$AO$26","v":0},null,{"$f":"'3.WEF Status-Base'!$AQ$26","v":0},0,{"$f":"'3.WEF Status-Base'!$AR$26","v":0},null,{"$f":"'3.WEF Status-Base'!$AT$26","v":0},0,{"$f":"'3.WEF Status-Base'!$AU$26","v":0},null,{"$f":"'3.WEF Status-Base'!$AW$26","v":0},0,{"$f":"'3.WEF Status-Base'!$AX$26","v":0},null,{"$f":"'3.WEF Status-Base'!$AZ$26","v":0},0,{"$f":"'3.WEF Status-Base'!$BA$26","v":0},null,{"$f":"'3.WEF Status-Base'!$BC$26","v":0},0,{"$f":"'3.WEF Status-Base'!$BD$26","v":0},{"$f":"'3.WEF Status-Base'!$BE$26","v":0}]
[null,"     Erosion control",null,0,null,18,{"$f":"'3.WEF Status-Base'!$D$27","v":0},0,{"$f":"'3.WEF Status-Base'!$E$27","v":0},null,{"$f":"'3.WEF Status-Base'!$G$27","v":0},0,{"$f":"'3.WEF Status-Base'!$H$27","v":0},null,{"$f":"'3.WEF Status-Base'!$J$27","v":0},0,{"$f":"'3.WEF Status-Base'!$K$27","v":0},null,{"$f":"'3.WEF Status-Base'!$M$27","v":0},0,{"$f":"'3.WEF Status-Base'!$N$27","v":0},null,{"$f":"'3.WEF Status-Base'!$P$27","v":0},0,{"$f":"'3.WEF Status-Base'!$Q$27","v":0},null,{"$f":"'3.WEF Status-Base'!$S$27","v":0},0,{"$f":"'3.WEF Status-Base'!$T$27","v":0},null,{"$f":"'3.WEF Status-Base'!$V$27","v":0},0,{"$f":"'3.WEF Status-Base'!$W$27","v":0},null,{"$f":"'3.WEF Status-Base'!$Y$27","v":0},0,{"$f":"'3.WEF Status-Base'!$Z$27","v":0},null,{"$f":"'3.WEF Status-Base'!$AB$27","v":0},0,{"$f":"'3.WEF Status-Base'!$AC$27","v":0},null,{"$f":"'3.WEF Status-Base'!$AE$27","v":0},0,{"$f":"'3.WEF Status-Base'!$AF$27","v":0},null,{"$f":"'3.WEF Status-Base'!$AH$27","v":0},0,{"$f":"'3.WEF Status-Base'!$AI$27","v":0},null,{"$f":"'3.WEF Status-Base'!$AK$27","v":0},0,{"$f":"'3.WEF Status-Base'!$AL$27","v":0},null,{"$f":"'3.WEF Status-Base'!$AN$27","v":0},0,{"$f":"'3.WEF Status-Base'!$AO$27","v":0},null,{"$f":"'3.WEF Status-Base'!$AQ$27","v":0},0,{"$f":"'3.WEF Status-Base'!$AR$27","v":0},null,{"$f":"'3.WEF Status-Base'!$AT$27","v":0},0,{"$f":"'3.WEF Status-Base'!$AU$27","v":0},null,{"$f":"'3.WEF Status-Base'!$AW$27","v":0},0,{"$f":"'3.WEF Status-Base'!$AX$27","v":0},null,{"$f":"'3.WEF Status-Base'!$AZ$27","v":0},0,{"$f":"'3.WEF Status-Base'!$BA$27","v":0},null,{"$f":"'3.WEF Status-Base'!$BC$27","v":0},0,{"$f":"'3.WEF Status-Base'!$BD$27","v":0},{"$f":"'3.WEF Status-Base'!$BE$27","v":0},null,18,{"$f":"'3.WEF Status-Base'!$D$27","v":0},0,{"$f":"'3.WEF Status-Base'!$E$27","v":0},null,{"$f":"'3.WEF Status-Base'!$G$27","v":0},0,{"$f":"'3.WEF Status-Base'!$H$27","v":0},null,{"$f":"'3.WEF Status-Base'!$J$27","v":0},0,{"$f":"'3.WEF Status-Base'!$K$27","v":0},null,{"$f":"'3.WEF Status-Base'!$M$27","v":0},0,{"$f":"'3.WEF Status-Base'!$N$27","v":0},null,{"$f":"'3.WEF Status-Base'!$P$27","v":0},0,{"$f":"'3.WEF Status-Base'!$Q$27","v":0},null,{"$f":"'3.WEF Status-Base'!$S$27","v":0},0,{"$f":"'3.WEF Status-Base'!$T$27","v":0},null,{"$f":"'3.WEF Status-Base'!$V$27","v":0},0,{"$f":"'3.WEF Status-Base'!$W$27","v":0},null,{"$f":"'3.WEF Status-Base'!$Y$27","v":0},0,{"$f":"'3.WEF Status-Base'!$Z$27","v":0},null,{"$f":"'3.WEF Status-Base'!$AB$27","v":0},0,{"$f":"'3.WEF Status-Base'!$AC$27","v":0},null,{"$f":"'3.WEF Status-Base'!$AE$27","v":0},0,{"$f":"'3.WEF Status-Base'!$AF$27","v":0},null,{"$f":"'3.WEF Status-Base'!$AH$27","v":0},0,{"$f":"'3.WEF Status-Base'!$AI$27","v":0},null,{"$f":"'3.WEF Status-Base'!$AK$27","v":0},0,{"$f":"'3.WEF Status-Base'!$AL$27","v":0},null,{"$f":"'3.WEF Status-Base'!$AN$27","v":0},0,{"$f":"'3.WEF Status-Base'!$AO$27","v":0},null,{"$f":"'3.WEF Status-Base'!$AQ$27","v":0},0,{"$f":"'3.WEF Status-Base'!$AR$27","v":0},null,{"$f":"'3.WEF Status-Base'!$AT$27","v":0},0,{"$f":"'3.WEF Status-Base'!$AU$27","v":0},null,{"$f":"'3.WEF Status-Base'!$AW$27","v":0},0,{"$f":"'3.WEF Status-Base'!$AX$27","v":0},null,{"$f":"'3.WEF Status-Base'!$AZ$27","v":0},0,{"$f":"'3.WEF Status-Base'!$BA$27","v":0},null,{"$f":"'3.WEF Status-Base'!$BC$27","v":0},0,{"$f":"'3.WEF Status-Base'!$BD$27","v":0},{"$f":"'3.WEF Status-Base'!$BE$27","v":0}]
[null,"     Water purification and treatment",null,0,null,19,{"$f":"'3.WEF Status-Base'!$D$28","v":0},0,{"$f":"'3.WEF Status-Base'!$E$28","v":0},null,{"$f":"'3.WEF Status-Base'!$G$28","v":0},0,{"$f":"'3.WEF Status-Base'!$H$28","v":0},null,{"$f":"'3.WEF Status-Base'!$J$28","v":0},0,{"$f":"'3.WEF Status-Base'!$K$28","v":0},null,{"$f":"'3.WEF Status-Base'!$M$28","v":0},0,{"$f":"'3.WEF Status-Base'!$N$28","v":0},null,{"$f":"'3.WEF Status-Base'!$P$28","v":0},0,{"$f":"'3.WEF Status-Base'!$Q$28","v":0},null,{"$f":"'3.WEF Status-Base'!$S$28","v":0},0,{"$f":"'3.WEF Status-Base'!$T$28","v":0},null,{"$f":"'3.WEF Status-Base'!$V$28","v":0},0,{"$f":"'3.WEF Status-Base'!$W$28","v":0},null,{"$f":"'3.WEF Status-Base'!$Y$28","v":0},0,{"$f":"'3.WEF Status-Base'!$Z$28","v":0},null,{"$f":"'3.WEF Status-Base'!$AB$28","v":0},0,{"$f":"'3.WEF Status-Base'!$AC$28","v":0},null,{"$f":"'3.WEF Status-Base'!$AE$28","v":0},0,{"$f":"'3.WEF Status-Base'!$AF$28","v":0},null,{"$f":"'3.WEF Status-Base'!$AH$28","v":0},0,{"$f":"'3.WEF Status-Base'!$AI$28","v":0},null,{"$f":"'3.WEF Status-Base'!$AK$28","v":0},0,{"$f":"'3.WEF Status-Base'!$AL$28","v":0},null,{"$f":"'3.WEF Status-Base'!$AN$28","v":0},0,{"$f":"'3.WEF Status-Base'!$AO$28","v":0},null,{"$f":"'3.WEF Status-Base'!$AQ$28","v":0},0,{"$f":"'3.WEF Status-Base'!$AR$28","v":0},null,{"$f":"'3.WEF Status-Base'!$AT$28","v":0},0,{"$f":"'3.WEF Status-Base'!$AU$28","v":0},null,{"$f":"'3.WEF Status-Base'!$AW$28","v":0},0,{"$f":"'3.WEF Status-Base'!$AX$28","v":0},null,{"$f":"'3.WEF Status-Base'!$AZ$28","v":0},0,{"$f":"'3.WEF Status-Base'!$BA$28","v":0},null,{"$f":"'3.WEF Status-Base'!$BC$28","v":0},0,{"$f":"'3.WEF Status-Base'!$BD$28","v":0},{"$f":"'3.WEF Status-Base'!$BE$28","v":0},null,19,{"$f":"'3.WEF Status-Base'!$D$28","v":0},0,{"$f":"'3.WEF Status-Base'!$E$28","v":0},null,{"$f":"'3.WEF Status-Base'!$G$28","v":0},0,{"$f":"'3.WEF Status-Base'!$H$28","v":0},null,{"$f":"'3.WEF Status-Base'!$J$28","v":0},0,{"$f":"'3.WEF Status-Base'!$K$28","v":0},null,{"$f":"'3.WEF Status-Base'!$M$28","v":0},0,{"$f":"'3.WEF Status-Base'!$N$28","v":0},null,{"$f":"'3.WEF Status-Base'!$P$28","v":0},0,{"$f":"'3.WEF Status-Base'!$Q$28","v":0},null,{"$f":"'3.WEF Status-Base'!$S$28","v":0},0,{"$f":"'3.WEF Status-Base'!$T$28","v":0},null,{"$f":"'3.WEF Status-Base'!$V$28","v":0},0,{"$f":"'3.WEF Status-Base'!$W$28","v":0},null,{"$f":"'3.WEF Status-Base'!$Y$28","v":0},0,{"$f":"'3.WEF Status-Base'!$Z$28","v":0},null,{"$f":"'3.WEF Status-Base'!$AB$28","v":0},0,{"$f":"'3.WEF Status-Base'!$AC$28","v":0},null,{"$f":"'3.WEF Status-Base'!$AE$28","v":0},0,{"$f":"'3.WEF Status-Base'!$AF$28","v":0},null,{"$f":"'3.WEF Status-Base'!$AH$28","v":0},0,{"$f":"'3.WEF Status-Base'!$AI$28","v":0},null,{"$f":"'3.WEF Status-Base'!$AK$28","v":0},0,{"$f":"'3.WEF Status-Base'!$AL$28","v":0},null,{"$f":"'3.WEF Status-Base'!$AN$28","v":0},0,{"$f":"'3.WEF Status-Base'!$AO$28","v":0},null,{"$f":"'3.WEF Status-Base'!$AQ$28","v":0},0,{"$f":"'3.WEF Status-Base'!$AR$28","v":0},null,{"$f":"'3.WEF Status-Base'!$AT$28","v":0},0,{"$f":"'3.WEF Status-Base'!$AU$28","v":0},null,{"$f":"'3.WEF Status-Base'!$AW$28","v":0},0,{"$f":"'3.WEF Status-Base'!$AX$28","v":0},null,{"$f":"'3.WEF Status-Base'!$AZ$28","v":0},0,{"$f":"'3.WEF Status-Base'!$BA$28","v":0},null,{"$f":"'3.WEF Status-Base'!$BC$28","v":0},0,{"$f":"'3.WEF Status-Base'!$BD$28","v":0},{"$f":"'3.WEF Status-Base'!$BE$28","v":0}]
[null,"     Biological control",null,0,null,20,{"$f":"'3.WEF Status-Base'!$D$29","v":0},0,{"$f":"'3.WEF Status-Base'!$E$29","v":0},null,{"$f":"'3.WEF Status-Base'!$G$29","v":0},0,{"$f":"'3.WEF Status-Base'!$H$29","v":0},null,{"$f":"'3.WEF Status-Base'!$J$29","v":0},0,{"$f":"'3.WEF Status-Base'!$K$29","v":0},null,{"$f":"'3.WEF Status-Base'!$M$29","v":0},0,{"$f":"'3.WEF Status-Base'!$N$29","v":0},null,{"$f":"'3.WEF Status-Base'!$P$29","v":0},0,{"$f":"'3.WEF Status-Base'!$Q$29","v":0},null,{"$f":"'3.WEF Status-Base'!$S$29","v":0},0,{"$f":"'3.WEF Status-Base'!$T$29","v":0},null,{"$f":"'3.WEF Status-Base'!$V$29","v":0},0,{"$f":"'3.WEF Status-Base'!$W$29","v":0},null,{"$f":"'3.WEF Status-Base'!$Y$29","v":0},0,{"$f":"'3.WEF Status-Base'!$Z$29","v":0},null,{"$f":"'3.WEF Status-Base'!$AB$29","v":0},0,{"$f":"'3.WEF Status-Base'!$AC$29","v":0},null,{"$f":"'3.WEF Status-Base'!$AE$29","v":0},0,{"$f":"'3.WEF Status-Base'!$AF$29","v":0},null,{"$f":"'3.WEF Status-Base'!$AH$29","v":0},0,{"$f":"'3.WEF Status-Base'!$AI$29","v":0},null,{"$f":"'3.WEF Status-Base'!$AK$29","v":0},0,{"$f":"'3.WEF Status-Base'!$AL$29","v":0},null,{"$f":"'3.WEF Status-Base'!$AN$29","v":0},0,{"$f":"'3.WEF Status-Base'!$AO$29","v":0},null,{"$f":"'3.WEF Status-Base'!$AQ$29","v":0},0,{"$f":"'3.WEF Status-Base'!$AR$29","v":0},null,{"$f":"'3.WEF Status-Base'!$AT$29","v":0},0,{"$f":"'3.WEF Status-Base'!$AU$29","v":0},null,{"$f":"'3.WEF Status-Base'!$AW$29","v":0},0,{"$f":"'3.WEF Status-Base'!$AX$29","v":0},null,{"$f":"'3.WEF Status-Base'!$AZ$29","v":0},0,{"$f":"'3.WEF Status-Base'!$BA$29","v":0},null,{"$f":"'3.WEF Status-Base'!$BC$29","v":0},0,{"$f":"'3.WEF Status-Base'!$BD$29","v":0},{"$f":"'3.WEF Status-Base'!$BE$29","v":0},null,20,{"$f":"'3.WEF Status-Base'!$D$29","v":0},0,{"$f":"'3.WEF Status-Base'!$E$29","v":0},null,{"$f":"'3.WEF Status-Base'!$G$29","v":0},0,{"$f":"'3.WEF Status-Base'!$H$29","v":0},null,{"$f":"'3.WEF Status-Base'!$J$29","v":0},0,{"$f":"'3.WEF Status-Base'!$K$29","v":0},null,{"$f":"'3.WEF Status-Base'!$M$29","v":0},0,{"$f":"'3.WEF Status-Base'!$N$29","v":0},null,{"$f":"'3.WEF Status-Base'!$P$29","v":0},0,{"$f":"'3.WEF Status-Base'!$Q$29","v":0},null,{"$f":"'3.WEF Status-Base'!$S$29","v":0},0,{"$f":"'3.WEF Status-Base'!$T$29","v":0},null,{"$f":"'3.WEF Status-Base'!$V$29","v":0},0,{"$f":"'3.WEF Status-Base'!$W$29","v":0},null,{"$f":"'3.WEF Status-Base'!$Y$29","v":0},0,{"$f":"'3.WEF Status-Base'!$Z$29","v":0},null,{"$f":"'3.WEF Status-Base'!$AB$29","v":0},0,{"$f":"'3.WEF Status-Base'!$AC$29","v":0},null,{"$f":"'3.WEF Status-Base'!$AE$29","v":0},0,{"$f":"'3.WEF Status-Base'!$AF$29","v":0},null,{"$f":"'3.WEF Status-Base'!$AH$29","v":0},0,{"$f":"'3.WEF Status-Base'!$AI$29","v":0},null,{"$f":"'3.WEF Status-Base'!$AK$29","v":0},0,{"$f":"'3.WEF Status-Base'!$AL$29","v":0},null,{"$f":"'3.WEF Status-Base'!$AN$29","v":0},0,{"$f":"'3.WEF Status-Base'!$AO$29","v":0},null,{"$f":"'3.WEF Status-Base'!$AQ$29","v":0},0,{"$f":"'3.WEF Status-Base'!$AR$29","v":0},null,{"$f":"'3.WEF Status-Base'!$AT$29","v":0},0,{"$f":"'3.WEF Status-Base'!$AU$29","v":0},null,{"$f":"'3.WEF Status-Base'!$AW$29","v":0},0,{"$f":"'3.WEF Status-Base'!$AX$29","v":0},null,{"$f":"'3.WEF Status-Base'!$AZ$29","v":0},0,{"$f":"'3.WEF Status-Base'!$BA$29","v":0},null,{"$f":"'3.WEF Status-Base'!$BC$29","v":0},0,{"$f":"'3.WEF Status-Base'!$BD$29","v":0},{"$f":"'3.WEF Status-Base'!$BE$29","v":0}]
[null,"     Pollination",null,0,null,21,{"$f":"'3.WEF Status-Base'!$D$30","v":0},0,{"$f":"'3.WEF Status-Base'!$E$30","v":0},null,{"$f":"'3.WEF Status-Base'!$G$30","v":0},0,{"$f":"'3.WEF Status-Base'!$H$30","v":0},null,{"$f":"'3.WEF Status-Base'!$J$30","v":0},0,{"$f":"'3.WEF Status-Base'!$K$30","v":0},null,{"$f":"'3.WEF Status-Base'!$M$30","v":0},0,{"$f":"'3.WEF Status-Base'!$N$30","v":0},null,{"$f":"'3.WEF Status-Base'!$P$30","v":0},0,{"$f":"'3.WEF Status-Base'!$Q$30","v":0},null,{"$f":"'3.WEF Status-Base'!$S$30","v":0},0,{"$f":"'3.WEF Status-Base'!$T$30","v":0},null,{"$f":"'3.WEF Status-Base'!$V$30","v":0},0,{"$f":"'3.WEF Status-Base'!$W$30","v":0},null,{"$f":"'3.WEF Status-Base'!$Y$30","v":0},0,{"$f":"'3.WEF Status-Base'!$Z$30","v":0},null,{"$f":"'3.WEF Status-Base'!$AB$30","v":0},0,{"$f":"'3.WEF Status-Base'!$AC$30","v":0},null,{"$f":"'3.WEF Status-Base'!$AE$30","v":0},0,{"$f":"'3.WEF Status-Base'!$AF$30","v":0},null,{"$f":"'3.WEF Status-Base'!$AH$30","v":0},0,{"$f":"'3.WEF Status-Base'!$AI$30","v":0},null,{"$f":"'3.WEF Status-Base'!$AK$30","v":0},0,{"$f":"'3.WEF Status-Base'!$AL$30","v":0},null,{"$f":"'3.WEF Status-Base'!$AN$30","v":0},0,{"$f":"'3.WEF Status-Base'!$AO$30","v":0},null,{"$f":"'3.WEF Status-Base'!$AQ$30","v":0},0,{"$f":"'3.WEF Status-Base'!$AR$30","v":0},null,{"$f":"'3.WEF Status-Base'!$AT$30","v":0},0,{"$f":"'3.WEF Status-Base'!$AU$30","v":0},null,{"$f":"'3.WEF Status-Base'!$AW$30","v":0},0,{"$f":"'3.WEF Status-Base'!$AX$30","v":0},null,{"$f":"'3.WEF Status-Base'!$AZ$30","v":0},0,{"$f":"'3.WEF Status-Base'!$BA$30","v":0},null,{"$f":"'3.WEF Status-Base'!$BC$30","v":0},0,{"$f":"'3.WEF Status-Base'!$BD$30","v":0},{"$f":"'3.WEF Status-Base'!$BE$30","v":0},null,21,{"$f":"'3.WEF Status-Base'!$D$30","v":0},0,{"$f":"'3.WEF Status-Base'!$E$30","v":0},null,{"$f":"'3.WEF Status-Base'!$G$30","v":0},0,{"$f":"'3.WEF Status-Base'!$H$30","v":0},null,{"$f":"'3.WEF Status-Base'!$J$30","v":0},0,{"$f":"'3.WEF Status-Base'!$K$30","v":0},null,{"$f":"'3.WEF Status-Base'!$M$30","v":0},0,{"$f":"'3.WEF Status-Base'!$N$30","v":0},null,{"$f":"'3.WEF Status-Base'!$P$30","v":0},0,{"$f":"'3.WEF Status-Base'!$Q$30","v":0},null,{"$f":"'3.WEF Status-Base'!$S$30","v":0},0,{"$f":"'3.WEF Status-Base'!$T$30","v":0},null,{"$f":"'3.WEF Status-Base'!$V$30","v":0},0,{"$f":"'3.WEF Status-Base'!$W$30","v":0},null,{"$f":"'3.WEF Status-Base'!$Y$30","v":0},0,{"$f":"'3.WEF Status-Base'!$Z$30","v":0},null,{"$f":"'3.WEF Status-Base'!$AB$30","v":0},0,{"$f":"'3.WEF Status-Base'!$AC$30","v":0},null,{"$f":"'3.WEF Status-Base'!$AE$30","v":0},0,{"$f":"'3.WEF Status-Base'!$AF$30","v":0},null,{"$f":"'3.WEF Status-Base'!$AH$30","v":0},0,{"$f":"'3.WEF Status-Base'!$AI$30","v":0},null,{"$f":"'3.WEF Status-Base'!$AK$30","v":0},0,{"$f":"'3.WEF Status-Base'!$AL$30","v":0},null,{"$f":"'3.WEF Status-Base'!$AN$30","v":0},0,{"$f":"'3.WEF Status-Base'!$AO$30","v":0},null,{"$f":"'3.WEF Status-Base'!$AQ$30","v":0},0,{"$f":"'3.WEF Status-Base'!$AR$30","v":0},null,{"$f":"'3.WEF Status-Base'!$AT$30","v":0},0,{"$f":"'3.WEF Status-Base'!$AU$30","v":0},null,{"$f":"'3.WEF Status-Base'!$AW$30","v":0},0,{"$f":"'3.WEF Status-Base'!$AX$30","v":0},null,{"$f":"'3.WEF Status-Base'!$AZ$30","v":0},0,{"$f":"'3.WEF Status-Base'!$BA$30","v":0},null,{"$f":"'3.WEF Status-Base'!$BC$30","v":0},0,{"$f":"'3.WEF Status-Base'!$BD$30","v":0},{"$f":"'3.WEF Status-Base'!$BE$30","v":0}]
[null,"     Storm protection",null,0,null,22,{"$f":"'3.WEF Status-Base'!$D$31","v":0},0,{"$f":"'3.WEF Status-Base'!$E$31","v":0},null,{"$f":"'3.WEF Status-Base'!$G$31","v":0},0,{"$f":"'3.WEF Status-Base'!$H$31","v":0},null,{"$f":"'3.WEF Status-Base'!$J$31","v":0},0,{"$f":"'3.WEF Status-Base'!$K$31","v":0},null,{"$f":"'3.WEF Status-Base'!$M$31","v":0},0,{"$f":"'3.WEF Status-Base'!$N$31","v":0},null,{"$f":"'3.WEF Status-Base'!$P$31","v":0},0,{"$f":"'3.WEF Status-Base'!$Q$31","v":0},null,{"$f":"'3.WEF Status-Base'!$S$31","v":0},0,{"$f":"'3.WEF Status-Base'!$T$31","v":0},null,{"$f":"'3.WEF Status-Base'!$V$31","v":0},0,{"$f":"'3.WEF Status-Base'!$W$31","v":0},null,{"$f":"'3.WEF Status-Base'!$Y$31","v":0},0,{"$f":"'3.WEF Status-Base'!$Z$31","v":0},null,{"$f":"'3.WEF Status-Base'!$AB$31","v":0},0,{"$f":"'3.WEF Status-Base'!$AC$31","v":0},null,{"$f":"'3.WEF Status-Base'!$AE$31","v":0},0,{"$f":"'3.WEF Status-Base'!$AF$31","v":0},null,{"$f":"'3.WEF Status-Base'!$AH$31","v":0},0,{"$f":"'3.WEF Status-Base'!$AI$31","v":0},null,{"$f":"'3.WEF Status-Base'!$AK$31","v":0},0,{"$f":"'3.WEF Status-Base'!$AL$31","v":0},null,{"$f":"'3.WEF Status-Base'!$AN$31","v":0},0,{"$f":"'3.WEF Status-Base'!$AO$31","v":0},null,{"$f":"'3.WEF Status-Base'!$AQ$31","v":0},0,{"$f":"'3.WEF Status-Base'!$AR$31","v":0},null,{"$f":"'3.WEF Status-Base'!$AT$31","v":0},0,{"$f":"'3.WEF Status-Base'!$AU$31","v":0},null,{"$f":"'3.WEF Status-Base'!$AW$31","v":0},0,{"$f":"'3.WEF Status-Base'!$AX$31","v":0},null,{"$f":"'3.WEF Status-Base'!$AZ$31","v":0},0,{"$f":"'3.WEF Status-Base'!$BA$31","v":0},null,{"$f":"'3.WEF Status-Base'!$BC$31","v":0},0,{"$f":"'3.WEF Status-Base'!$BD$31","v":0},{"$f":"'3.WEF Status-Base'!$BE$31","v":0},null,22,{"$f":"'3.WEF Status-Base'!$D$31","v":0},0,{"$f":"'3.WEF Status-Base'!$E$31","v":0},null,{"$f":"'3.WEF Status-Base'!$G$31","v":0},0,{"$f":"'3.WEF Status-Base'!$H$31","v":0},null,{"$f":"'3.WEF Status-Base'!$J$31","v":0},0,{"$f":"'3.WEF Status-Base'!$K$31","v":0},null,{"$f":"'3.WEF Status-Base'!$M$31","v":0},0,{"$f":"'3.WEF Status-Base'!$N$31","v":0},null,{"$f":"'3.WEF Status-Base'!$P$31","v":0},0,{"$f":"'3.WEF Status-Base'!$Q$31","v":0},null,{"$f":"'3.WEF Status-Base'!$S$31","v":0},0,{"$f":"'3.WEF Status-Base'!$T$31","v":0},null,{"$f":"'3.WEF Status-Base'!$V$31","v":0},0,{"$f":"'3.WEF Status-Base'!$W$31","v":0},null,{"$f":"'3.WEF Status-Base'!$Y$31","v":0},0,{"$f":"'3.WEF Status-Base'!$Z$31","v":0},null,{"$f":"'3.WEF Status-Base'!$AB$31","v":0},0,{"$f":"'3.WEF Status-Base'!$AC$31","v":0},null,{"$f":"'3.WEF Status-Base'!$AE$31","v":0},0,{"$f":"'3.WEF Status-Base'!$AF$31","v":0},null,{"$f":"'3.WEF Status-Base'!$AH$31","v":0},0,{"$f":"'3.WEF Status-Base'!$AI$31","v":0},null,{"$f":"'3.WEF Status-Base'!$AK$31","v":0},0,{"$f":"'3.WEF Status-Base'!$AL$31","v":0},null,{"$f":"'3.WEF Status-Base'!$AN$31","v":0},0,{"$f":"'3.WEF Status-Base'!$AO$31","v":0},null,{"$f":"'3.WEF Status-Base'!$AQ$31","v":0},0,{"$f":"'3.WEF Status-Base'!$AR$31","v":0},null,{"$f":"'3.WEF Status-Base'!$AT$31","v":0},0,{"$f":"'3.WEF Status-Base'!$AU$31","v":0},null,{"$f":"'3.WEF Status-Base'!$AW$31","v":0},0,{"$f":"'3.WEF Status-Base'!$AX$31","v":0},null,{"$f":"'3.WEF Status-Base'!$AZ$31","v":0},0,{"$f":"'3.WEF Status-Base'!$BA$31","v":0},null,{"$f":"'3.WEF Status-Base'!$BC$31","v":0},0,{"$f":"'3.WEF Status-Base'!$BD$31","v":0},{"$f":"'3.WEF Status-Base'!$BE$31","v":0}]
[null,"Supporting Institutions and Policies",null,null,null,23,null,null,null,null,null,null,null,null,null,null,null,null,null,null,null,null,null,null,null,null,null,null,null,null,null,null,null,null,null,null,null,null,null,null,null,null,null,null,null,null,null,null,null,null,null,null,null,null,null,null,null,null,null,null,null,null,null,null,null,null,null,null,null,null,null,null,null,null,null,null,null,null,null,23]
[null,"Institutions",null,{"$f":"MAX(H166:BZ166)","v":0},null,24,{"$f":"'3.WEF Status-Base'!$D$33","v":0},0,{"$f":"'3.WEF Status-Base'!$E$33","v":0},null,{"$f":"'3.WEF Status-Base'!$G$33","v":0},0,{"$f":"'3.WEF Status-Base'!$H$33","v":0},null,{"$f":"'3.WEF Status-Base'!$J$33","v":0},0,{"$f":"'3.WEF Status-Base'!$K$33","v":0},null,{"$f":"'3.WEF Status-Base'!$M$33","v":0},0,{"$f":"'3.WEF Status-Base'!$N$33","v":0},null,{"$f":"'3.WEF Status-Base'!$P$33","v":0},0,{"$f":"'3.WEF Status-Base'!$Q$33","v":0},null,{"$f":"'3.WEF Status-Base'!$S$33","v":0},0,{"$f":"'3.WEF Status-Base'!$T$33","v":0},null,{"$f":"'3.WEF Status-Base'!$V$33","v":0},0,{"$f":"'3.WEF Status-Base'!$W$33","v":0},null,{"$f":"'3.WEF Status-Base'!$Y$33","v":0},0,{"$f":"'3.WEF Status-Base'!$Z$33","v":0},null,{"$f":"'3.WEF Status-Base'!$AB$33","v":0},0,{"$f":"'3.WEF Status-Base'!$AC$33","v":0},null,{"$f":"'3.WEF Status-Base'!$AE$33","v":0},0,{"$f":"'3.WEF Status-Base'!$AF$33","v":0},null,{"$f":"'3.WEF Status-Base'!$AH$33","v":0},0,{"$f":"'3.WEF Status-Base'!$AI$33","v":0},null,{"$f":"'3.WEF Status-Base'!$AK$33","v":0},0,{"$f":"'3.WEF Status-Base'!$AL$33","v":0},null,{"$f":"'3.WEF Status-Base'!$AN$33","v":0},0,{"$f":"'3.WEF Status-Base'!$AO$33","v":0},null,{"$f":"'3.WEF Status-Base'!$AQ$33","v":0},0,{"$f":"'3.WEF Status-Base'!$AR$33","v":0},null,{"$f":"'3.WEF Status-Base'!$AT$33","v":0},0,{"$f":"'3.WEF Status-Base'!$AU$33","v":0},null,{"$f":"'3.WEF Status-Base'!$AW$33","v":0},0,{"$f":"'3.WEF Status-Base'!$AX$33","v":0},null,{"$f":"'3.WEF Status-Base'!$AZ$33","v":0},0,{"$f":"'3.WEF Status-Base'!$BA$33","v":0},null,{"$f":"'3.WEF Status-Base'!$BC$33","v":0},0,{"$f":"'3.WEF Status-Base'!$BD$33","v":0},{"$f":"'3.WEF Status-Base'!$BE$33","v":0},null,24,{"$f":"'3.WEF Status-Base'!$D$33","v":0},0,{"$f":"'3.WEF Status-Base'!$E$33","v":0},null,{"$f":"'3.WEF Status-Base'!$G$33","v":0},0,{"$f":"'3.WEF Status-Base'!$H$33","v":0},null,{"$f":"'3.WEF Status-Base'!$J$33","v":0},0,{"$f":"'3.WEF Status-Base'!$K$33","v":0},null,{"$f":"'3.WEF Status-Base'!$M$33","v":0},0,{"$f":"'3.WEF Status-Base'!$N$33","v":0},null,{"$f":"'3.WEF Status-Base'!$P$33","v":0},0,{"$f":"'3.WEF Status-Base'!$Q$33","v":0},null,{"$f":"'3.WEF Status-Base'!$S$33","v":0},0,{"$f":"'3.WEF Status-Base'!$T$33","v":0},null,{"$f":"'3.WEF Status-Base'!$V$33","v":0},0,{"$f":"'3.WEF Status-Base'!$W$33","v":0},null,{"$f":"'3.WEF Status-Base'!$Y$33","v":0},0,{"$f":"'3.WEF Status-Base'!$Z$33","v":0},null,{"$f":"'3.WEF Status-Base'!$AB$33","v":0},0,{"$f":"'3.WEF Status-Base'!$AC$33","v":0},null,{"$f":"'3.WEF Status-Base'!$AE$33","v":0},0,{"$f":"'3.WEF Status-Base'!$AF$33","v":0},null,{"$f":"'3.WEF Status-Base'!$AH$33","v":0},0,{"$f":"'3.WEF Status-Base'!$AI$33","v":0},null,{"$f":"'3.WEF Status-Base'!$AK$33","v":0},0,{"$f":"'3.WEF Status-Base'!$AL$33","v":0},null,{"$f":"'3.WEF Status-Base'!$AN$33","v":0},0,{"$f":"'3.WEF Status-Base'!$AO$33","v":0},null,{"$f":"'3.WEF Status-Base'!$AQ$33","v":0},0,{"$f":"'3.WEF Status-Base'!$AR$33","v":0},null,{"$f":"'3.WEF Status-Base'!$AT$33","v":0},0,{"$f":"'3.WEF Status-Base'!$AU$33","v":0},null,{"$f":"'3.WEF Status-Base'!$AW$33","v":0},0,{"$f":"'3.WEF Status-Base'!$AX$33","v":0},null,{"$f":"'3.WEF Status-Base'!$AZ$33","v":0},0,{"$f":"'3.WEF Status-Base'!$BA$33","v":0},null,{"$f":"'3.WEF Status-Base'!$BC$33","v":0},0,{"$f":"'3.WEF Status-Base'!$BD$33","v":0},{"$f":"'3.WEF Status-Base'!$BE$33","v":0}]
[null,"     Utility boards",null,0,null,25,{"$f":"'3.WEF Status-Base'!$D$34","v":0},0,{"$f":"'3.WEF Status-Base'!$E$34","v":0},null,{"$f":"'3.WEF Status-Base'!$G$34","v":0},0,{"$f":"'3.WEF Status-Base'!$H$34","v":0},null,{"$f":"'3.WEF Status-Base'!$J$34","v":0},0,{"$f":"'3.WEF Status-Base'!$K$34","v":0},null,{"$f":"'3.WEF Status-Base'!$M$34","v":0},0,{"$f":"'3.WEF Status-Base'!$N$34","v":0},null,{"$f":"'3.WEF Status-Base'!$P$34","v":0},0,{"$f":"'3.WEF Status-Base'!$Q$34","v":0},null,{"$f":"'3.WEF Status-Base'!$S$34","v":0},0,{"$f":"'3.WEF Status-Base'!$T$34","v":0},null,{"$f":"'3.WEF Status-Base'!$V$34","v":0},0,{"$f":"'3.WEF Status-Base'!$W$34","v":0},null,{"$f":"'3.WEF Status-Base'!$Y$34","v":0},0,{"$f":"'3.WEF Status-Base'!$Z$34","v":0},null,{"$f":"'3.WEF Status-Base'!$AB$34","v":0},0,{"$f":"'3.WEF Status-Base'!$AC$34","v":0},null,{"$f":"'3.WEF Status-Base'!$AE$34","v":0},0,{"$f":"'3.WEF Status-Base'!$AF$34","v":0},null,{"$f":"'3.WEF Status-Base'!$AH$34","v":0},0,{"$f":"'3.WEF Status-Base'!$AI$34","v":0},null,{"$f":"'3.WEF Status-Base'!$AK$34","v":0},0,{"$f":"'3.WEF Status-Base'!$AL$34","v":0},null,{"$f":"'3.WEF Status-Base'!$AN$34","v":0},0,{"$f":"'3.WEF Status-Base'!$AO$34","v":0},null,{"$f":"'3.WEF Status-Base'!$AQ$34","v":0},0,{"$f":"'3.WEF Status-Base'!$AR$34","v":0},null,{"$f":"'3.WEF Status-Base'!$AT$34","v":0},0,{"$f":"'3.WEF Status-Base'!$AU$34","v":0},null,{"$f":"'3.WEF Status-Base'!$AW$34","v":0},0,{"$f":"'3.WEF Status-Base'!$AX$34","v":0},null,{"$f":"'3.WEF Status-Base'!$AZ$34","v":0},0,{"$f":"'3.WEF Status-Base'!$BA$34","v":0},null,{"$f":"'3.WEF Status-Base'!$BC$34","v":0},0,{"$f":"'3.WEF Status-Base'!$BD$34","v":0},{"$f":"'3.WEF Status-Base'!$BE$34","v":0},null,25,{"$f":"'3.WEF Status-Base'!$D$34","v":0},0,{"$f":"'3.WEF Status-Base'!$E$34","v":0},null,{"$f":"'3.WEF Status-Base'!$G$34","v":0},0,{"$f":"'3.WEF Status-Base'!$H$34","v":0},null,{"$f":"'3.WEF Status-Base'!$J$34","v":0},0,{"$f":"'3.WEF Status-Base'!$K$34","v":0},null,{"$f":"'3.WEF Status-Base'!$M$34","v":0},0,{"$f":"'3.WEF Status-Base'!$N$34","v":0},null,{"$f":"'3.WEF Status-Base'!$P$34","v":0},0,{"$f":"'3.WEF Status-Base'!$Q$34","v":0},null,{"$f":"'3.WEF Status-Base'!$S$34","v":0},0,{"$f":"'3.WEF Status-Base'!$T$34","v":0},null,{"$f":"'3.WEF Status-Base'!$V$34","v":0},0,{"$f":"'3.WEF Status-Base'!$W$34","v":0},null,{"$f":"'3.WEF Status-Base'!$Y$34","v":0},0,{"$f":"'3.WEF Status-Base'!$Z$34","v":0},null,{"$f":"'3.WEF Status-Base'!$AB$34","v":0},0,{"$f":"'3.WEF Status-Base'!$AC$34","v":0},null,{"$f":"'3.WEF Status-Base'!$AE$34","v":0},0,{"$f":"'3.WEF Status-Base'!$AF$34","v":0},null,{"$f":"'3.WEF Status-Base'!$AH$34","v":0},0,{"$f":"'3.WEF Status-Base'!$AI$34","v":0},null,{"$f":"'3.WEF Status-Base'!$AK$34","v":0},0,{"$f":"'3.WEF Status-Base'!$AL$34","v":0},null,{"$f":"'3.WEF Status-Base'!$AN$34","v":0},0,{"$f":"'3.WEF Status-Base'!$AO$34","v":0},null,{"$f":"'3.WEF Status-Base'!$AQ$34","v":0},0,{"$f":"'3.WEF Status-Base'!$AR$34","v":0},null,{"$f":"'3.WEF Status-Base'!$AT$34","v":0},0,{"$f":"'3.WEF Status-Base'!$AU$34","v":0},null,{"$f":"'3.WEF Status-Base'!$AW$34","v":0},0,{"$f":"'3.WEF Status-Base'!$AX$34","v":0},null,{"$f":"'3.WEF Status-Base'!$AZ$34","v":0},0,{"$f":"'3.WEF Status-Base'!$BA$34","v":0},null,{"$f":"'3.WEF Status-Base'!$BC$34","v":0},0,{"$f":"'3.WEF Status-Base'!$BD$34","v":0},{"$f":"'3.WEF Status-Base'!$BE$34","v":0}]
[null,"     Resource Coops",null,0,null,26,{"$f":"'3.WEF Status-Base'!$D$35","v":0},0,{"$f":"'3.WEF Status-Base'!$E$35","v":0},null,{"$f":"'3.WEF Status-Base'!$G$35","v":0},0,{"$f":"'3.WEF Status-Base'!$H$35","v":0},null,{"$f":"'3.WEF Status-Base'!$J$35","v":0},0,{"$f":"'3.WEF Status-Base'!$K$35","v":0},null,{"$f":"'3.WEF Status-Base'!$M$35","v":0},0,{"$f":"'3.WEF Status-Base'!$N$35","v":0},null,{"$f":"'3.WEF Status-Base'!$P$35","v":0},0,{"$f":"'3.WEF Status-Base'!$Q$35","v":0},null,{"$f":"'3.WEF Status-Base'!$S$35","v":0},0,{"$f":"'3.WEF Status-Base'!$T$35","v":0},null,{"$f":"'3.WEF Status-Base'!$V$35","v":0},0,{"$f":"'3.WEF Status-Base'!$W$35","v":0},null,{"$f":"'3.WEF Status-Base'!$Y$35","v":0},0,{"$f":"'3.WEF Status-Base'!$Z$35","v":0},null,{"$f":"'3.WEF Status-Base'!$AB$35","v":0},0,{"$f":"'3.WEF Status-Base'!$AC$35","v":0},null,{"$f":"'3.WEF Status-Base'!$AE$35","v":0},0,{"$f":"'3.WEF Status-Base'!$AF$35","v":0},null,{"$f":"'3.WEF Status-Base'!$AH$35","v":0},0,{"$f":"'3.WEF Status-Base'!$AI$35","v":0},null,{"$f":"'3.WEF Status-Base'!$AK$35","v":0},0,{"$f":"'3.WEF Status-Base'!$AL$35","v":0},null,{"$f":"'3.WEF Status-Base'!$AN$35","v":0},0,{"$f":"'3.WEF Status-Base'!$AO$35","v":0},null,{"$f":"'3.WEF Status-Base'!$AQ$35","v":0},0,{"$f":"'3.WEF Status-Base'!$AR$35","v":0},null,{"$f":"'3.WEF Status-Base'!$AT$35","v":0},0,{"$f":"'3.WEF Status-Base'!$AU$35","v":0},null,{"$f":"'3.WEF Status-Base'!$AW$35","v":0},0,{"$f":"'3.WEF Status-Base'!$AX$35","v":0},null,{"$f":"'3.WEF Status-Base'!$AZ$35","v":0},0,{"$f":"'3.WEF Status-Base'!$BA$35","v":0},null,{"$f":"'3.WEF Status-Base'!$BC$35","v":0},0,{"$f":"'3.WEF Status-Base'!$BD$35","v":0},{"$f":"'3.WEF Status-Base'!$BE$35","v":0},null,26,{"$f":"'3.WEF Status-Base'!$D$35","v":0},0,{"$f":"'3.WEF Status-Base'!$E$35","v":0},null,{"$f":"'3.WEF Status-Base'!$G$35","v":0},0,{"$f":"'3.WEF Status-Base'!$H$35","v":0},null,{"$f":"'3.WEF Status-Base'!$J$35","v":0},0,{"$f":"'3.WEF Status-Base'!$K$35","v":0},null,{"$f":"'3.WEF Status-Base'!$M$35","v":0},0,{"$f":"'3.WEF Status-Base'!$N$35","v":0},null,{"$f":"'3.WEF Status-Base'!$P$35","v":0},0,{"$f":"'3.WEF Status-Base'!$Q$35","v":0},null,{"$f":"'3.WEF Status-Base'!$S$35","v":0},0,{"$f":"'3.WEF Status-Base'!$T$35","v":0},null,{"$f":"'3.WEF Status-Base'!$V$35","v":0},0,{"$f":"'3.WEF Status-Base'!$W$35","v":0},null,{"$f":"'3.WEF Status-Base'!$Y$35","v":0},0,{"$f":"'3.WEF Status-Base'!$Z$35","v":0},null,{"$f":"'3.WEF Status-Base'!$AB$35","v":0},0,{"$f":"'3.WEF Status-Base'!$AC$35","v":0},null,{"$f":"'3.WEF Status-Base'!$AE$35","v":0},0,{"$f":"'3.WEF Status-Base'!$AF$35","v":0},null,{"$f":"'3.WEF Status-Base'!$AH$35","v":0},0,{"$f":"'3.WEF Status-Base'!$AI$35","v":0},null,{"$f":"'3.WEF Status-Base'!$AK$35","v":0},0,{"$f":"'3.WEF Status-Base'!$AL$35","v":0},null,{"$f":"'3.WEF Status-Base'!$AN$35","v":0},0,{"$f":"'3.WEF Status-Base'!$AO$35","v":0},null,{"$f":"'3.WEF Status-Base'!$AQ$35","v":0},0,{"$f":"'3.WEF Status-Base'!$AR$35","v":0},null,{"$f":"'3.WEF Status-Base'!$AT$35","v":0},0,{"$f":"'3.WEF Status-Base'!$AU$35","v":0},null,{"$f":"'3.WEF Status-Base'!$AW$35","v":0},0,{"$f":"'3.WEF Status-Base'!$AX$35","v":0},null,{"$f":"'3.WEF Status-Base'!$AZ$35","v":0},0,{"$f":"'3.WEF Status-Base'!$BA$35","v":0},null,{"$f":"'3.WEF Status-Base'!$BC$35","v":0},0,{"$f":"'3.WEF Status-Base'!$BD$35","v":0},{"$f":"'3.WEF Status-Base'!$BE$35","v":0}]
[null,"     Safety oversight agencies",null,0,null,27,{"$f":"'3.WEF Status-Base'!$D$36","v":0},0,{"$f":"'3.WEF Status-Base'!$E$36","v":0},null,{"$f":"'3.WEF Status-Base'!$G$36","v":0},0,{"$f":"'3.WEF Status-Base'!$H$36","v":0},null,{"$f":"'3.WEF Status-Base'!$J$36","v":0},0,{"$f":"'3.WEF Status-Base'!$K$36","v":0},null,{"$f":"'3.WEF Status-Base'!$M$36","v":0},0,{"$f":"'3.WEF Status-Base'!$N$36","v":0},null,{"$f":"'3.WEF Status-Base'!$P$36","v":0},0,{"$f":"'3.WEF Status-Base'!$Q$36","v":0},null,{"$f":"'3.WEF Status-Base'!$S$36","v":0},0,{"$f":"'3.WEF Status-Base'!$T$36","v":0},null,{"$f":"'3.WEF Status-Base'!$V$36","v":0},0,{"$f":"'3.WEF Status-Base'!$W$36","v":0},null,{"$f":"'3.WEF Status-Base'!$Y$36","v":0},0,{"$f":"'3.WEF Status-Base'!$Z$36","v":0},null,{"$f":"'3.WEF Status-Base'!$AB$36","v":0},0,{"$f":"'3.WEF Status-Base'!$AC$36","v":0},null,{"$f":"'3.WEF Status-Base'!$AE$36","v":0},0,{"$f":"'3.WEF Status-Base'!$AF$36","v":0},null,{"$f":"'3.WEF Status-Base'!$AH$36","v":0},0,{"$f":"'3.WEF Status-Base'!$AI$36","v":0},null,{"$f":"'3.WEF Status-Base'!$AK$36","v":0},0,{"$f":"'3.WEF Status-Base'!$AL$36","v":0},null,{"$f":"'3.WEF Status-Base'!$AN$36","v":0},0,{"$f":"'3.WEF Status-Base'!$AO$36","v":0},null,{"$f":"'3.WEF Status-Base'!$AQ$36","v":0},0,{"$f":"'3.WEF Status-Base'!$AR$36","v":0},null,{"$f":"'3.WEF Status-Base'!$AT$36","v":0},0,{"$f":"'3.WEF Status-Base'!$AU$36","v":0},null,{"$f":"'3.WEF Status-Base'!$AW$36","v":0},0,{"$f":"'3.WEF Status-Base'!$AX$36","v":0},null,{"$f":"'3.WEF Status-Base'!$AZ$36","v":0},0,{"$f":"'3.WEF Status-Base'!$BA$36","v":0},null,{"$f":"'3.WEF Status-Base'!$BC$36","v":0},0,{"$f":"'3.WEF Status-Base'!$BD$36","v":0},{"$f":"'3.WEF Status-Base'!$BE$36","v":0},null,27,{"$f":"'3.WEF Status-Base'!$D$36","v":0},0,{"$f":"'3.WEF Status-Base'!$E$36","v":0},null,{"$f":"'3.WEF Status-Base'!$G$36","v":0},0,{"$f":"'3.WEF Status-Base'!$H$36","v":0},null,{"$f":"'3.WEF Status-Base'!$J$36","v":0},0,{"$f":"'3.WEF Status-Base'!$K$36","v":0},null,{"$f":"'3.WEF Status-Base'!$M$36","v":0},0,{"$f":"'3.WEF Status-Base'!$N$36","v":0},null,{"$f":"'3.WEF Status-Base'!$P$36","v":0},0,{"$f":"'3.WEF Status-Base'!$Q$36","v":0},null,{"$f":"'3.WEF Status-Base'!$S$36","v":0},0,{"$f":"'3.WEF Status-Base'!$T$36","v":0},null,{"$f":"'3.WEF Status-Base'!$V$36","v":0},0,{"$f":"'3.WEF Status-Base'!$W$36","v":0},null,{"$f":"'3.WEF Status-Base'!$Y$36","v":0},0,{"$f":"'3.WEF Status-Base'!$Z$36","v":0},null,{"$f":"'3.WEF Status-Base'!$AB$36","v":0},0,{"$f":"'3.WEF Status-Base'!$AC$36","v":0},null,{"$f":"'3.WEF Status-Base'!$AE$36","v":0},0,{"$f":"'3.WEF Status-Base'!$AF$36","v":0},null,{"$f":"'3.WEF Status-Base'!$AH$36","v":0},0,{"$f":"'3.WEF Status-Base'!$AI$36","v":0},null,{"$f":"'3.WEF Status-Base'!$AK$36","v":0},0,{"$f":"'3.WEF Status-Base'!$AL$36","v":0},null,{"$f":"'3.WEF Status-Base'!$AN$36","v":0},0,{"$f":"'3.WEF Status-Base'!$AO$36","v":0},null,{"$f":"'3.WEF Status-Base'!$AQ$36","v":0},0,{"$f":"'3.WEF Status-Base'!$AR$36","v":0},null,{"$f":"'3.WEF Status-Base'!$AT$36","v":0},0,{"$f":"'3.WEF Status-Base'!$AU$36","v":0},null,{"$f":"'3.WEF Status-Base'!$AW$36","v":0},0,{"$f":"'3.WEF Status-Base'!$AX$36","v":0},null,{"$f":"'3.WEF Status-Base'!$AZ$36","v":0},0,{"$f":"'3.WEF Status-Base'!$BA$36","v":0},null,{"$f":"'3.WEF Status-Base'!$BC$36","v":0},0,{"$f":"'3.WEF Status-Base'!$BD$36","v":0},{"$f":"'3.WEF Status-Base'!$BE$36","v":0}]
[null,"     Education and training",null,0,null,28,{"$f":"'3.WEF Status-Base'!$D$37","v":0},0,{"$f":"'3.WEF Status-Base'!$E$37","v":0},null,{"$f":"'3.WEF Status-Base'!$G$37","v":0},0,{"$f":"'3.WEF Status-Base'!$H$37","v":0},null,{"$f":"'3.WEF Status-Base'!$J$37","v":0},0,{"$f":"'3.WEF Status-Base'!$K$37","v":0},null,{"$f":"'3.WEF Status-Base'!$M$37","v":0},0,{"$f":"'3.WEF Status-Base'!$N$37","v":0},null,{"$f":"'3.WEF Status-Base'!$P$37","v":0},0,{"$f":"'3.WEF Status-Base'!$Q$37","v":0},null,{"$f":"'3.WEF Status-Base'!$S$37","v":0},0,{"$f":"'3.WEF Status-Base'!$T$37","v":0},null,{"$f":"'3.WEF Status-Base'!$V$37","v":0},0,{"$f":"'3.WEF Status-Base'!$W$37","v":0},null,{"$f":"'3.WEF Status-Base'!$Y$37","v":0},0,{"$f":"'3.WEF Status-Base'!$Z$37","v":0},null,{"$f":"'3.WEF Status-Base'!$AB$37","v":0},0,{"$f":"'3.WEF Status-Base'!$AC$37","v":0},null,{"$f":"'3.WEF Status-Base'!$AE$37","v":0},0,{"$f":"'3.WEF Status-Base'!$AF$37","v":0},null,{"$f":"'3.WEF Status-Base'!$AH$37","v":0},0,{"$f":"'3.WEF Status-Base'!$AI$37","v":0},null,{"$f":"'3.WEF Status-Base'!$AK$37","v":0},0,{"$f":"'3.WEF Status-Base'!$AL$37","v":0},null,{"$f":"'3.WEF Status-Base'!$AN$37","v":0},0,{"$f":"'3.WEF Status-Base'!$AO$37","v":0},null,{"$f":"'3.WEF Status-Base'!$AQ$37","v":0},0,{"$f":"'3.WEF Status-Base'!$AR$37","v":0},null,{"$f":"'3.WEF Status-Base'!$AT$37","v":0},0,{"$f":"'3.WEF Status-Base'!$AU$37","v":0},null,{"$f":"'3.WEF Status-Base'!$AW$37","v":0},0,{"$f":"'3.WEF Status-Base'!$AX$37","v":0},null,{"$f":"'3.WEF Status-Base'!$AZ$37","v":0},0,{"$f":"'3.WEF Status-Base'!$BA$37","v":0},null,{"$f":"'3.WEF Status-Base'!$BC$37","v":0},0,{"$f":"'3.WEF Status-Base'!$BD$37","v":0},{"$f":"'3.WEF Status-Base'!$BE$37","v":0},null,28,{"$f":"'3.WEF Status-Base'!$D$37","v":0},0,{"$f":"'3.WEF Status-Base'!$E$37","v":0},null,{"$f":"'3.WEF Status-Base'!$G$37","v":0},0,{"$f":"'3.WEF Status-Base'!$H$37","v":0},null,{"$f":"'3.WEF Status-Base'!$J$37","v":0},0,{"$f":"'3.WEF Status-Base'!$K$37","v":0},null,{"$f":"'3.WEF Status-Base'!$M$37","v":0},0,{"$f":"'3.WEF Status-Base'!$N$37","v":0},null,{"$f":"'3.WEF Status-Base'!$P$37","v":0},0,{"$f":"'3.WEF Status-Base'!$Q$37","v":0},null,{"$f":"'3.WEF Status-Base'!$S$37","v":0},0,{"$f":"'3.WEF Status-Base'!$T$37","v":0},null,{"$f":"'3.WEF Status-Base'!$V$37","v":0},0,{"$f":"'3.WEF Status-Base'!$W$37","v":0},null,{"$f":"'3.WEF Status-Base'!$Y$37","v":0},0,{"$f":"'3.WEF Status-Base'!$Z$37","v":0},null,{"$f":"'3.WEF Status-Base'!$AB$37","v":0},0,{"$f":"'3.WEF Status-Base'!$AC$37","v":0},null,{"$f":"'3.WEF Status-Base'!$AE$37","v":0},0,{"$f":"'3.WEF Status-Base'!$AF$37","v":0},null,{"$f":"'3.WEF Status-Base'!$AH$37","v":0},0,{"$f":"'3.WEF Status-Base'!$AI$37","v":0},null,{"$f":"'3.WEF Status-Base'!$AK$37","v":0},0,{"$f":"'3.WEF Status-Base'!$AL$37","v":0},null,{"$f":"'3.WEF Status-Base'!$AN$37","v":0},0,{"$f":"'3.WEF Status-Base'!$AO$37","v":0},null,{"$f":"'3.WEF Status-Base'!$AQ$37","v":0},0,{"$f":"'3.WEF Status-Base'!$AR$37","v":0},null,{"$f":"'3.WEF Status-Base'!$AT$37","v":0},0,{"$f":"'3.WEF Status-Base'!$AU$37","v":0},null,{"$f":"'3.WEF Status-Base'!$AW$37","v":0},0,{"$f":"'3.WEF Status-Base'!$AX$37","v":0},null,{"$f":"'3.WEF Status-Base'!$AZ$37","v":0},0,{"$f":"'3.WEF Status-Base'!$BA$37","v":0},null,{"$f":"'3.WEF Status-Base'!$BC$37","v":0},0,{"$f":"'3.WEF Status-Base'!$BD$37","v":0},{"$f":"'3.WEF Status-Base'!$BE$37","v":0}]
[null,"     Law enforcement and security",null,0,null,29,{"$f":"'3.WEF Status-Base'!$D$38","v":0},0,{"$f":"'3.WEF Status-Base'!$E$38","v":0},null,{"$f":"'3.WEF Status-Base'!$G$38","v":0},0,{"$f":"'3.WEF Status-Base'!$H$38","v":0},null,{"$f":"'3.WEF Status-Base'!$J$38","v":0},0,{"$f":"'3.WEF Status-Base'!$K$38","v":0},null,{"$f":"'3.WEF Status-Base'!$M$38","v":0},0,{"$f":"'3.WEF Status-Base'!$N$38","v":0},null,{"$f":"'3.WEF Status-Base'!$P$38","v":0},0,{"$f":"'3.WEF Status-Base'!$Q$38","v":0},null,{"$f":"'3.WEF Status-Base'!$S$38","v":0},0,{"$f":"'3.WEF Status-Base'!$T$38","v":0},null,{"$f":"'3.WEF Status-Base'!$V$38","v":0},0,{"$f":"'3.WEF Status-Base'!$W$38","v":0},null,{"$f":"'3.WEF Status-Base'!$Y$38","v":0},0,{"$f":"'3.WEF Status-Base'!$Z$38","v":0},null,{"$f":"'3.WEF Status-Base'!$AB$38","v":0},0,{"$f":"'3.WEF Status-Base'!$AC$38","v":0},null,{"$f":"'3.WEF Status-Base'!$AE$38","v":0},0,{"$f":"'3.WEF Status-Base'!$AF$38","v":0},null,{"$f":"'3.WEF Status-Base'!$AH$38","v":0},0,{"$f":"'3.WEF Status-Base'!$AI$38","v":0},null,{"$f":"'3.WEF Status-Base'!$AK$38","v":0},0,{"$f":"'3.WEF Status-Base'!$AL$38","v":0},null,{"$f":"'3.WEF Status-Base'!$AN$38","v":0},0,{"$f":"'3.WEF Status-Base'!$AO$38","v":0},null,{"$f":"'3.WEF Status-Base'!$AQ$38","v":0},0,{"$f":"'3.WEF Status-Base'!$AR$38","v":0},null,{"$f":"'3.WEF Status-Base'!$AT$38","v":0},0,{"$f":"'3.WEF Status-Base'!$AU$38","v":0},null,{"$f":"'3.WEF Status-Base'!$AW$38","v":0},0,{"$f":"'3.WEF Status-Base'!$AX$38","v":0},null,{"$f":"'3.WEF Status-Base'!$AZ$38","v":0},0,{"$f":"'3.WEF Status-Base'!$BA$38","v":0},null,{"$f":"'3.WEF Status-Base'!$BC$38","v":0},0,{"$f":"'3.WEF Status-Base'!$BD$38","v":0},{"$f":"'3.WEF Status-Base'!$BE$38","v":0},null,29,{"$f":"'3.WEF Status-Base'!$D$38","v":0},0,{"$f":"'3.WEF Status-Base'!$E$38","v":0},null,{"$f":"'3.WEF Status-Base'!$G$38","v":0},0,{"$f":"'3.WEF Status-Base'!$H$38","v":0},null,{"$f":"'3.WEF Status-Base'!$J$38","v":0},0,{"$f":"'3.WEF Status-Base'!$K$38","v":0},null,{"$f":"'3.WEF Status-Base'!$M$38","v":0},0,{"$f":"'3.WEF Status-Base'!$N$38","v":0},null,{"$f":"'3.WEF Status-Base'!$P$38","v":0},0,{"$f":"'3.WEF Status-Base'!$Q$38","v":0},null,{"$f":"'3.WEF Status-Base'!$S$38","v":0},0,{"$f":"'3.WEF Status-Base'!$T$38","v":0},null,{"$f":"'3.WEF Status-Base'!$V$38","v":0},0,{"$f":"'3.WEF Status-Base'!$W$38","v":0},null,{"$f":"'3.WEF Status-Base'!$Y$38","v":0},0,{"$f":"'3.WEF Status-Base'!$Z$38","v":0},null,{"$f":"'3.WEF Status-Base'!$AB$38","v":0},0,{"$f":"'3.WEF Status-Base'!$AC$38","v":0},null,{"$f":"'3.WEF Status-Base'!$AE$38","v":0},0,{"$f":"'3.WEF Status-Base'!$AF$38","v":0},null,{"$f":"'3.WEF Status-Base'!$AH$38","v":0},0,{"$f":"'3.WEF Status-Base'!$AI$38","v":0},null,{"$f":"'3.WEF Status-Base'!$AK$38","v":0},0,{"$f":"'3.WEF Status-Base'!$AL$38","v":0},null,{"$f":"'3.WEF Status-Base'!$AN$38","v":0},0,{"$f":"'3.WEF Status-Base'!$AO$38","v":0},null,{"$f":"'3.WEF Status-Base'!$AQ$38","v":0},0,{"$f":"'3.WEF Status-Base'!$AR$38","v":0},null,{"$f":"'3.WEF Status-Base'!$AT$38","v":0},0,{"$f":"'3.WEF Status-Base'!$AU$38","v":0},null,{"$f":"'3.WEF Status-Base'!$AW$38","v":0},0,{"$f":"'3.WEF Status-Base'!$AX$38","v":0},null,{"$f":"'3.WEF Status-Base'!$AZ$38","v":0},0,{"$f":"'3.WEF Status-Base'!$BA$38","v":0},null,{"$f":"'3.WEF Status-Base'!$BC$38","v":0},0,{"$f":"'3.WEF Status-Base'!$BD$38","v":0},{"$f":"'3.WEF Status-Base'!$BE$38","v":0}]
[null,"Policies and Plans",null,0,null,30,{"$f":"'3.WEF Status-Base'!$D$39","v":0},0,{"$f":"'3.WEF Status-Base'!$E$39","v":0},null,{"$f":"'3.WEF Status-Base'!$G$39","v":0},0,{"$f":"'3.WEF Status-Base'!$H$39","v":0},null,{"$f":"'3.WEF Status-Base'!$J$39","v":0},0,{"$f":"'3.WEF Status-Base'!$K$39","v":0},null,{"$f":"'3.WEF Status-Base'!$M$39","v":0},0,{"$f":"'3.WEF Status-Base'!$N$39","v":0},null,{"$f":"'3.WEF Status-Base'!$P$39","v":0},0,{"$f":"'3.WEF Status-Base'!$Q$39","v":0},null,{"$f":"'3.WEF Status-Base'!$S$39","v":0},0,{"$f":"'3.WEF Status-Base'!$T$39","v":0},null,{"$f":"'3.WEF Status-Base'!$V$39","v":0},0,{"$f":"'3.WEF Status-Base'!$W$39","v":0},null,{"$f":"'3.WEF Status-Base'!$Y$39","v":0},0,{"$f":"'3.WEF Status-Base'!$Z$39","v":0},null,{"$f":"'3.WEF Status-Base'!$AB$39","v":0},0,{"$f":"'3.WEF Status-Base'!$AC$39","v":0},null,{"$f":"'3.WEF Status-Base'!$AE$39","v":0},0,{"$f":"'3.WEF Status-Base'!$AF$39","v":0},null,{"$f":"'3.WEF Status-Base'!$AH$39","v":0},0,{"$f":"'3.WEF Status-Base'!$AI$39","v":0},null,{"$f":"'3.WEF Status-Base'!$AK$39","v":0},0,{"$f":"'3.WEF Status-Base'!$AL$39","v":0},null,{"$f":"'3.WEF Status-Base'!$AN$39","v":0},0,{"$f":"'3.WEF Status-Base'!$AO$39","v":0},null,{"$f":"'3.WEF Status-Base'!$AQ$39","v":0},0,{"$f":"'3.WEF Status-Base'!$AR$39","v":0},null,{"$f":"'3.WEF Status-Base'!$AT$39","v":0},0,{"$f":"'3.WEF Status-Base'!$AU$39","v":0},null,{"$f":"'3.WEF Status-Base'!$AW$39","v":0},0,{"$f":"'3.WEF Status-Base'!$AX$39","v":0},null,{"$f":"'3.WEF Status-Base'!$AZ$39","v":0},0,{"$f":"'3.WEF Status-Base'!$BA$39","v":0},null,{"$f":"'3.WEF Status-Base'!$BC$39","v":0},0,{"$f":"'3.WEF Status-Base'!$BD$39","v":0},{"$f":"'3.WEF Status-Base'!$BE$39","v":0},null,30,{"$f":"'3.WEF Status-Base'!$D$39","v":0},0,{"$f":"'3.WEF Status-Base'!$E$39","v":0},null,{"$f":"'3.WEF Status-Base'!$G$39","v":0},0,{"$f":"'3.WEF Status-Base'!$H$39","v":0},null,{"$f":"'3.WEF Status-Base'!$J$39","v":0},0,{"$f":"'3.WEF Status-Base'!$K$39","v":0},null,{"$f":"'3.WEF Status-Base'!$M$39","v":0},0,{"$f":"'3.WEF Status-Base'!$N$39","v":0},null,{"$f":"'3.WEF Status-Base'!$P$39","v":0},0,{"$f":"'3.WEF Status-Base'!$Q$39","v":0},null,{"$f":"'3.WEF Status-Base'!$S$39","v":0},0,{"$f":"'3.WEF Status-Base'!$T$39","v":0},null,{"$f":"'3.WEF Status-Base'!$V$39","v":0},0,{"$f":"'3.WEF Status-Base'!$W$39","v":0},null,{"$f":"'3.WEF Status-Base'!$Y$39","v":0},0,{"$f":"'3.WEF Status-Base'!$Z$39","v":0},null,{"$f":"'3.WEF Status-Base'!$AB$39","v":0},0,{"$f":"'3.WEF Status-Base'!$AC$39","v":0},null,{"$f":"'3.WEF Status-Base'!$AE$39","v":0},0,{"$f":"'3.WEF Status-Base'!$AF$39","v":0},null,{"$f":"'3.WEF Status-Base'!$AH$39","v":0},0,{"$f":"'3.WEF Status-Base'!$AI$39","v":0},null,{"$f":"'3.WEF Status-Base'!$AK$39","v":0},0,{"$f":"'3.WEF Status-Base'!$AL$39","v":0},null,{"$f":"'3.WEF Status-Base'!$AN$39","v":0},0,{"$f":"'3.WEF Status-Base'!$AO$39","v":0},null,{"$f":"'3.WEF Status-Base'!$AQ$39","v":0},0,{"$f":"'3.WEF Status-Base'!$AR$39","v":0},null,{"$f":"'3.WEF Status-Base'!$AT$39","v":0},0,{"$f":"'3.WEF Status-Base'!$AU$39","v":0},null,{"$f":"'3.WEF Status-Base'!$AW$39","v":0},0,{"$f":"'3.WEF Status-Base'!$AX$39","v":0},null,{"$f":"'3.WEF Status-Base'!$AZ$39","v":0},0,{"$f":"'3.WEF Status-Base'!$BA$39","v":0},null,{"$f":"'3.WEF Status-Base'!$BC$39","v":0},0,{"$f":"'3.WEF Status-Base'!$BD$39","v":0},{"$f":"'3.WEF Status-Base'!$BE$39","v":0}]
[null,"     Resource use",null,0,null,31,{"$f":"'3.WEF Status-Base'!$D$40","v":0},0,{"$f":"'3.WEF Status-Base'!$E$40","v":0},null,{"$f":"'3.WEF Status-Base'!$G$40","v":0},0,{"$f":"'3.WEF Status-Base'!$H$40","v":0},null,{"$f":"'3.WEF Status-Base'!$J$40","v":0},0,{"$f":"'3.WEF Status-Base'!$K$40","v":0},null,{"$f":"'3.WEF Status-Base'!$M$40","v":0},0,{"$f":"'3.WEF Status-Base'!$N$40","v":0},null,{"$f":"'3.WEF Status-Base'!$P$40","v":0},0,{"$f":"'3.WEF Status-Base'!$Q$40","v":0},null,{"$f":"'3.WEF Status-Base'!$S$40","v":0},0,{"$f":"'3.WEF Status-Base'!$T$40","v":0},null,{"$f":"'3.WEF Status-Base'!$V$40","v":0},0,{"$f":"'3.WEF Status-Base'!$W$40","v":0},null,{"$f":"'3.WEF Status-Base'!$Y$40","v":0},0,{"$f":"'3.WEF Status-Base'!$Z$40","v":0},null,{"$f":"'3.WEF Status-Base'!$AB$40","v":0},0,{"$f":"'3.WEF Status-Base'!$AC$40","v":0},null,{"$f":"'3.WEF Status-Base'!$AE$40","v":0},0,{"$f":"'3.WEF Status-Base'!$AF$40","v":0},null,{"$f":"'3.WEF Status-Base'!$AH$40","v":0},0,{"$f":"'3.WEF Status-Base'!$AI$40","v":0},null,{"$f":"'3.WEF Status-Base'!$AK$40","v":0},0,{"$f":"'3.WEF Status-Base'!$AL$40","v":0},null,{"$f":"'3.WEF Status-Base'!$AN$40","v":0},0,{"$f":"'3.WEF Status-Base'!$AO$40","v":0},null,{"$f":"'3.WEF Status-Base'!$AQ$40","v":0},0,{"$f":"'3.WEF Status-Base'!$AR$40","v":0},null,{"$f":"'3.WEF Status-Base'!$AT$40","v":0},0,{"$f":"'3.WEF Status-Base'!$AU$40","v":0},null,{"$f":"'3.WEF Status-Base'!$AW$40","v":0},0,{"$f":"'3.WEF Status-Base'!$AX$40","v":0},null,{"$f":"'3.WEF Status-Base'!$AZ$40","v":0},0,{"$f":"'3.WEF Status-Base'!$BA$40","v":0},null,{"$f":"'3.WEF Status-Base'!$BC$40","v":0},0,{"$f":"'3.WEF Status-Base'!$BD$40","v":0},{"$f":"'3.WEF Status-Base'!$BE$40","v":0},null,31,{"$f":"'3.WEF Status-Base'!$D$40","v":0},0,{"$f":"'3.WEF Status-Base'!$E$40","v":0},null,{"$f":"'3.WEF Status-Base'!$G$40","v":0},0,{"$f":"'3.WEF Status-Base'!$H$40","v":0},null,{"$f":"'3.WEF Status-Base'!$J$40","v":0},0,{"$f":"'3.WEF Status-Base'!$K$40","v":0},null,{"$f":"'3.WEF Status-Base'!$M$40","v":0},0,{"$f":"'3.WEF Status-Base'!$N$40","v":0},null,{"$f":"'3.WEF Status-Base'!$P$40","v":0},0,{"$f":"'3.WEF Status-Base'!$Q$40","v":0},null,{"$f":"'3.WEF Status-Base'!$S$40","v":0},0,{"$f":"'3.WEF Status-Base'!$T$40","v":0},null,{"$f":"'3.WEF Status-Base'!$V$40","v":0},0,{"$f":"'3.WEF Status-Base'!$W$40","v":0},null,{"$f":"'3.WEF Status-Base'!$Y$40","v":0},0,{"$f":"'3.WEF Status-Base'!$Z$40","v":0},null,{"$f":"'3.WEF Status-Base'!$AB$40","v":0},0,{"$f":"'3.WEF Status-Base'!$AC$40","v":0},null,{"$f":"'3.WEF Status-Base'!$AE$40","v":0},0,{"$f":"'3.WEF Status-Base'!$AF$40","v":0},null,{"$f":"'3.WEF Status-Base'!$AH$40","v":0},0,{"$f":"'3.WEF Status-Base'!$AI$40","v":0},null,{"$f":"'3.WEF Status-Base'!$AK$40","v":0},0,{"$f":"'3.WEF Status-Base'!$AL$40","v":0},null,{"$f":"'3.WEF Status-Base'!$AN$40","v":0},0,{"$f":"'3.WEF Status-Base'!$AO$40","v":0},null,{"$f":"'3.WEF Status-Base'!$AQ$40","v":0},0,{"$f":"'3.WEF Status-Base'!$AR$40","v":0},null,{"$f":"'3.WEF Status-Base'!$AT$40","v":0},0,{"$f":"'3.WEF Status-Base'!$AU$40","v":0},null,{"$f":"'3.WEF Status-Base'!$AW$40","v":0},0,{"$f":"'3.WEF Status-Base'!$AX$40","v":0},null,{"$f":"'3.WEF Status-Base'!$AZ$40","v":0},0,{"$f":"'3.WEF Status-Base'!$BA$40","v":0},null,{"$f":"'3.WEF Status-Base'!$BC$40","v":0},0,{"$f":"'3.WEF Status-Base'!$BD$40","v":0},{"$f":"'3.WEF Status-Base'!$BE$40","v":0}]
[null,"     Climate change adaptation",null,0,null,32,{"$f":"'3.WEF Status-Base'!$D$41","v":0},0,{"$f":"'3.WEF Status-Base'!$E$41","v":0},null,{"$f":"'3.WEF Status-Base'!$G$41","v":0},0,{"$f":"'3.WEF Status-Base'!$H$41","v":0},null,{"$f":"'3.WEF Status-Base'!$J$41","v":0},0,{"$f":"'3.WEF Status-Base'!$K$41","v":0},null,{"$f":"'3.WEF Status-Base'!$M$41","v":0},0,{"$f":"'3.WEF Status-Base'!$N$41","v":0},null,{"$f":"'3.WEF Status-Base'!$P$41","v":0},0,{"$f":"'3.WEF Status-Base'!$Q$41","v":0},null,{"$f":"'3.WEF Status-Base'!$S$41","v":0},0,{"$f":"'3.WEF Status-Base'!$T$41","v":0},null,{"$f":"'3.WEF Status-Base'!$V$41","v":0},0,{"$f":"'3.WEF Status-Base'!$W$41","v":0},null,{"$f":"'3.WEF Status-Base'!$Y$41","v":0},0,{"$f":"'3.WEF Status-Base'!$Z$41","v":0},null,{"$f":"'3.WEF Status-Base'!$AB$41","v":0},0,{"$f":"'3.WEF Status-Base'!$AC$41","v":0},null,{"$f":"'3.WEF Status-Base'!$AE$41","v":0},0,{"$f":"'3.WEF Status-Base'!$AF$41","v":0},null,{"$f":"'3.WEF Status-Base'!$AH$41","v":0},0,{"$f":"'3.WEF Status-Base'!$AI$41","v":0},null,{"$f":"'3.WEF Status-Base'!$AK$41","v":0},0,{"$f":"'3.WEF Status-Base'!$AL$41","v":0},null,{"$f":"'3.WEF Status-Base'!$AN$41","v":0},0,{"$f":"'3.WEF Status-Base'!$AO$41","v":0},null,{"$f":"'3.WEF Status-Base'!$AQ$41","v":0},0,{"$f":"'3.WEF Status-Base'!$AR$41","v":0},null,{"$f":"'3.WEF Status-Base'!$AT$41","v":0},0,{"$f":"'3.WEF Status-Base'!$AU$41","v":0},null,{"$f":"'3.WEF Status-Base'!$AW$41","v":0},0,{"$f":"'3.WEF Status-Base'!$AX$41","v":0},null,{"$f":"'3.WEF Status-Base'!$AZ$41","v":0},0,{"$f":"'3.WEF Status-Base'!$BA$41","v":0},null,{"$f":"'3.WEF Status-Base'!$BC$41","v":0},0,{"$f":"'3.WEF Status-Base'!$BD$41","v":0},{"$f":"'3.WEF Status-Base'!$BE$41","v":0},null,32,{"$f":"'3.WEF Status-Base'!$D$41","v":0},0,{"$f":"'3.WEF Status-Base'!$E$41","v":0},null,{"$f":"'3.WEF Status-Base'!$G$41","v":0},0,{"$f":"'3.WEF Status-Base'!$H$41","v":0},null,{"$f":"'3.WEF Status-Base'!$J$41","v":0},0,{"$f":"'3.WEF Status-Base'!$K$41","v":0},null,{"$f":"'3.WEF Status-Base'!$M$41","v":0},0,{"$f":"'3.WEF Status-Base'!$N$41","v":0},null,{"$f":"'3.WEF Status-Base'!$P$41","v":0},0,{"$f":"'3.WEF Status-Base'!$Q$41","v":0},null,{"$f":"'3.WEF Status-Base'!$S$41","v":0},0,{"$f":"'3.WEF Status-Base'!$T$41","v":0},null,{"$f":"'3.WEF Status-Base'!$V$41","v":0},0,{"$f":"'3.WEF Status-Base'!$W$41","v":0},null,{"$f":"'3.WEF Status-Base'!$Y$41","v":0},0,{"$f":"'3.WEF Status-Base'!$Z$41","v":0},null,{"$f":"'3.WEF Status-Base'!$AB$41","v":0},0,{"$f":"'3.WEF Status-Base'!$AC$41","v":0},null,{"$f":"'3.WEF Status-Base'!$AE$41","v":0},0,{"$f":"'3.WEF Status-Base'!$AF$41","v":0},null,{"$f":"'3.WEF Status-Base'!$AH$41","v":0},0,{"$f":"'3.WEF Status-Base'!$AI$41","v":0},null,{"$f":"'3.WEF Status-Base'!$AK$41","v":0},0,{"$f":"'3.WEF Status-Base'!$AL$41","v":0},null,{"$f":"'3.WEF Status-Base'!$AN$41","v":0},0,{"$f":"'3.WEF Status-Base'!$AO$41","v":0},null,{"$f":"'3.WEF Status-Base'!$AQ$41","v":0},0,{"$f":"'3.WEF Status-Base'!$AR$41","v":0},null,{"$f":"'3.WEF Status-Base'!$AT$41","v":0},0,{"$f":"'3.WEF Status-Base'!$AU$41","v":0},null,{"$f":"'3.WEF Status-Base'!$AW$41","v":0},0,{"$f":"'3.WEF Status-Base'!$AX$41","v":0},null,{"$f":"'3.WEF Status-Base'!$AZ$41","v":0},0,{"$f":"'3.WEF Status-Base'!$BA$41","v":0},null,{"$f":"'3.WEF Status-Base'!$BC$41","v":0},0,{"$f":"'3.WEF Status-Base'!$BD$41","v":0},{"$f":"'3.WEF Status-Base'!$BE$41","v":0}]
[null,"     Disaster recovery and risk management ",null,0,null,33,{"$f":"'3.WEF Status-Base'!$D$42","v":0},0,{"$f":"'3.WEF Status-Base'!$E$42","v":0},null,{"$f":"'3.WEF Status-Base'!$G$42","v":0},0,{"$f":"'3.WEF Status-Base'!$H$42","v":0},null,{"$f":"'3.WEF Status-Base'!$J$42","v":0},0,{"$f":"'3.WEF Status-Base'!$K$42","v":0},null,{"$f":"'3.WEF Status-Base'!$M$42","v":0},0,{"$f":"'3.WEF Status-Base'!$N$42","v":0},null,{"$f":"'3.WEF Status-Base'!$P$42","v":0},0,{"$f":"'3.WEF Status-Base'!$Q$42","v":0},null,{"$f":"'3.WEF Status-Base'!$S$42","v":0},0,{"$f":"'3.WEF Status-Base'!$T$42","v":0},null,{"$f":"'3.WEF Status-Base'!$V$42","v":0},0,{"$f":"'3.WEF Status-Base'!$W$42","v":0},null,{"$f":"'3.WEF Status-Base'!$Y$42","v":0},0,{"$f":"'3.WEF Status-Base'!$Z$42","v":0},null,{"$f":"'3.WEF Status-Base'!$AB$42","v":0},0,{"$f":"'3.WEF Status-Base'!$AC$42","v":0},null,{"$f":"'3.WEF Status-Base'!$AE$42","v":0},0,{"$f":"'3.WEF Status-Base'!$AF$42","v":0},null,{"$f":"'3.WEF Status-Base'!$AH$42","v":0},0,{"$f":"'3.WEF Status-Base'!$AI$42","v":0},null,{"$f":"'3.WEF Status-Base'!$AK$42","v":0},0,{"$f":"'3.WEF Status-Base'!$AL$42","v":0},null,{"$f":"'3.WEF Status-Base'!$AN$42","v":0},0,{"$f":"'3.WEF Status-Base'!$AO$42","v":0},null,{"$f":"'3.WEF Status-Base'!$AQ$42","v":0},0,{"$f":"'3.WEF Status-Base'!$AR$42","v":0},null,{"$f":"'3.WEF Status-Base'!$AT$42","v":0},0,{"$f":"'3.WEF Status-Base'!$AU$42","v":0},null,{"$f":"'3.WEF Status-Base'!$AW$42","v":0},0,{"$f":"'3.WEF Status-Base'!$AX$42","v":0},null,{"$f":"'3.WEF Status-Base'!$AZ$42","v":0},0,{"$f":"'3.WEF Status-Base'!$BA$42","v":0},null,{"$f":"'3.WEF Status-Base'!$BC$42","v":0},0,{"$f":"'3.WEF Status-Base'!$BD$42","v":0},{"$f":"'3.WEF Status-Base'!$BE$42","v":0},null,33,{"$f":"'3.WEF Status-Base'!$D$42","v":0},0,{"$f":"'3.WEF Status-Base'!$E$42","v":0},null,{"$f":"'3.WEF Status-Base'!$G$42","v":0},0,{"$f":"'3.WEF Status-Base'!$H$42","v":0},null,{"$f":"'3.WEF Status-Base'!$J$42","v":0},0,{"$f":"'3.WEF Status-Base'!$K$42","v":0},null,{"$f":"'3.WEF Status-Base'!$M$42","v":0},0,{"$f":"'3.WEF Status-Base'!$N$42","v":0},null,{"$f":"'3.WEF Status-Base'!$P$42","v":0},0,{"$f":"'3.WEF Status-Base'!$Q$42","v":0},null,{"$f":"'3.WEF Status-Base'!$S$42","v":0},0,{"$f":"'3.WEF Status-Base'!$T$42","v":0},null,{"$f":"'3.WEF Status-Base'!$V$42","v":0},0,{"$f":"'3.WEF Status-Base'!$W$42","v":0},null,{"$f":"'3.WEF Status-Base'!$Y$42","v":0},0,{"$f":"'3.WEF Status-Base'!$Z$42","v":0},null,{"$f":"'3.WEF Status-Base'!$AB$42","v":0},0,{"$f":"'3.WEF Status-Base'!$AC$42","v":0},null,{"$f":"'3.WEF Status-Base'!$AE$42","v":0},0,{"$f":"'3.WEF Status-Base'!$AF$42","v":0},null,{"$f":"'3.WEF Status-Base'!$AH$42","v":0},0,{"$f":"'3.WEF Status-Base'!$AI$42","v":0},null,{"$f":"'3.WEF Status-Base'!$AK$42","v":0},0,{"$f":"'3.WEF Status-Base'!$AL$42","v":0},null,{"$f":"'3.WEF Status-Base'!$AN$42","v":0},0,{"$f":"'3.WEF Status-Base'!$AO$42","v":0},null,{"$f":"'3.WEF Status-Base'!$AQ$42","v":0},0,{"$f":"'3.WEF Status-Base'!$AR$42","v":0},null,{"$f":"'3.WEF Status-Base'!$AT$42","v":0},0,{"$f":"'3.WEF Status-Base'!$AU$42","v":0},null,{"$f":"'3.WEF Status-Base'!$AW$42","v":0},0,{"$f":"'3.WEF Status-Base'!$AX$42","v":0},null,{"$f":"'3.WEF Status-Base'!$AZ$42","v":0},0,{"$f":"'3.WEF Status-Base'!$BA$42","v":0},null,{"$f":"'3.WEF Status-Base'!$BC$42","v":0},0,{"$f":"'3.WEF Status-Base'!$BD$42","v":0},{"$f":"'3.WEF Status-Base'!$BE$42","v":0}]
[null,"     R&D and innovation",null,0,null,34,{"$f":"'3.WEF Status-Base'!$D$43","v":0},0,{"$f":"'3.WEF Status-Base'!$E$43","v":0},null,{"$f":"'3.WEF Status-Base'!$G$43","v":0},0,{"$f":"'3.WEF Status-Base'!$H$43","v":0},null,{"$f":"'3.WEF Status-Base'!$J$43","v":0},0,{"$f":"'3.WEF Status-Base'!$K$43","v":0},null,{"$f":"'3.WEF Status-Base'!$M$43","v":0},0,{"$f":"'3.WEF Status-Base'!$N$43","v":0},null,{"$f":"'3.WEF Status-Base'!$P$43","v":0},0,{"$f":"'3.WEF Status-Base'!$Q$43","v":0},null,{"$f":"'3.WEF Status-Base'!$S$43","v":0},0,{"$f":"'3.WEF Status-Base'!$T$43","v":0},null,{"$f":"'3.WEF Status-Base'!$V$43","v":0},0,{"$f":"'3.WEF Status-Base'!$W$43","v":0},null,{"$f":"'3.WEF Status-Base'!$Y$43","v":0},0,{"$f":"'3.WEF Status-Base'!$Z$43","v":0},null,{"$f":"'3.WEF Status-Base'!$AB$43","v":0},0,{"$f":"'3.WEF Status-Base'!$AC$43","v":0},null,{"$f":"'3.WEF Status-Base'!$AE$43","v":0},0,{"$f":"'3.WEF Status-Base'!$AF$43","v":0},null,{"$f":"'3.WEF Status-Base'!$AH$43","v":0},0,{"$f":"'3.WEF Status-Base'!$AI$43","v":0},null,{"$f":"'3.WEF Status-Base'!$AK$43","v":0},0,{"$f":"'3.WEF Status-Base'!$AL$43","v":0},null,{"$f":"'3.WEF Status-Base'!$AN$43","v":0},0,{"$f":"'3.WEF Status-Base'!$AO$43","v":0},null,{"$f":"'3.WEF Status-Base'!$AQ$43","v":0},0,{"$f":"'3.WEF Status-Base'!$AR$43","v":0},null,{"$f":"'3.WEF Status-Base'!$AT$43","v":0},0,{"$f":"'3.WEF Status-Base'!$AU$43","v":0},null,{"$f":"'3.WEF Status-Base'!$AW$43","v":0},0,{"$f":"'3.WEF Status-Base'!$AX$43","v":0},null,{"$f":"'3.WEF Status-Base'!$AZ$43","v":0},0,{"$f":"'3.WEF Status-Base'!$BA$43","v":0},null,{"$f":"'3.WEF Status-Base'!$BC$43","v":0},0,{"$f":"'3.WEF Status-Base'!$BD$43","v":0},{"$f":"'3.WEF Status-Base'!$BE$43","v":0},null,34,{"$f":"'3.WEF Status-Base'!$D$43","v":0},0,{"$f":"'3.WEF Status-Base'!$E$43","v":0},null,{"$f":"'3.WEF Status-Base'!$G$43","v":0},0,{"$f":"'3.WEF Status-Base'!$H$43","v":0},null,{"$f":"'3.WEF Status-Base'!$J$43","v":0},0,{"$f":"'3.WEF Status-Base'!$K$43","v":0},null,{"$f":"'3.WEF Status-Base'!$M$43","v":0},0,{"$f":"'3.WEF Status-Base'!$N$43","v":0},null,{"$f":"'3.WEF Status-Base'!$P$43","v":0},0,{"$f":"'3.WEF Status-Base'!$Q$43","v":0},null,{"$f":"'3.WEF Status-Base'!$S$43","v":0},0,{"$f":"'3.WEF Status-Base'!$T$43","v":0},null,{"$f":"'3.WEF Status-Base'!$V$43","v":0},0,{"$f":"'3.WEF Status-Base'!$W$43","v":0},null,{"$f":"'3.WEF Status-Base'!$Y$43","v":0},0,{"$f":"'3.WEF Status-Base'!$Z$43","v":0},null,{"$f":"'3.WEF Status-Base'!$AB$43","v":0},0,{"$f":"'3.WEF Status-Base'!$AC$43","v":0},null,{"$f":"'3.WEF Status-Base'!$AE$43","v":0},0,{"$f":"'3.WEF Status-Base'!$AF$43","v":0},null,{"$f":"'3.WEF Status-Base'!$AH$43","v":0},0,{"$f":"'3.WEF Status-Base'!$AI$43","v":0},null,{"$f":"'3.WEF Status-Base'!$AK$43","v":0},0,{"$f":"'3.WEF Status-Base'!$AL$43","v":0},null,{"$f":"'3.WEF Status-Base'!$AN$43","v":0},0,{"$f":"'3.WEF Status-Base'!$AO$43","v":0},null,{"$f":"'3.WEF Status-Base'!$AQ$43","v":0},0,{"$f":"'3.WEF Status-Base'!$AR$43","v":0},null,{"$f":"'3.WEF Status-Base'!$AT$43","v":0},0,{"$f":"'3.WEF Status-Base'!$AU$43","v":0},null,{"$f":"'3.WEF Status-Base'!$AW$43","v":0},0,{"$f":"'3.WEF Status-Base'!$AX$43","v":0},null,{"$f":"'3.WEF Status-Base'!$AZ$43","v":0},0,{"$f":"'3.WEF Status-Base'!$BA$43","v":0},null,{"$f":"'3.WEF Status-Base'!$BC$43","v":0},0,{"$f":"'3.WEF Status-Base'!$BD$43","v":0},{"$f":"'3.WEF Status-Base'!$BE$43","v":0}]
[]
[]
[]
[null,"Operation","Mine Waste"]
[null,"Change in Use"]
[null,"Change in source description due to process","Baseline","Change",null,null,"Baseline",0,null,null,"Baseline",0,null,null,"Baseline",0,null,null,"Baseline",0,null,null,"Baseline",0,null,null,"Baseline",0,null,null,"Baseline",0,null,null,"Baseline",0,null,null,"Baseline",0,null,null,"Baseline",0,null,null,"Baseline",0,null,null,"Baseline",0,null,null,"Baseline",0,null,null,"Baseline",0,null,null,"Baseline",0,null,null,"Baseline",0,null,null,"Baseline",0,null,null,"Baseline",0,null,null,null,null,"Baseline",0,null,null,"Baseline",0,null,null,"Baseline",0,null,null,"Baseline",0,null,null,"Baseline",0,null,null,"Baseline",0,null,null,"Baseline",0,null,null,"Baseline",0,null,null,"Baseline",0,null,null,"Baseline",0,null,null,"Baseline",0,null,null,"Baseline",0,null,null,"Baseline",0,null,null,"Baseline",0,null,null,"Baseline",0,null,null,"Baseline",0,null,null,"Baseline",0,null,null,"Baseline",0]
[null,"Availability (Other)",null,null,null,1,null,null,null,null,null,null,null,null,null,null,null,null,null,null,null,null,null,null,null,null,null,null,null,null,null,null,null,null,null,null,null,null,null,null,null,null,null,null,null,null,null,null,null,null,null,null,null,null,null,null,null,null,null,null,null,null,null,null,null,null,null,null,null,null,null,null,null,null,null,null,null,null,null,1]
[null,"Processing/treatment/conversion",null,{"$f":"MAX(H184:BZ184)","v":0},null,2,{"$f":"'3.WEF Status-Base'!$D$11","v":0},0,{"$f":"'3.WEF Status-Base'!$E$11","v":0},null,{"$f":"'3.WEF Status-Base'!$G$11","v":0},0,{"$f":"'3.WEF Status-Base'!$H$11","v":0},null,{"$f":"'3.WEF Status-Base'!$J$11","v":0},0,{"$f":"'3.WEF Status-Base'!$K$11","v":0},null,{"$f":"'3.WEF Status-Base'!$M$11","v":0},0,{"$f":"'3.WEF Status-Base'!$N$11","v":0},null,{"$f":"'3.WEF Status-Base'!$P$11","v":0},0,{"$f":"'3.WEF Status-Base'!$Q$11","v":0},null,{"$f":"'3.WEF Status-Base'!$S$11","v":0},0,{"$f":"'3.WEF Status-Base'!$T$11","v":0},null,{"$f":"'3.WEF Status-Base'!$V$11","v":0},0,{"$f":"'3.WEF Status-Base'!$W$11","v":0},null,{"$f":"'3.WEF Status-Base'!$Y$11","v":0},0,{"$f":"'3.WEF Status-Base'!$Z$11","v":0},null,{"$f":"'3.WEF Status-Base'!$AB$11","v":0},0,{"$f":"'3.WEF Status-Base'!$AC$11","v":0},null,{"$f":"'3.WEF Status-Base'!$AE$11","v":0},0,{"$f":"'3.WEF Status-Base'!$AF$11","v":0},null,{"$f":"'3.WEF Status-Base'!$AH$11","v":0},0,{"$f":"'3.WEF Status-Base'!$AI$11","v":0},null,{"$f":"'3.WEF Status-Base'!$AK$11","v":0},0,{"$f":"'3.WEF Status-Base'!$AL$11","v":0},null,{"$f":"'3.WEF Status-Base'!$AN$11","v":0},0,{"$f":"'3.WEF Status-Base'!$AO$11","v":0},null,{"$f":"'3.WEF Status-Base'!$AQ$11","v":0},0,{"$f":"'3.WEF Status-Base'!$AR$11","v":0},null,{"$f":"'3.WEF Status-Base'!$AT$11","v":0},0,{"$f":"'3.WEF Status-Base'!$AU$11","v":0},null,{"$f":"'3.WEF Status-Base'!$AW$11","v":0},0,{"$f":"'3.WEF Status-Base'!$AX$11","v":0},null,{"$f":"'3.WEF Status-Base'!$AZ$11","v":0},0,{"$f":"'3.WEF Status-Base'!$BA$11","v":0},null,{"$f":"'3.WEF Status-Base'!$BC$11","v":0},0,{"$f":"'3.WEF Status-Base'!$BD$11","v":0},{"$f":"'3.WEF Status-Base'!$BE$11","v":0},null,2,{"$f":"'3.WEF Status-Base'!$D$11","v":0},0,{"$f":"'3.WEF Status-Base'!$E$11","v":0},null,{"$f":"'3.WEF Status-Base'!$G$11","v":0},0,{"$f":"'3.WEF Status-Base'!$H$11","v":0},null,{"$f":"'3.WEF Status-Base'!$J$11","v":0},0,{"$f":"'3.WEF Status-Base'!$K$11","v":0},null,{"$f":"'3.WEF Status-Base'!$M$11","v":0},0,{"$f":"'3.WEF Status-Base'!$N$11","v":0},null,{"$f":"'3.WEF Status-Base'!$P$11","v":0},0,{"$f":"'3.WEF Status-Base'!$Q$11","v":0},null,{"$f":"'3.WEF Status-Base'!$S$11","v":0},0,{"$f":"'3.WEF Status-Base'!$T$11","v":0},null,{"$f":"'3.WEF Status-Base'!$V$11","v":0},0,{"$f":"'3.WEF Status-Base'!$W$11","v":0},null,{"$f":"'3.WEF Status-Base'!$Y$11","v":0},0,{"$f":"'3.WEF Status-Base'!$Z$11","v":0},null,{"$f":"'3.WEF Status-Base'!$AB$11","v":0},0,{"$f":"'3.WEF Status-Base'!$AC$11","v":0},null,{"$f":"'3.WEF Status-Base'!$AE$11","v":0},0,{"$f":"'3.WEF Status-Base'!$AF$11","v":0},null,{"$f":"'3.WEF Status-Base'!$AH$11","v":0},0,{"$f":"'3.WEF Status-Base'!$AI$11","v":0},null,{"$f":"'3.WEF Status-Base'!$AK$11","v":0},0,{"$f":"'3.WEF Status-Base'!$AL$11","v":0},null,{"$f":"'3.WEF Status-Base'!$AN$11","v":0},0,{"$f":"'3.WEF Status-Base'!$AO$11","v":0},null,{"$f":"'3.WEF Status-Base'!$AQ$11","v":0},0,{"$f":"'3.WEF Status-Base'!$AR$11","v":0},null,{"$f":"'3.WEF Status-Base'!$AT$11","v":0},0,{"$f":"'3.WEF Status-Base'!$AU$11","v":0},null,{"$f":"'3.WEF Status-Base'!$AW$11","v":0},0,{"$f":"'3.WEF Status-Base'!$AX$11","v":0},null,{"$f":"'3.WEF Status-Base'!$AZ$11","v":0},0,{"$f":"'3.WEF Status-Base'!$BA$11","v":0},null,{"$f":"'3.WEF Status-Base'!$BC$11","v":0},0,{"$f":"'3.WEF Status-Base'!$BD$11","v":0},{"$f":"'3.WEF Status-Base'!$BE$11","v":0}]
[null,"Timing of delivery (storage)",null,{"$f":"MAX(H185:BZ185)","v":0},null,3,{"$f":"'3.WEF Status-Base'!$D$12","v":0},0,{"$f":"'3.WEF Status-Base'!$E$12","v":0},null,{"$f":"'3.WEF Status-Base'!$G$12","v":0},0,{"$f":"'3.WEF Status-Base'!$H$12","v":0},null,{"$f":"'3.WEF Status-Base'!$J$12","v":0},0,{"$f":"'3.WEF Status-Base'!$K$12","v":0},null,{"$f":"'3.WEF Status-Base'!$M$12","v":0},0,{"$f":"'3.WEF Status-Base'!$N$12","v":0},null,{"$f":"'3.WEF Status-Base'!$P$12","v":0},0,{"$f":"'3.WEF Status-Base'!$Q$12","v":0},null,{"$f":"'3.WEF Status-Base'!$S$12","v":0},0,{"$f":"'3.WEF Status-Base'!$T$12","v":0},null,{"$f":"'3.WEF Status-Base'!$V$12","v":0},0,{"$f":"'3.WEF Status-Base'!$W$12","v":0},null,{"$f":"'3.WEF Status-Base'!$Y$12","v":0},0,{"$f":"'3.WEF Status-Base'!$Z$12","v":0},null,{"$f":"'3.WEF Status-Base'!$AB$12","v":0},0,{"$f":"'3.WEF Status-Base'!$AC$12","v":0},null,{"$f":"'3.WEF Status-Base'!$AE$12","v":0},0,{"$f":"'3.WEF Status-Base'!$AF$12","v":0},null,{"$f":"'3.WEF Status-Base'!$AH$12","v":0},0,{"$f":"'3.WEF Status-Base'!$AI$12","v":0},null,{"$f":"'3.WEF Status-Base'!$AK$12","v":0},0,{"$f":"'3.WEF Status-Base'!$AL$12","v":0},null,{"$f":"'3.WEF Status-Base'!$AN$12","v":0},0,{"$f":"'3.WEF Status-Base'!$AO$12","v":0},null,{"$f":"'3.WEF Status-Base'!$AQ$12","v":0},0,{"$f":"'3.WEF Status-Base'!$AR$12","v":0},null,{"$f":"'3.WEF Status-Base'!$AT$12","v":0},0,{"$f":"'3.WEF Status-Base'!$AU$12","v":0},null,{"$f":"'3.WEF Status-Base'!$AW$12","v":0},0,{"$f":"'3.WEF Status-Base'!$AX$12","v":0},null,{"$f":"'3.WEF Status-Base'!$AZ$12","v":0},0,{"$f":"'3.WEF Status-Base'!$BA$12","v":0},null,{"$f":"'3.WEF Status-Base'!$BC$12","v":0},0,{"$f":"'3.WEF Status-Base'!$BD$12","v":0},{"$f":"'3.WEF Status-Base'!$BE$12","v":0},null,3,{"$f":"'3.WEF Status-Base'!$D$12","v":0},0,{"$f":"'3.WEF Status-Base'!$E$12","v":0},null,{"$f":"'3.WEF Status-Base'!$G$12","v":0},0,{"$f":"'3.WEF Status-Base'!$H$12","v":0},null,{"$f":"'3.WEF Status-Base'!$J$12","v":0},0,{"$f":"'3.WEF Status-Base'!$K$12","v":0},null,{"$f":"'3.WEF Status-Base'!$M$12","v":0},0,{"$f":"'3.WEF Status-Base'!$N$12","v":0},null,{"$f":"'3.WEF Status-Base'!$P$12","v":0},0,{"$f":"'3.WEF Status-Base'!$Q$12","v":0},null,{"$f":"'3.WEF Status-Base'!$S$12","v":0},0,{"$f":"'3.WEF Status-Base'!$T$12","v":0},null,{"$f":"'3.WEF Status-Base'!$V$12","v":0},0,{"$f":"'3.WEF Status-Base'!$W$12","v":0},null,{"$f":"'3.WEF Status-Base'!$Y$12","v":0},0,{"$f":"'3.WEF Status-Base'!$Z$12","v":0},null,{"$f":"'3.WEF Status-Base'!$AB$12","v":0},0,{"$f":"'3.WEF Status-Base'!$AC$12","v":0},null,{"$f":"'3.WEF Status-Base'!$AE$12","v":0},0,{"$f":"'3.WEF Status-Base'!$AF$12","v":0},null,{"$f":"'3.WEF Status-Base'!$AH$12","v":0},0,{"$f":"'3.WEF Status-Base'!$AI$12","v":0},null,{"$f":"'3.WEF Status-Base'!$AK$12","v":0},0,{"$f":"'3.WEF Status-Base'!$AL$12","v":0},null,{"$f":"'3.WEF Status-Base'!$AN$12","v":0},0,{"$f":"'3.WEF Status-Base'!$AO$12","v":0},null,{"$f":"'3.WEF Status-Base'!$AQ$12","v":0},0,{"$f":"'3.WEF Status-Base'!$AR$12","v":0},null,{"$f":"'3.WEF Status-Base'!$AT$12","v":0},0,{"$f":"'3.WEF Status-Base'!$AU$12","v":0},null,{"$f":"'3.WEF Status-Base'!$AW$12","v":0},0,{"$f":"'3.WEF Status-Base'!$AX$12","v":0},null,{"$f":"'3.WEF Status-Base'!$AZ$12","v":0},0,{"$f":"'3.WEF Status-Base'!$BA$12","v":0},null,{"$f":"'3.WEF Status-Base'!$BC$12","v":0},0,{"$f":"'3.WEF Status-Base'!$BD$12","v":0},{"$f":"'3.WEF Status-Base'!$BE$12","v":0}]
[null,"Distribution (water towers)",null,{"$f":"MAX(H186:BZ186)","v":0},null,4,{"$f":"'3.WEF Status-Base'!$D$13","v":0},0,{"$f":"'3.WEF Status-Base'!$E$13","v":0},null,{"$f":"'3.WEF Status-Base'!$G$13","v":0},0,{"$f":"'3.WEF Status-Base'!$H$13","v":0},null,{"$f":"'3.WEF Status-Base'!$J$13","v":0},0,{"$f":"'3.WEF Status-Base'!$K$13","v":0},null,{"$f":"'3.WEF Status-Base'!$M$13","v":0},0,{"$f":"'3.WEF Status-Base'!$N$13","v":0},null,{"$f":"'3.WEF Status-Base'!$P$13","v":0},0,{"$f":"'3.WEF Status-Base'!$Q$13","v":0},null,{"$f":"'3.WEF Status-Base'!$S$13","v":0},0,{"$f":"'3.WEF Status-Base'!$T$13","v":0},null,{"$f":"'3.WEF Status-Base'!$V$13","v":0},0,{"$f":"'3.WEF Status-Base'!$W$13","v":0},null,{"$f":"'3.WEF Status-Base'!$Y$13","v":0},0,{"$f":"'3.WEF Status-Base'!$Z$13","v":0},null,{"$f":"'3.WEF Status-Base'!$AB$13","v":0},0,{"$f":"'3.WEF Status-Base'!$AC$13","v":0},null,{"$f":"'3.WEF Status-Base'!$AE$13","v":0},0,{"$f":"'3.WEF Status-Base'!$AF$13","v":0},null,{"$f":"'3.WEF Status-Base'!$AH$13","v":0},0,{"$f":"'3.WEF Status-Base'!$AI$13","v":0},null,{"$f":"'3.WEF Status-Base'!$AK$13","v":0},0,{"$f":"'3.WEF Status-Base'!$AL$13","v":0},null,{"$f":"'3.WEF Status-Base'!$AN$13","v":0},0,{"$f":"'3.WEF Status-Base'!$AO$13","v":0},null,{"$f":"'3.WEF Status-Base'!$AQ$13","v":0},0,{"$f":"'3.WEF Status-Base'!$AR$13","v":0},null,{"$f":"'3.WEF Status-Base'!$AT$13","v":0},0,{"$f":"'3.WEF Status-Base'!$AU$13","v":0},null,{"$f":"'3.WEF Status-Base'!$AW$13","v":0},0,{"$f":"'3.WEF Status-Base'!$AX$13","v":0},null,{"$f":"'3.WEF Status-Base'!$AZ$13","v":0},0,{"$f":"'3.WEF Status-Base'!$BA$13","v":0},null,{"$f":"'3.WEF Status-Base'!$BC$13","v":0},0,{"$f":"'3.WEF Status-Base'!$BD$13","v":0},{"$f":"'3.WEF Status-Base'!$BE$13","v":0},null,4,{"$f":"'3.WEF Status-Base'!$D$13","v":0},0,{"$f":"'3.WEF Status-Base'!$E$13","v":0},null,{"$f":"'3.WEF Status-Base'!$G$13","v":0},0,{"$f":"'3.WEF Status-Base'!$H$13","v":0},null,{"$f":"'3.WEF Status-Base'!$J$13","v":0},0,{"$f":"'3.WEF Status-Base'!$K$13","v":0},null,{"$f":"'3.WEF Status-Base'!$M$13","v":0},0,{"$f":"'3.WEF Status-Base'!$N$13","v":0},null,{"$f":"'3.WEF Status-Base'!$P$13","v":0},0,{"$f":"'3.WEF Status-Base'!$Q$13","v":0},null,{"$f":"'3.WEF Status-Base'!$S$13","v":0},0,{"$f":"'3.WEF Status-Base'!$T$13","v":0},null,{"$f":"'3.WEF Status-Base'!$V$13","v":0},0,{"$f":"'3.WEF Status-Base'!$W$13","v":0},null,{"$f":"'3.WEF Status-Base'!$Y$13","v":0},0,{"$f":"'3.WEF Status-Base'!$Z$13","v":0},null,{"$f":"'3.WEF Status-Base'!$AB$13","v":0},0,{"$f":"'3.WEF Status-Base'!$AC$13","v":0},null,{"$f":"'3.WEF Status-Base'!$AE$13","v":0},0,{"$f":"'3.WEF Status-Base'!$AF$13","v":0},null,{"$f":"'3.WEF Status-Base'!$AH$13","v":0},0,{"$f":"'3.WEF Status-Base'!$AI$13","v":0},null,{"$f":"'3.WEF Status-Base'!$AK$13","v":0},0,{"$f":"'3.WEF Status-Base'!$AL$13","v":0},null,{"$f":"'3.WEF Status-Base'!$AN$13","v":0},0,{"$f":"'3.WEF Status-Base'!$AO$13","v":0},null,{"$f":"'3.WEF Status-Base'!$AQ$13","v":0},0,{"$f":"'3.WEF Status-Base'!$AR$13","v":0},null,{"$f":"'3.WEF Status-Base'!$AT$13","v":0},0,{"$f":"'3.WEF Status-Base'!$AU$13","v":0},null,{"$f":"'3.WEF Status-Base'!$AW$13","v":0},0,{"$f":"'3.WEF Status-Base'!$AX$13","v":0},null,{"$f":"'3.WEF Status-Base'!$AZ$13","v":0},0,{"$f":"'3.WEF Status-Base'!$BA$13","v":0},null,{"$f":"'3.WEF Status-Base'!$BC$13","v":0},0,{"$f":"'3.WEF Status-Base'!$BD$13","v":0},{"$f":"'3.WEF Status-Base'!$BE$13","v":0}]
[null,"Retail (market prices)",null,{"$f":"MAX(H187:BZ187)","v":0},null,5,{"$f":"'3.WEF Status-Base'!$D$14","v":0},0,{"$f":"'3.WEF Status-Base'!$E$14","v":0},null,{"$f":"'3.WEF Status-Base'!$G$14","v":0},0,{"$f":"'3.WEF Status-Base'!$H$14","v":0},null,{"$f":"'3.WEF Status-Base'!$J$14","v":0},0,{"$f":"'3.WEF Status-Base'!$K$14","v":0},null,{"$f":"'3.WEF Status-Base'!$M$14","v":0},0,{"$f":"'3.WEF Status-Base'!$N$14","v":0},null,{"$f":"'3.WEF Status-Base'!$P$14","v":0},0,{"$f":"'3.WEF Status-Base'!$Q$14","v":0},null,{"$f":"'3.WEF Status-Base'!$S$14","v":0},0,{"$f":"'3.WEF Status-Base'!$T$14","v":0},null,{"$f":"'3.WEF Status-Base'!$V$14","v":0},0,{"$f":"'3.WEF Status-Base'!$W$14","v":0},null,{"$f":"'3.WEF Status-Base'!$Y$14","v":0},0,{"$f":"'3.WEF Status-Base'!$Z$14","v":0},null,{"$f":"'3.WEF Status-Base'!$AB$14","v":0},0,{"$f":"'3.WEF Status-Base'!$AC$14","v":0},null,{"$f":"'3.WEF Status-Base'!$AE$14","v":0},0,{"$f":"'3.WEF Status-Base'!$AF$14","v":0},null,{"$f":"'3.WEF Status-Base'!$AH$14","v":0},0,{"$f":"'3.WEF Status-Base'!$AI$14","v":0},null,{"$f":"'3.WEF Status-Base'!$AK$14","v":0},0,{"$f":"'3.WEF Status-Base'!$AL$14","v":0},null,{"$f":"'3.WEF Status-Base'!$AN$14","v":0},0,{"$f":"'3.WEF Status-Base'!$AO$14","v":0},null,{"$f":"'3.WEF Status-Base'!$AQ$14","v":0},0,{"$f":"'3.WEF Status-Base'!$AR$14","v":0},null,{"$f":"'3.WEF Status-Base'!$AT$14","v":0},0,{"$f":"'3.WEF Status-Base'!$AU$14","v":0},null,{"$f":"'3.WEF Status-Base'!$AW$14","v":0},0,{"$f":"'3.WEF Status-Base'!$AX$14","v":0},null,{"$f":"'3.WEF Status-Base'!$AZ$14","v":0},0,{"$f":"'3.WEF Status-Base'!$BA$14","v":0},null,{"$f":"'3.WEF Status-Base'!$BC$14","v":0},0,{"$f":"'3.WEF Status-Base'!$BD$14","v":0},{"$f":"'3.WEF Status-Base'!$BE$14","v":0},null,5,{"$f":"'3.WEF Status-Base'!$D$14","v":0},0,{"$f":"'3.WEF Status-Base'!$E$14","v":0},null,{"$f":"'3.WEF Status-Base'!$G$14","v":0},0,{"$f":"'3.WEF Status-Base'!$H$14","v":0},null,{"$f":"'3.WEF Status-Base'!$J$14","v":0},0,{"$f":"'3.WEF Status-Base'!$K$14","v":0},null,{"$f":"'3.WEF Status-Base'!$M$14","v":0},0,{"$f":"'3.WEF Status-Base'!$N$14","v":0},null,{"$f":"'3.WEF Status-Base'!$P$14","v":0},0,{"$f":"'3.WEF Status-Base'!$Q$14","v":0},null,{"$f":"'3.WEF Status-Base'!$S$14","v":0},0,{"$f":"'3.WEF Status-Base'!$T$14","v":0},null,{"$f":"'3.WEF Status-Base'!$V$14","v":0},0,{"$f":"'3.WEF Status-Base'!$W$14","v":0},null,{"$f":"'3.WEF Status-Base'!$Y$14","v":0},0,{"$f":"'3.WEF Status-Base'!$Z$14","v":0},null,{"$f":"'3.WEF Status-Base'!$AB$14","v":0},0,{"$f":"'3.WEF Status-Base'!$AC$14","v":0},null,{"$f":"'3.WEF Status-Base'!$AE$14","v":0},0,{"$f":"'3.WEF Status-Base'!$AF$14","v":0},null,{"$f":"'3.WEF Status-Base'!$AH$14","v":0},0,{"$f":"'3.WEF Status-Base'!$AI$14","v":0},null,{"$f":"'3.WEF Status-Base'!$AK$14","v":0},0,{"$f":"'3.WEF Status-Base'!$AL$14","v":0},null,{"$f":"'3.WEF Status-Base'!$AN$14","v":0},0,{"$f":"'3.WEF Status-Base'!$AO$14","v":0},null,{"$f":"'3.WEF Status-Base'!$AQ$14","v":0},0,{"$f":"'3.WEF Status-Base'!$AR$14","v":0},null,{"$f":"'3.WEF Status-Base'!$AT$14","v":0},0,{"$f":"'3.WEF Status-Base'!$AU$14","v":0},null,{"$f":"'3.WEF Status-Base'!$AW$14","v":0},0,{"$f":"'3.WEF Status-Base'!$AX$14","v":0},null,{"$f":"'3.WEF Status-Base'!$AZ$14","v":0},0,{"$f":"'3.WEF Status-Base'!$BA$14","v":0},null,{"$f":"'3.WEF Status-Base'!$BC$14","v":0},0,{"$f":"'3.WEF Status-Base'!$BD$14","v":0},{"$f":"'3.WEF Status-Base'!$BE$14","v":0}]
[null,"Access",null,null,null,6,null,null,null,null,null,null,null,null,null,null,null,null,null,null,null,null,null,null,null,null,null,null,null,null,null,null,null,null,null,null,null,null,null,null,null,null,null,null,null,null,null,null,null,null,null,null,null,null,null,null,null,null,null,null,null,null,null,null,null,null,null,null,null,null,null,null,null,null,null,null,null,null,null,6]
[null,"Purchasing power (livelihood income, remittances, credit)\n",null,{"$f":"MAX(H189:BZ189)","v":0},null,7,{"$f":"'3.WEF Status-Base'!$D$16","v":0},0,{"$f":"'3.WEF Status-Base'!$E$16","v":0},null,{"$f":"'3.WEF Status-Base'!$G$16","v":0},0,{"$f":"'3.WEF Status-Base'!$H$16","v":0},null,{"$f":"'3.WEF Status-Base'!$J$16","v":0},0,{"$f":"'3.WEF Status-Base'!$K$16","v":0},null,{"$f":"'3.WEF Status-Base'!$M$16","v":0},0,{"$f":"'3.WEF Status-Base'!$N$16","v":0},null,{"$f":"'3.WEF Status-Base'!$P$16","v":0},0,{"$f":"'3.WEF Status-Base'!$Q$16","v":0},null,{"$f":"'3.WEF Status-Base'!$S$16","v":0},0,{"$f":"'3.WEF Status-Base'!$T$16","v":0},null,{"$f":"'3.WEF Status-Base'!$V$16","v":0},0,{"$f":"'3.WEF Status-Base'!$W$16","v":0},null,{"$f":"'3.WEF Status-Base'!$Y$16","v":0},0,{"$f":"'3.WEF Status-Base'!$Z$16","v":0},null,{"$f":"'3.WEF Status-Base'!$AB$16","v":0},0,{"$f":"'3.WEF Status-Base'!$AC$16","v":0},null,{"$f":"'3.WEF Status-Base'!$AE$16","v":0},0,{"$f":"'3.WEF Status-Base'!$AF$16","v":0},null,{"$f":"'3.WEF Status-Base'!$AH$16","v":0},0,{"$f":"'3.WEF Status-Base'!$AI$16","v":0},null,{"$f":"'3.WEF Status-Base'!$AK$16","v":0},0,{"$f":"'3.WEF Status-Base'!$AL$16","v":0},null,{"$f":"'3.WEF Status-Base'!$AN$16","v":0},0,{"$f":"'3.WEF Status-Base'!$AO$16","v":0},null,{"$f":"'3.WEF Status-Base'!$AQ$16","v":0},0,{"$f":"'3.WEF Status-Base'!$AR$16","v":0},null,{"$f":"'3.WEF Status-Base'!$AT$16","v":0},0,{"$f":"'3.WEF Status-Base'!$AU$16","v":0},null,{"$f":"'3.WEF Status-Base'!$AW$16","v":0},0,{"$f":"'3.WEF Status-Base'!$AX$16","v":0},null,{"$f":"'3.WEF Status-Base'!$AZ$16","v":0},0,{"$f":"'3.WEF Status-Base'!$BA$16","v":0},null,{"$f":"'3.WEF Status-Base'!$BC$16","v":0},0,{"$f":"'3.WEF Status-Base'!$BD$16","v":0},{"$f":"'3.WEF Status-Base'!$BE$16","v":0},null,7,{"$f":"'3.WEF Status-Base'!$D$16","v":0},0,{"$f":"'3.WEF Status-Base'!$E$16","v":0},null,{"$f":"'3.WEF Status-Base'!$G$16","v":0},0,{"$f":"'3.WEF Status-Base'!$H$16","v":0},null,{"$f":"'3.WEF Status-Base'!$J$16","v":0},0,{"$f":"'3.WEF Status-Base'!$K$16","v":0},null,{"$f":"'3.WEF Status-Base'!$M$16","v":0},0,{"$f":"'3.WEF Status-Base'!$N$16","v":0},null,{"$f":"'3.WEF Status-Base'!$P$16","v":0},0,{"$f":"'3.WEF Status-Base'!$Q$16","v":0},null,{"$f":"'3.WEF Status-Base'!$S$16","v":0},0,{"$f":"'3.WEF Status-Base'!$T$16","v":0},null,{"$f":"'3.WEF Status-Base'!$V$16","v":0},0,{"$f":"'3.WEF Status-Base'!$W$16","v":0},null,{"$f":"'3.WEF Status-Base'!$Y$16","v":0},0,{"$f":"'3.WEF Status-Base'!$Z$16","v":0},null,{"$f":"'3.WEF Status-Base'!$AB$16","v":0},0,{"$f":"'3.WEF Status-Base'!$AC$16","v":0},null,{"$f":"'3.WEF Status-Base'!$AE$16","v":0},0,{"$f":"'3.WEF Status-Base'!$AF$16","v":0},null,{"$f":"'3.WEF Status-Base'!$AH$16","v":0},0,{"$f":"'3.WEF Status-Base'!$AI$16","v":0},null,{"$f":"'3.WEF Status-Base'!$AK$16","v":0},0,{"$f":"'3.WEF Status-Base'!$AL$16","v":0},null,{"$f":"'3.WEF Status-Base'!$AN$16","v":0},0,{"$f":"'3.WEF Status-Base'!$AO$16","v":0},null,{"$f":"'3.WEF Status-Base'!$AQ$16","v":0},0,{"$f":"'3.WEF Status-Base'!$AR$16","v":0},null,{"$f":"'3.WEF Status-Base'!$AT$16","v":0},0,{"$f":"'3.WEF Status-Base'!$AU$16","v":0},null,{"$f":"'3.WEF Status-Base'!$AW$16","v":0},0,{"$f":"'3.WEF Status-Base'!$AX$16","v":0},null,{"$f":"'3.WEF Status-Base'!$AZ$16","v":0},0,{"$f":"'3.WEF Status-Base'!$BA$16","v":0},null,{"$f":"'3.WEF Status-Base'!$BC$16","v":0},0,{"$f":"'3.WEF Status-Base'!$BD$16","v":0},{"$f":"'3.WEF Status-Base'!$BE$16","v":0}]
[null,"Aid (direct provision, saftey nets, subsidies)\n",null,{"$f":"MAX(H190:BZ190)","v":0},null,8,{"$f":"'3.WEF Status-Base'!$D$17","v":0},0,{"$f":"'3.WEF Status-Base'!$E$17","v":0},null,{"$f":"'3.WEF Status-Base'!$G$17","v":0},0,{"$f":"'3.WEF Status-Base'!$H$17","v":0},null,{"$f":"'3.WEF Status-Base'!$J$17","v":0},0,{"$f":"'3.WEF Status-Base'!$K$17","v":0},null,{"$f":"'3.WEF Status-Base'!$M$17","v":0},0,{"$f":"'3.WEF Status-Base'!$N$17","v":0},null,{"$f":"'3.WEF Status-Base'!$P$17","v":0},0,{"$f":"'3.WEF Status-Base'!$Q$17","v":0},null,{"$f":"'3.WEF Status-Base'!$S$17","v":0},0,{"$f":"'3.WEF Status-Base'!$T$17","v":0},null,{"$f":"'3.WEF Status-Base'!$V$17","v":0},0,{"$f":"'3.WEF Status-Base'!$W$17","v":0},null,{"$f":"'3.WEF Status-Base'!$Y$17","v":0},0,{"$f":"'3.WEF Status-Base'!$Z$17","v":0},null,{"$f":"'3.WEF Status-Base'!$AB$17","v":0},0,{"$f":"'3.WEF Status-Base'!$AC$17","v":0},null,{"$f":"'3.WEF Status-Base'!$AE$17","v":0},0,{"$f":"'3.WEF Status-Base'!$AF$17","v":0},null,{"$f":"'3.WEF Status-Base'!$AH$17","v":0},0,{"$f":"'3.WEF Status-Base'!$AI$17","v":0},null,{"$f":"'3.WEF Status-Base'!$AK$17","v":0},0,{"$f":"'3.WEF Status-Base'!$AL$17","v":0},null,{"$f":"'3.WEF Status-Base'!$AN$17","v":0},0,{"$f":"'3.WEF Status-Base'!$AO$17","v":0},null,{"$f":"'3.WEF Status-Base'!$AQ$17","v":0},0,{"$f":"'3.WEF Status-Base'!$AR$17","v":0},null,{"$f":"'3.WEF Status-Base'!$AT$17","v":0},0,{"$f":"'3.WEF Status-Base'!$AU$17","v":0},null,{"$f":"'3.WEF Status-Base'!$AW$17","v":0},0,{"$f":"'3.WEF Status-Base'!$AX$17","v":0},null,{"$f":"'3.WEF Status-Base'!$AZ$17","v":0},0,{"$f":"'3.WEF Status-Base'!$BA$17","v":0},null,{"$f":"'3.WEF Status-Base'!$BC$17","v":0},0,{"$f":"'3.WEF Status-Base'!$BD$17","v":0},{"$f":"'3.WEF Status-Base'!$BE$17","v":0},null,8,{"$f":"'3.WEF Status-Base'!$D$17","v":0},0,{"$f":"'3.WEF Status-Base'!$E$17","v":0},null,{"$f":"'3.WEF Status-Base'!$G$17","v":0},0,{"$f":"'3.WEF Status-Base'!$H$17","v":0},null,{"$f":"'3.WEF Status-Base'!$J$17","v":0},0,{"$f":"'3.WEF Status-Base'!$K$17","v":0},null,{"$f":"'3.WEF Status-Base'!$M$17","v":0},0,{"$f":"'3.WEF Status-Base'!$N$17","v":0},null,{"$f":"'3.WEF Status-Base'!$P$17","v":0},0,{"$f":"'3.WEF Status-Base'!$Q$17","v":0},null,{"$f":"'3.WEF Status-Base'!$S$17","v":0},0,{"$f":"'3.WEF Status-Base'!$T$17","v":0},null,{"$f":"'3.WEF Status-Base'!$V$17","v":0},0,{"$f":"'3.WEF Status-Base'!$W$17","v":0},null,{"$f":"'3.WEF Status-Base'!$Y$17","v":0},0,{"$f":"'3.WEF Status-Base'!$Z$17","v":0},null,{"$f":"'3.WEF Status-Base'!$AB$17","v":0},0,{"$f":"'3.WEF Status-Base'!$AC$17","v":0},null,{"$f":"'3.WEF Status-Base'!$AE$17","v":0},0,{"$f":"'3.WEF Status-Base'!$AF$17","v":0},null,{"$f":"'3.WEF Status-Base'!$AH$17","v":0},0,{"$f":"'3.WEF Status-Base'!$AI$17","v":0},null,{"$f":"'3.WEF Status-Base'!$AK$17","v":0},0,{"$f":"'3.WEF Status-Base'!$AL$17","v":0},null,{"$f":"'3.WEF Status-Base'!$AN$17","v":0},0,{"$f":"'3.WEF Status-Base'!$AO$17","v":0},null,{"$f":"'3.WEF Status-Base'!$AQ$17","v":0},0,{"$f":"'3.WEF Status-Base'!$AR$17","v":0},null,{"$f":"'3.WEF Status-Base'!$AT$17","v":0},0,{"$f":"'3.WEF Status-Base'!$AU$17","v":0},null,{"$f":"'3.WEF Status-Base'!$AW$17","v":0},0,{"$f":"'3.WEF Status-Base'!$AX$17","v":0},null,{"$f":"'3.WEF Status-Base'!$AZ$17","v":0},0,{"$f":"'3.WEF Status-Base'!$BA$17","v":0},null,{"$f":"'3.WEF Status-Base'!$BC$17","v":0},0,{"$f":"'3.WEF Status-Base'!$BD$17","v":0},{"$f":"'3.WEF Status-Base'!$BE$17","v":0}]
[null,"Self-production (water wells, off-grid power, individual/community gardens)\n",null,{"$f":"MAX(H191:BZ191)","v":0},null,9,{"$f":"'3.WEF Status-Base'!$D$18","v":0},0,{"$f":"'3.WEF Status-Base'!$E$18","v":0},null,{"$f":"'3.WEF Status-Base'!$G$18","v":0},0,{"$f":"'3.WEF Status-Base'!$H$18","v":0},null,{"$f":"'3.WEF Status-Base'!$J$18","v":0},0,{"$f":"'3.WEF Status-Base'!$K$18","v":0},null,{"$f":"'3.WEF Status-Base'!$M$18","v":0},0,{"$f":"'3.WEF Status-Base'!$N$18","v":0},null,{"$f":"'3.WEF Status-Base'!$P$18","v":0},0,{"$f":"'3.WEF Status-Base'!$Q$18","v":0},null,{"$f":"'3.WEF Status-Base'!$S$18","v":0},0,{"$f":"'3.WEF Status-Base'!$T$18","v":0},null,{"$f":"'3.WEF Status-Base'!$V$18","v":0},0,{"$f":"'3.WEF Status-Base'!$W$18","v":0},null,{"$f":"'3.WEF Status-Base'!$Y$18","v":0},0,{"$f":"'3.WEF Status-Base'!$Z$18","v":0},null,{"$f":"'3.WEF Status-Base'!$AB$18","v":0},0,{"$f":"'3.WEF Status-Base'!$AC$18","v":0},null,{"$f":"'3.WEF Status-Base'!$AE$18","v":0},0,{"$f":"'3.WEF Status-Base'!$AF$18","v":0},null,{"$f":"'3.WEF Status-Base'!$AH$18","v":0},0,{"$f":"'3.WEF Status-Base'!$AI$18","v":0},null,{"$f":"'3.WEF Status-Base'!$AK$18","v":0},0,{"$f":"'3.WEF Status-Base'!$AL$18","v":0},null,{"$f":"'3.WEF Status-Base'!$AN$18","v":0},0,{"$f":"'3.WEF Status-Base'!$AO$18","v":0},null,{"$f":"'3.WEF Status-Base'!$AQ$18","v":0},0,{"$f":"'3.WEF Status-Base'!$AR$18","v":0},null,{"$f":"'3.WEF Status-Base'!$AT$18","v":0},0,{"$f":"'3.WEF Status-Base'!$AU$18","v":0},null,{"$f":"'3.WEF Status-Base'!$AW$18","v":0},0,{"$f":"'3.WEF Status-Base'!$AX$18","v":0},null,{"$f":"'3.WEF Status-Base'!$AZ$18","v":0},0,{"$f":"'3.WEF Status-Base'!$BA$18","v":0},null,{"$f":"'3.WEF Status-Base'!$BC$18","v":0},0,{"$f":"'3.WEF Status-Base'!$BD$18","v":0},{"$f":"'3.WEF Status-Base'!$BE$18","v":0},null,9,{"$f":"'3.WEF Status-Base'!$D$18","v":0},0,{"$f":"'3.WEF Status-Base'!$E$18","v":0},null,{"$f":"'3.WEF Status-Base'!$G$18","v":0},0,{"$f":"'3.WEF Status-Base'!$H$18","v":0},null,{"$f":"'3.WEF Status-Base'!$J$18","v":0},0,{"$f":"'3.WEF Status-Base'!$K$18","v":0},null,{"$f":"'3.WEF Status-Base'!$M$18","v":0},0,{"$f":"'3.WEF Status-Base'!$N$18","v":0},null,{"$f":"'3.WEF Status-Base'!$P$18","v":0},0,{"$f":"'3.WEF Status-Base'!$Q$18","v":0},null,{"$f":"'3.WEF Status-Base'!$S$18","v":0},0,{"$f":"'3.WEF Status-Base'!$T$18","v":0},null,{"$f":"'3.WEF Status-Base'!$V$18","v":0},0,{"$f":"'3.WEF Status-Base'!$W$18","v":0},null,{"$f":"'3.WEF Status-Base'!$Y$18","v":0},0,{"$f":"'3.WEF Status-Base'!$Z$18","v":0},null,{"$f":"'3.WEF Status-Base'!$AB$18","v":0},0,{"$f":"'3.WEF Status-Base'!$AC$18","v":0},null,{"$f":"'3.WEF Status-Base'!$AE$18","v":0},0,{"$f":"'3.WEF Status-Base'!$AF$18","v":0},null,{"$f":"'3.WEF Status-Base'!$AH$18","v":0},0,{"$f":"'3.WEF Status-Base'!$AI$18","v":0},null,{"$f":"'3.WEF Status-Base'!$AK$18","v":0},0,{"$f":"'3.WEF Status-Base'!$AL$18","v":0},null,{"$f":"'3.WEF Status-Base'!$AN$18","v":0},0,{"$f":"'3.WEF Status-Base'!$AO$18","v":0},null,{"$f":"'3.WEF Status-Base'!$AQ$18","v":0},0,{"$f":"'3.WEF Status-Base'!$AR$18","v":0},null,{"$f":"'3.WEF Status-Base'!$AT$18","v":0},0,{"$f":"'3.WEF Status-Base'!$AU$18","v":0},null,{"$f":"'3.WEF Status-Base'!$AW$18","v":0},0,{"$f":"'3.WEF Status-Base'!$AX$18","v":0},null,{"$f":"'3.WEF Status-Base'!$AZ$18","v":0},0,{"$f":"'3.WEF Status-Base'!$BA$18","v":0},null,{"$f":"'3.WEF Status-Base'!$BC$18","v":0},0,{"$f":"'3.WEF Status-Base'!$BD$18","v":0},{"$f":"'3.WEF Status-Base'!$BE$18","v":0}]
[null,"Barter",null,{"$f":"MAX(H192:BZ192)","v":0},null,10,{"$f":"'3.WEF Status-Base'!$D$19","v":0},0,{"$f":"'3.WEF Status-Base'!$E$19","v":0},null,{"$f":"'3.WEF Status-Base'!$G$19","v":0},0,{"$f":"'3.WEF Status-Base'!$H$19","v":0},null,{"$f":"'3.WEF Status-Base'!$J$19","v":0},0,{"$f":"'3.WEF Status-Base'!$K$19","v":0},null,{"$f":"'3.WEF Status-Base'!$M$19","v":0},0,{"$f":"'3.WEF Status-Base'!$N$19","v":0},null,{"$f":"'3.WEF Status-Base'!$P$19","v":0},0,{"$f":"'3.WEF Status-Base'!$Q$19","v":0},null,{"$f":"'3.WEF Status-Base'!$S$19","v":0},0,{"$f":"'3.WEF Status-Base'!$T$19","v":0},null,{"$f":"'3.WEF Status-Base'!$V$19","v":0},0,{"$f":"'3.WEF Status-Base'!$W$19","v":0},null,{"$f":"'3.WEF Status-Base'!$Y$19","v":0},0,{"$f":"'3.WEF Status-Base'!$Z$19","v":0},null,{"$f":"'3.WEF Status-Base'!$AB$19","v":0},0,{"$f":"'3.WEF Status-Base'!$AC$19","v":0},null,{"$f":"'3.WEF Status-Base'!$AE$19","v":0},0,{"$f":"'3.WEF Status-Base'!$AF$19","v":0},null,{"$f":"'3.WEF Status-Base'!$AH$19","v":0},0,{"$f":"'3.WEF Status-Base'!$AI$19","v":0},null,{"$f":"'3.WEF Status-Base'!$AK$19","v":0},0,{"$f":"'3.WEF Status-Base'!$AL$19","v":0},null,{"$f":"'3.WEF Status-Base'!$AN$19","v":0},0,{"$f":"'3.WEF Status-Base'!$AO$19","v":0},null,{"$f":"'3.WEF Status-Base'!$AQ$19","v":0},0,{"$f":"'3.WEF Status-Base'!$AR$19","v":0},null,{"$f":"'3.WEF Status-Base'!$AT$19","v":0},0,{"$f":"'3.WEF Status-Base'!$AU$19","v":0},null,{"$f":"'3.WEF Status-Base'!$AW$19","v":0},0,{"$f":"'3.WEF Status-Base'!$AX$19","v":0},null,{"$f":"'3.WEF Status-Base'!$AZ$19","v":0},0,{"$f":"'3.WEF Status-Base'!$BA$19","v":0},null,{"$f":"'3.WEF Status-Base'!$BC$19","v":0},0,{"$f":"'3.WEF Status-Base'!$BD$19","v":0},{"$f":"'3.WEF Status-Base'!$BE$19","v":0},null,10,{"$f":"'3.WEF Status-Base'!$D$19","v":0},0,{"$f":"'3.WEF Status-Base'!$E$19","v":0},null,{"$f":"'3.WEF Status-Base'!$G$19","v":0},0,{"$f":"'3.WEF Status-Base'!$H$19","v":0},null,{"$f":"'3.WEF Status-Base'!$J$19","v":0},0,{"$f":"'3.WEF Status-Base'!$K$19","v":0},null,{"$f":"'3.WEF Status-Base'!$M$19","v":0},0,{"$f":"'3.WEF Status-Base'!$N$19","v":0},null,{"$f":"'3.WEF Status-Base'!$P$19","v":0},0,{"$f":"'3.WEF Status-Base'!$Q$19","v":0},null,{"$f":"'3.WEF Status-Base'!$S$19","v":0},0,{"$f":"'3.WEF Status-Base'!$T$19","v":0},null,{"$f":"'3.WEF Status-Base'!$V$19","v":0},0,{"$f":"'3.WEF Status-Base'!$W$19","v":0},null,{"$f":"'3.WEF Status-Base'!$Y$19","v":0},0,{"$f":"'3.WEF Status-Base'!$Z$19","v":0},null,{"$f":"'3.WEF Status-Base'!$AB$19","v":0},0,{"$f":"'3.WEF Status-Base'!$AC$19","v":0},null,{"$f":"'3.WEF Status-Base'!$AE$19","v":0},0,{"$f":"'3.WEF Status-Base'!$AF$19","v":0},null,{"$f":"'3.WEF Status-Base'!$AH$19","v":0},0,{"$f":"'3.WEF Status-Base'!$AI$19","v":0},null,{"$f":"'3.WEF Status-Base'!$AK$19","v":0},0,{"$f":"'3.WEF Status-Base'!$AL$19","v":0},null,{"$f":"'3.WEF Status-Base'!$AN$19","v":0},0,{"$f":"'3.WEF Status-Base'!$AO$19","v":0},null,{"$f":"'3.WEF Status-Base'!$AQ$19","v":0},0,{"$f":"'3.WEF Status-Base'!$AR$19","v":0},null,{"$f":"'3.WEF Status-Base'!$AT$19","v":0},0,{"$f":"'3.WEF Status-Base'!$AU$19","v":0},null,{"$f":"'3.WEF Status-Base'!$AW$19","v":0},0,{"$f":"'3.WEF Status-Base'!$AX$19","v":0},null,{"$f":"'3.WEF Status-Base'!$AZ$19","v":0},0,{"$f":"'3.WEF Status-Base'!$BA$19","v":0},null,{"$f":"'3.WEF Status-Base'!$BC$19","v":0},0,{"$f":"'3.WEF Status-Base'!$BD$19","v":0},{"$f":"'3.WEF Status-Base'!$BE$19","v":0}]
[null,"Supporting Infrastructure",null,null,null,11,null,null,null,null,null,null,null,null,null,null,null,null,null,null,null,null,null,null,null,null,null,null,null,null,null,null,null,null,null,null,null,null,null,null,null,null,null,null,null,null,null,null,null,null,null,null,null,null,null,null,null,null,null,null,null,null,null,null,null,null,null,null,null,null,null,null,null,null,null,null,null,null,null,11]
[null,"Built Infrastructure",null,{"$f":"MAX(H194:BZ194)","v":0},null,12,{"$f":"'3.WEF Status-Base'!$D$21","v":0},0,{"$f":"'3.WEF Status-Base'!$E$21","v":0},null,{"$f":"'3.WEF Status-Base'!$G$21","v":0},0,{"$f":"'3.WEF Status-Base'!$H$21","v":0},null,{"$f":"'3.WEF Status-Base'!$J$21","v":0},0,{"$f":"'3.WEF Status-Base'!$K$21","v":0},null,{"$f":"'3.WEF Status-Base'!$M$21","v":0},0,{"$f":"'3.WEF Status-Base'!$N$21","v":0},null,{"$f":"'3.WEF Status-Base'!$P$21","v":0},0,{"$f":"'3.WEF Status-Base'!$Q$21","v":0},null,{"$f":"'3.WEF Status-Base'!$S$21","v":0},0,{"$f":"'3.WEF Status-Base'!$T$21","v":0},null,{"$f":"'3.WEF Status-Base'!$V$21","v":0},0,{"$f":"'3.WEF Status-Base'!$W$21","v":0},null,{"$f":"'3.WEF Status-Base'!$Y$21","v":0},0,{"$f":"'3.WEF Status-Base'!$Z$21","v":0},null,{"$f":"'3.WEF Status-Base'!$AB$21","v":0},0,{"$f":"'3.WEF Status-Base'!$AC$21","v":0},null,{"$f":"'3.WEF Status-Base'!$AE$21","v":0},0,{"$f":"'3.WEF Status-Base'!$AF$21","v":0},null,{"$f":"'3.WEF Status-Base'!$AH$21","v":0},0,{"$f":"'3.WEF Status-Base'!$AI$21","v":0},null,{"$f":"'3.WEF Status-Base'!$AK$21","v":0},0,{"$f":"'3.WEF Status-Base'!$AL$21","v":0},null,{"$f":"'3.WEF Status-Base'!$AN$21","v":0},0,{"$f":"'3.WEF Status-Base'!$AO$21","v":0},null,{"$f":"'3.WEF Status-Base'!$AQ$21","v":0},0,{"$f":"'3.WEF Status-Base'!$AR$21","v":0},null,{"$f":"'3.WEF Status-Base'!$AT$21","v":0},0,{"$f":"'3.WEF Status-Base'!$AU$21","v":0},null,{"$f":"'3.WEF Status-Base'!$AW$21","v":0},0,{"$f":"'3.WEF Status-Base'!$AX$21","v":0},null,{"$f":"'3.WEF Status-Base'!$AZ$21","v":0},0,{"$f":"'3.WEF Status-Base'!$BA$21","v":0},null,{"$f":"'3.WEF Status-Base'!$BC$21","v":0},0,{"$f":"'3.WEF Status-Base'!$BD$21","v":0},{"$f":"'3.WEF Status-Base'!$BE$21","v":0},null,12,{"$f":"'3.WEF Status-Base'!$D$21","v":0},0,{"$f":"'3.WEF Status-Base'!$E$21","v":0},null,{"$f":"'3.WEF Status-Base'!$G$21","v":0},0,{"$f":"'3.WEF Status-Base'!$H$21","v":0},null,{"$f":"'3.WEF Status-Base'!$J$21","v":0},0,{"$f":"'3.WEF Status-Base'!$K$21","v":0},null,{"$f":"'3.WEF Status-Base'!$M$21","v":0},0,{"$f":"'3.WEF Status-Base'!$N$21","v":0},null,{"$f":"'3.WEF Status-Base'!$P$21","v":0},0,{"$f":"'3.WEF Status-Base'!$Q$21","v":0},null,{"$f":"'3.WEF Status-Base'!$S$21","v":0},0,{"$f":"'3.WEF Status-Base'!$T$21","v":0},null,{"$f":"'3.WEF Status-Base'!$V$21","v":0},0,{"$f":"'3.WEF Status-Base'!$W$21","v":0},null,{"$f":"'3.WEF Status-Base'!$Y$21","v":0},0,{"$f":"'3.WEF Status-Base'!$Z$21","v":0},null,{"$f":"'3.WEF Status-Base'!$AB$21","v":0},0,{"$f":"'3.WEF Status-Base'!$AC$21","v":0},null,{"$f":"'3.WEF Status-Base'!$AE$21","v":0},0,{"$f":"'3.WEF Status-Base'!$AF$21","v":0},null,{"$f":"'3.WEF Status-Base'!$AH$21","v":0},0,{"$f":"'3.WEF Status-Base'!$AI$21","v":0},null,{"$f":"'3.WEF Status-Base'!$AK$21","v":0},0,{"$f":"'3.WEF Status-Base'!$AL$21","v":0},null,{"$f":"'3.WEF Status-Base'!$AN$21","v":0},0,{"$f":"'3.WEF Status-Base'!$AO$21","v":0},null,{"$f":"'3.WEF Status-Base'!$AQ$21","v":0},0,{"$f":"'3.WEF Status-Base'!$AR$21","v":0},null,{"$f":"'3.WEF Status-Base'!$AT$21","v":0},0,{"$f":"'3.WEF Status-Base'!$AU$21","v":0},null,{"$f":"'3.WEF Status-Base'!$AW$21","v":0},0,{"$f":"'3.WEF Status-Base'!$AX$21","v":0},null,{"$f":"'3.WEF Status-Base'!$AZ$21","v":0},0,{"$f":"'3.WEF Status-Base'!$BA$21","v":0},null,{"$f":"'3.WEF Status-Base'!$BC$21","v":0},0,{"$f":"'3.WEF Status-Base'!$BD$21","v":0},{"$f":"'3.WEF Status-Base'!$BE$21","v":0}]
[null,"     Transportation",null,0,null,13,{"$f":"'3.WEF Status-Base'!$D$22","v":0},0,{"$f":"'3.WEF Status-Base'!$E$22","v":0},null,{"$f":"'3.WEF Status-Base'!$G$22","v":0},0,{"$f":"'3.WEF Status-Base'!$H$22","v":0},null,{"$f":"'3.WEF Status-Base'!$J$22","v":0},0,{"$f":"'3.WEF Status-Base'!$K$22","v":0},null,{"$f":"'3.WEF Status-Base'!$M$22","v":0},0,{"$f":"'3.WEF Status-Base'!$N$22","v":0},null,{"$f":"'3.WEF Status-Base'!$P$22","v":0},0,{"$f":"'3.WEF Status-Base'!$Q$22","v":0},null,{"$f":"'3.WEF Status-Base'!$S$22","v":0},0,{"$f":"'3.WEF Status-Base'!$T$22","v":0},null,{"$f":"'3.WEF Status-Base'!$V$22","v":0},0,{"$f":"'3.WEF Status-Base'!$W$22","v":0},null,{"$f":"'3.WEF Status-Base'!$Y$22","v":0},0,{"$f":"'3.WEF Status-Base'!$Z$22","v":0},null,{"$f":"'3.WEF Status-Base'!$AB$22","v":0},0,{"$f":"'3.WEF Status-Base'!$AC$22","v":0},null,{"$f":"'3.WEF Status-Base'!$AE$22","v":0},0,{"$f":"'3.WEF Status-Base'!$AF$22","v":0},null,{"$f":"'3.WEF Status-Base'!$AH$22","v":0},0,{"$f":"'3.WEF Status-Base'!$AI$22","v":0},null,{"$f":"'3.WEF Status-Base'!$AK$22","v":0},0,{"$f":"'3.WEF Status-Base'!$AL$22","v":0},null,{"$f":"'3.WEF Status-Base'!$AN$22","v":0},0,{"$f":"'3.WEF Status-Base'!$AO$22","v":0},null,{"$f":"'3.WEF Status-Base'!$AQ$22","v":0},0,{"$f":"'3.WEF Status-Base'!$AR$22","v":0},null,{"$f":"'3.WEF Status-Base'!$AT$22","v":0},0,{"$f":"'3.WEF Status-Base'!$AU$22","v":0},null,{"$f":"'3.WEF Status-Base'!$AW$22","v":0},0,{"$f":"'3.WEF Status-Base'!$AX$22","v":0},null,{"$f":"'3.WEF Status-Base'!$AZ$22","v":0},0,{"$f":"'3.WEF Status-Base'!$BA$22","v":0},null,{"$f":"'3.WEF Status-Base'!$BC$22","v":0},0,{"$f":"'3.WEF Status-Base'!$BD$22","v":0},{"$f":"'3.WEF Status-Base'!$BE$22","v":0},null,13,{"$f":"'3.WEF Status-Base'!$D$22","v":0},0,{"$f":"'3.WEF Status-Base'!$E$22","v":0},null,{"$f":"'3.WEF Status-Base'!$G$22","v":0},0,{"$f":"'3.WEF Status-Base'!$H$22","v":0},null,{"$f":"'3.WEF Status-Base'!$J$22","v":0},0,{"$f":"'3.WEF Status-Base'!$K$22","v":0},null,{"$f":"'3.WEF Status-Base'!$M$22","v":0},0,{"$f":"'3.WEF Status-Base'!$N$22","v":0},null,{"$f":"'3.WEF Status-Base'!$P$22","v":0},0,{"$f":"'3.WEF Status-Base'!$Q$22","v":0},null,{"$f":"'3.WEF Status-Base'!$S$22","v":0},0,{"$f":"'3.WEF Status-Base'!$T$22","v":0},null,{"$f":"'3.WEF Status-Base'!$V$22","v":0},0,{"$f":"'3.WEF Status-Base'!$W$22","v":0},null,{"$f":"'3.WEF Status-Base'!$Y$22","v":0},0,{"$f":"'3.WEF Status-Base'!$Z$22","v":0},null,{"$f":"'3.WEF Status-Base'!$AB$22","v":0},0,{"$f":"'3.WEF Status-Base'!$AC$22","v":0},null,{"$f":"'3.WEF Status-Base'!$AE$22","v":0},0,{"$f":"'3.WEF Status-Base'!$AF$22","v":0},null,{"$f":"'3.WEF Status-Base'!$AH$22","v":0},0,{"$f":"'3.WEF Status-Base'!$AI$22","v":0},null,{"$f":"'3.WEF Status-Base'!$AK$22","v":0},0,{"$f":"'3.WEF Status-Base'!$AL$22","v":0},null,{"$f":"'3.WEF Status-Base'!$AN$22","v":0},0,{"$f":"'3.WEF Status-Base'!$AO$22","v":0},null,{"$f":"'3.WEF Status-Base'!$AQ$22","v":0},0,{"$f":"'3.WEF Status-Base'!$AR$22","v":0},null,{"$f":"'3.WEF Status-Base'!$AT$22","v":0},0,{"$f":"'3.WEF Status-Base'!$AU$22","v":0},null,{"$f":"'3.WEF Status-Base'!$AW$22","v":0},0,{"$f":"'3.WEF Status-Base'!$AX$22","v":0},null,{"$f":"'3.WEF Status-Base'!$AZ$22","v":0},0,{"$f":"'3.WEF Status-Base'!$BA$22","v":0},null,{"$f":"'3.WEF Status-Base'!$BC$22","v":0},0,{"$f":"'3.WEF Status-Base'!$BD$22","v":0},{"$f":"'3.WEF Status-Base'!$BE$22","v":0}]
[null,"     Communication",null,0,null,14,{"$f":"'3.WEF Status-Base'!$D$23","v":0},0,{"$f":"'3.WEF Status-Base'!$E$23","v":0},null,{"$f":"'3.WEF Status-Base'!$G$23","v":0},0,{"$f":"'3.WEF Status-Base'!$H$23","v":0},null,{"$f":"'3.WEF Status-Base'!$J$23","v":0},0,{"$f":"'3.WEF Status-Base'!$K$23","v":0},null,{"$f":"'3.WEF Status-Base'!$M$23","v":0},0,{"$f":"'3.WEF Status-Base'!$N$23","v":0},null,{"$f":"'3.WEF Status-Base'!$P$23","v":0},0,{"$f":"'3.WEF Status-Base'!$Q$23","v":0},null,{"$f":"'3.WEF Status-Base'!$S$23","v":0},0,{"$f":"'3.WEF Status-Base'!$T$23","v":0},null,{"$f":"'3.WEF Status-Base'!$V$23","v":0},0,{"$f":"'3.WEF Status-Base'!$W$23","v":0},null,{"$f":"'3.WEF Status-Base'!$Y$23","v":0},0,{"$f":"'3.WEF Status-Base'!$Z$23","v":0},null,{"$f":"'3.WEF Status-Base'!$AB$23","v":0},0,{"$f":"'3.WEF Status-Base'!$AC$23","v":0},null,{"$f":"'3.WEF Status-Base'!$AE$23","v":0},0,{"$f":"'3.WEF Status-Base'!$AF$23","v":0},null,{"$f":"'3.WEF Status-Base'!$AH$23","v":0},0,{"$f":"'3.WEF Status-Base'!$AI$23","v":0},null,{"$f":"'3.WEF Status-Base'!$AK$23","v":0},0,{"$f":"'3.WEF Status-Base'!$AL$23","v":0},null,{"$f":"'3.WEF Status-Base'!$AN$23","v":0},0,{"$f":"'3.WEF Status-Base'!$AO$23","v":0},null,{"$f":"'3.WEF Status-Base'!$AQ$23","v":0},0,{"$f":"'3.WEF Status-Base'!$AR$23","v":0},null,{"$f":"'3.WEF Status-Base'!$AT$23","v":0},0,{"$f":"'3.WEF Status-Base'!$AU$23","v":0},null,{"$f":"'3.WEF Status-Base'!$AW$23","v":0},0,{"$f":"'3.WEF Status-Base'!$AX$23","v":0},null,{"$f":"'3.WEF Status-Base'!$AZ$23","v":0},0,{"$f":"'3.WEF Status-Base'!$BA$23","v":0},null,{"$f":"'3.WEF Status-Base'!$BC$23","v":0},0,{"$f":"'3.WEF Status-Base'!$BD$23","v":0},{"$f":"'3.WEF Status-Base'!$BE$23","v":0},null,14,{"$f":"'3.WEF Status-Base'!$D$23","v":0},0,{"$f":"'3.WEF Status-Base'!$E$23","v":0},null,{"$f":"'3.WEF Status-Base'!$G$23","v":0},0,{"$f":"'3.WEF Status-Base'!$H$23","v":0},null,{"$f":"'3.WEF Status-Base'!$J$23","v":0},0,{"$f":"'3.WEF Status-Base'!$K$23","v":0},null,{"$f":"'3.WEF Status-Base'!$M$23","v":0},0,{"$f":"'3.WEF Status-Base'!$N$23","v":0},null,{"$f":"'3.WEF Status-Base'!$P$23","v":0},0,{"$f":"'3.WEF Status-Base'!$Q$23","v":0},null,{"$f":"'3.WEF Status-Base'!$S$23","v":0},0,{"$f":"'3.WEF Status-Base'!$T$23","v":0},null,{"$f":"'3.WEF Status-Base'!$V$23","v":0},0,{"$f":"'3.WEF Status-Base'!$W$23","v":0},null,{"$f":"'3.WEF Status-Base'!$Y$23","v":0},0,{"$f":"'3.WEF Status-Base'!$Z$23","v":0},null,{"$f":"'3.WEF Status-Base'!$AB$23","v":0},0,{"$f":"'3.WEF Status-Base'!$AC$23","v":0},null,{"$f":"'3.WEF Status-Base'!$AE$23","v":0},0,{"$f":"'3.WEF Status-Base'!$AF$23","v":0},null,{"$f":"'3.WEF Status-Base'!$AH$23","v":0},0,{"$f":"'3.WEF Status-Base'!$AI$23","v":0},null,{"$f":"'3.WEF Status-Base'!$AK$23","v":0},0,{"$f":"'3.WEF Status-Base'!$AL$23","v":0},null,{"$f":"'3.WEF Status-Base'!$AN$23","v":0},0,{"$f":"'3.WEF Status-Base'!$AO$23","v":0},null,{"$f":"'3.WEF Status-Base'!$AQ$23","v":0},0,{"$f":"'3.WEF Status-Base'!$AR$23","v":0},null,{"$f":"'3.WEF Status-Base'!$AT$23","v":0},0,{"$f":"'3.WEF Status-Base'!$AU$23","v":0},null,{"$f":"'3.WEF Status-Base'!$AW$23","v":0},0,{"$f":"'3.WEF Status-Base'!$AX$23","v":0},null,{"$f":"'3.WEF Status-Base'!$AZ$23","v":0},0,{"$f":"'3.WEF Status-Base'!$BA$23","v":0},null,{"$f":"'3.WEF Status-Base'!$BC$23","v":0},0,{"$f":"'3.WEF Status-Base'!$BD$23","v":0},{"$f":"'3.WEF Status-Base'!$BE$23","v":0}]
[null,"     Waste removal/disposal",null,0,null,15,{"$f":"'3.WEF Status-Base'!$D$24","v":0},0,{"$f":"'3.WEF Status-Base'!$E$24","v":0},null,{"$f":"'3.WEF Status-Base'!$G$24","v":0},0,{"$f":"'3.WEF Status-Base'!$H$24","v":0},null,{"$f":"'3.WEF Status-Base'!$J$24","v":0},0,{"$f":"'3.WEF Status-Base'!$K$24","v":0},null,{"$f":"'3.WEF Status-Base'!$M$24","v":0},0,{"$f":"'3.WEF Status-Base'!$N$24","v":0},null,{"$f":"'3.WEF Status-Base'!$P$24","v":0},0,{"$f":"'3.WEF Status-Base'!$Q$24","v":0},null,{"$f":"'3.WEF Status-Base'!$S$24","v":0},0,{"$f":"'3.WEF Status-Base'!$T$24","v":0},null,{"$f":"'3.WEF Status-Base'!$V$24","v":0},0,{"$f":"'3.WEF Status-Base'!$W$24","v":0},null,{"$f":"'3.WEF Status-Base'!$Y$24","v":0},0,{"$f":"'3.WEF Status-Base'!$Z$24","v":0},null,{"$f":"'3.WEF Status-Base'!$AB$24","v":0},0,{"$f":"'3.WEF Status-Base'!$AC$24","v":0},null,{"$f":"'3.WEF Status-Base'!$AE$24","v":0},0,{"$f":"'3.WEF Status-Base'!$AF$24","v":0},null,{"$f":"'3.WEF Status-Base'!$AH$24","v":0},0,{"$f":"'3.WEF Status-Base'!$AI$24","v":0},null,{"$f":"'3.WEF Status-Base'!$AK$24","v":0},0,{"$f":"'3.WEF Status-Base'!$AL$24","v":0},null,{"$f":"'3.WEF Status-Base'!$AN$24","v":0},0,{"$f":"'3.WEF Status-Base'!$AO$24","v":0},null,{"$f":"'3.WEF Status-Base'!$AQ$24","v":0},0,{"$f":"'3.WEF Status-Base'!$AR$24","v":0},null,{"$f":"'3.WEF Status-Base'!$AT$24","v":0},0,{"$f":"'3.WEF Status-Base'!$AU$24","v":0},null,{"$f":"'3.WEF Status-Base'!$AW$24","v":0},0,{"$f":"'3.WEF Status-Base'!$AX$24","v":0},null,{"$f":"'3.WEF Status-Base'!$AZ$24","v":0},0,{"$f":"'3.WEF Status-Base'!$BA$24","v":0},null,{"$f":"'3.WEF Status-Base'!$BC$24","v":0},0,{"$f":"'3.WEF Status-Base'!$BD$24","v":0},{"$f":"'3.WEF Status-Base'!$BE$24","v":0},null,15,{"$f":"'3.WEF Status-Base'!$D$24","v":0},0,{"$f":"'3.WEF Status-Base'!$E$24","v":0},null,{"$f":"'3.WEF Status-Base'!$G$24","v":0},0,{"$f":"'3.WEF Status-Base'!$H$24","v":0},null,{"$f":"'3.WEF Status-Base'!$J$24","v":0},0,{"$f":"'3.WEF Status-Base'!$K$24","v":0},null,{"$f":"'3.WEF Status-Base'!$M$24","v":0},0,{"$f":"'3.WEF Status-Base'!$N$24","v":0},null,{"$f":"'3.WEF Status-Base'!$P$24","v":0},0,{"$f":"'3.WEF Status-Base'!$Q$24","v":0},null,{"$f":"'3.WEF Status-Base'!$S$24","v":0},0,{"$f":"'3.WEF Status-Base'!$T$24","v":0},null,{"$f":"'3.WEF Status-Base'!$V$24","v":0},0,{"$f":"'3.WEF Status-Base'!$W$24","v":0},null,{"$f":"'3.WEF Status-Base'!$Y$24","v":0},0,{"$f":"'3.WEF Status-Base'!$Z$24","v":0},null,{"$f":"'3.WEF Status-Base'!$AB$24","v":0},0,{"$f":"'3.WEF Status-Base'!$AC$24","v":0},null,{"$f":"'3.WEF Status-Base'!$AE$24","v":0},0,{"$f":"'3.WEF Status-Base'!$AF$24","v":0},null,{"$f":"'3.WEF Status-Base'!$AH$24","v":0},0,{"$f":"'3.WEF Status-Base'!$AI$24","v":0},null,{"$f":"'3.WEF Status-Base'!$AK$24","v":0},0,{"$f":"'3.WEF Status-Base'!$AL$24","v":0},null,{"$f":"'3.WEF Status-Base'!$AN$24","v":0},0,{"$f":"'3.WEF Status-Base'!$AO$24","v":0},null,{"$f":"'3.WEF Status-Base'!$AQ$24","v":0},0,{"$f":"'3.WEF Status-Base'!$AR$24","v":0},null,{"$f":"'3.WEF Status-Base'!$AT$24","v":0},0,{"$f":"'3.WEF Status-Base'!$AU$24","v":0},null,{"$f":"'3.WEF Status-Base'!$AW$24","v":0},0,{"$f":"'3.WEF Status-Base'!$AX$24","v":0},null,{"$f":"'3.WEF Status-Base'!$AZ$24","v":0},0,{"$f":"'3.WEF Status-Base'!$BA$24","v":0},null,{"$f":"'3.WEF Status-Base'!$BC$24","v":0},0,{"$f":"'3.WEF Status-Base'!$BD$24","v":0},{"$f":"'3.WEF Status-Base'!$BE$24","v":0}]
[null,"Natural Infrastructure",null,0,null,16,{"$f":"'3.WEF Status-Base'!$D$25","v":0},0,{"$f":"'3.WEF Status-Base'!$E$25","v":0},null,{"$f":"'3.WEF Status-Base'!$G$25","v":0},0,{"$f":"'3.WEF Status-Base'!$H$25","v":0},null,{"$f":"'3.WEF Status-Base'!$J$25","v":0},0,{"$f":"'3.WEF Status-Base'!$K$25","v":0},null,{"$f":"'3.WEF Status-Base'!$M$25","v":0},0,{"$f":"'3.WEF Status-Base'!$N$25","v":0},null,{"$f":"'3.WEF Status-Base'!$P$25","v":0},0,{"$f":"'3.WEF Status-Base'!$Q$25","v":0},null,{"$f":"'3.WEF Status-Base'!$S$25","v":0},0,{"$f":"'3.WEF Status-Base'!$T$25","v":0},null,{"$f":"'3.WEF Status-Base'!$V$25","v":0},0,{"$f":"'3.WEF Status-Base'!$W$25","v":0},null,{"$f":"'3.WEF Status-Base'!$Y$25","v":0},0,{"$f":"'3.WEF Status-Base'!$Z$25","v":0},null,{"$f":"'3.WEF Status-Base'!$AB$25","v":0},0,{"$f":"'3.WEF Status-Base'!$AC$25","v":0},null,{"$f":"'3.WEF Status-Base'!$AE$25","v":0},0,{"$f":"'3.WEF Status-Base'!$AF$25","v":0},null,{"$f":"'3.WEF Status-Base'!$AH$25","v":0},0,{"$f":"'3.WEF Status-Base'!$AI$25","v":0},null,{"$f":"'3.WEF Status-Base'!$AK$25","v":0},0,{"$f":"'3.WEF Status-Base'!$AL$25","v":0},null,{"$f":"'3.WEF Status-Base'!$AN$25","v":0},0,{"$f":"'3.WEF Status-Base'!$AO$25","v":0},null,{"$f":"'3.WEF Status-Base'!$AQ$25","v":0},0,{"$f":"'3.WEF Status-Base'!$AR$25","v":0},null,{"$f":"'3.WEF Status-Base'!$AT$25","v":0},0,{"$f":"'3.WEF Status-Base'!$AU$25","v":0},null,{"$f":"'3.WEF Status-Base'!$AW$25","v":0},0,{"$f":"'3.WEF Status-Base'!$AX$25","v":0},null,{"$f":"'3.WEF Status-Base'!$AZ$25","v":0},0,{"$f":"'3.WEF Status-Base'!$BA$25","v":0},null,{"$f":"'3.WEF Status-Base'!$BC$25","v":0},0,{"$f":"'3.WEF Status-Base'!$BD$25","v":0},{"$f":"'3.WEF Status-Base'!$BE$25","v":0},null,16,{"$f":"'3.WEF Status-Base'!$D$25","v":0},0,{"$f":"'3.WEF Status-Base'!$E$25","v":0},null,{"$f":"'3.WEF Status-Base'!$G$25","v":0},0,{"$f":"'3.WEF Status-Base'!$H$25","v":0},null,{"$f":"'3.WEF Status-Base'!$J$25","v":0},0,{"$f":"'3.WEF Status-Base'!$K$25","v":0},null,{"$f":"'3.WEF Status-Base'!$M$25","v":0},0,{"$f":"'3.WEF Status-Base'!$N$25","v":0},null,{"$f":"'3.WEF Status-Base'!$P$25","v":0},0,{"$f":"'3.WEF Status-Base'!$Q$25","v":0},null,{"$f":"'3.WEF Status-Base'!$S$25","v":0},0,{"$f":"'3.WEF Status-Base'!$T$25","v":0},null,{"$f":"'3.WEF Status-Base'!$V$25","v":0},0,{"$f":"'3.WEF Status-Base'!$W$25","v":0},null,{"$f":"'3.WEF Status-Base'!$Y$25","v":0},0,{"$f":"'3.WEF Status-Base'!$Z$25","v":0},null,{"$f":"'3.WEF Status-Base'!$AB$25","v":0},0,{"$f":"'3.WEF Status-Base'!$AC$25","v":0},null,{"$f":"'3.WEF Status-Base'!$AE$25","v":0},0,{"$f":"'3.WEF Status-Base'!$AF$25","v":0},null,{"$f":"'3.WEF Status-Base'!$AH$25","v":0},0,{"$f":"'3.WEF Status-Base'!$AI$25","v":0},null,{"$f":"'3.WEF Status-Base'!$AK$25","v":0},0,{"$f":"'3.WEF Status-Base'!$AL$25","v":0},null,{"$f":"'3.WEF Status-Base'!$AN$25","v":0},0,{"$f":"'3.WEF Status-Base'!$AO$25","v":0},null,{"$f":"'3.WEF Status-Base'!$AQ$25","v":0},0,{"$f":"'3.WEF Status-Base'!$AR$25","v":0},null,{"$f":"'3.WEF Status-Base'!$AT$25","v":0},0,{"$f":"'3.WEF Status-Base'!$AU$25","v":0},null,{"$f":"'3.WEF Status-Base'!$AW$25","v":0},0,{"$f":"'3.WEF Status-Base'!$AX$25","v":0},null,{"$f":"'3.WEF Status-Base'!$AZ$25","v":0},0,{"$f":"'3.WEF Status-Base'!$BA$25","v":0},null,{"$f":"'3.WEF Status-Base'!$BC$25","v":0},0,{"$f":"'3.WEF Status-Base'!$BD$25","v":0},{"$f":"'3.WEF Status-Base'!$BE$25","v":0}]
[null,"     Air quality maintenance",null,0,null,17,{"$f":"'3.WEF Status-Base'!$D$26","v":0},0,{"$f":"'3.WEF Status-Base'!$E$26","v":0},null,{"$f":"'3.WEF Status-Base'!$G$26","v":0},0,{"$f":"'3.WEF Status-Base'!$H$26","v":0},null,{"$f":"'3.WEF Status-Base'!$J$26","v":0},0,{"$f":"'3.WEF Status-Base'!$K$26","v":0},null,{"$f":"'3.WEF Status-Base'!$M$26","v":0},0,{"$f":"'3.WEF Status-Base'!$N$26","v":0},null,{"$f":"'3.WEF Status-Base'!$P$26","v":0},0,{"$f":"'3.WEF Status-Base'!$Q$26","v":0},null,{"$f":"'3.WEF Status-Base'!$S$26","v":0},0,{"$f":"'3.WEF Status-Base'!$T$26","v":0},null,{"$f":"'3.WEF Status-Base'!$V$26","v":0},0,{"$f":"'3.WEF Status-Base'!$W$26","v":0},null,{"$f":"'3.WEF Status-Base'!$Y$26","v":0},0,{"$f":"'3.WEF Status-Base'!$Z$26","v":0},null,{"$f":"'3.WEF Status-Base'!$AB$26","v":0},0,{"$f":"'3.WEF Status-Base'!$AC$26","v":0},null,{"$f":"'3.WEF Status-Base'!$AE$26","v":0},0,{"$f":"'3.WEF Status-Base'!$AF$26","v":0},null,{"$f":"'3.WEF Status-Base'!$AH$26","v":0},0,{"$f":"'3.WEF Status-Base'!$AI$26","v":0},null,{"$f":"'3.WEF Status-Base'!$AK$26","v":0},0,{"$f":"'3.WEF Status-Base'!$AL$26","v":0},null,{"$f":"'3.WEF Status-Base'!$AN$26","v":0},0,{"$f":"'3.WEF Status-Base'!$AO$26","v":0},null,{"$f":"'3.WEF Status-Base'!$AQ$26","v":0},0,{"$f":"'3.WEF Status-Base'!$AR$26","v":0},null,{"$f":"'3.WEF Status-Base'!$AT$26","v":0},0,{"$f":"'3.WEF Status-Base'!$AU$26","v":0},null,{"$f":"'3.WEF Status-Base'!$AW$26","v":0},0,{"$f":"'3.WEF Status-Base'!$AX$26","v":0},null,{"$f":"'3.WEF Status-Base'!$AZ$26","v":0},0,{"$f":"'3.WEF Status-Base'!$BA$26","v":0},null,{"$f":"'3.WEF Status-Base'!$BC$26","v":0},0,{"$f":"'3.WEF Status-Base'!$BD$26","v":0},{"$f":"'3.WEF Status-Base'!$BE$26","v":0},null,17,{"$f":"'3.WEF Status-Base'!$D$26","v":0},0,{"$f":"'3.WEF Status-Base'!$E$26","v":0},null,{"$f":"'3.WEF Status-Base'!$G$26","v":0},0,{"$f":"'3.WEF Status-Base'!$H$26","v":0},null,{"$f":"'3.WEF Status-Base'!$J$26","v":0},0,{"$f":"'3.WEF Status-Base'!$K$26","v":0},null,{"$f":"'3.WEF Status-Base'!$M$26","v":0},0,{"$f":"'3.WEF Status-Base'!$N$26","v":0},null,{"$f":"'3.WEF Status-Base'!$P$26","v":0},0,{"$f":"'3.WEF Status-Base'!$Q$26","v":0},null,{"$f":"'3.WEF Status-Base'!$S$26","v":0},0,{"$f":"'3.WEF Status-Base'!$T$26","v":0},null,{"$f":"'3.WEF Status-Base'!$V$26","v":0},0,{"$f":"'3.WEF Status-Base'!$W$26","v":0},null,{"$f":"'3.WEF Status-Base'!$Y$26","v":0},0,{"$f":"'3.WEF Status-Base'!$Z$26","v":0},null,{"$f":"'3.WEF Status-Base'!$AB$26","v":0},0,{"$f":"'3.WEF Status-Base'!$AC$26","v":0},null,{"$f":"'3.WEF Status-Base'!$AE$26","v":0},0,{"$f":"'3.WEF Status-Base'!$AF$26","v":0},null,{"$f":"'3.WEF Status-Base'!$AH$26","v":0},0,{"$f":"'3.WEF Status-Base'!$AI$26","v":0},null,{"$f":"'3.WEF Status-Base'!$AK$26","v":0},0,{"$f":"'3.WEF Status-Base'!$AL$26","v":0},null,{"$f":"'3.WEF Status-Base'!$AN$26","v":0},0,{"$f":"'3.WEF Status-Base'!$AO$26","v":0},null,{"$f":"'3.WEF Status-Base'!$AQ$26","v":0},0,{"$f":"'3.WEF Status-Base'!$AR$26","v":0},null,{"$f":"'3.WEF Status-Base'!$AT$26","v":0},0,{"$f":"'3.WEF Status-Base'!$AU$26","v":0},null,{"$f":"'3.WEF Status-Base'!$AW$26","v":0},0,{"$f":"'3.WEF Status-Base'!$AX$26","v":0},null,{"$f":"'3.WEF Status-Base'!$AZ$26","v":0},0,{"$f":"'3.WEF Status-Base'!$BA$26","v":0},null,{"$f":"'3.WEF Status-Base'!$BC$26","v":0},0,{"$f":"'3.WEF Status-Base'!$BD$26","v":0},{"$f":"'3.WEF Status-Base'!$BE$26","v":0}]
[null,"     Erosion control",null,0,null,18,{"$f":"'3.WEF Status-Base'!$D$27","v":0},0,{"$f":"'3.WEF Status-Base'!$E$27","v":0},null,{"$f":"'3.WEF Status-Base'!$G$27","v":0},0,{"$f":"'3.WEF Status-Base'!$H$27","v":0},null,{"$f":"'3.WEF Status-Base'!$J$27","v":0},0,{"$f":"'3.WEF Status-Base'!$K$27","v":0},null,{"$f":"'3.WEF Status-Base'!$M$27","v":0},0,{"$f":"'3.WEF Status-Base'!$N$27","v":0},null,{"$f":"'3.WEF Status-Base'!$P$27","v":0},0,{"$f":"'3.WEF Status-Base'!$Q$27","v":0},null,{"$f":"'3.WEF Status-Base'!$S$27","v":0},0,{"$f":"'3.WEF Status-Base'!$T$27","v":0},null,{"$f":"'3.WEF Status-Base'!$V$27","v":0},0,{"$f":"'3.WEF Status-Base'!$W$27","v":0},null,{"$f":"'3.WEF Status-Base'!$Y$27","v":0},0,{"$f":"'3.WEF Status-Base'!$Z$27","v":0},null,{"$f":"'3.WEF Status-Base'!$AB$27","v":0},0,{"$f":"'3.WEF Status-Base'!$AC$27","v":0},null,{"$f":"'3.WEF Status-Base'!$AE$27","v":0},0,{"$f":"'3.WEF Status-Base'!$AF$27","v":0},null,{"$f":"'3.WEF Status-Base'!$AH$27","v":0},0,{"$f":"'3.WEF Status-Base'!$AI$27","v":0},null,{"$f":"'3.WEF Status-Base'!$AK$27","v":0},0,{"$f":"'3.WEF Status-Base'!$AL$27","v":0},null,{"$f":"'3.WEF Status-Base'!$AN$27","v":0},0,{"$f":"'3.WEF Status-Base'!$AO$27","v":0},null,{"$f":"'3.WEF Status-Base'!$AQ$27","v":0},0,{"$f":"'3.WEF Status-Base'!$AR$27","v":0},null,{"$f":"'3.WEF Status-Base'!$AT$27","v":0},0,{"$f":"'3.WEF Status-Base'!$AU$27","v":0},null,{"$f":"'3.WEF Status-Base'!$AW$27","v":0},0,{"$f":"'3.WEF Status-Base'!$AX$27","v":0},null,{"$f":"'3.WEF Status-Base'!$AZ$27","v":0},0,{"$f":"'3.WEF Status-Base'!$BA$27","v":0},null,{"$f":"'3.WEF Status-Base'!$BC$27","v":0},0,{"$f":"'3.WEF Status-Base'!$BD$27","v":0},{"$f":"'3.WEF Status-Base'!$BE$27","v":0},null,18,{"$f":"'3.WEF Status-Base'!$D$27","v":0},0,{"$f":"'3.WEF Status-Base'!$E$27","v":0},null,{"$f":"'3.WEF Status-Base'!$G$27","v":0},0,{"$f":"'3.WEF Status-Base'!$H$27","v":0},null,{"$f":"'3.WEF Status-Base'!$J$27","v":0},0,{"$f":"'3.WEF Status-Base'!$K$27","v":0},null,{"$f":"'3.WEF Status-Base'!$M$27","v":0},0,{"$f":"'3.WEF Status-Base'!$N$27","v":0},null,{"$f":"'3.WEF Status-Base'!$P$27","v":0},0,{"$f":"'3.WEF Status-Base'!$Q$27","v":0},null,{"$f":"'3.WEF Status-Base'!$S$27","v":0},0,{"$f":"'3.WEF Status-Base'!$T$27","v":0},null,{"$f":"'3.WEF Status-Base'!$V$27","v":0},0,{"$f":"'3.WEF Status-Base'!$W$27","v":0},null,{"$f":"'3.WEF Status-Base'!$Y$27","v":0},0,{"$f":"'3.WEF Status-Base'!$Z$27","v":0},null,{"$f":"'3.WEF Status-Base'!$AB$27","v":0},0,{"$f":"'3.WEF Status-Base'!$AC$27","v":0},null,{"$f":"'3.WEF Status-Base'!$AE$27","v":0},0,{"$f":"'3.WEF Status-Base'!$AF$27","v":0},null,{"$f":"'3.WEF Status-Base'!$AH$27","v":0},0,{"$f":"'3.WEF Status-Base'!$AI$27","v":0},null,{"$f":"'3.WEF Status-Base'!$AK$27","v":0},0,{"$f":"'3.WEF Status-Base'!$AL$27","v":0},null,{"$f":"'3.WEF Status-Base'!$AN$27","v":0},0,{"$f":"'3.WEF Status-Base'!$AO$27","v":0},null,{"$f":"'3.WEF Status-Base'!$AQ$27","v":0},0,{"$f":"'3.WEF Status-Base'!$AR$27","v":0},null,{"$f":"'3.WEF Status-Base'!$AT$27","v":0},0,{"$f":"'3.WEF Status-Base'!$AU$27","v":0},null,{"$f":"'3.WEF Status-Base'!$AW$27","v":0},0,{"$f":"'3.WEF Status-Base'!$AX$27","v":0},null,{"$f":"'3.WEF Status-Base'!$AZ$27","v":0},0,{"$f":"'3.WEF Status-Base'!$BA$27","v":0},null,{"$f":"'3.WEF Status-Base'!$BC$27","v":0},0,{"$f":"'3.WEF Status-Base'!$BD$27","v":0},{"$f":"'3.WEF Status-Base'!$BE$27","v":0}]
[null,"     Water purification and treatment",null,0,null,19,{"$f":"'3.WEF Status-Base'!$D$28","v":0},0,{"$f":"'3.WEF Status-Base'!$E$28","v":0},null,{"$f":"'3.WEF Status-Base'!$G$28","v":0},0,{"$f":"'3.WEF Status-Base'!$H$28","v":0},null,{"$f":"'3.WEF Status-Base'!$J$28","v":0},0,{"$f":"'3.WEF Status-Base'!$K$28","v":0},null,{"$f":"'3.WEF Status-Base'!$M$28","v":0},0,{"$f":"'3.WEF Status-Base'!$N$28","v":0},null,{"$f":"'3.WEF Status-Base'!$P$28","v":0},0,{"$f":"'3.WEF Status-Base'!$Q$28","v":0},null,{"$f":"'3.WEF Status-Base'!$S$28","v":0},0,{"$f":"'3.WEF Status-Base'!$T$28","v":0},null,{"$f":"'3.WEF Status-Base'!$V$28","v":0},0,{"$f":"'3.WEF Status-Base'!$W$28","v":0},null,{"$f":"'3.WEF Status-Base'!$Y$28","v":0},0,{"$f":"'3.WEF Status-Base'!$Z$28","v":0},null,{"$f":"'3.WEF Status-Base'!$AB$28","v":0},0,{"$f":"'3.WEF Status-Base'!$AC$28","v":0},null,{"$f":"'3.WEF Status-Base'!$AE$28","v":0},0,{"$f":"'3.WEF Status-Base'!$AF$28","v":0},null,{"$f":"'3.WEF Status-Base'!$AH$28","v":0},0,{"$f":"'3.WEF Status-Base'!$AI$28","v":0},null,{"$f":"'3.WEF Status-Base'!$AK$28","v":0},0,{"$f":"'3.WEF Status-Base'!$AL$28","v":0},null,{"$f":"'3.WEF Status-Base'!$AN$28","v":0},0,{"$f":"'3.WEF Status-Base'!$AO$28","v":0},null,{"$f":"'3.WEF Status-Base'!$AQ$28","v":0},0,{"$f":"'3.WEF Status-Base'!$AR$28","v":0},null,{"$f":"'3.WEF Status-Base'!$AT$28","v":0},0,{"$f":"'3.WEF Status-Base'!$AU$28","v":0},null,{"$f":"'3.WEF Status-Base'!$AW$28","v":0},0,{"$f":"'3.WEF Status-Base'!$AX$28","v":0},null,{"$f":"'3.WEF Status-Base'!$AZ$28","v":0},0,{"$f":"'3.WEF Status-Base'!$BA$28","v":0},null,{"$f":"'3.WEF Status-Base'!$BC$28","v":0},0,{"$f":"'3.WEF Status-Base'!$BD$28","v":0},{"$f":"'3.WEF Status-Base'!$BE$28","v":0},null,19,{"$f":"'3.WEF Status-Base'!$D$28","v":0},0,{"$f":"'3.WEF Status-Base'!$E$28","v":0},null,{"$f":"'3.WEF Status-Base'!$G$28","v":0},0,{"$f":"'3.WEF Status-Base'!$H$28","v":0},null,{"$f":"'3.WEF Status-Base'!$J$28","v":0},0,{"$f":"'3.WEF Status-Base'!$K$28","v":0},null,{"$f":"'3.WEF Status-Base'!$M$28","v":0},0,{"$f":"'3.WEF Status-Base'!$N$28","v":0},null,{"$f":"'3.WEF Status-Base'!$P$28","v":0},0,{"$f":"'3.WEF Status-Base'!$Q$28","v":0},null,{"$f":"'3.WEF Status-Base'!$S$28","v":0},0,{"$f":"'3.WEF Status-Base'!$T$28","v":0},null,{"$f":"'3.WEF Status-Base'!$V$28","v":0},0,{"$f":"'3.WEF Status-Base'!$W$28","v":0},null,{"$f":"'3.WEF Status-Base'!$Y$28","v":0},0,{"$f":"'3.WEF Status-Base'!$Z$28","v":0},null,{"$f":"'3.WEF Status-Base'!$AB$28","v":0},0,{"$f":"'3.WEF Status-Base'!$AC$28","v":0},null,{"$f":"'3.WEF Status-Base'!$AE$28","v":0},0,{"$f":"'3.WEF Status-Base'!$AF$28","v":0},null,{"$f":"'3.WEF Status-Base'!$AH$28","v":0},0,{"$f":"'3.WEF Status-Base'!$AI$28","v":0},null,{"$f":"'3.WEF Status-Base'!$AK$28","v":0},0,{"$f":"'3.WEF Status-Base'!$AL$28","v":0},null,{"$f":"'3.WEF Status-Base'!$AN$28","v":0},0,{"$f":"'3.WEF Status-Base'!$AO$28","v":0},null,{"$f":"'3.WEF Status-Base'!$AQ$28","v":0},0,{"$f":"'3.WEF Status-Base'!$AR$28","v":0},null,{"$f":"'3.WEF Status-Base'!$AT$28","v":0},0,{"$f":"'3.WEF Status-Base'!$AU$28","v":0},null,{"$f":"'3.WEF Status-Base'!$AW$28","v":0},0,{"$f":"'3.WEF Status-Base'!$AX$28","v":0},null,{"$f":"'3.WEF Status-Base'!$AZ$28","v":0},0,{"$f":"'3.WEF Status-Base'!$BA$28","v":0},null,{"$f":"'3.WEF Status-Base'!$BC$28","v":0},0,{"$f":"'3.WEF Status-Base'!$BD$28","v":0},{"$f":"'3.WEF Status-Base'!$BE$28","v":0}]
[null,"     Biological control",null,0,null,20,{"$f":"'3.WEF Status-Base'!$D$29","v":0},0,{"$f":"'3.WEF Status-Base'!$E$29","v":0},null,{"$f":"'3.WEF Status-Base'!$G$29","v":0},0,{"$f":"'3.WEF Status-Base'!$H$29","v":0},null,{"$f":"'3.WEF Status-Base'!$J$29","v":0},0,{"$f":"'3.WEF Status-Base'!$K$29","v":0},null,{"$f":"'3.WEF Status-Base'!$M$29","v":0},0,{"$f":"'3.WEF Status-Base'!$N$29","v":0},null,{"$f":"'3.WEF Status-Base'!$P$29","v":0},0,{"$f":"'3.WEF Status-Base'!$Q$29","v":0},null,{"$f":"'3.WEF Status-Base'!$S$29","v":0},0,{"$f":"'3.WEF Status-Base'!$T$29","v":0},null,{"$f":"'3.WEF Status-Base'!$V$29","v":0},0,{"$f":"'3.WEF Status-Base'!$W$29","v":0},null,{"$f":"'3.WEF Status-Base'!$Y$29","v":0},0,{"$f":"'3.WEF Status-Base'!$Z$29","v":0},null,{"$f":"'3.WEF Status-Base'!$AB$29","v":0},0,{"$f":"'3.WEF Status-Base'!$AC$29","v":0},null,{"$f":"'3.WEF Status-Base'!$AE$29","v":0},0,{"$f":"'3.WEF Status-Base'!$AF$29","v":0},null,{"$f":"'3.WEF Status-Base'!$AH$29","v":0},0,{"$f":"'3.WEF Status-Base'!$AI$29","v":0},null,{"$f":"'3.WEF Status-Base'!$AK$29","v":0},0,{"$f":"'3.WEF Status-Base'!$AL$29","v":0},null,{"$f":"'3.WEF Status-Base'!$AN$29","v":0},0,{"$f":"'3.WEF Status-Base'!$AO$29","v":0},null,{"$f":"'3.WEF Status-Base'!$AQ$29","v":0},0,{"$f":"'3.WEF Status-Base'!$AR$29","v":0},null,{"$f":"'3.WEF Status-Base'!$AT$29","v":0},0,{"$f":"'3.WEF Status-Base'!$AU$29","v":0},null,{"$f":"'3.WEF Status-Base'!$AW$29","v":0},0,{"$f":"'3.WEF Status-Base'!$AX$29","v":0},null,{"$f":"'3.WEF Status-Base'!$AZ$29","v":0},0,{"$f":"'3.WEF Status-Base'!$BA$29","v":0},null,{"$f":"'3.WEF Status-Base'!$BC$29","v":0},0,{"$f":"'3.WEF Status-Base'!$BD$29","v":0},{"$f":"'3.WEF Status-Base'!$BE$29","v":0},null,20,{"$f":"'3.WEF Status-Base'!$D$29","v":0},0,{"$f":"'3.WEF Status-Base'!$E$29","v":0},null,{"$f":"'3.WEF Status-Base'!$G$29","v":0},0,{"$f":"'3.WEF Status-Base'!$H$29","v":0},null,{"$f":"'3.WEF Status-Base'!$J$29","v":0},0,{"$f":"'3.WEF Status-Base'!$K$29","v":0},null,{"$f":"'3.WEF Status-Base'!$M$29","v":0},0,{"$f":"'3.WEF Status-Base'!$N$29","v":0},null,{"$f":"'3.WEF Status-Base'!$P$29","v":0},0,{"$f":"'3.WEF Status-Base'!$Q$29","v":0},null,{"$f":"'3.WEF Status-Base'!$S$29","v":0},0,{"$f":"'3.WEF Status-Base'!$T$29","v":0},null,{"$f":"'3.WEF Status-Base'!$V$29","v":0},0,{"$f":"'3.WEF Status-Base'!$W$29","v":0},null,{"$f":"'3.WEF Status-Base'!$Y$29","v":0},0,{"$f":"'3.WEF Status-Base'!$Z$29","v":0},null,{"$f":"'3.WEF Status-Base'!$AB$29","v":0},0,{"$f":"'3.WEF Status-Base'!$AC$29","v":0},null,{"$f":"'3.WEF Status-Base'!$AE$29","v":0},0,{"$f":"'3.WEF Status-Base'!$AF$29","v":0},null,{"$f":"'3.WEF Status-Base'!$AH$29","v":0},0,{"$f":"'3.WEF Status-Base'!$AI$29","v":0},null,{"$f":"'3.WEF Status-Base'!$AK$29","v":0},0,{"$f":"'3.WEF Status-Base'!$AL$29","v":0},null,{"$f":"'3.WEF Status-Base'!$AN$29","v":0},0,{"$f":"'3.WEF Status-Base'!$AO$29","v":0},null,{"$f":"'3.WEF Status-Base'!$AQ$29","v":0},0,{"$f":"'3.WEF Status-Base'!$AR$29","v":0},null,{"$f":"'3.WEF Status-Base'!$AT$29","v":0},0,{"$f":"'3.WEF Status-Base'!$AU$29","v":0},null,{"$f":"'3.WEF Status-Base'!$AW$29","v":0},0,{"$f":"'3.WEF Status-Base'!$AX$29","v":0},null,{"$f":"'3.WEF Status-Base'!$AZ$29","v":0},0,{"$f":"'3.WEF Status-Base'!$BA$29","v":0},null,{"$f":"'3.WEF Status-Base'!$BC$29","v":0},0,{"$f":"'3.WEF Status-Base'!$BD$29","v":0},{"$f":"'3.WEF Status-Base'!$BE$29","v":0}]
[null,"     Pollination",null,0,null,21,{"$f":"'3.WEF Status-Base'!$D$30","v":0},0,{"$f":"'3.WEF Status-Base'!$E$30","v":0},null,{"$f":"'3.WEF Status-Base'!$G$30","v":0},0,{"$f":"'3.WEF Status-Base'!$H$30","v":0},null,{"$f":"'3.WEF Status-Base'!$J$30","v":0},0,{"$f":"'3.WEF Status-Base'!$K$30","v":0},null,{"$f":"'3.WEF Status-Base'!$M$30","v":0},0,{"$f":"'3.WEF Status-Base'!$N$30","v":0},null,{"$f":"'3.WEF Status-Base'!$P$30","v":0},0,{"$f":"'3.WEF Status-Base'!$Q$30","v":0},null,{"$f":"'3.WEF Status-Base'!$S$30","v":0},0,{"$f":"'3.WEF Status-Base'!$T$30","v":0},null,{"$f":"'3.WEF Status-Base'!$V$30","v":0},0,{"$f":"'3.WEF Status-Base'!$W$30","v":0},null,{"$f":"'3.WEF Status-Base'!$Y$30","v":0},0,{"$f":"'3.WEF Status-Base'!$Z$30","v":0},null,{"$f":"'3.WEF Status-Base'!$AB$30","v":0},0,{"$f":"'3.WEF Status-Base'!$AC$30","v":0},null,{"$f":"'3.WEF Status-Base'!$AE$30","v":0},0,{"$f":"'3.WEF Status-Base'!$AF$30","v":0},null,{"$f":"'3.WEF Status-Base'!$AH$30","v":0},0,{"$f":"'3.WEF Status-Base'!$AI$30","v":0},null,{"$f":"'3.WEF Status-Base'!$AK$30","v":0},0,{"$f":"'3.WEF Status-Base'!$AL$30","v":0},null,{"$f":"'3.WEF Status-Base'!$AN$30","v":0},0,{"$f":"'3.WEF Status-Base'!$AO$30","v":0},null,{"$f":"'3.WEF Status-Base'!$AQ$30","v":0},0,{"$f":"'3.WEF Status-Base'!$AR$30","v":0},null,{"$f":"'3.WEF Status-Base'!$AT$30","v":0},0,{"$f":"'3.WEF Status-Base'!$AU$30","v":0},null,{"$f":"'3.WEF Status-Base'!$AW$30","v":0},0,{"$f":"'3.WEF Status-Base'!$AX$30","v":0},null,{"$f":"'3.WEF Status-Base'!$AZ$30","v":0},0,{"$f":"'3.WEF Status-Base'!$BA$30","v":0},null,{"$f":"'3.WEF Status-Base'!$BC$30","v":0},0,{"$f":"'3.WEF Status-Base'!$BD$30","v":0},{"$f":"'3.WEF Status-Base'!$BE$30","v":0},null,21,{"$f":"'3.WEF Status-Base'!$D$30","v":0},0,{"$f":"'3.WEF Status-Base'!$E$30","v":0},null,{"$f":"'3.WEF Status-Base'!$G$30","v":0},0,{"$f":"'3.WEF Status-Base'!$H$30","v":0},null,{"$f":"'3.WEF Status-Base'!$J$30","v":0},0,{"$f":"'3.WEF Status-Base'!$K$30","v":0},null,{"$f":"'3.WEF Status-Base'!$M$30","v":0},0,{"$f":"'3.WEF Status-Base'!$N$30","v":0},null,{"$f":"'3.WEF Status-Base'!$P$30","v":0},0,{"$f":"'3.WEF Status-Base'!$Q$30","v":0},null,{"$f":"'3.WEF Status-Base'!$S$30","v":0},0,{"$f":"'3.WEF Status-Base'!$T$30","v":0},null,{"$f":"'3.WEF Status-Base'!$V$30","v":0},0,{"$f":"'3.WEF Status-Base'!$W$30","v":0},null,{"$f":"'3.WEF Status-Base'!$Y$30","v":0},0,{"$f":"'3.WEF Status-Base'!$Z$30","v":0},null,{"$f":"'3.WEF Status-Base'!$AB$30","v":0},0,{"$f":"'3.WEF Status-Base'!$AC$30","v":0},null,{"$f":"'3.WEF Status-Base'!$AE$30","v":0},0,{"$f":"'3.WEF Status-Base'!$AF$30","v":0},null,{"$f":"'3.WEF Status-Base'!$AH$30","v":0},0,{"$f":"'3.WEF Status-Base'!$AI$30","v":0},null,{"$f":"'3.WEF Status-Base'!$AK$30","v":0},0,{"$f":"'3.WEF Status-Base'!$AL$30","v":0},null,{"$f":"'3.WEF Status-Base'!$AN$30","v":0},0,{"$f":"'3.WEF Status-Base'!$AO$30","v":0},null,{"$f":"'3.WEF Status-Base'!$AQ$30","v":0},0,{"$f":"'3.WEF Status-Base'!$AR$30","v":0},null,{"$f":"'3.WEF Status-Base'!$AT$30","v":0},0,{"$f":"'3.WEF Status-Base'!$AU$30","v":0},null,{"$f":"'3.WEF Status-Base'!$AW$30","v":0},0,{"$f":"'3.WEF Status-Base'!$AX$30","v":0},null,{"$f":"'3.WEF Status-Base'!$AZ$30","v":0},0,{"$f":"'3.WEF Status-Base'!$BA$30","v":0},null,{"$f":"'3.WEF Status-Base'!$BC$30","v":0},0,{"$f":"'3.WEF Status-Base'!$BD$30","v":0},{"$f":"'3.WEF Status-Base'!$BE$30","v":0}]
[null,"     Storm protection",null,0,null,22,{"$f":"'3.WEF Status-Base'!$D$31","v":0},0,{"$f":"'3.WEF Status-Base'!$E$31","v":0},null,{"$f":"'3.WEF Status-Base'!$G$31","v":0},0,{"$f":"'3.WEF Status-Base'!$H$31","v":0},null,{"$f":"'3.WEF Status-Base'!$J$31","v":0},0,{"$f":"'3.WEF Status-Base'!$K$31","v":0},null,{"$f":"'3.WEF Status-Base'!$M$31","v":0},0,{"$f":"'3.WEF Status-Base'!$N$31","v":0},null,{"$f":"'3.WEF Status-Base'!$P$31","v":0},0,{"$f":"'3.WEF Status-Base'!$Q$31","v":0},null,{"$f":"'3.WEF Status-Base'!$S$31","v":0},0,{"$f":"'3.WEF Status-Base'!$T$31","v":0},null,{"$f":"'3.WEF Status-Base'!$V$31","v":0},0,{"$f":"'3.WEF Status-Base'!$W$31","v":0},null,{"$f":"'3.WEF Status-Base'!$Y$31","v":0},0,{"$f":"'3.WEF Status-Base'!$Z$31","v":0},null,{"$f":"'3.WEF Status-Base'!$AB$31","v":0},0,{"$f":"'3.WEF Status-Base'!$AC$31","v":0},null,{"$f":"'3.WEF Status-Base'!$AE$31","v":0},0,{"$f":"'3.WEF Status-Base'!$AF$31","v":0},null,{"$f":"'3.WEF Status-Base'!$AH$31","v":0},0,{"$f":"'3.WEF Status-Base'!$AI$31","v":0},null,{"$f":"'3.WEF Status-Base'!$AK$31","v":0},0,{"$f":"'3.WEF Status-Base'!$AL$31","v":0},null,{"$f":"'3.WEF Status-Base'!$AN$31","v":0},0,{"$f":"'3.WEF Status-Base'!$AO$31","v":0},null,{"$f":"'3.WEF Status-Base'!$AQ$31","v":0},0,{"$f":"'3.WEF Status-Base'!$AR$31","v":0},null,{"$f":"'3.WEF Status-Base'!$AT$31","v":0},0,{"$f":"'3.WEF Status-Base'!$AU$31","v":0},null,{"$f":"'3.WEF Status-Base'!$AW$31","v":0},0,{"$f":"'3.WEF Status-Base'!$AX$31","v":0},null,{"$f":"'3.WEF Status-Base'!$AZ$31","v":0},0,{"$f":"'3.WEF Status-Base'!$BA$31","v":0},null,{"$f":"'3.WEF Status-Base'!$BC$31","v":0},0,{"$f":"'3.WEF Status-Base'!$BD$31","v":0},{"$f":"'3.WEF Status-Base'!$BE$31","v":0},null,22,{"$f":"'3.WEF Status-Base'!$D$31","v":0},0,{"$f":"'3.WEF Status-Base'!$E$31","v":0},null,{"$f":"'3.WEF Status-Base'!$G$31","v":0},0,{"$f":"'3.WEF Status-Base'!$H$31","v":0},null,{"$f":"'3.WEF Status-Base'!$J$31","v":0},0,{"$f":"'3.WEF Status-Base'!$K$31","v":0},null,{"$f":"'3.WEF Status-Base'!$M$31","v":0},0,{"$f":"'3.WEF Status-Base'!$N$31","v":0},null,{"$f":"'3.WEF Status-Base'!$P$31","v":0},0,{"$f":"'3.WEF Status-Base'!$Q$31","v":0},null,{"$f":"'3.WEF Status-Base'!$S$31","v":0},0,{"$f":"'3.WEF Status-Base'!$T$31","v":0},null,{"$f":"'3.WEF Status-Base'!$V$31","v":0},0,{"$f":"'3.WEF Status-Base'!$W$31","v":0},null,{"$f":"'3.WEF Status-Base'!$Y$31","v":0},0,{"$f":"'3.WEF Status-Base'!$Z$31","v":0},null,{"$f":"'3.WEF Status-Base'!$AB$31","v":0},0,{"$f":"'3.WEF Status-Base'!$AC$31","v":0},null,{"$f":"'3.WEF Status-Base'!$AE$31","v":0},0,{"$f":"'3.WEF Status-Base'!$AF$31","v":0},null,{"$f":"'3.WEF Status-Base'!$AH$31","v":0},0,{"$f":"'3.WEF Status-Base'!$AI$31","v":0},null,{"$f":"'3.WEF Status-Base'!$AK$31","v":0},0,{"$f":"'3.WEF Status-Base'!$AL$31","v":0},null,{"$f":"'3.WEF Status-Base'!$AN$31","v":0},0,{"$f":"'3.WEF Status-Base'!$AO$31","v":0},null,{"$f":"'3.WEF Status-Base'!$AQ$31","v":0},0,{"$f":"'3.WEF Status-Base'!$AR$31","v":0},null,{"$f":"'3.WEF Status-Base'!$AT$31","v":0},0,{"$f":"'3.WEF Status-Base'!$AU$31","v":0},null,{"$f":"'3.WEF Status-Base'!$AW$31","v":0},0,{"$f":"'3.WEF Status-Base'!$AX$31","v":0},null,{"$f":"'3.WEF Status-Base'!$AZ$31","v":0},0,{"$f":"'3.WEF Status-Base'!$BA$31","v":0},null,{"$f":"'3.WEF Status-Base'!$BC$31","v":0},0,{"$f":"'3.WEF Status-Base'!$BD$31","v":0},{"$f":"'3.WEF Status-Base'!$BE$31","v":0}]
[null,"Supporting Institutions and Policies",null,null,null,23,null,null,null,null,null,null,null,null,null,null,null,null,null,null,null,null,null,null,null,null,null,null,null,null,null,null,null,null,null,null,null,null,null,null,null,null,null,null,null,null,null,null,null,null,null,null,null,null,null,null,null,null,null,null,null,null,null,null,null,null,null,null,null,null,null,null,null,null,null,null,null,null,null,23]
[null,"Institutions",null,{"$f":"MAX(H206:BZ206)","v":0},null,24,{"$f":"'3.WEF Status-Base'!$D$33","v":0},0,{"$f":"'3.WEF Status-Base'!$E$33","v":0},null,{"$f":"'3.WEF Status-Base'!$G$33","v":0},0,{"$f":"'3.WEF Status-Base'!$H$33","v":0},null,{"$f":"'3.WEF Status-Base'!$J$33","v":0},0,{"$f":"'3.WEF Status-Base'!$K$33","v":0},null,{"$f":"'3.WEF Status-Base'!$M$33","v":0},0,{"$f":"'3.WEF Status-Base'!$N$33","v":0},null,{"$f":"'3.WEF Status-Base'!$P$33","v":0},0,{"$f":"'3.WEF Status-Base'!$Q$33","v":0},null,{"$f":"'3.WEF Status-Base'!$S$33","v":0},0,{"$f":"'3.WEF Status-Base'!$T$33","v":0},null,{"$f":"'3.WEF Status-Base'!$V$33","v":0},0,{"$f":"'3.WEF Status-Base'!$W$33","v":0},null,{"$f":"'3.WEF Status-Base'!$Y$33","v":0},0,{"$f":"'3.WEF Status-Base'!$Z$33","v":0},null,{"$f":"'3.WEF Status-Base'!$AB$33","v":0},0,{"$f":"'3.WEF Status-Base'!$AC$33","v":0},null,{"$f":"'3.WEF Status-Base'!$AE$33","v":0},0,{"$f":"'3.WEF Status-Base'!$AF$33","v":0},null,{"$f":"'3.WEF Status-Base'!$AH$33","v":0},0,{"$f":"'3.WEF Status-Base'!$AI$33","v":0},null,{"$f":"'3.WEF Status-Base'!$AK$33","v":0},0,{"$f":"'3.WEF Status-Base'!$AL$33","v":0},null,{"$f":"'3.WEF Status-Base'!$AN$33","v":0},0,{"$f":"'3.WEF Status-Base'!$AO$33","v":0},null,{"$f":"'3.WEF Status-Base'!$AQ$33","v":0},0,{"$f":"'3.WEF Status-Base'!$AR$33","v":0},null,{"$f":"'3.WEF Status-Base'!$AT$33","v":0},0,{"$f":"'3.WEF Status-Base'!$AU$33","v":0},null,{"$f":"'3.WEF Status-Base'!$AW$33","v":0},0,{"$f":"'3.WEF Status-Base'!$AX$33","v":0},null,{"$f":"'3.WEF Status-Base'!$AZ$33","v":0},0,{"$f":"'3.WEF Status-Base'!$BA$33","v":0},null,{"$f":"'3.WEF Status-Base'!$BC$33","v":0},0,{"$f":"'3.WEF Status-Base'!$BD$33","v":0},{"$f":"'3.WEF Status-Base'!$BE$33","v":0},null,24,{"$f":"'3.WEF Status-Base'!$D$33","v":0},0,{"$f":"'3.WEF Status-Base'!$E$33","v":0},null,{"$f":"'3.WEF Status-Base'!$G$33","v":0},0,{"$f":"'3.WEF Status-Base'!$H$33","v":0},null,{"$f":"'3.WEF Status-Base'!$J$33","v":0},0,{"$f":"'3.WEF Status-Base'!$K$33","v":0},null,{"$f":"'3.WEF Status-Base'!$M$33","v":0},0,{"$f":"'3.WEF Status-Base'!$N$33","v":0},null,{"$f":"'3.WEF Status-Base'!$P$33","v":0},0,{"$f":"'3.WEF Status-Base'!$Q$33","v":0},null,{"$f":"'3.WEF Status-Base'!$S$33","v":0},0,{"$f":"'3.WEF Status-Base'!$T$33","v":0},null,{"$f":"'3.WEF Status-Base'!$V$33","v":0},0,{"$f":"'3.WEF Status-Base'!$W$33","v":0},null,{"$f":"'3.WEF Status-Base'!$Y$33","v":0},0,{"$f":"'3.WEF Status-Base'!$Z$33","v":0},null,{"$f":"'3.WEF Status-Base'!$AB$33","v":0},0,{"$f":"'3.WEF Status-Base'!$AC$33","v":0},null,{"$f":"'3.WEF Status-Base'!$AE$33","v":0},0,{"$f":"'3.WEF Status-Base'!$AF$33","v":0},null,{"$f":"'3.WEF Status-Base'!$AH$33","v":0},0,{"$f":"'3.WEF Status-Base'!$AI$33","v":0},null,{"$f":"'3.WEF Status-Base'!$AK$33","v":0},0,{"$f":"'3.WEF Status-Base'!$AL$33","v":0},null,{"$f":"'3.WEF Status-Base'!$AN$33","v":0},0,{"$f":"'3.WEF Status-Base'!$AO$33","v":0},null,{"$f":"'3.WEF Status-Base'!$AQ$33","v":0},0,{"$f":"'3.WEF Status-Base'!$AR$33","v":0},null,{"$f":"'3.WEF Status-Base'!$AT$33","v":0},0,{"$f":"'3.WEF Status-Base'!$AU$33","v":0},null,{"$f":"'3.WEF Status-Base'!$AW$33","v":0},0,{"$f":"'3.WEF Status-Base'!$AX$33","v":0},null,{"$f":"'3.WEF Status-Base'!$AZ$33","v":0},0,{"$f":"'3.WEF Status-Base'!$BA$33","v":0},null,{"$f":"'3.WEF Status-Base'!$BC$33","v":0},0,{"$f":"'3.WEF Status-Base'!$BD$33","v":0},{"$f":"'3.WEF Status-Base'!$BE$33","v":0}]
[null,"     Utility boards",null,0,null,25,{"$f":"'3.WEF Status-Base'!$D$34","v":0},0,{"$f":"'3.WEF Status-Base'!$E$34","v":0},null,{"$f":"'3.WEF Status-Base'!$G$34","v":0},0,{"$f":"'3.WEF Status-Base'!$H$34","v":0},null,{"$f":"'3.WEF Status-Base'!$J$34","v":0},0,{"$f":"'3.WEF Status-Base'!$K$34","v":0},null,{"$f":"'3.WEF Status-Base'!$M$34","v":0},0,{"$f":"'3.WEF Status-Base'!$N$34","v":0},null,{"$f":"'3.WEF Status-Base'!$P$34","v":0},0,{"$f":"'3.WEF Status-Base'!$Q$34","v":0},null,{"$f":"'3.WEF Status-Base'!$S$34","v":0},0,{"$f":"'3.WEF Status-Base'!$T$34","v":0},null,{"$f":"'3.WEF Status-Base'!$V$34","v":0},0,{"$f":"'3.WEF Status-Base'!$W$34","v":0},null,{"$f":"'3.WEF Status-Base'!$Y$34","v":0},0,{"$f":"'3.WEF Status-Base'!$Z$34","v":0},null,{"$f":"'3.WEF Status-Base'!$AB$34","v":0},0,{"$f":"'3.WEF Status-Base'!$AC$34","v":0},null,{"$f":"'3.WEF Status-Base'!$AE$34","v":0},0,{"$f":"'3.WEF Status-Base'!$AF$34","v":0},null,{"$f":"'3.WEF Status-Base'!$AH$34","v":0},0,{"$f":"'3.WEF Status-Base'!$AI$34","v":0},null,{"$f":"'3.WEF Status-Base'!$AK$34","v":0},0,{"$f":"'3.WEF Status-Base'!$AL$34","v":0},null,{"$f":"'3.WEF Status-Base'!$AN$34","v":0},0,{"$f":"'3.WEF Status-Base'!$AO$34","v":0},null,{"$f":"'3.WEF Status-Base'!$AQ$34","v":0},0,{"$f":"'3.WEF Status-Base'!$AR$34","v":0},null,{"$f":"'3.WEF Status-Base'!$AT$34","v":0},0,{"$f":"'3.WEF Status-Base'!$AU$34","v":0},null,{"$f":"'3.WEF Status-Base'!$AW$34","v":0},0,{"$f":"'3.WEF Status-Base'!$AX$34","v":0},null,{"$f":"'3.WEF Status-Base'!$AZ$34","v":0},0,{"$f":"'3.WEF Status-Base'!$BA$34","v":0},null,{"$f":"'3.WEF Status-Base'!$BC$34","v":0},0,{"$f":"'3.WEF Status-Base'!$BD$34","v":0},{"$f":"'3.WEF Status-Base'!$BE$34","v":0},null,25,{"$f":"'3.WEF Status-Base'!$D$34","v":0},0,{"$f":"'3.WEF Status-Base'!$E$34","v":0},null,{"$f":"'3.WEF Status-Base'!$G$34","v":0},0,{"$f":"'3.WEF Status-Base'!$H$34","v":0},null,{"$f":"'3.WEF Status-Base'!$J$34","v":0},0,{"$f":"'3.WEF Status-Base'!$K$34","v":0},null,{"$f":"'3.WEF Status-Base'!$M$34","v":0},0,{"$f":"'3.WEF Status-Base'!$N$34","v":0},null,{"$f":"'3.WEF Status-Base'!$P$34","v":0},0,{"$f":"'3.WEF Status-Base'!$Q$34","v":0},null,{"$f":"'3.WEF Status-Base'!$S$34","v":0},0,{"$f":"'3.WEF Status-Base'!$T$34","v":0},null,{"$f":"'3.WEF Status-Base'!$V$34","v":0},0,{"$f":"'3.WEF Status-Base'!$W$34","v":0},null,{"$f":"'3.WEF Status-Base'!$Y$34","v":0},0,{"$f":"'3.WEF Status-Base'!$Z$34","v":0},null,{"$f":"'3.WEF Status-Base'!$AB$34","v":0},0,{"$f":"'3.WEF Status-Base'!$AC$34","v":0},null,{"$f":"'3.WEF Status-Base'!$AE$34","v":0},0,{"$f":"'3.WEF Status-Base'!$AF$34","v":0},null,{"$f":"'3.WEF Status-Base'!$AH$34","v":0},0,{"$f":"'3.WEF Status-Base'!$AI$34","v":0},null,{"$f":"'3.WEF Status-Base'!$AK$34","v":0},0,{"$f":"'3.WEF Status-Base'!$AL$34","v":0},null,{"$f":"'3.WEF Status-Base'!$AN$34","v":0},0,{"$f":"'3.WEF Status-Base'!$AO$34","v":0},null,{"$f":"'3.WEF Status-Base'!$AQ$34","v":0},0,{"$f":"'3.WEF Status-Base'!$AR$34","v":0},null,{"$f":"'3.WEF Status-Base'!$AT$34","v":0},0,{"$f":"'3.WEF Status-Base'!$AU$34","v":0},null,{"$f":"'3.WEF Status-Base'!$AW$34","v":0},0,{"$f":"'3.WEF Status-Base'!$AX$34","v":0},null,{"$f":"'3.WEF Status-Base'!$AZ$34","v":0},0,{"$f":"'3.WEF Status-Base'!$BA$34","v":0},null,{"$f":"'3.WEF Status-Base'!$BC$34","v":0},0,{"$f":"'3.WEF Status-Base'!$BD$34","v":0},{"$f":"'3.WEF Status-Base'!$BE$34","v":0}]
[null,"     Resource Coops",null,0,null,26,{"$f":"'3.WEF Status-Base'!$D$35","v":0},0,{"$f":"'3.WEF Status-Base'!$E$35","v":0},null,{"$f":"'3.WEF Status-Base'!$G$35","v":0},0,{"$f":"'3.WEF Status-Base'!$H$35","v":0},null,{"$f":"'3.WEF Status-Base'!$J$35","v":0},0,{"$f":"'3.WEF Status-Base'!$K$35","v":0},null,{"$f":"'3.WEF Status-Base'!$M$35","v":0},0,{"$f":"'3.WEF Status-Base'!$N$35","v":0},null,{"$f":"'3.WEF Status-Base'!$P$35","v":0},0,{"$f":"'3.WEF Status-Base'!$Q$35","v":0},null,{"$f":"'3.WEF Status-Base'!$S$35","v":0},0,{"$f":"'3.WEF Status-Base'!$T$35","v":0},null,{"$f":"'3.WEF Status-Base'!$V$35","v":0},0,{"$f":"'3.WEF Status-Base'!$W$35","v":0},null,{"$f":"'3.WEF Status-Base'!$Y$35","v":0},0,{"$f":"'3.WEF Status-Base'!$Z$35","v":0},null,{"$f":"'3.WEF Status-Base'!$AB$35","v":0},0,{"$f":"'3.WEF Status-Base'!$AC$35","v":0},null,{"$f":"'3.WEF Status-Base'!$AE$35","v":0},0,{"$f":"'3.WEF Status-Base'!$AF$35","v":0},null,{"$f":"'3.WEF Status-Base'!$AH$35","v":0},0,{"$f":"'3.WEF Status-Base'!$AI$35","v":0},null,{"$f":"'3.WEF Status-Base'!$AK$35","v":0},0,{"$f":"'3.WEF Status-Base'!$AL$35","v":0},null,{"$f":"'3.WEF Status-Base'!$AN$35","v":0},0,{"$f":"'3.WEF Status-Base'!$AO$35","v":0},null,{"$f":"'3.WEF Status-Base'!$AQ$35","v":0},0,{"$f":"'3.WEF Status-Base'!$AR$35","v":0},null,{"$f":"'3.WEF Status-Base'!$AT$35","v":0},0,{"$f":"'3.WEF Status-Base'!$AU$35","v":0},null,{"$f":"'3.WEF Status-Base'!$AW$35","v":0},0,{"$f":"'3.WEF Status-Base'!$AX$35","v":0},null,{"$f":"'3.WEF Status-Base'!$AZ$35","v":0},0,{"$f":"'3.WEF Status-Base'!$BA$35","v":0},null,{"$f":"'3.WEF Status-Base'!$BC$35","v":0},0,{"$f":"'3.WEF Status-Base'!$BD$35","v":0},{"$f":"'3.WEF Status-Base'!$BE$35","v":0},null,26,{"$f":"'3.WEF Status-Base'!$D$35","v":0},0,{"$f":"'3.WEF Status-Base'!$E$35","v":0},null,{"$f":"'3.WEF Status-Base'!$G$35","v":0},0,{"$f":"'3.WEF Status-Base'!$H$35","v":0},null,{"$f":"'3.WEF Status-Base'!$J$35","v":0},0,{"$f":"'3.WEF Status-Base'!$K$35","v":0},null,{"$f":"'3.WEF Status-Base'!$M$35","v":0},0,{"$f":"'3.WEF Status-Base'!$N$35","v":0},null,{"$f":"'3.WEF Status-Base'!$P$35","v":0},0,{"$f":"'3.WEF Status-Base'!$Q$35","v":0},null,{"$f":"'3.WEF Status-Base'!$S$35","v":0},0,{"$f":"'3.WEF Status-Base'!$T$35","v":0},null,{"$f":"'3.WEF Status-Base'!$V$35","v":0},0,{"$f":"'3.WEF Status-Base'!$W$35","v":0},null,{"$f":"'3.WEF Status-Base'!$Y$35","v":0},0,{"$f":"'3.WEF Status-Base'!$Z$35","v":0},null,{"$f":"'3.WEF Status-Base'!$AB$35","v":0},0,{"$f":"'3.WEF Status-Base'!$AC$35","v":0},null,{"$f":"'3.WEF Status-Base'!$AE$35","v":0},0,{"$f":"'3.WEF Status-Base'!$AF$35","v":0},null,{"$f":"'3.WEF Status-Base'!$AH$35","v":0},0,{"$f":"'3.WEF Status-Base'!$AI$35","v":0},null,{"$f":"'3.WEF Status-Base'!$AK$35","v":0},0,{"$f":"'3.WEF Status-Base'!$AL$35","v":0},null,{"$f":"'3.WEF Status-Base'!$AN$35","v":0},0,{"$f":"'3.WEF Status-Base'!$AO$35","v":0},null,{"$f":"'3.WEF Status-Base'!$AQ$35","v":0},0,{"$f":"'3.WEF Status-Base'!$AR$35","v":0},null,{"$f":"'3.WEF Status-Base'!$AT$35","v":0},0,{"$f":"'3.WEF Status-Base'!$AU$35","v":0},null,{"$f":"'3.WEF Status-Base'!$AW$35","v":0},0,{"$f":"'3.WEF Status-Base'!$AX$35","v":0},null,{"$f":"'3.WEF Status-Base'!$AZ$35","v":0},0,{"$f":"'3.WEF Status-Base'!$BA$35","v":0},null,{"$f":"'3.WEF Status-Base'!$BC$35","v":0},0,{"$f":"'3.WEF Status-Base'!$BD$35","v":0},{"$f":"'3.WEF Status-Base'!$BE$35","v":0}]
[null,"     Safety oversight agencies",null,0,null,27,{"$f":"'3.WEF Status-Base'!$D$36","v":0},0,{"$f":"'3.WEF Status-Base'!$E$36","v":0},null,{"$f":"'3.WEF Status-Base'!$G$36","v":0},0,{"$f":"'3.WEF Status-Base'!$H$36","v":0},null,{"$f":"'3.WEF Status-Base'!$J$36","v":0},0,{"$f":"'3.WEF Status-Base'!$K$36","v":0},null,{"$f":"'3.WEF Status-Base'!$M$36","v":0},0,{"$f":"'3.WEF Status-Base'!$N$36","v":0},null,{"$f":"'3.WEF Status-Base'!$P$36","v":0},0,{"$f":"'3.WEF Status-Base'!$Q$36","v":0},null,{"$f":"'3.WEF Status-Base'!$S$36","v":0},0,{"$f":"'3.WEF Status-Base'!$T$36","v":0},null,{"$f":"'3.WEF Status-Base'!$V$36","v":0},0,{"$f":"'3.WEF Status-Base'!$W$36","v":0},null,{"$f":"'3.WEF Status-Base'!$Y$36","v":0},0,{"$f":"'3.WEF Status-Base'!$Z$36","v":0},null,{"$f":"'3.WEF Status-Base'!$AB$36","v":0},0,{"$f":"'3.WEF Status-Base'!$AC$36","v":0},null,{"$f":"'3.WEF Status-Base'!$AE$36","v":0},0,{"$f":"'3.WEF Status-Base'!$AF$36","v":0},null,{"$f":"'3.WEF Status-Base'!$AH$36","v":0},0,{"$f":"'3.WEF Status-Base'!$AI$36","v":0},null,{"$f":"'3.WEF Status-Base'!$AK$36","v":0},0,{"$f":"'3.WEF Status-Base'!$AL$36","v":0},null,{"$f":"'3.WEF Status-Base'!$AN$36","v":0},0,{"$f":"'3.WEF Status-Base'!$AO$36","v":0},null,{"$f":"'3.WEF Status-Base'!$AQ$36","v":0},0,{"$f":"'3.WEF Status-Base'!$AR$36","v":0},null,{"$f":"'3.WEF Status-Base'!$AT$36","v":0},0,{"$f":"'3.WEF Status-Base'!$AU$36","v":0},null,{"$f":"'3.WEF Status-Base'!$AW$36","v":0},0,{"$f":"'3.WEF Status-Base'!$AX$36","v":0},null,{"$f":"'3.WEF Status-Base'!$AZ$36","v":0},0,{"$f":"'3.WEF Status-Base'!$BA$36","v":0},null,{"$f":"'3.WEF Status-Base'!$BC$36","v":0},0,{"$f":"'3.WEF Status-Base'!$BD$36","v":0},{"$f":"'3.WEF Status-Base'!$BE$36","v":0},null,27,{"$f":"'3.WEF Status-Base'!$D$36","v":0},0,{"$f":"'3.WEF Status-Base'!$E$36","v":0},null,{"$f":"'3.WEF Status-Base'!$G$36","v":0},0,{"$f":"'3.WEF Status-Base'!$H$36","v":0},null,{"$f":"'3.WEF Status-Base'!$J$36","v":0},0,{"$f":"'3.WEF Status-Base'!$K$36","v":0},null,{"$f":"'3.WEF Status-Base'!$M$36","v":0},0,{"$f":"'3.WEF Status-Base'!$N$36","v":0},null,{"$f":"'3.WEF Status-Base'!$P$36","v":0},0,{"$f":"'3.WEF Status-Base'!$Q$36","v":0},null,{"$f":"'3.WEF Status-Base'!$S$36","v":0},0,{"$f":"'3.WEF Status-Base'!$T$36","v":0},null,{"$f":"'3.WEF Status-Base'!$V$36","v":0},0,{"$f":"'3.WEF Status-Base'!$W$36","v":0},null,{"$f":"'3.WEF Status-Base'!$Y$36","v":0},0,{"$f":"'3.WEF Status-Base'!$Z$36","v":0},null,{"$f":"'3.WEF Status-Base'!$AB$36","v":0},0,{"$f":"'3.WEF Status-Base'!$AC$36","v":0},null,{"$f":"'3.WEF Status-Base'!$AE$36","v":0},0,{"$f":"'3.WEF Status-Base'!$AF$36","v":0},null,{"$f":"'3.WEF Status-Base'!$AH$36","v":0},0,{"$f":"'3.WEF Status-Base'!$AI$36","v":0},null,{"$f":"'3.WEF Status-Base'!$AK$36","v":0},0,{"$f":"'3.WEF Status-Base'!$AL$36","v":0},null,{"$f":"'3.WEF Status-Base'!$AN$36","v":0},0,{"$f":"'3.WEF Status-Base'!$AO$36","v":0},null,{"$f":"'3.WEF Status-Base'!$AQ$36","v":0},0,{"$f":"'3.WEF Status-Base'!$AR$36","v":0},null,{"$f":"'3.WEF Status-Base'!$AT$36","v":0},0,{"$f":"'3.WEF Status-Base'!$AU$36","v":0},null,{"$f":"'3.WEF Status-Base'!$AW$36","v":0},0,{"$f":"'3.WEF Status-Base'!$AX$36","v":0},null,{"$f":"'3.WEF Status-Base'!$AZ$36","v":0},0,{"$f":"'3.WEF Status-Base'!$BA$36","v":0},null,{"$f":"'3.WEF Status-Base'!$BC$36","v":0},0,{"$f":"'3.WEF Status-Base'!$BD$36","v":0},{"$f":"'3.WEF Status-Base'!$BE$36","v":0}]
[null,"     Education and training",null,0,null,28,{"$f":"'3.WEF Status-Base'!$D$37","v":0},0,{"$f":"'3.WEF Status-Base'!$E$37","v":0},null,{"$f":"'3.WEF Status-Base'!$G$37","v":0},0,{"$f":"'3.WEF Status-Base'!$H$37","v":0},null,{"$f":"'3.WEF Status-Base'!$J$37","v":0},0,{"$f":"'3.WEF Status-Base'!$K$37","v":0},null,{"$f":"'3.WEF Status-Base'!$M$37","v":0},0,{"$f":"'3.WEF Status-Base'!$N$37","v":0},null,{"$f":"'3.WEF Status-Base'!$P$37","v":0},0,{"$f":"'3.WEF Status-Base'!$Q$37","v":0},null,{"$f":"'3.WEF Status-Base'!$S$37","v":0},0,{"$f":"'3.WEF Status-Base'!$T$37","v":0},null,{"$f":"'3.WEF Status-Base'!$V$37","v":0},0,{"$f":"'3.WEF Status-Base'!$W$37","v":0},null,{"$f":"'3.WEF Status-Base'!$Y$37","v":0},0,{"$f":"'3.WEF Status-Base'!$Z$37","v":0},null,{"$f":"'3.WEF Status-Base'!$AB$37","v":0},0,{"$f":"'3.WEF Status-Base'!$AC$37","v":0},null,{"$f":"'3.WEF Status-Base'!$AE$37","v":0},0,{"$f":"'3.WEF Status-Base'!$AF$37","v":0},null,{"$f":"'3.WEF Status-Base'!$AH$37","v":0},0,{"$f":"'3.WEF Status-Base'!$AI$37","v":0},null,{"$f":"'3.WEF Status-Base'!$AK$37","v":0},0,{"$f":"'3.WEF Status-Base'!$AL$37","v":0},null,{"$f":"'3.WEF Status-Base'!$AN$37","v":0},0,{"$f":"'3.WEF Status-Base'!$AO$37","v":0},null,{"$f":"'3.WEF Status-Base'!$AQ$37","v":0},0,{"$f":"'3.WEF Status-Base'!$AR$37","v":0},null,{"$f":"'3.WEF Status-Base'!$AT$37","v":0},0,{"$f":"'3.WEF Status-Base'!$AU$37","v":0},null,{"$f":"'3.WEF Status-Base'!$AW$37","v":0},0,{"$f":"'3.WEF Status-Base'!$AX$37","v":0},null,{"$f":"'3.WEF Status-Base'!$AZ$37","v":0},0,{"$f":"'3.WEF Status-Base'!$BA$37","v":0},null,{"$f":"'3.WEF Status-Base'!$BC$37","v":0},0,{"$f":"'3.WEF Status-Base'!$BD$37","v":0},{"$f":"'3.WEF Status-Base'!$BE$37","v":0},null,28,{"$f":"'3.WEF Status-Base'!$D$37","v":0},0,{"$f":"'3.WEF Status-Base'!$E$37","v":0},null,{"$f":"'3.WEF Status-Base'!$G$37","v":0},0,{"$f":"'3.WEF Status-Base'!$H$37","v":0},null,{"$f":"'3.WEF Status-Base'!$J$37","v":0},0,{"$f":"'3.WEF Status-Base'!$K$37","v":0},null,{"$f":"'3.WEF Status-Base'!$M$37","v":0},0,{"$f":"'3.WEF Status-Base'!$N$37","v":0},null,{"$f":"'3.WEF Status-Base'!$P$37","v":0},0,{"$f":"'3.WEF Status-Base'!$Q$37","v":0},null,{"$f":"'3.WEF Status-Base'!$S$37","v":0},0,{"$f":"'3.WEF Status-Base'!$T$37","v":0},null,{"$f":"'3.WEF Status-Base'!$V$37","v":0},0,{"$f":"'3.WEF Status-Base'!$W$37","v":0},null,{"$f":"'3.WEF Status-Base'!$Y$37","v":0},0,{"$f":"'3.WEF Status-Base'!$Z$37","v":0},null,{"$f":"'3.WEF Status-Base'!$AB$37","v":0},0,{"$f":"'3.WEF Status-Base'!$AC$37","v":0},null,{"$f":"'3.WEF Status-Base'!$AE$37","v":0},0,{"$f":"'3.WEF Status-Base'!$AF$37","v":0},null,{"$f":"'3.WEF Status-Base'!$AH$37","v":0},0,{"$f":"'3.WEF Status-Base'!$AI$37","v":0},null,{"$f":"'3.WEF Status-Base'!$AK$37","v":0},0,{"$f":"'3.WEF Status-Base'!$AL$37","v":0},null,{"$f":"'3.WEF Status-Base'!$AN$37","v":0},0,{"$f":"'3.WEF Status-Base'!$AO$37","v":0},null,{"$f":"'3.WEF Status-Base'!$AQ$37","v":0},0,{"$f":"'3.WEF Status-Base'!$AR$37","v":0},null,{"$f":"'3.WEF Status-Base'!$AT$37","v":0},0,{"$f":"'3.WEF Status-Base'!$AU$37","v":0},null,{"$f":"'3.WEF Status-Base'!$AW$37","v":0},0,{"$f":"'3.WEF Status-Base'!$AX$37","v":0},null,{"$f":"'3.WEF Status-Base'!$AZ$37","v":0},0,{"$f":"'3.WEF Status-Base'!$BA$37","v":0},null,{"$f":"'3.WEF Status-Base'!$BC$37","v":0},0,{"$f":"'3.WEF Status-Base'!$BD$37","v":0},{"$f":"'3.WEF Status-Base'!$BE$37","v":0}]
[null,"     Law enforcement and security",null,0,null,29,{"$f":"'3.WEF Status-Base'!$D$38","v":0},0,{"$f":"'3.WEF Status-Base'!$E$38","v":0},null,{"$f":"'3.WEF Status-Base'!$G$38","v":0},0,{"$f":"'3.WEF Status-Base'!$H$38","v":0},null,{"$f":"'3.WEF Status-Base'!$J$38","v":0},0,{"$f":"'3.WEF Status-Base'!$K$38","v":0},null,{"$f":"'3.WEF Status-Base'!$M$38","v":0},0,{"$f":"'3.WEF Status-Base'!$N$38","v":0},null,{"$f":"'3.WEF Status-Base'!$P$38","v":0},0,{"$f":"'3.WEF Status-Base'!$Q$38","v":0},null,{"$f":"'3.WEF Status-Base'!$S$38","v":0},0,{"$f":"'3.WEF Status-Base'!$T$38","v":0},null,{"$f":"'3.WEF Status-Base'!$V$38","v":0},0,{"$f":"'3.WEF Status-Base'!$W$38","v":0},null,{"$f":"'3.WEF Status-Base'!$Y$38","v":0},0,{"$f":"'3.WEF Status-Base'!$Z$38","v":0},null,{"$f":"'3.WEF Status-Base'!$AB$38","v":0},0,{"$f":"'3.WEF Status-Base'!$AC$38","v":0},null,{"$f":"'3.WEF Status-Base'!$AE$38","v":0},0,{"$f":"'3.WEF Status-Base'!$AF$38","v":0},null,{"$f":"'3.WEF Status-Base'!$AH$38","v":0},0,{"$f":"'3.WEF Status-Base'!$AI$38","v":0},null,{"$f":"'3.WEF Status-Base'!$AK$38","v":0},0,{"$f":"'3.WEF Status-Base'!$AL$38","v":0},null,{"$f":"'3.WEF Status-Base'!$AN$38","v":0},0,{"$f":"'3.WEF Status-Base'!$AO$38","v":0},null,{"$f":"'3.WEF Status-Base'!$AQ$38","v":0},0,{"$f":"'3.WEF Status-Base'!$AR$38","v":0},null,{"$f":"'3.WEF Status-Base'!$AT$38","v":0},0,{"$f":"'3.WEF Status-Base'!$AU$38","v":0},null,{"$f":"'3.WEF Status-Base'!$AW$38","v":0},0,{"$f":"'3.WEF Status-Base'!$AX$38","v":0},null,{"$f":"'3.WEF Status-Base'!$AZ$38","v":0},0,{"$f":"'3.WEF Status-Base'!$BA$38","v":0},null,{"$f":"'3.WEF Status-Base'!$BC$38","v":0},0,{"$f":"'3.WEF Status-Base'!$BD$38","v":0},{"$f":"'3.WEF Status-Base'!$BE$38","v":0},null,29,{"$f":"'3.WEF Status-Base'!$D$38","v":0},0,{"$f":"'3.WEF Status-Base'!$E$38","v":0},null,{"$f":"'3.WEF Status-Base'!$G$38","v":0},0,{"$f":"'3.WEF Status-Base'!$H$38","v":0},null,{"$f":"'3.WEF Status-Base'!$J$38","v":0},0,{"$f":"'3.WEF Status-Base'!$K$38","v":0},null,{"$f":"'3.WEF Status-Base'!$M$38","v":0},0,{"$f":"'3.WEF Status-Base'!$N$38","v":0},null,{"$f":"'3.WEF Status-Base'!$P$38","v":0},0,{"$f":"'3.WEF Status-Base'!$Q$38","v":0},null,{"$f":"'3.WEF Status-Base'!$S$38","v":0},0,{"$f":"'3.WEF Status-Base'!$T$38","v":0},null,{"$f":"'3.WEF Status-Base'!$V$38","v":0},0,{"$f":"'3.WEF Status-Base'!$W$38","v":0},null,{"$f":"'3.WEF Status-Base'!$Y$38","v":0},0,{"$f":"'3.WEF Status-Base'!$Z$38","v":0},null,{"$f":"'3.WEF Status-Base'!$AB$38","v":0},0,{"$f":"'3.WEF Status-Base'!$AC$38","v":0},null,{"$f":"'3.WEF Status-Base'!$AE$38","v":0},0,{"$f":"'3.WEF Status-Base'!$AF$38","v":0},null,{"$f":"'3.WEF Status-Base'!$AH$38","v":0},0,{"$f":"'3.WEF Status-Base'!$AI$38","v":0},null,{"$f":"'3.WEF Status-Base'!$AK$38","v":0},0,{"$f":"'3.WEF Status-Base'!$AL$38","v":0},null,{"$f":"'3.WEF Status-Base'!$AN$38","v":0},0,{"$f":"'3.WEF Status-Base'!$AO$38","v":0},null,{"$f":"'3.WEF Status-Base'!$AQ$38","v":0},0,{"$f":"'3.WEF Status-Base'!$AR$38","v":0},null,{"$f":"'3.WEF Status-Base'!$AT$38","v":0},0,{"$f":"'3.WEF Status-Base'!$AU$38","v":0},null,{"$f":"'3.WEF Status-Base'!$AW$38","v":0},0,{"$f":"'3.WEF Status-Base'!$AX$38","v":0},null,{"$f":"'3.WEF Status-Base'!$AZ$38","v":0},0,{"$f":"'3.WEF Status-Base'!$BA$38","v":0},null,{"$f":"'3.WEF Status-Base'!$BC$38","v":0},0,{"$f":"'3.WEF Status-Base'!$BD$38","v":0},{"$f":"'3.WEF Status-Base'!$BE$38","v":0}]
[null,"Policies and Plans",null,0,null,30,{"$f":"'3.WEF Status-Base'!$D$39","v":0},0,{"$f":"'3.WEF Status-Base'!$E$39","v":0},null,{"$f":"'3.WEF Status-Base'!$G$39","v":0},0,{"$f":"'3.WEF Status-Base'!$H$39","v":0},null,{"$f":"'3.WEF Status-Base'!$J$39","v":0},0,{"$f":"'3.WEF Status-Base'!$K$39","v":0},null,{"$f":"'3.WEF Status-Base'!$M$39","v":0},0,{"$f":"'3.WEF Status-Base'!$N$39","v":0},null,{"$f":"'3.WEF Status-Base'!$P$39","v":0},0,{"$f":"'3.WEF Status-Base'!$Q$39","v":0},null,{"$f":"'3.WEF Status-Base'!$S$39","v":0},0,{"$f":"'3.WEF Status-Base'!$T$39","v":0},null,{"$f":"'3.WEF Status-Base'!$V$39","v":0},0,{"$f":"'3.WEF Status-Base'!$W$39","v":0},null,{"$f":"'3.WEF Status-Base'!$Y$39","v":0},0,{"$f":"'3.WEF Status-Base'!$Z$39","v":0},null,{"$f":"'3.WEF Status-Base'!$AB$39","v":0},0,{"$f":"'3.WEF Status-Base'!$AC$39","v":0},null,{"$f":"'3.WEF Status-Base'!$AE$39","v":0},0,{"$f":"'3.WEF Status-Base'!$AF$39","v":0},null,{"$f":"'3.WEF Status-Base'!$AH$39","v":0},0,{"$f":"'3.WEF Status-Base'!$AI$39","v":0},null,{"$f":"'3.WEF Status-Base'!$AK$39","v":0},0,{"$f":"'3.WEF Status-Base'!$AL$39","v":0},null,{"$f":"'3.WEF Status-Base'!$AN$39","v":0},0,{"$f":"'3.WEF Status-Base'!$AO$39","v":0},null,{"$f":"'3.WEF Status-Base'!$AQ$39","v":0},0,{"$f":"'3.WEF Status-Base'!$AR$39","v":0},null,{"$f":"'3.WEF Status-Base'!$AT$39","v":0},0,{"$f":"'3.WEF Status-Base'!$AU$39","v":0},null,{"$f":"'3.WEF Status-Base'!$AW$39","v":0},0,{"$f":"'3.WEF Status-Base'!$AX$39","v":0},null,{"$f":"'3.WEF Status-Base'!$AZ$39","v":0},0,{"$f":"'3.WEF Status-Base'!$BA$39","v":0},null,{"$f":"'3.WEF Status-Base'!$BC$39","v":0},0,{"$f":"'3.WEF Status-Base'!$BD$39","v":0},{"$f":"'3.WEF Status-Base'!$BE$39","v":0},null,30,{"$f":"'3.WEF Status-Base'!$D$39","v":0},0,{"$f":"'3.WEF Status-Base'!$E$39","v":0},null,{"$f":"'3.WEF Status-Base'!$G$39","v":0},0,{"$f":"'3.WEF Status-Base'!$H$39","v":0},null,{"$f":"'3.WEF Status-Base'!$J$39","v":0},0,{"$f":"'3.WEF Status-Base'!$K$39","v":0},null,{"$f":"'3.WEF Status-Base'!$M$39","v":0},0,{"$f":"'3.WEF Status-Base'!$N$39","v":0},null,{"$f":"'3.WEF Status-Base'!$P$39","v":0},0,{"$f":"'3.WEF Status-Base'!$Q$39","v":0},null,{"$f":"'3.WEF Status-Base'!$S$39","v":0},0,{"$f":"'3.WEF Status-Base'!$T$39","v":0},null,{"$f":"'3.WEF Status-Base'!$V$39","v":0},0,{"$f":"'3.WEF Status-Base'!$W$39","v":0},null,{"$f":"'3.WEF Status-Base'!$Y$39","v":0},0,{"$f":"'3.WEF Status-Base'!$Z$39","v":0},null,{"$f":"'3.WEF Status-Base'!$AB$39","v":0},0,{"$f":"'3.WEF Status-Base'!$AC$39","v":0},null,{"$f":"'3.WEF Status-Base'!$AE$39","v":0},0,{"$f":"'3.WEF Status-Base'!$AF$39","v":0},null,{"$f":"'3.WEF Status-Base'!$AH$39","v":0},0,{"$f":"'3.WEF Status-Base'!$AI$39","v":0},null,{"$f":"'3.WEF Status-Base'!$AK$39","v":0},0,{"$f":"'3.WEF Status-Base'!$AL$39","v":0},null,{"$f":"'3.WEF Status-Base'!$AN$39","v":0},0,{"$f":"'3.WEF Status-Base'!$AO$39","v":0},null,{"$f":"'3.WEF Status-Base'!$AQ$39","v":0},0,{"$f":"'3.WEF Status-Base'!$AR$39","v":0},null,{"$f":"'3.WEF Status-Base'!$AT$39","v":0},0,{"$f":"'3.WEF Status-Base'!$AU$39","v":0},null,{"$f":"'3.WEF Status-Base'!$AW$39","v":0},0,{"$f":"'3.WEF Status-Base'!$AX$39","v":0},null,{"$f":"'3.WEF Status-Base'!$AZ$39","v":0},0,{"$f":"'3.WEF Status-Base'!$BA$39","v":0},null,{"$f":"'3.WEF Status-Base'!$BC$39","v":0},0,{"$f":"'3.WEF Status-Base'!$BD$39","v":0},{"$f":"'3.WEF Status-Base'!$BE$39","v":0}]
[null,"     Resource use",null,0,null,31,{"$f":"'3.WEF Status-Base'!$D$40","v":0},0,{"$f":"'3.WEF Status-Base'!$E$40","v":0},null,{"$f":"'3.WEF Status-Base'!$G$40","v":0},0,{"$f":"'3.WEF Status-Base'!$H$40","v":0},null,{"$f":"'3.WEF Status-Base'!$J$40","v":0},0,{"$f":"'3.WEF Status-Base'!$K$40","v":0},null,{"$f":"'3.WEF Status-Base'!$M$40","v":0},0,{"$f":"'3.WEF Status-Base'!$N$40","v":0},null,{"$f":"'3.WEF Status-Base'!$P$40","v":0},0,{"$f":"'3.WEF Status-Base'!$Q$40","v":0},null,{"$f":"'3.WEF Status-Base'!$S$40","v":0},0,{"$f":"'3.WEF Status-Base'!$T$40","v":0},null,{"$f":"'3.WEF Status-Base'!$V$40","v":0},0,{"$f":"'3.WEF Status-Base'!$W$40","v":0},null,{"$f":"'3.WEF Status-Base'!$Y$40","v":0},0,{"$f":"'3.WEF Status-Base'!$Z$40","v":0},null,{"$f":"'3.WEF Status-Base'!$AB$40","v":0},0,{"$f":"'3.WEF Status-Base'!$AC$40","v":0},null,{"$f":"'3.WEF Status-Base'!$AE$40","v":0},0,{"$f":"'3.WEF Status-Base'!$AF$40","v":0},null,{"$f":"'3.WEF Status-Base'!$AH$40","v":0},0,{"$f":"'3.WEF Status-Base'!$AI$40","v":0},null,{"$f":"'3.WEF Status-Base'!$AK$40","v":0},0,{"$f":"'3.WEF Status-Base'!$AL$40","v":0},null,{"$f":"'3.WEF Status-Base'!$AN$40","v":0},0,{"$f":"'3.WEF Status-Base'!$AO$40","v":0},null,{"$f":"'3.WEF Status-Base'!$AQ$40","v":0},0,{"$f":"'3.WEF Status-Base'!$AR$40","v":0},null,{"$f":"'3.WEF Status-Base'!$AT$40","v":0},0,{"$f":"'3.WEF Status-Base'!$AU$40","v":0},null,{"$f":"'3.WEF Status-Base'!$AW$40","v":0},0,{"$f":"'3.WEF Status-Base'!$AX$40","v":0},null,{"$f":"'3.WEF Status-Base'!$AZ$40","v":0},0,{"$f":"'3.WEF Status-Base'!$BA$40","v":0},null,{"$f":"'3.WEF Status-Base'!$BC$40","v":0},0,{"$f":"'3.WEF Status-Base'!$BD$40","v":0},{"$f":"'3.WEF Status-Base'!$BE$40","v":0},null,31,{"$f":"'3.WEF Status-Base'!$D$40","v":0},0,{"$f":"'3.WEF Status-Base'!$E$40","v":0},null,{"$f":"'3.WEF Status-Base'!$G$40","v":0},0,{"$f":"'3.WEF Status-Base'!$H$40","v":0},null,{"$f":"'3.WEF Status-Base'!$J$40","v":0},0,{"$f":"'3.WEF Status-Base'!$K$40","v":0},null,{"$f":"'3.WEF Status-Base'!$M$40","v":0},0,{"$f":"'3.WEF Status-Base'!$N$40","v":0},null,{"$f":"'3.WEF Status-Base'!$P$40","v":0},0,{"$f":"'3.WEF Status-Base'!$Q$40","v":0},null,{"$f":"'3.WEF Status-Base'!$S$40","v":0},0,{"$f":"'3.WEF Status-Base'!$T$40","v":0},null,{"$f":"'3.WEF Status-Base'!$V$40","v":0},0,{"$f":"'3.WEF Status-Base'!$W$40","v":0},null,{"$f":"'3.WEF Status-Base'!$Y$40","v":0},0,{"$f":"'3.WEF Status-Base'!$Z$40","v":0},null,{"$f":"'3.WEF Status-Base'!$AB$40","v":0},0,{"$f":"'3.WEF Status-Base'!$AC$40","v":0},null,{"$f":"'3.WEF Status-Base'!$AE$40","v":0},0,{"$f":"'3.WEF Status-Base'!$AF$40","v":0},null,{"$f":"'3.WEF Status-Base'!$AH$40","v":0},0,{"$f":"'3.WEF Status-Base'!$AI$40","v":0},null,{"$f":"'3.WEF Status-Base'!$AK$40","v":0},0,{"$f":"'3.WEF Status-Base'!$AL$40","v":0},null,{"$f":"'3.WEF Status-Base'!$AN$40","v":0},0,{"$f":"'3.WEF Status-Base'!$AO$40","v":0},null,{"$f":"'3.WEF Status-Base'!$AQ$40","v":0},0,{"$f":"'3.WEF Status-Base'!$AR$40","v":0},null,{"$f":"'3.WEF Status-Base'!$AT$40","v":0},0,{"$f":"'3.WEF Status-Base'!$AU$40","v":0},null,{"$f":"'3.WEF Status-Base'!$AW$40","v":0},0,{"$f":"'3.WEF Status-Base'!$AX$40","v":0},null,{"$f":"'3.WEF Status-Base'!$AZ$40","v":0},0,{"$f":"'3.WEF Status-Base'!$BA$40","v":0},null,{"$f":"'3.WEF Status-Base'!$BC$40","v":0},0,{"$f":"'3.WEF Status-Base'!$BD$40","v":0},{"$f":"'3.WEF Status-Base'!$BE$40","v":0}]
[null,"     Climate change adaptation",null,0,null,32,{"$f":"'3.WEF Status-Base'!$D$41","v":0},0,{"$f":"'3.WEF Status-Base'!$E$41","v":0},null,{"$f":"'3.WEF Status-Base'!$G$41","v":0},0,{"$f":"'3.WEF Status-Base'!$H$41","v":0},null,{"$f":"'3.WEF Status-Base'!$J$41","v":0},0,{"$f":"'3.WEF Status-Base'!$K$41","v":0},null,{"$f":"'3.WEF Status-Base'!$M$41","v":0},0,{"$f":"'3.WEF Status-Base'!$N$41","v":0},null,{"$f":"'3.WEF Status-Base'!$P$41","v":0},0,{"$f":"'3.WEF Status-Base'!$Q$41","v":0},null,{"$f":"'3.WEF Status-Base'!$S$41","v":0},0,{"$f":"'3.WEF Status-Base'!$T$41","v":0},null,{"$f":"'3.WEF Status-Base'!$V$41","v":0},0,{"$f":"'3.WEF Status-Base'!$W$41","v":0},null,{"$f":"'3.WEF Status-Base'!$Y$41","v":0},0,{"$f":"'3.WEF Status-Base'!$Z$41","v":0},null,{"$f":"'3.WEF Status-Base'!$AB$41","v":0},0,{"$f":"'3.WEF Status-Base'!$AC$41","v":0},null,{"$f":"'3.WEF Status-Base'!$AE$41","v":0},0,{"$f":"'3.WEF Status-Base'!$AF$41","v":0},null,{"$f":"'3.WEF Status-Base'!$AH$41","v":0},0,{"$f":"'3.WEF Status-Base'!$AI$41","v":0},null,{"$f":"'3.WEF Status-Base'!$AK$41","v":0},0,{"$f":"'3.WEF Status-Base'!$AL$41","v":0},null,{"$f":"'3.WEF Status-Base'!$AN$41","v":0},0,{"$f":"'3.WEF Status-Base'!$AO$41","v":0},null,{"$f":"'3.WEF Status-Base'!$AQ$41","v":0},0,{"$f":"'3.WEF Status-Base'!$AR$41","v":0},null,{"$f":"'3.WEF Status-Base'!$AT$41","v":0},0,{"$f":"'3.WEF Status-Base'!$AU$41","v":0},null,{"$f":"'3.WEF Status-Base'!$AW$41","v":0},0,{"$f":"'3.WEF Status-Base'!$AX$41","v":0},null,{"$f":"'3.WEF Status-Base'!$AZ$41","v":0},0,{"$f":"'3.WEF Status-Base'!$BA$41","v":0},null,{"$f":"'3.WEF Status-Base'!$BC$41","v":0},0,{"$f":"'3.WEF Status-Base'!$BD$41","v":0},{"$f":"'3.WEF Status-Base'!$BE$41","v":0},null,32,{"$f":"'3.WEF Status-Base'!$D$41","v":0},0,{"$f":"'3.WEF Status-Base'!$E$41","v":0},null,{"$f":"'3.WEF Status-Base'!$G$41","v":0},0,{"$f":"'3.WEF Status-Base'!$H$41","v":0},null,{"$f":"'3.WEF Status-Base'!$J$41","v":0},0,{"$f":"'3.WEF Status-Base'!$K$41","v":0},null,{"$f":"'3.WEF Status-Base'!$M$41","v":0},0,{"$f":"'3.WEF Status-Base'!$N$41","v":0},null,{"$f":"'3.WEF Status-Base'!$P$41","v":0},0,{"$f":"'3.WEF Status-Base'!$Q$41","v":0},null,{"$f":"'3.WEF Status-Base'!$S$41","v":0},0,{"$f":"'3.WEF Status-Base'!$T$41","v":0},null,{"$f":"'3.WEF Status-Base'!$V$41","v":0},0,{"$f":"'3.WEF Status-Base'!$W$41","v":0},null,{"$f":"'3.WEF Status-Base'!$Y$41","v":0},0,{"$f":"'3.WEF Status-Base'!$Z$41","v":0},null,{"$f":"'3.WEF Status-Base'!$AB$41","v":0},0,{"$f":"'3.WEF Status-Base'!$AC$41","v":0},null,{"$f":"'3.WEF Status-Base'!$AE$41","v":0},0,{"$f":"'3.WEF Status-Base'!$AF$41","v":0},null,{"$f":"'3.WEF Status-Base'!$AH$41","v":0},0,{"$f":"'3.WEF Status-Base'!$AI$41","v":0},null,{"$f":"'3.WEF Status-Base'!$AK$41","v":0},0,{"$f":"'3.WEF Status-Base'!$AL$41","v":0},null,{"$f":"'3.WEF Status-Base'!$AN$41","v":0},0,{"$f":"'3.WEF Status-Base'!$AO$41","v":0},null,{"$f":"'3.WEF Status-Base'!$AQ$41","v":0},0,{"$f":"'3.WEF Status-Base'!$AR$41","v":0},null,{"$f":"'3.WEF Status-Base'!$AT$41","v":0},0,{"$f":"'3.WEF Status-Base'!$AU$41","v":0},null,{"$f":"'3.WEF Status-Base'!$AW$41","v":0},0,{"$f":"'3.WEF Status-Base'!$AX$41","v":0},null,{"$f":"'3.WEF Status-Base'!$AZ$41","v":0},0,{"$f":"'3.WEF Status-Base'!$BA$41","v":0},null,{"$f":"'3.WEF Status-Base'!$BC$41","v":0},0,{"$f":"'3.WEF Status-Base'!$BD$41","v":0},{"$f":"'3.WEF Status-Base'!$BE$41","v":0}]
[null,"     Disaster recovery and risk management ",null,0,null,33,{"$f":"'3.WEF Status-Base'!$D$42","v":0},0,{"$f":"'3.WEF Status-Base'!$E$42","v":0},null,{"$f":"'3.WEF Status-Base'!$G$42","v":0},0,{"$f":"'3.WEF Status-Base'!$H$42","v":0},null,{"$f":"'3.WEF Status-Base'!$J$42","v":0},0,{"$f":"'3.WEF Status-Base'!$K$42","v":0},null,{"$f":"'3.WEF Status-Base'!$M$42","v":0},0,{"$f":"'3.WEF Status-Base'!$N$42","v":0},null,{"$f":"'3.WEF Status-Base'!$P$42","v":0},0,{"$f":"'3.WEF Status-Base'!$Q$42","v":0},null,{"$f":"'3.WEF Status-Base'!$S$42","v":0},0,{"$f":"'3.WEF Status-Base'!$T$42","v":0},null,{"$f":"'3.WEF Status-Base'!$V$42","v":0},0,{"$f":"'3.WEF Status-Base'!$W$42","v":0},null,{"$f":"'3.WEF Status-Base'!$Y$42","v":0},0,{"$f":"'3.WEF Status-Base'!$Z$42","v":0},null,{"$f":"'3.WEF Status-Base'!$AB$42","v":0},0,{"$f":"'3.WEF Status-Base'!$AC$42","v":0},null,{"$f":"'3.WEF Status-Base'!$AE$42","v":0},0,{"$f":"'3.WEF Status-Base'!$AF$42","v":0},null,{"$f":"'3.WEF Status-Base'!$AH$42","v":0},0,{"$f":"'3.WEF Status-Base'!$AI$42","v":0},null,{"$f":"'3.WEF Status-Base'!$AK$42","v":0},0,{"$f":"'3.WEF Status-Base'!$AL$42","v":0},null,{"$f":"'3.WEF Status-Base'!$AN$42","v":0},0,{"$f":"'3.WEF Status-Base'!$AO$42","v":0},null,{"$f":"'3.WEF Status-Base'!$AQ$42","v":0},0,{"$f":"'3.WEF Status-Base'!$AR$42","v":0},null,{"$f":"'3.WEF Status-Base'!$AT$42","v":0},0,{"$f":"'3.WEF Status-Base'!$AU$42","v":0},null,{"$f":"'3.WEF Status-Base'!$AW$42","v":0},0,{"$f":"'3.WEF Status-Base'!$AX$42","v":0},null,{"$f":"'3.WEF Status-Base'!$AZ$42","v":0},0,{"$f":"'3.WEF Status-Base'!$BA$42","v":0},null,{"$f":"'3.WEF Status-Base'!$BC$42","v":0},0,{"$f":"'3.WEF Status-Base'!$BD$42","v":0},{"$f":"'3.WEF Status-Base'!$BE$42","v":0},null,33,{"$f":"'3.WEF Status-Base'!$D$42","v":0},0,{"$f":"'3.WEF Status-Base'!$E$42","v":0},null,{"$f":"'3.WEF Status-Base'!$G$42","v":0},0,{"$f":"'3.WEF Status-Base'!$H$42","v":0},null,{"$f":"'3.WEF Status-Base'!$J$42","v":0},0,{"$f":"'3.WEF Status-Base'!$K$42","v":0},null,{"$f":"'3.WEF Status-Base'!$M$42","v":0},0,{"$f":"'3.WEF Status-Base'!$N$42","v":0},null,{"$f":"'3.WEF Status-Base'!$P$42","v":0},0,{"$f":"'3.WEF Status-Base'!$Q$42","v":0},null,{"$f":"'3.WEF Status-Base'!$S$42","v":0},0,{"$f":"'3.WEF Status-Base'!$T$42","v":0},null,{"$f":"'3.WEF Status-Base'!$V$42","v":0},0,{"$f":"'3.WEF Status-Base'!$W$42","v":0},null,{"$f":"'3.WEF Status-Base'!$Y$42","v":0},0,{"$f":"'3.WEF Status-Base'!$Z$42","v":0},null,{"$f":"'3.WEF Status-Base'!$AB$42","v":0},0,{"$f":"'3.WEF Status-Base'!$AC$42","v":0},null,{"$f":"'3.WEF Status-Base'!$AE$42","v":0},0,{"$f":"'3.WEF Status-Base'!$AF$42","v":0},null,{"$f":"'3.WEF Status-Base'!$AH$42","v":0},0,{"$f":"'3.WEF Status-Base'!$AI$42","v":0},null,{"$f":"'3.WEF Status-Base'!$AK$42","v":0},0,{"$f":"'3.WEF Status-Base'!$AL$42","v":0},null,{"$f":"'3.WEF Status-Base'!$AN$42","v":0},0,{"$f":"'3.WEF Status-Base'!$AO$42","v":0},null,{"$f":"'3.WEF Status-Base'!$AQ$42","v":0},0,{"$f":"'3.WEF Status-Base'!$AR$42","v":0},null,{"$f":"'3.WEF Status-Base'!$AT$42","v":0},0,{"$f":"'3.WEF Status-Base'!$AU$42","v":0},null,{"$f":"'3.WEF Status-Base'!$AW$42","v":0},0,{"$f":"'3.WEF Status-Base'!$AX$42","v":0},null,{"$f":"'3.WEF Status-Base'!$AZ$42","v":0},0,{"$f":"'3.WEF Status-Base'!$BA$42","v":0},null,{"$f":"'3.WEF Status-Base'!$BC$42","v":0},0,{"$f":"'3.WEF Status-Base'!$BD$42","v":0},{"$f":"'3.WEF Status-Base'!$BE$42","v":0}]
[null,"    R&D and innovation",null,0,null,34,{"$f":"'3.WEF Status-Base'!$D$43","v":0},0,{"$f":"'3.WEF Status-Base'!$E$43","v":0},null,{"$f":"'3.WEF Status-Base'!$G$43","v":0},0,{"$f":"'3.WEF Status-Base'!$H$43","v":0},null,{"$f":"'3.WEF Status-Base'!$J$43","v":0},0,{"$f":"'3.WEF Status-Base'!$K$43","v":0},null,{"$f":"'3.WEF Status-Base'!$M$43","v":0},0,{"$f":"'3.WEF Status-Base'!$N$43","v":0},null,{"$f":"'3.WEF Status-Base'!$P$43","v":0},0,{"$f":"'3.WEF Status-Base'!$Q$43","v":0},null,{"$f":"'3.WEF Status-Base'!$S$43","v":0},0,{"$f":"'3.WEF Status-Base'!$T$43","v":0},null,{"$f":"'3.WEF Status-Base'!$V$43","v":0},0,{"$f":"'3.WEF Status-Base'!$W$43","v":0},null,{"$f":"'3.WEF Status-Base'!$Y$43","v":0},0,{"$f":"'3.WEF Status-Base'!$Z$43","v":0},null,{"$f":"'3.WEF Status-Base'!$AB$43","v":0},0,{"$f":"'3.WEF Status-Base'!$AC$43","v":0},null,{"$f":"'3.WEF Status-Base'!$AE$43","v":0},0,{"$f":"'3.WEF Status-Base'!$AF$43","v":0},null,{"$f":"'3.WEF Status-Base'!$AH$43","v":0},0,{"$f":"'3.WEF Status-Base'!$AI$43","v":0},null,{"$f":"'3.WEF Status-Base'!$AK$43","v":0},0,{"$f":"'3.WEF Status-Base'!$AL$43","v":0},null,{"$f":"'3.WEF Status-Base'!$AN$43","v":0},0,{"$f":"'3.WEF Status-Base'!$AO$43","v":0},null,{"$f":"'3.WEF Status-Base'!$AQ$43","v":0},0,{"$f":"'3.WEF Status-Base'!$AR$43","v":0},null,{"$f":"'3.WEF Status-Base'!$AT$43","v":0},0,{"$f":"'3.WEF Status-Base'!$AU$43","v":0},null,{"$f":"'3.WEF Status-Base'!$AW$43","v":0},0,{"$f":"'3.WEF Status-Base'!$AX$43","v":0},null,{"$f":"'3.WEF Status-Base'!$AZ$43","v":0},0,{"$f":"'3.WEF Status-Base'!$BA$43","v":0},null,{"$f":"'3.WEF Status-Base'!$BC$43","v":0},0,{"$f":"'3.WEF Status-Base'!$BD$43","v":0},{"$f":"'3.WEF Status-Base'!$BE$43","v":0},null,34,{"$f":"'3.WEF Status-Base'!$D$43","v":0},0,{"$f":"'3.WEF Status-Base'!$E$43","v":0},null,{"$f":"'3.WEF Status-Base'!$G$43","v":0},0,{"$f":"'3.WEF Status-Base'!$H$43","v":0},null,{"$f":"'3.WEF Status-Base'!$J$43","v":0},0,{"$f":"'3.WEF Status-Base'!$K$43","v":0},null,{"$f":"'3.WEF Status-Base'!$M$43","v":0},0,{"$f":"'3.WEF Status-Base'!$N$43","v":0},null,{"$f":"'3.WEF Status-Base'!$P$43","v":0},0,{"$f":"'3.WEF Status-Base'!$Q$43","v":0},null,{"$f":"'3.WEF Status-Base'!$S$43","v":0},0,{"$f":"'3.WEF Status-Base'!$T$43","v":0},null,{"$f":"'3.WEF Status-Base'!$V$43","v":0},0,{"$f":"'3.WEF Status-Base'!$W$43","v":0},null,{"$f":"'3.WEF Status-Base'!$Y$43","v":0},0,{"$f":"'3.WEF Status-Base'!$Z$43","v":0},null,{"$f":"'3.WEF Status-Base'!$AB$43","v":0},0,{"$f":"'3.WEF Status-Base'!$AC$43","v":0},null,{"$f":"'3.WEF Status-Base'!$AE$43","v":0},0,{"$f":"'3.WEF Status-Base'!$AF$43","v":0},null,{"$f":"'3.WEF Status-Base'!$AH$43","v":0},0,{"$f":"'3.WEF Status-Base'!$AI$43","v":0},null,{"$f":"'3.WEF Status-Base'!$AK$43","v":0},0,{"$f":"'3.WEF Status-Base'!$AL$43","v":0},null,{"$f":"'3.WEF Status-Base'!$AN$43","v":0},0,{"$f":"'3.WEF Status-Base'!$AO$43","v":0},null,{"$f":"'3.WEF Status-Base'!$AQ$43","v":0},0,{"$f":"'3.WEF Status-Base'!$AR$43","v":0},null,{"$f":"'3.WEF Status-Base'!$AT$43","v":0},0,{"$f":"'3.WEF Status-Base'!$AU$43","v":0},null,{"$f":"'3.WEF Status-Base'!$AW$43","v":0},0,{"$f":"'3.WEF Status-Base'!$AX$43","v":0},null,{"$f":"'3.WEF Status-Base'!$AZ$43","v":0},0,{"$f":"'3.WEF Status-Base'!$BA$43","v":0},null,{"$f":"'3.WEF Status-Base'!$BC$43","v":0},0,{"$f":"'3.WEF Status-Base'!$BD$43","v":0},{"$f":"'3.WEF Status-Base'!$BE$43","v":0}]
[]
[]
[]
[null,"Operation","Economic Activity"]
[null,"Change in Use"]
[null,"Change in source description due to process","Baseline","Change",null,null,"Baseline",0,null,null,"Baseline",0,null,null,"Baseline",0,null,null,"Baseline",0,null,null,"Baseline",0,null,null,"Baseline",0,null,null,"Baseline",0,null,null,"Baseline",0,null,null,"Baseline",0,null,null,"Baseline",0,null,null,"Baseline",0,null,null,"Baseline",0,null,null,"Baseline",0,null,null,"Baseline",0,null,null,"Baseline",0,null,null,"Baseline",0,null,null,"Baseline",0,null,null,"Baseline",0,null,null,null,null,"Baseline",0,null,null,"Baseline",0,null,null,"Baseline",0,null,null,"Baseline",0,null,null,"Baseline",0,null,null,"Baseline",0,null,null,"Baseline",0,null,null,"Baseline",0,null,null,"Baseline",0,null,null,"Baseline",0,null,null,"Baseline",0,null,null,"Baseline",0,null,null,"Baseline",0,null,null,"Baseline",0,null,null,"Baseline",0,null,null,"Baseline",0,null,null,"Baseline",0,null,null,"Baseline",0]
[null,"Availability (Other)",null,null,null,1,null,null,null,null,null,null,null,null,null,null,null,null,null,null,null,null,null,null,null,null,null,null,null,null,null,null,null,null,null,null,null,null,null,null,null,null,null,null,null,null,null,null,null,null,null,null,null,null,null,null,null,null,null,null,null,null,null,null,null,null,null,null,null,null,null,null,null,null,null,null,null,null,null,1]
[null,"Processing/treatment/conversion",null,{"$f":"MAX(H224:BZ224)","v":0},null,2,{"$f":"'3.WEF Status-Base'!$D$11","v":0},0,{"$f":"'3.WEF Status-Base'!$E$11","v":0},null,{"$f":"'3.WEF Status-Base'!$G$11","v":0},0,{"$f":"'3.WEF Status-Base'!$H$11","v":0},null,{"$f":"'3.WEF Status-Base'!$J$11","v":0},0,{"$f":"'3.WEF Status-Base'!$K$11","v":0},null,{"$f":"'3.WEF Status-Base'!$M$11","v":0},0,{"$f":"'3.WEF Status-Base'!$N$11","v":0},null,{"$f":"'3.WEF Status-Base'!$P$11","v":0},0,{"$f":"'3.WEF Status-Base'!$Q$11","v":0},null,{"$f":"'3.WEF Status-Base'!$S$11","v":0},0,{"$f":"'3.WEF Status-Base'!$T$11","v":0},null,{"$f":"'3.WEF Status-Base'!$V$11","v":0},0,{"$f":"'3.WEF Status-Base'!$W$11","v":0},null,{"$f":"'3.WEF Status-Base'!$Y$11","v":0},0,{"$f":"'3.WEF Status-Base'!$Z$11","v":0},null,{"$f":"'3.WEF Status-Base'!$AB$11","v":0},0,{"$f":"'3.WEF Status-Base'!$AC$11","v":0},null,{"$f":"'3.WEF Status-Base'!$AE$11","v":0},0,{"$f":"'3.WEF Status-Base'!$AF$11","v":0},null,{"$f":"'3.WEF Status-Base'!$AH$11","v":0},0,{"$f":"'3.WEF Status-Base'!$AI$11","v":0},null,{"$f":"'3.WEF Status-Base'!$AK$11","v":0},0,{"$f":"'3.WEF Status-Base'!$AL$11","v":0},null,{"$f":"'3.WEF Status-Base'!$AN$11","v":0},0,{"$f":"'3.WEF Status-Base'!$AO$11","v":0},null,{"$f":"'3.WEF Status-Base'!$AQ$11","v":0},0,{"$f":"'3.WEF Status-Base'!$AR$11","v":0},null,{"$f":"'3.WEF Status-Base'!$AT$11","v":0},0,{"$f":"'3.WEF Status-Base'!$AU$11","v":0},null,{"$f":"'3.WEF Status-Base'!$AW$11","v":0},0,{"$f":"'3.WEF Status-Base'!$AX$11","v":0},null,{"$f":"'3.WEF Status-Base'!$AZ$11","v":0},0,{"$f":"'3.WEF Status-Base'!$BA$11","v":0},null,{"$f":"'3.WEF Status-Base'!$BC$11","v":0},0,{"$f":"'3.WEF Status-Base'!$BD$11","v":0},{"$f":"'3.WEF Status-Base'!$BE$11","v":0},null,2,{"$f":"'3.WEF Status-Base'!$D$11","v":0},0,{"$f":"'3.WEF Status-Base'!$E$11","v":0},null,{"$f":"'3.WEF Status-Base'!$G$11","v":0},0,{"$f":"'3.WEF Status-Base'!$H$11","v":0},null,{"$f":"'3.WEF Status-Base'!$J$11","v":0},0,{"$f":"'3.WEF Status-Base'!$K$11","v":0},null,{"$f":"'3.WEF Status-Base'!$M$11","v":0},0,{"$f":"'3.WEF Status-Base'!$N$11","v":0},null,{"$f":"'3.WEF Status-Base'!$P$11","v":0},0,{"$f":"'3.WEF Status-Base'!$Q$11","v":0},null,{"$f":"'3.WEF Status-Base'!$S$11","v":0},0,{"$f":"'3.WEF Status-Base'!$T$11","v":0},null,{"$f":"'3.WEF Status-Base'!$V$11","v":0},0,{"$f":"'3.WEF Status-Base'!$W$11","v":0},null,{"$f":"'3.WEF Status-Base'!$Y$11","v":0},0,{"$f":"'3.WEF Status-Base'!$Z$11","v":0},null,{"$f":"'3.WEF Status-Base'!$AB$11","v":0},0,{"$f":"'3.WEF Status-Base'!$AC$11","v":0},null,{"$f":"'3.WEF Status-Base'!$AE$11","v":0},0,{"$f":"'3.WEF Status-Base'!$AF$11","v":0},null,{"$f":"'3.WEF Status-Base'!$AH$11","v":0},0,{"$f":"'3.WEF Status-Base'!$AI$11","v":0},null,{"$f":"'3.WEF Status-Base'!$AK$11","v":0},0,{"$f":"'3.WEF Status-Base'!$AL$11","v":0},null,{"$f":"'3.WEF Status-Base'!$AN$11","v":0},0,{"$f":"'3.WEF Status-Base'!$AO$11","v":0},null,{"$f":"'3.WEF Status-Base'!$AQ$11","v":0},0,{"$f":"'3.WEF Status-Base'!$AR$11","v":0},null,{"$f":"'3.WEF Status-Base'!$AT$11","v":0},0,{"$f":"'3.WEF Status-Base'!$AU$11","v":0},null,{"$f":"'3.WEF Status-Base'!$AW$11","v":0},0,{"$f":"'3.WEF Status-Base'!$AX$11","v":0},null,{"$f":"'3.WEF Status-Base'!$AZ$11","v":0},0,{"$f":"'3.WEF Status-Base'!$BA$11","v":0},null,{"$f":"'3.WEF Status-Base'!$BC$11","v":0},0,{"$f":"'3.WEF Status-Base'!$BD$11","v":0},{"$f":"'3.WEF Status-Base'!$BE$11","v":0}]
[null,"Timing of delivery (storage)",null,{"$f":"MAX(H225:BZ225)","v":0},null,3,{"$f":"'3.WEF Status-Base'!$D$12","v":0},0,{"$f":"'3.WEF Status-Base'!$E$12","v":0},null,{"$f":"'3.WEF Status-Base'!$G$12","v":0},0,{"$f":"'3.WEF Status-Base'!$H$12","v":0},null,{"$f":"'3.WEF Status-Base'!$J$12","v":0},0,{"$f":"'3.WEF Status-Base'!$K$12","v":0},null,{"$f":"'3.WEF Status-Base'!$M$12","v":0},0,{"$f":"'3.WEF Status-Base'!$N$12","v":0},null,{"$f":"'3.WEF Status-Base'!$P$12","v":0},0,{"$f":"'3.WEF Status-Base'!$Q$12","v":0},null,{"$f":"'3.WEF Status-Base'!$S$12","v":0},0,{"$f":"'3.WEF Status-Base'!$T$12","v":0},null,{"$f":"'3.WEF Status-Base'!$V$12","v":0},0,{"$f":"'3.WEF Status-Base'!$W$12","v":0},null,{"$f":"'3.WEF Status-Base'!$Y$12","v":0},0,{"$f":"'3.WEF Status-Base'!$Z$12","v":0},null,{"$f":"'3.WEF Status-Base'!$AB$12","v":0},0,{"$f":"'3.WEF Status-Base'!$AC$12","v":0},null,{"$f":"'3.WEF Status-Base'!$AE$12","v":0},0,{"$f":"'3.WEF Status-Base'!$AF$12","v":0},null,{"$f":"'3.WEF Status-Base'!$AH$12","v":0},0,{"$f":"'3.WEF Status-Base'!$AI$12","v":0},null,{"$f":"'3.WEF Status-Base'!$AK$12","v":0},0,{"$f":"'3.WEF Status-Base'!$AL$12","v":0},null,{"$f":"'3.WEF Status-Base'!$AN$12","v":0},0,{"$f":"'3.WEF Status-Base'!$AO$12","v":0},null,{"$f":"'3.WEF Status-Base'!$AQ$12","v":0},0,{"$f":"'3.WEF Status-Base'!$AR$12","v":0},null,{"$f":"'3.WEF Status-Base'!$AT$12","v":0},0,{"$f":"'3.WEF Status-Base'!$AU$12","v":0},null,{"$f":"'3.WEF Status-Base'!$AW$12","v":0},0,{"$f":"'3.WEF Status-Base'!$AX$12","v":0},null,{"$f":"'3.WEF Status-Base'!$AZ$12","v":0},0,{"$f":"'3.WEF Status-Base'!$BA$12","v":0},null,{"$f":"'3.WEF Status-Base'!$BC$12","v":0},0,{"$f":"'3.WEF Status-Base'!$BD$12","v":0},{"$f":"'3.WEF Status-Base'!$BE$12","v":0},null,3,{"$f":"'3.WEF Status-Base'!$D$12","v":0},0,{"$f":"'3.WEF Status-Base'!$E$12","v":0},null,{"$f":"'3.WEF Status-Base'!$G$12","v":0},0,{"$f":"'3.WEF Status-Base'!$H$12","v":0},null,{"$f":"'3.WEF Status-Base'!$J$12","v":0},0,{"$f":"'3.WEF Status-Base'!$K$12","v":0},null,{"$f":"'3.WEF Status-Base'!$M$12","v":0},0,{"$f":"'3.WEF Status-Base'!$N$12","v":0},null,{"$f":"'3.WEF Status-Base'!$P$12","v":0},0,{"$f":"'3.WEF Status-Base'!$Q$12","v":0},null,{"$f":"'3.WEF Status-Base'!$S$12","v":0},0,{"$f":"'3.WEF Status-Base'!$T$12","v":0},null,{"$f":"'3.WEF Status-Base'!$V$12","v":0},0,{"$f":"'3.WEF Status-Base'!$W$12","v":0},null,{"$f":"'3.WEF Status-Base'!$Y$12","v":0},0,{"$f":"'3.WEF Status-Base'!$Z$12","v":0},null,{"$f":"'3.WEF Status-Base'!$AB$12","v":0},0,{"$f":"'3.WEF Status-Base'!$AC$12","v":0},null,{"$f":"'3.WEF Status-Base'!$AE$12","v":0},0,{"$f":"'3.WEF Status-Base'!$AF$12","v":0},null,{"$f":"'3.WEF Status-Base'!$AH$12","v":0},0,{"$f":"'3.WEF Status-Base'!$AI$12","v":0},null,{"$f":"'3.WEF Status-Base'!$AK$12","v":0},0,{"$f":"'3.WEF Status-Base'!$AL$12","v":0},null,{"$f":"'3.WEF Status-Base'!$AN$12","v":0},0,{"$f":"'3.WEF Status-Base'!$AO$12","v":0},null,{"$f":"'3.WEF Status-Base'!$AQ$12","v":0},0,{"$f":"'3.WEF Status-Base'!$AR$12","v":0},null,{"$f":"'3.WEF Status-Base'!$AT$12","v":0},0,{"$f":"'3.WEF Status-Base'!$AU$12","v":0},null,{"$f":"'3.WEF Status-Base'!$AW$12","v":0},0,{"$f":"'3.WEF Status-Base'!$AX$12","v":0},null,{"$f":"'3.WEF Status-Base'!$AZ$12","v":0},0,{"$f":"'3.WEF Status-Base'!$BA$12","v":0},null,{"$f":"'3.WEF Status-Base'!$BC$12","v":0},0,{"$f":"'3.WEF Status-Base'!$BD$12","v":0},{"$f":"'3.WEF Status-Base'!$BE$12","v":0}]
[null,"Distribution (water towers)",null,{"$f":"MAX(H226:BZ226)","v":0},null,4,{"$f":"'3.WEF Status-Base'!$D$13","v":0},0,{"$f":"'3.WEF Status-Base'!$E$13","v":0},null,{"$f":"'3.WEF Status-Base'!$G$13","v":0},0,{"$f":"'3.WEF Status-Base'!$H$13","v":0},null,{"$f":"'3.WEF Status-Base'!$J$13","v":0},0,{"$f":"'3.WEF Status-Base'!$K$13","v":0},null,{"$f":"'3.WEF Status-Base'!$M$13","v":0},0,{"$f":"'3.WEF Status-Base'!$N$13","v":0},null,{"$f":"'3.WEF Status-Base'!$P$13","v":0},0,{"$f":"'3.WEF Status-Base'!$Q$13","v":0},null,{"$f":"'3.WEF Status-Base'!$S$13","v":0},0,{"$f":"'3.WEF Status-Base'!$T$13","v":0},null,{"$f":"'3.WEF Status-Base'!$V$13","v":0},0,{"$f":"'3.WEF Status-Base'!$W$13","v":0},null,{"$f":"'3.WEF Status-Base'!$Y$13","v":0},0,{"$f":"'3.WEF Status-Base'!$Z$13","v":0},null,{"$f":"'3.WEF Status-Base'!$AB$13","v":0},0,{"$f":"'3.WEF Status-Base'!$AC$13","v":0},null,{"$f":"'3.WEF Status-Base'!$AE$13","v":0},0,{"$f":"'3.WEF Status-Base'!$AF$13","v":0},null,{"$f":"'3.WEF Status-Base'!$AH$13","v":0},0,{"$f":"'3.WEF Status-Base'!$AI$13","v":0},null,{"$f":"'3.WEF Status-Base'!$AK$13","v":0},0,{"$f":"'3.WEF Status-Base'!$AL$13","v":0},null,{"$f":"'3.WEF Status-Base'!$AN$13","v":0},0,{"$f":"'3.WEF Status-Base'!$AO$13","v":0},null,{"$f":"'3.WEF Status-Base'!$AQ$13","v":0},0,{"$f":"'3.WEF Status-Base'!$AR$13","v":0},null,{"$f":"'3.WEF Status-Base'!$AT$13","v":0},0,{"$f":"'3.WEF Status-Base'!$AU$13","v":0},null,{"$f":"'3.WEF Status-Base'!$AW$13","v":0},0,{"$f":"'3.WEF Status-Base'!$AX$13","v":0},null,{"$f":"'3.WEF Status-Base'!$AZ$13","v":0},0,{"$f":"'3.WEF Status-Base'!$BA$13","v":0},null,{"$f":"'3.WEF Status-Base'!$BC$13","v":0},0,{"$f":"'3.WEF Status-Base'!$BD$13","v":0},{"$f":"'3.WEF Status-Base'!$BE$13","v":0},null,4,{"$f":"'3.WEF Status-Base'!$D$13","v":0},0,{"$f":"'3.WEF Status-Base'!$E$13","v":0},null,{"$f":"'3.WEF Status-Base'!$G$13","v":0},0,{"$f":"'3.WEF Status-Base'!$H$13","v":0},null,{"$f":"'3.WEF Status-Base'!$J$13","v":0},0,{"$f":"'3.WEF Status-Base'!$K$13","v":0},null,{"$f":"'3.WEF Status-Base'!$M$13","v":0},0,{"$f":"'3.WEF Status-Base'!$N$13","v":0},null,{"$f":"'3.WEF Status-Base'!$P$13","v":0},0,{"$f":"'3.WEF Status-Base'!$Q$13","v":0},null,{"$f":"'3.WEF Status-Base'!$S$13","v":0},0,{"$f":"'3.WEF Status-Base'!$T$13","v":0},null,{"$f":"'3.WEF Status-Base'!$V$13","v":0},0,{"$f":"'3.WEF Status-Base'!$W$13","v":0},null,{"$f":"'3.WEF Status-Base'!$Y$13","v":0},0,{"$f":"'3.WEF Status-Base'!$Z$13","v":0},null,{"$f":"'3.WEF Status-Base'!$AB$13","v":0},0,{"$f":"'3.WEF Status-Base'!$AC$13","v":0},null,{"$f":"'3.WEF Status-Base'!$AE$13","v":0},0,{"$f":"'3.WEF Status-Base'!$AF$13","v":0},null,{"$f":"'3.WEF Status-Base'!$AH$13","v":0},0,{"$f":"'3.WEF Status-Base'!$AI$13","v":0},null,{"$f":"'3.WEF Status-Base'!$AK$13","v":0},0,{"$f":"'3.WEF Status-Base'!$AL$13","v":0},null,{"$f":"'3.WEF Status-Base'!$AN$13","v":0},0,{"$f":"'3.WEF Status-Base'!$AO$13","v":0},null,{"$f":"'3.WEF Status-Base'!$AQ$13","v":0},0,{"$f":"'3.WEF Status-Base'!$AR$13","v":0},null,{"$f":"'3.WEF Status-Base'!$AT$13","v":0},0,{"$f":"'3.WEF Status-Base'!$AU$13","v":0},null,{"$f":"'3.WEF Status-Base'!$AW$13","v":0},0,{"$f":"'3.WEF Status-Base'!$AX$13","v":0},null,{"$f":"'3.WEF Status-Base'!$AZ$13","v":0},0,{"$f":"'3.WEF Status-Base'!$BA$13","v":0},null,{"$f":"'3.WEF Status-Base'!$BC$13","v":0},0,{"$f":"'3.WEF Status-Base'!$BD$13","v":0},{"$f":"'3.WEF Status-Base'!$BE$13","v":0}]
[null,"Retail (market prices)",null,{"$f":"MAX(H227:BZ227)","v":0},null,5,{"$f":"'3.WEF Status-Base'!$D$14","v":0},0,{"$f":"'3.WEF Status-Base'!$E$14","v":0},null,{"$f":"'3.WEF Status-Base'!$G$14","v":0},0,{"$f":"'3.WEF Status-Base'!$H$14","v":0},null,{"$f":"'3.WEF Status-Base'!$J$14","v":0},0,{"$f":"'3.WEF Status-Base'!$K$14","v":0},null,{"$f":"'3.WEF Status-Base'!$M$14","v":0},0,{"$f":"'3.WEF Status-Base'!$N$14","v":0},null,{"$f":"'3.WEF Status-Base'!$P$14","v":0},0,{"$f":"'3.WEF Status-Base'!$Q$14","v":0},null,{"$f":"'3.WEF Status-Base'!$S$14","v":0},0,{"$f":"'3.WEF Status-Base'!$T$14","v":0},null,{"$f":"'3.WEF Status-Base'!$V$14","v":0},0,{"$f":"'3.WEF Status-Base'!$W$14","v":0},null,{"$f":"'3.WEF Status-Base'!$Y$14","v":0},0,{"$f":"'3.WEF Status-Base'!$Z$14","v":0},null,{"$f":"'3.WEF Status-Base'!$AB$14","v":0},0,{"$f":"'3.WEF Status-Base'!$AC$14","v":0},null,{"$f":"'3.WEF Status-Base'!$AE$14","v":0},0,{"$f":"'3.WEF Status-Base'!$AF$14","v":0},null,{"$f":"'3.WEF Status-Base'!$AH$14","v":0},0,{"$f":"'3.WEF Status-Base'!$AI$14","v":0},null,{"$f":"'3.WEF Status-Base'!$AK$14","v":0},0,{"$f":"'3.WEF Status-Base'!$AL$14","v":0},null,{"$f":"'3.WEF Status-Base'!$AN$14","v":0},0,{"$f":"'3.WEF Status-Base'!$AO$14","v":0},null,{"$f":"'3.WEF Status-Base'!$AQ$14","v":0},0,{"$f":"'3.WEF Status-Base'!$AR$14","v":0},null,{"$f":"'3.WEF Status-Base'!$AT$14","v":0},0,{"$f":"'3.WEF Status-Base'!$AU$14","v":0},null,{"$f":"'3.WEF Status-Base'!$AW$14","v":0},0,{"$f":"'3.WEF Status-Base'!$AX$14","v":0},null,{"$f":"'3.WEF Status-Base'!$AZ$14","v":0},0,{"$f":"'3.WEF Status-Base'!$BA$14","v":0},null,{"$f":"'3.WEF Status-Base'!$BC$14","v":0},0,{"$f":"'3.WEF Status-Base'!$BD$14","v":0},{"$f":"'3.WEF Status-Base'!$BE$14","v":0},null,5,{"$f":"'3.WEF Status-Base'!$D$14","v":0},0,{"$f":"'3.WEF Status-Base'!$E$14","v":0},null,{"$f":"'3.WEF Status-Base'!$G$14","v":0},0,{"$f":"'3.WEF Status-Base'!$H$14","v":0},null,{"$f":"'3.WEF Status-Base'!$J$14","v":0},0,{"$f":"'3.WEF Status-Base'!$K$14","v":0},null,{"$f":"'3.WEF Status-Base'!$M$14","v":0},0,{"$f":"'3.WEF Status-Base'!$N$14","v":0},null,{"$f":"'3.WEF Status-Base'!$P$14","v":0},0,{"$f":"'3.WEF Status-Base'!$Q$14","v":0},null,{"$f":"'3.WEF Status-Base'!$S$14","v":0},0,{"$f":"'3.WEF Status-Base'!$T$14","v":0},null,{"$f":"'3.WEF Status-Base'!$V$14","v":0},0,{"$f":"'3.WEF Status-Base'!$W$14","v":0},null,{"$f":"'3.WEF Status-Base'!$Y$14","v":0},0,{"$f":"'3.WEF Status-Base'!$Z$14","v":0},null,{"$f":"'3.WEF Status-Base'!$AB$14","v":0},0,{"$f":"'3.WEF Status-Base'!$AC$14","v":0},null,{"$f":"'3.WEF Status-Base'!$AE$14","v":0},0,{"$f":"'3.WEF Status-Base'!$AF$14","v":0},null,{"$f":"'3.WEF Status-Base'!$AH$14","v":0},0,{"$f":"'3.WEF Status-Base'!$AI$14","v":0},null,{"$f":"'3.WEF Status-Base'!$AK$14","v":0},0,{"$f":"'3.WEF Status-Base'!$AL$14","v":0},null,{"$f":"'3.WEF Status-Base'!$AN$14","v":0},0,{"$f":"'3.WEF Status-Base'!$AO$14","v":0},null,{"$f":"'3.WEF Status-Base'!$AQ$14","v":0},0,{"$f":"'3.WEF Status-Base'!$AR$14","v":0},null,{"$f":"'3.WEF Status-Base'!$AT$14","v":0},0,{"$f":"'3.WEF Status-Base'!$AU$14","v":0},null,{"$f":"'3.WEF Status-Base'!$AW$14","v":0},0,{"$f":"'3.WEF Status-Base'!$AX$14","v":0},null,{"$f":"'3.WEF Status-Base'!$AZ$14","v":0},0,{"$f":"'3.WEF Status-Base'!$BA$14","v":0},null,{"$f":"'3.WEF Status-Base'!$BC$14","v":0},0,{"$f":"'3.WEF Status-Base'!$BD$14","v":0},{"$f":"'3.WEF Status-Base'!$BE$14","v":0}]
[null,"Access",null,null,null,6,null,null,null,null,null,null,null,null,null,null,null,null,null,null,null,null,null,null,null,null,null,null,null,null,null,null,null,null,null,null,null,null,null,null,null,null,null,null,null,null,null,null,null,null,null,null,null,null,null,null,null,null,null,null,null,null,null,null,null,null,null,null,null,null,null,null,null,null,null,null,null,null,null,6]
[null,"Purchasing power (livelihood income, remittances, credit)\n",null,{"$f":"MAX(H229:BZ229)","v":0},null,7,{"$f":"'3.WEF Status-Base'!$D$16","v":0},0,{"$f":"'3.WEF Status-Base'!$E$16","v":0},null,{"$f":"'3.WEF Status-Base'!$G$16","v":0},0,{"$f":"'3.WEF Status-Base'!$H$16","v":0},null,{"$f":"'3.WEF Status-Base'!$J$16","v":0},0,{"$f":"'3.WEF Status-Base'!$K$16","v":0},null,{"$f":"'3.WEF Status-Base'!$M$16","v":0},0,{"$f":"'3.WEF Status-Base'!$N$16","v":0},null,{"$f":"'3.WEF Status-Base'!$P$16","v":0},0,{"$f":"'3.WEF Status-Base'!$Q$16","v":0},null,{"$f":"'3.WEF Status-Base'!$S$16","v":0},0,{"$f":"'3.WEF Status-Base'!$T$16","v":0},null,{"$f":"'3.WEF Status-Base'!$V$16","v":0},0,{"$f":"'3.WEF Status-Base'!$W$16","v":0},null,{"$f":"'3.WEF Status-Base'!$Y$16","v":0},0,{"$f":"'3.WEF Status-Base'!$Z$16","v":0},null,{"$f":"'3.WEF Status-Base'!$AB$16","v":0},0,{"$f":"'3.WEF Status-Base'!$AC$16","v":0},null,{"$f":"'3.WEF Status-Base'!$AE$16","v":0},0,{"$f":"'3.WEF Status-Base'!$AF$16","v":0},null,{"$f":"'3.WEF Status-Base'!$AH$16","v":0},0,{"$f":"'3.WEF Status-Base'!$AI$16","v":0},null,{"$f":"'3.WEF Status-Base'!$AK$16","v":0},0,{"$f":"'3.WEF Status-Base'!$AL$16","v":0},null,{"$f":"'3.WEF Status-Base'!$AN$16","v":0},0,{"$f":"'3.WEF Status-Base'!$AO$16","v":0},null,{"$f":"'3.WEF Status-Base'!$AQ$16","v":0},0,{"$f":"'3.WEF Status-Base'!$AR$16","v":0},null,{"$f":"'3.WEF Status-Base'!$AT$16","v":0},0,{"$f":"'3.WEF Status-Base'!$AU$16","v":0},null,{"$f":"'3.WEF Status-Base'!$AW$16","v":0},0,{"$f":"'3.WEF Status-Base'!$AX$16","v":0},null,{"$f":"'3.WEF Status-Base'!$AZ$16","v":0},0,{"$f":"'3.WEF Status-Base'!$BA$16","v":0},null,{"$f":"'3.WEF Status-Base'!$BC$16","v":0},0,{"$f":"'3.WEF Status-Base'!$BD$16","v":0},{"$f":"'3.WEF Status-Base'!$BE$16","v":0},null,7,{"$f":"'3.WEF Status-Base'!$D$16","v":0},0,{"$f":"'3.WEF Status-Base'!$E$16","v":0},null,{"$f":"'3.WEF Status-Base'!$G$16","v":0},0,{"$f":"'3.WEF Status-Base'!$H$16","v":0},null,{"$f":"'3.WEF Status-Base'!$J$16","v":0},0,{"$f":"'3.WEF Status-Base'!$K$16","v":0},null,{"$f":"'3.WEF Status-Base'!$M$16","v":0},0,{"$f":"'3.WEF Status-Base'!$N$16","v":0},null,{"$f":"'3.WEF Status-Base'!$P$16","v":0},0,{"$f":"'3.WEF Status-Base'!$Q$16","v":0},null,{"$f":"'3.WEF Status-Base'!$S$16","v":0},0,{"$f":"'3.WEF Status-Base'!$T$16","v":0},null,{"$f":"'3.WEF Status-Base'!$V$16","v":0},0,{"$f":"'3.WEF Status-Base'!$W$16","v":0},null,{"$f":"'3.WEF Status-Base'!$Y$16","v":0},0,{"$f":"'3.WEF Status-Base'!$Z$16","v":0},null,{"$f":"'3.WEF Status-Base'!$AB$16","v":0},0,{"$f":"'3.WEF Status-Base'!$AC$16","v":0},null,{"$f":"'3.WEF Status-Base'!$AE$16","v":0},0,{"$f":"'3.WEF Status-Base'!$AF$16","v":0},null,{"$f":"'3.WEF Status-Base'!$AH$16","v":0},0,{"$f":"'3.WEF Status-Base'!$AI$16","v":0},null,{"$f":"'3.WEF Status-Base'!$AK$16","v":0},0,{"$f":"'3.WEF Status-Base'!$AL$16","v":0},null,{"$f":"'3.WEF Status-Base'!$AN$16","v":0},0,{"$f":"'3.WEF Status-Base'!$AO$16","v":0},null,{"$f":"'3.WEF Status-Base'!$AQ$16","v":0},0,{"$f":"'3.WEF Status-Base'!$AR$16","v":0},null,{"$f":"'3.WEF Status-Base'!$AT$16","v":0},0,{"$f":"'3.WEF Status-Base'!$AU$16","v":0},null,{"$f":"'3.WEF Status-Base'!$AW$16","v":0},0,{"$f":"'3.WEF Status-Base'!$AX$16","v":0},null,{"$f":"'3.WEF Status-Base'!$AZ$16","v":0},0,{"$f":"'3.WEF Status-Base'!$BA$16","v":0},null,{"$f":"'3.WEF Status-Base'!$BC$16","v":0},0,{"$f":"'3.WEF Status-Base'!$BD$16","v":0},{"$f":"'3.WEF Status-Base'!$BE$16","v":0}]
[null,"Aid (direct provision, saftey nets, subsidies)\n",null,{"$f":"MAX(H230:BZ230)","v":0},null,8,{"$f":"'3.WEF Status-Base'!$D$17","v":0},0,{"$f":"'3.WEF Status-Base'!$E$17","v":0},null,{"$f":"'3.WEF Status-Base'!$G$17","v":0},0,{"$f":"'3.WEF Status-Base'!$H$17","v":0},null,{"$f":"'3.WEF Status-Base'!$J$17","v":0},0,{"$f":"'3.WEF Status-Base'!$K$17","v":0},null,{"$f":"'3.WEF Status-Base'!$M$17","v":0},0,{"$f":"'3.WEF Status-Base'!$N$17","v":0},null,{"$f":"'3.WEF Status-Base'!$P$17","v":0},0,{"$f":"'3.WEF Status-Base'!$Q$17","v":0},null,{"$f":"'3.WEF Status-Base'!$S$17","v":0},0,{"$f":"'3.WEF Status-Base'!$T$17","v":0},null,{"$f":"'3.WEF Status-Base'!$V$17","v":0},0,{"$f":"'3.WEF Status-Base'!$W$17","v":0},null,{"$f":"'3.WEF Status-Base'!$Y$17","v":0},0,{"$f":"'3.WEF Status-Base'!$Z$17","v":0},null,{"$f":"'3.WEF Status-Base'!$AB$17","v":0},0,{"$f":"'3.WEF Status-Base'!$AC$17","v":0},null,{"$f":"'3.WEF Status-Base'!$AE$17","v":0},0,{"$f":"'3.WEF Status-Base'!$AF$17","v":0},null,{"$f":"'3.WEF Status-Base'!$AH$17","v":0},0,{"$f":"'3.WEF Status-Base'!$AI$17","v":0},null,{"$f":"'3.WEF Status-Base'!$AK$17","v":0},0,{"$f":"'3.WEF Status-Base'!$AL$17","v":0},null,{"$f":"'3.WEF Status-Base'!$AN$17","v":0},0,{"$f":"'3.WEF Status-Base'!$AO$17","v":0},null,{"$f":"'3.WEF Status-Base'!$AQ$17","v":0},0,{"$f":"'3.WEF Status-Base'!$AR$17","v":0},null,{"$f":"'3.WEF Status-Base'!$AT$17","v":0},0,{"$f":"'3.WEF Status-Base'!$AU$17","v":0},null,{"$f":"'3.WEF Status-Base'!$AW$17","v":0},0,{"$f":"'3.WEF Status-Base'!$AX$17","v":0},null,{"$f":"'3.WEF Status-Base'!$AZ$17","v":0},0,{"$f":"'3.WEF Status-Base'!$BA$17","v":0},null,{"$f":"'3.WEF Status-Base'!$BC$17","v":0},0,{"$f":"'3.WEF Status-Base'!$BD$17","v":0},{"$f":"'3.WEF Status-Base'!$BE$17","v":0},null,8,{"$f":"'3.WEF Status-Base'!$D$17","v":0},0,{"$f":"'3.WEF Status-Base'!$E$17","v":0},null,{"$f":"'3.WEF Status-Base'!$G$17","v":0},0,{"$f":"'3.WEF Status-Base'!$H$17","v":0},null,{"$f":"'3.WEF Status-Base'!$J$17","v":0},0,{"$f":"'3.WEF Status-Base'!$K$17","v":0},null,{"$f":"'3.WEF Status-Base'!$M$17","v":0},0,{"$f":"'3.WEF Status-Base'!$N$17","v":0},null,{"$f":"'3.WEF Status-Base'!$P$17","v":0},0,{"$f":"'3.WEF Status-Base'!$Q$17","v":0},null,{"$f":"'3.WEF Status-Base'!$S$17","v":0},0,{"$f":"'3.WEF Status-Base'!$T$17","v":0},null,{"$f":"'3.WEF Status-Base'!$V$17","v":0},0,{"$f":"'3.WEF Status-Base'!$W$17","v":0},null,{"$f":"'3.WEF Status-Base'!$Y$17","v":0},0,{"$f":"'3.WEF Status-Base'!$Z$17","v":0},null,{"$f":"'3.WEF Status-Base'!$AB$17","v":0},0,{"$f":"'3.WEF Status-Base'!$AC$17","v":0},null,{"$f":"'3.WEF Status-Base'!$AE$17","v":0},0,{"$f":"'3.WEF Status-Base'!$AF$17","v":0},null,{"$f":"'3.WEF Status-Base'!$AH$17","v":0},0,{"$f":"'3.WEF Status-Base'!$AI$17","v":0},null,{"$f":"'3.WEF Status-Base'!$AK$17","v":0},0,{"$f":"'3.WEF Status-Base'!$AL$17","v":0},null,{"$f":"'3.WEF Status-Base'!$AN$17","v":0},0,{"$f":"'3.WEF Status-Base'!$AO$17","v":0},null,{"$f":"'3.WEF Status-Base'!$AQ$17","v":0},0,{"$f":"'3.WEF Status-Base'!$AR$17","v":0},null,{"$f":"'3.WEF Status-Base'!$AT$17","v":0},0,{"$f":"'3.WEF Status-Base'!$AU$17","v":0},null,{"$f":"'3.WEF Status-Base'!$AW$17","v":0},0,{"$f":"'3.WEF Status-Base'!$AX$17","v":0},null,{"$f":"'3.WEF Status-Base'!$AZ$17","v":0},0,{"$f":"'3.WEF Status-Base'!$BA$17","v":0},null,{"$f":"'3.WEF Status-Base'!$BC$17","v":0},0,{"$f":"'3.WEF Status-Base'!$BD$17","v":0},{"$f":"'3.WEF Status-Base'!$BE$17","v":0}]
[null,"Self-production (water wells, off-grid power, individual/community gardens)\n",null,{"$f":"MAX(H231:BZ231)","v":0},null,9,{"$f":"'3.WEF Status-Base'!$D$18","v":0},0,{"$f":"'3.WEF Status-Base'!$E$18","v":0},null,{"$f":"'3.WEF Status-Base'!$G$18","v":0},0,{"$f":"'3.WEF Status-Base'!$H$18","v":0},null,{"$f":"'3.WEF Status-Base'!$J$18","v":0},0,{"$f":"'3.WEF Status-Base'!$K$18","v":0},null,{"$f":"'3.WEF Status-Base'!$M$18","v":0},0,{"$f":"'3.WEF Status-Base'!$N$18","v":0},null,{"$f":"'3.WEF Status-Base'!$P$18","v":0},0,{"$f":"'3.WEF Status-Base'!$Q$18","v":0},null,{"$f":"'3.WEF Status-Base'!$S$18","v":0},0,{"$f":"'3.WEF Status-Base'!$T$18","v":0},null,{"$f":"'3.WEF Status-Base'!$V$18","v":0},0,{"$f":"'3.WEF Status-Base'!$W$18","v":0},null,{"$f":"'3.WEF Status-Base'!$Y$18","v":0},0,{"$f":"'3.WEF Status-Base'!$Z$18","v":0},null,{"$f":"'3.WEF Status-Base'!$AB$18","v":0},0,{"$f":"'3.WEF Status-Base'!$AC$18","v":0},null,{"$f":"'3.WEF Status-Base'!$AE$18","v":0},0,{"$f":"'3.WEF Status-Base'!$AF$18","v":0},null,{"$f":"'3.WEF Status-Base'!$AH$18","v":0},0,{"$f":"'3.WEF Status-Base'!$AI$18","v":0},null,{"$f":"'3.WEF Status-Base'!$AK$18","v":0},0,{"$f":"'3.WEF Status-Base'!$AL$18","v":0},null,{"$f":"'3.WEF Status-Base'!$AN$18","v":0},0,{"$f":"'3.WEF Status-Base'!$AO$18","v":0},null,{"$f":"'3.WEF Status-Base'!$AQ$18","v":0},0,{"$f":"'3.WEF Status-Base'!$AR$18","v":0},null,{"$f":"'3.WEF Status-Base'!$AT$18","v":0},0,{"$f":"'3.WEF Status-Base'!$AU$18","v":0},null,{"$f":"'3.WEF Status-Base'!$AW$18","v":0},0,{"$f":"'3.WEF Status-Base'!$AX$18","v":0},null,{"$f":"'3.WEF Status-Base'!$AZ$18","v":0},0,{"$f":"'3.WEF Status-Base'!$BA$18","v":0},null,{"$f":"'3.WEF Status-Base'!$BC$18","v":0},0,{"$f":"'3.WEF Status-Base'!$BD$18","v":0},{"$f":"'3.WEF Status-Base'!$BE$18","v":0},null,9,{"$f":"'3.WEF Status-Base'!$D$18","v":0},0,{"$f":"'3.WEF Status-Base'!$E$18","v":0},null,{"$f":"'3.WEF Status-Base'!$G$18","v":0},0,{"$f":"'3.WEF Status-Base'!$H$18","v":0},null,{"$f":"'3.WEF Status-Base'!$J$18","v":0},0,{"$f":"'3.WEF Status-Base'!$K$18","v":0},null,{"$f":"'3.WEF Status-Base'!$M$18","v":0},0,{"$f":"'3.WEF Status-Base'!$N$18","v":0},null,{"$f":"'3.WEF Status-Base'!$P$18","v":0},0,{"$f":"'3.WEF Status-Base'!$Q$18","v":0},null,{"$f":"'3.WEF Status-Base'!$S$18","v":0},0,{"$f":"'3.WEF Status-Base'!$T$18","v":0},null,{"$f":"'3.WEF Status-Base'!$V$18","v":0},0,{"$f":"'3.WEF Status-Base'!$W$18","v":0},null,{"$f":"'3.WEF Status-Base'!$Y$18","v":0},0,{"$f":"'3.WEF Status-Base'!$Z$18","v":0},null,{"$f":"'3.WEF Status-Base'!$AB$18","v":0},0,{"$f":"'3.WEF Status-Base'!$AC$18","v":0},null,{"$f":"'3.WEF Status-Base'!$AE$18","v":0},0,{"$f":"'3.WEF Status-Base'!$AF$18","v":0},null,{"$f":"'3.WEF Status-Base'!$AH$18","v":0},0,{"$f":"'3.WEF Status-Base'!$AI$18","v":0},null,{"$f":"'3.WEF Status-Base'!$AK$18","v":0},0,{"$f":"'3.WEF Status-Base'!$AL$18","v":0},null,{"$f":"'3.WEF Status-Base'!$AN$18","v":0},0,{"$f":"'3.WEF Status-Base'!$AO$18","v":0},null,{"$f":"'3.WEF Status-Base'!$AQ$18","v":0},0,{"$f":"'3.WEF Status-Base'!$AR$18","v":0},null,{"$f":"'3.WEF Status-Base'!$AT$18","v":0},0,{"$f":"'3.WEF Status-Base'!$AU$18","v":0},null,{"$f":"'3.WEF Status-Base'!$AW$18","v":0},0,{"$f":"'3.WEF Status-Base'!$AX$18","v":0},null,{"$f":"'3.WEF Status-Base'!$AZ$18","v":0},0,{"$f":"'3.WEF Status-Base'!$BA$18","v":0},null,{"$f":"'3.WEF Status-Base'!$BC$18","v":0},0,{"$f":"'3.WEF Status-Base'!$BD$18","v":0},{"$f":"'3.WEF Status-Base'!$BE$18","v":0}]
[null,"Barter",null,{"$f":"MAX(H232:BZ232)","v":0},null,10,{"$f":"'3.WEF Status-Base'!$D$19","v":0},0,{"$f":"'3.WEF Status-Base'!$E$19","v":0},null,{"$f":"'3.WEF Status-Base'!$G$19","v":0},0,{"$f":"'3.WEF Status-Base'!$H$19","v":0},null,{"$f":"'3.WEF Status-Base'!$J$19","v":0},0,{"$f":"'3.WEF Status-Base'!$K$19","v":0},null,{"$f":"'3.WEF Status-Base'!$M$19","v":0},0,{"$f":"'3.WEF Status-Base'!$N$19","v":0},null,{"$f":"'3.WEF Status-Base'!$P$19","v":0},0,{"$f":"'3.WEF Status-Base'!$Q$19","v":0},null,{"$f":"'3.WEF Status-Base'!$S$19","v":0},0,{"$f":"'3.WEF Status-Base'!$T$19","v":0},null,{"$f":"'3.WEF Status-Base'!$V$19","v":0},0,{"$f":"'3.WEF Status-Base'!$W$19","v":0},null,{"$f":"'3.WEF Status-Base'!$Y$19","v":0},0,{"$f":"'3.WEF Status-Base'!$Z$19","v":0},null,{"$f":"'3.WEF Status-Base'!$AB$19","v":0},0,{"$f":"'3.WEF Status-Base'!$AC$19","v":0},null,{"$f":"'3.WEF Status-Base'!$AE$19","v":0},0,{"$f":"'3.WEF Status-Base'!$AF$19","v":0},null,{"$f":"'3.WEF Status-Base'!$AH$19","v":0},0,{"$f":"'3.WEF Status-Base'!$AI$19","v":0},null,{"$f":"'3.WEF Status-Base'!$AK$19","v":0},0,{"$f":"'3.WEF Status-Base'!$AL$19","v":0},null,{"$f":"'3.WEF Status-Base'!$AN$19","v":0},0,{"$f":"'3.WEF Status-Base'!$AO$19","v":0},null,{"$f":"'3.WEF Status-Base'!$AQ$19","v":0},0,{"$f":"'3.WEF Status-Base'!$AR$19","v":0},null,{"$f":"'3.WEF Status-Base'!$AT$19","v":0},0,{"$f":"'3.WEF Status-Base'!$AU$19","v":0},null,{"$f":"'3.WEF Status-Base'!$AW$19","v":0},0,{"$f":"'3.WEF Status-Base'!$AX$19","v":0},null,{"$f":"'3.WEF Status-Base'!$AZ$19","v":0},0,{"$f":"'3.WEF Status-Base'!$BA$19","v":0},null,{"$f":"'3.WEF Status-Base'!$BC$19","v":0},0,{"$f":"'3.WEF Status-Base'!$BD$19","v":0},{"$f":"'3.WEF Status-Base'!$BE$19","v":0},null,10,{"$f":"'3.WEF Status-Base'!$D$19","v":0},0,{"$f":"'3.WEF Status-Base'!$E$19","v":0},null,{"$f":"'3.WEF Status-Base'!$G$19","v":0},0,{"$f":"'3.WEF Status-Base'!$H$19","v":0},null,{"$f":"'3.WEF Status-Base'!$J$19","v":0},0,{"$f":"'3.WEF Status-Base'!$K$19","v":0},null,{"$f":"'3.WEF Status-Base'!$M$19","v":0},0,{"$f":"'3.WEF Status-Base'!$N$19","v":0},null,{"$f":"'3.WEF Status-Base'!$P$19","v":0},0,{"$f":"'3.WEF Status-Base'!$Q$19","v":0},null,{"$f":"'3.WEF Status-Base'!$S$19","v":0},0,{"$f":"'3.WEF Status-Base'!$T$19","v":0},null,{"$f":"'3.WEF Status-Base'!$V$19","v":0},0,{"$f":"'3.WEF Status-Base'!$W$19","v":0},null,{"$f":"'3.WEF Status-Base'!$Y$19","v":0},0,{"$f":"'3.WEF Status-Base'!$Z$19","v":0},null,{"$f":"'3.WEF Status-Base'!$AB$19","v":0},0,{"$f":"'3.WEF Status-Base'!$AC$19","v":0},null,{"$f":"'3.WEF Status-Base'!$AE$19","v":0},0,{"$f":"'3.WEF Status-Base'!$AF$19","v":0},null,{"$f":"'3.WEF Status-Base'!$AH$19","v":0},0,{"$f":"'3.WEF Status-Base'!$AI$19","v":0},null,{"$f":"'3.WEF Status-Base'!$AK$19","v":0},0,{"$f":"'3.WEF Status-Base'!$AL$19","v":0},null,{"$f":"'3.WEF Status-Base'!$AN$19","v":0},0,{"$f":"'3.WEF Status-Base'!$AO$19","v":0},null,{"$f":"'3.WEF Status-Base'!$AQ$19","v":0},0,{"$f":"'3.WEF Status-Base'!$AR$19","v":0},null,{"$f":"'3.WEF Status-Base'!$AT$19","v":0},0,{"$f":"'3.WEF Status-Base'!$AU$19","v":0},null,{"$f":"'3.WEF Status-Base'!$AW$19","v":0},0,{"$f":"'3.WEF Status-Base'!$AX$19","v":0},null,{"$f":"'3.WEF Status-Base'!$AZ$19","v":0},0,{"$f":"'3.WEF Status-Base'!$BA$19","v":0},null,{"$f":"'3.WEF Status-Base'!$BC$19","v":0},0,{"$f":"'3.WEF Status-Base'!$BD$19","v":0},{"$f":"'3.WEF Status-Base'!$BE$19","v":0}]
[null,"Supporting Infrastructure",null,null,null,11,null,null,null,null,null,null,null,null,null,null,null,null,null,null,null,null,null,null,null,null,null,null,null,null,null,null,null,null,null,null,null,null,null,null,null,null,null,null,null,null,null,null,null,null,null,null,null,null,null,null,null,null,null,null,null,null,null,null,null,null,null,null,null,null,null,null,null,null,null,null,null,null,null,11]
[null,"Built Infrastructure",null,{"$f":"MAX(H234:BZ234)","v":0},null,12,{"$f":"'3.WEF Status-Base'!$D$21","v":0},0,{"$f":"'3.WEF Status-Base'!$E$21","v":0},null,{"$f":"'3.WEF Status-Base'!$G$21","v":0},0,{"$f":"'3.WEF Status-Base'!$H$21","v":0},null,{"$f":"'3.WEF Status-Base'!$J$21","v":0},0,{"$f":"'3.WEF Status-Base'!$K$21","v":0},null,{"$f":"'3.WEF Status-Base'!$M$21","v":0},0,{"$f":"'3.WEF Status-Base'!$N$21","v":0},null,{"$f":"'3.WEF Status-Base'!$P$21","v":0},0,{"$f":"'3.WEF Status-Base'!$Q$21","v":0},null,{"$f":"'3.WEF Status-Base'!$S$21","v":0},0,{"$f":"'3.WEF Status-Base'!$T$21","v":0},null,{"$f":"'3.WEF Status-Base'!$V$21","v":0},0,{"$f":"'3.WEF Status-Base'!$W$21","v":0},null,{"$f":"'3.WEF Status-Base'!$Y$21","v":0},0,{"$f":"'3.WEF Status-Base'!$Z$21","v":0},null,{"$f":"'3.WEF Status-Base'!$AB$21","v":0},0,{"$f":"'3.WEF Status-Base'!$AC$21","v":0},null,{"$f":"'3.WEF Status-Base'!$AE$21","v":0},0,{"$f":"'3.WEF Status-Base'!$AF$21","v":0},null,{"$f":"'3.WEF Status-Base'!$AH$21","v":0},0,{"$f":"'3.WEF Status-Base'!$AI$21","v":0},null,{"$f":"'3.WEF Status-Base'!$AK$21","v":0},0,{"$f":"'3.WEF Status-Base'!$AL$21","v":0},null,{"$f":"'3.WEF Status-Base'!$AN$21","v":0},0,{"$f":"'3.WEF Status-Base'!$AO$21","v":0},null,{"$f":"'3.WEF Status-Base'!$AQ$21","v":0},0,{"$f":"'3.WEF Status-Base'!$AR$21","v":0},null,{"$f":"'3.WEF Status-Base'!$AT$21","v":0},0,{"$f":"'3.WEF Status-Base'!$AU$21","v":0},null,{"$f":"'3.WEF Status-Base'!$AW$21","v":0},0,{"$f":"'3.WEF Status-Base'!$AX$21","v":0},null,{"$f":"'3.WEF Status-Base'!$AZ$21","v":0},0,{"$f":"'3.WEF Status-Base'!$BA$21","v":0},null,{"$f":"'3.WEF Status-Base'!$BC$21","v":0},0,{"$f":"'3.WEF Status-Base'!$BD$21","v":0},{"$f":"'3.WEF Status-Base'!$BE$21","v":0},null,12,{"$f":"'3.WEF Status-Base'!$D$21","v":0},0,{"$f":"'3.WEF Status-Base'!$E$21","v":0},null,{"$f":"'3.WEF Status-Base'!$G$21","v":0},0,{"$f":"'3.WEF Status-Base'!$H$21","v":0},null,{"$f":"'3.WEF Status-Base'!$J$21","v":0},0,{"$f":"'3.WEF Status-Base'!$K$21","v":0},null,{"$f":"'3.WEF Status-Base'!$M$21","v":0},0,{"$f":"'3.WEF Status-Base'!$N$21","v":0},null,{"$f":"'3.WEF Status-Base'!$P$21","v":0},0,{"$f":"'3.WEF Status-Base'!$Q$21","v":0},null,{"$f":"'3.WEF Status-Base'!$S$21","v":0},0,{"$f":"'3.WEF Status-Base'!$T$21","v":0},null,{"$f":"'3.WEF Status-Base'!$V$21","v":0},0,{"$f":"'3.WEF Status-Base'!$W$21","v":0},null,{"$f":"'3.WEF Status-Base'!$Y$21","v":0},0,{"$f":"'3.WEF Status-Base'!$Z$21","v":0},null,{"$f":"'3.WEF Status-Base'!$AB$21","v":0},0,{"$f":"'3.WEF Status-Base'!$AC$21","v":0},null,{"$f":"'3.WEF Status-Base'!$AE$21","v":0},0,{"$f":"'3.WEF Status-Base'!$AF$21","v":0},null,{"$f":"'3.WEF Status-Base'!$AH$21","v":0},0,{"$f":"'3.WEF Status-Base'!$AI$21","v":0},null,{"$f":"'3.WEF Status-Base'!$AK$21","v":0},0,{"$f":"'3.WEF Status-Base'!$AL$21","v":0},null,{"$f":"'3.WEF Status-Base'!$AN$21","v":0},0,{"$f":"'3.WEF Status-Base'!$AO$21","v":0},null,{"$f":"'3.WEF Status-Base'!$AQ$21","v":0},0,{"$f":"'3.WEF Status-Base'!$AR$21","v":0},null,{"$f":"'3.WEF Status-Base'!$AT$21","v":0},0,{"$f":"'3.WEF Status-Base'!$AU$21","v":0},null,{"$f":"'3.WEF Status-Base'!$AW$21","v":0},0,{"$f":"'3.WEF Status-Base'!$AX$21","v":0},null,{"$f":"'3.WEF Status-Base'!$AZ$21","v":0},0,{"$f":"'3.WEF Status-Base'!$BA$21","v":0},null,{"$f":"'3.WEF Status-Base'!$BC$21","v":0},0,{"$f":"'3.WEF Status-Base'!$BD$21","v":0},{"$f":"'3.WEF Status-Base'!$BE$21","v":0}]
[null,"     Transportation",null,0,null,13,{"$f":"'3.WEF Status-Base'!$D$22","v":0},0,{"$f":"'3.WEF Status-Base'!$E$22","v":0},null,{"$f":"'3.WEF Status-Base'!$G$22","v":0},0,{"$f":"'3.WEF Status-Base'!$H$22","v":0},null,{"$f":"'3.WEF Status-Base'!$J$22","v":0},0,{"$f":"'3.WEF Status-Base'!$K$22","v":0},null,{"$f":"'3.WEF Status-Base'!$M$22","v":0},0,{"$f":"'3.WEF Status-Base'!$N$22","v":0},null,{"$f":"'3.WEF Status-Base'!$P$22","v":0},0,{"$f":"'3.WEF Status-Base'!$Q$22","v":0},null,{"$f":"'3.WEF Status-Base'!$S$22","v":0},0,{"$f":"'3.WEF Status-Base'!$T$22","v":0},null,{"$f":"'3.WEF Status-Base'!$V$22","v":0},0,{"$f":"'3.WEF Status-Base'!$W$22","v":0},null,{"$f":"'3.WEF Status-Base'!$Y$22","v":0},0,{"$f":"'3.WEF Status-Base'!$Z$22","v":0},null,{"$f":"'3.WEF Status-Base'!$AB$22","v":0},0,{"$f":"'3.WEF Status-Base'!$AC$22","v":0},null,{"$f":"'3.WEF Status-Base'!$AE$22","v":0},0,{"$f":"'3.WEF Status-Base'!$AF$22","v":0},null,{"$f":"'3.WEF Status-Base'!$AH$22","v":0},0,{"$f":"'3.WEF Status-Base'!$AI$22","v":0},null,{"$f":"'3.WEF Status-Base'!$AK$22","v":0},0,{"$f":"'3.WEF Status-Base'!$AL$22","v":0},null,{"$f":"'3.WEF Status-Base'!$AN$22","v":0},0,{"$f":"'3.WEF Status-Base'!$AO$22","v":0},null,{"$f":"'3.WEF Status-Base'!$AQ$22","v":0},0,{"$f":"'3.WEF Status-Base'!$AR$22","v":0},null,{"$f":"'3.WEF Status-Base'!$AT$22","v":0},0,{"$f":"'3.WEF Status-Base'!$AU$22","v":0},null,{"$f":"'3.WEF Status-Base'!$AW$22","v":0},0,{"$f":"'3.WEF Status-Base'!$AX$22","v":0},null,{"$f":"'3.WEF Status-Base'!$AZ$22","v":0},0,{"$f":"'3.WEF Status-Base'!$BA$22","v":0},null,{"$f":"'3.WEF Status-Base'!$BC$22","v":0},0,{"$f":"'3.WEF Status-Base'!$BD$22","v":0},{"$f":"'3.WEF Status-Base'!$BE$22","v":0},null,13,{"$f":"'3.WEF Status-Base'!$D$22","v":0},0,{"$f":"'3.WEF Status-Base'!$E$22","v":0},null,{"$f":"'3.WEF Status-Base'!$G$22","v":0},0,{"$f":"'3.WEF Status-Base'!$H$22","v":0},null,{"$f":"'3.WEF Status-Base'!$J$22","v":0},0,{"$f":"'3.WEF Status-Base'!$K$22","v":0},null,{"$f":"'3.WEF Status-Base'!$M$22","v":0},0,{"$f":"'3.WEF Status-Base'!$N$22","v":0},null,{"$f":"'3.WEF Status-Base'!$P$22","v":0},0,{"$f":"'3.WEF Status-Base'!$Q$22","v":0},null,{"$f":"'3.WEF Status-Base'!$S$22","v":0},0,{"$f":"'3.WEF Status-Base'!$T$22","v":0},null,{"$f":"'3.WEF Status-Base'!$V$22","v":0},0,{"$f":"'3.WEF Status-Base'!$W$22","v":0},null,{"$f":"'3.WEF Status-Base'!$Y$22","v":0},0,{"$f":"'3.WEF Status-Base'!$Z$22","v":0},null,{"$f":"'3.WEF Status-Base'!$AB$22","v":0},0,{"$f":"'3.WEF Status-Base'!$AC$22","v":0},null,{"$f":"'3.WEF Status-Base'!$AE$22","v":0},0,{"$f":"'3.WEF Status-Base'!$AF$22","v":0},null,{"$f":"'3.WEF Status-Base'!$AH$22","v":0},0,{"$f":"'3.WEF Status-Base'!$AI$22","v":0},null,{"$f":"'3.WEF Status-Base'!$AK$22","v":0},0,{"$f":"'3.WEF Status-Base'!$AL$22","v":0},null,{"$f":"'3.WEF Status-Base'!$AN$22","v":0},0,{"$f":"'3.WEF Status-Base'!$AO$22","v":0},null,{"$f":"'3.WEF Status-Base'!$AQ$22","v":0},0,{"$f":"'3.WEF Status-Base'!$AR$22","v":0},null,{"$f":"'3.WEF Status-Base'!$AT$22","v":0},0,{"$f":"'3.WEF Status-Base'!$AU$22","v":0},null,{"$f":"'3.WEF Status-Base'!$AW$22","v":0},0,{"$f":"'3.WEF Status-Base'!$AX$22","v":0},null,{"$f":"'3.WEF Status-Base'!$AZ$22","v":0},0,{"$f":"'3.WEF Status-Base'!$BA$22","v":0},null,{"$f":"'3.WEF Status-Base'!$BC$22","v":0},0,{"$f":"'3.WEF Status-Base'!$BD$22","v":0},{"$f":"'3.WEF Status-Base'!$BE$22","v":0}]
[null,"     Communication",null,0,null,14,{"$f":"'3.WEF Status-Base'!$D$23","v":0},0,{"$f":"'3.WEF Status-Base'!$E$23","v":0},null,{"$f":"'3.WEF Status-Base'!$G$23","v":0},0,{"$f":"'3.WEF Status-Base'!$H$23","v":0},null,{"$f":"'3.WEF Status-Base'!$J$23","v":0},0,{"$f":"'3.WEF Status-Base'!$K$23","v":0},null,{"$f":"'3.WEF Status-Base'!$M$23","v":0},0,{"$f":"'3.WEF Status-Base'!$N$23","v":0},null,{"$f":"'3.WEF Status-Base'!$P$23","v":0},0,{"$f":"'3.WEF Status-Base'!$Q$23","v":0},null,{"$f":"'3.WEF Status-Base'!$S$23","v":0},0,{"$f":"'3.WEF Status-Base'!$T$23","v":0},null,{"$f":"'3.WEF Status-Base'!$V$23","v":0},0,{"$f":"'3.WEF Status-Base'!$W$23","v":0},null,{"$f":"'3.WEF Status-Base'!$Y$23","v":0},0,{"$f":"'3.WEF Status-Base'!$Z$23","v":0},null,{"$f":"'3.WEF Status-Base'!$AB$23","v":0},0,{"$f":"'3.WEF Status-Base'!$AC$23","v":0},null,{"$f":"'3.WEF Status-Base'!$AE$23","v":0},0,{"$f":"'3.WEF Status-Base'!$AF$23","v":0},null,{"$f":"'3.WEF Status-Base'!$AH$23","v":0},0,{"$f":"'3.WEF Status-Base'!$AI$23","v":0},null,{"$f":"'3.WEF Status-Base'!$AK$23","v":0},0,{"$f":"'3.WEF Status-Base'!$AL$23","v":0},null,{"$f":"'3.WEF Status-Base'!$AN$23","v":0},0,{"$f":"'3.WEF Status-Base'!$AO$23","v":0},null,{"$f":"'3.WEF Status-Base'!$AQ$23","v":0},0,{"$f":"'3.WEF Status-Base'!$AR$23","v":0},null,{"$f":"'3.WEF Status-Base'!$AT$23","v":0},0,{"$f":"'3.WEF Status-Base'!$AU$23","v":0},null,{"$f":"'3.WEF Status-Base'!$AW$23","v":0},0,{"$f":"'3.WEF Status-Base'!$AX$23","v":0},null,{"$f":"'3.WEF Status-Base'!$AZ$23","v":0},0,{"$f":"'3.WEF Status-Base'!$BA$23","v":0},null,{"$f":"'3.WEF Status-Base'!$BC$23","v":0},0,{"$f":"'3.WEF Status-Base'!$BD$23","v":0},{"$f":"'3.WEF Status-Base'!$BE$23","v":0},null,14,{"$f":"'3.WEF Status-Base'!$D$23","v":0},0,{"$f":"'3.WEF Status-Base'!$E$23","v":0},null,{"$f":"'3.WEF Status-Base'!$G$23","v":0},0,{"$f":"'3.WEF Status-Base'!$H$23","v":0},null,{"$f":"'3.WEF Status-Base'!$J$23","v":0},0,{"$f":"'3.WEF Status-Base'!$K$23","v":0},null,{"$f":"'3.WEF Status-Base'!$M$23","v":0},0,{"$f":"'3.WEF Status-Base'!$N$23","v":0},null,{"$f":"'3.WEF Status-Base'!$P$23","v":0},0,{"$f":"'3.WEF Status-Base'!$Q$23","v":0},null,{"$f":"'3.WEF Status-Base'!$S$23","v":0},0,{"$f":"'3.WEF Status-Base'!$T$23","v":0},null,{"$f":"'3.WEF Status-Base'!$V$23","v":0},0,{"$f":"'3.WEF Status-Base'!$W$23","v":0},null,{"$f":"'3.WEF Status-Base'!$Y$23","v":0},0,{"$f":"'3.WEF Status-Base'!$Z$23","v":0},null,{"$f":"'3.WEF Status-Base'!$AB$23","v":0},0,{"$f":"'3.WEF Status-Base'!$AC$23","v":0},null,{"$f":"'3.WEF Status-Base'!$AE$23","v":0},0,{"$f":"'3.WEF Status-Base'!$AF$23","v":0},null,{"$f":"'3.WEF Status-Base'!$AH$23","v":0},0,{"$f":"'3.WEF Status-Base'!$AI$23","v":0},null,{"$f":"'3.WEF Status-Base'!$AK$23","v":0},0,{"$f":"'3.WEF Status-Base'!$AL$23","v":0},null,{"$f":"'3.WEF Status-Base'!$AN$23","v":0},0,{"$f":"'3.WEF Status-Base'!$AO$23","v":0},null,{"$f":"'3.WEF Status-Base'!$AQ$23","v":0},0,{"$f":"'3.WEF Status-Base'!$AR$23","v":0},null,{"$f":"'3.WEF Status-Base'!$AT$23","v":0},0,{"$f":"'3.WEF Status-Base'!$AU$23","v":0},null,{"$f":"'3.WEF Status-Base'!$AW$23","v":0},0,{"$f":"'3.WEF Status-Base'!$AX$23","v":0},null,{"$f":"'3.WEF Status-Base'!$AZ$23","v":0},0,{"$f":"'3.WEF Status-Base'!$BA$23","v":0},null,{"$f":"'3.WEF Status-Base'!$BC$23","v":0},0,{"$f":"'3.WEF Status-Base'!$BD$23","v":0},{"$f":"'3.WEF Status-Base'!$BE$23","v":0}]
[null,"     Waste removal/disposal",null,0,null,15,{"$f":"'3.WEF Status-Base'!$D$24","v":0},0,{"$f":"'3.WEF Status-Base'!$E$24","v":0},null,{"$f":"'3.WEF Status-Base'!$G$24","v":0},0,{"$f":"'3.WEF Status-Base'!$H$24","v":0},null,{"$f":"'3.WEF Status-Base'!$J$24","v":0},0,{"$f":"'3.WEF Status-Base'!$K$24","v":0},null,{"$f":"'3.WEF Status-Base'!$M$24","v":0},0,{"$f":"'3.WEF Status-Base'!$N$24","v":0},null,{"$f":"'3.WEF Status-Base'!$P$24","v":0},0,{"$f":"'3.WEF Status-Base'!$Q$24","v":0},null,{"$f":"'3.WEF Status-Base'!$S$24","v":0},0,{"$f":"'3.WEF Status-Base'!$T$24","v":0},null,{"$f":"'3.WEF Status-Base'!$V$24","v":0},0,{"$f":"'3.WEF Status-Base'!$W$24","v":0},null,{"$f":"'3.WEF Status-Base'!$Y$24","v":0},0,{"$f":"'3.WEF Status-Base'!$Z$24","v":0},null,{"$f":"'3.WEF Status-Base'!$AB$24","v":0},0,{"$f":"'3.WEF Status-Base'!$AC$24","v":0},null,{"$f":"'3.WEF Status-Base'!$AE$24","v":0},0,{"$f":"'3.WEF Status-Base'!$AF$24","v":0},null,{"$f":"'3.WEF Status-Base'!$AH$24","v":0},0,{"$f":"'3.WEF Status-Base'!$AI$24","v":0},null,{"$f":"'3.WEF Status-Base'!$AK$24","v":0},0,{"$f":"'3.WEF Status-Base'!$AL$24","v":0},null,{"$f":"'3.WEF Status-Base'!$AN$24","v":0},0,{"$f":"'3.WEF Status-Base'!$AO$24","v":0},null,{"$f":"'3.WEF Status-Base'!$AQ$24","v":0},0,{"$f":"'3.WEF Status-Base'!$AR$24","v":0},null,{"$f":"'3.WEF Status-Base'!$AT$24","v":0},0,{"$f":"'3.WEF Status-Base'!$AU$24","v":0},null,{"$f":"'3.WEF Status-Base'!$AW$24","v":0},0,{"$f":"'3.WEF Status-Base'!$AX$24","v":0},null,{"$f":"'3.WEF Status-Base'!$AZ$24","v":0},0,{"$f":"'3.WEF Status-Base'!$BA$24","v":0},null,{"$f":"'3.WEF Status-Base'!$BC$24","v":0},0,{"$f":"'3.WEF Status-Base'!$BD$24","v":0},{"$f":"'3.WEF Status-Base'!$BE$24","v":0},null,15,{"$f":"'3.WEF Status-Base'!$D$24","v":0},0,{"$f":"'3.WEF Status-Base'!$E$24","v":0},null,{"$f":"'3.WEF Status-Base'!$G$24","v":0},0,{"$f":"'3.WEF Status-Base'!$H$24","v":0},null,{"$f":"'3.WEF Status-Base'!$J$24","v":0},0,{"$f":"'3.WEF Status-Base'!$K$24","v":0},null,{"$f":"'3.WEF Status-Base'!$M$24","v":0},0,{"$f":"'3.WEF Status-Base'!$N$24","v":0},null,{"$f":"'3.WEF Status-Base'!$P$24","v":0},0,{"$f":"'3.WEF Status-Base'!$Q$24","v":0},null,{"$f":"'3.WEF Status-Base'!$S$24","v":0},0,{"$f":"'3.WEF Status-Base'!$T$24","v":0},null,{"$f":"'3.WEF Status-Base'!$V$24","v":0},0,{"$f":"'3.WEF Status-Base'!$W$24","v":0},null,{"$f":"'3.WEF Status-Base'!$Y$24","v":0},0,{"$f":"'3.WEF Status-Base'!$Z$24","v":0},null,{"$f":"'3.WEF Status-Base'!$AB$24","v":0},0,{"$f":"'3.WEF Status-Base'!$AC$24","v":0},null,{"$f":"'3.WEF Status-Base'!$AE$24","v":0},0,{"$f":"'3.WEF Status-Base'!$AF$24","v":0},null,{"$f":"'3.WEF Status-Base'!$AH$24","v":0},0,{"$f":"'3.WEF Status-Base'!$AI$24","v":0},null,{"$f":"'3.WEF Status-Base'!$AK$24","v":0},0,{"$f":"'3.WEF Status-Base'!$AL$24","v":0},null,{"$f":"'3.WEF Status-Base'!$AN$24","v":0},0,{"$f":"'3.WEF Status-Base'!$AO$24","v":0},null,{"$f":"'3.WEF Status-Base'!$AQ$24","v":0},0,{"$f":"'3.WEF Status-Base'!$AR$24","v":0},null,{"$f":"'3.WEF Status-Base'!$AT$24","v":0},0,{"$f":"'3.WEF Status-Base'!$AU$24","v":0},null,{"$f":"'3.WEF Status-Base'!$AW$24","v":0},0,{"$f":"'3.WEF Status-Base'!$AX$24","v":0},null,{"$f":"'3.WEF Status-Base'!$AZ$24","v":0},0,{"$f":"'3.WEF Status-Base'!$BA$24","v":0},null,{"$f":"'3.WEF Status-Base'!$BC$24","v":0},0,{"$f":"'3.WEF Status-Base'!$BD$24","v":0},{"$f":"'3.WEF Status-Base'!$BE$24","v":0}]
[null,"Natural Infrastructure",null,0,null,16,{"$f":"'3.WEF Status-Base'!$D$25","v":0},0,{"$f":"'3.WEF Status-Base'!$E$25","v":0},null,{"$f":"'3.WEF Status-Base'!$G$25","v":0},0,{"$f":"'3.WEF Status-Base'!$H$25","v":0},null,{"$f":"'3.WEF Status-Base'!$J$25","v":0},0,{"$f":"'3.WEF Status-Base'!$K$25","v":0},null,{"$f":"'3.WEF Status-Base'!$M$25","v":0},0,{"$f":"'3.WEF Status-Base'!$N$25","v":0},null,{"$f":"'3.WEF Status-Base'!$P$25","v":0},0,{"$f":"'3.WEF Status-Base'!$Q$25","v":0},null,{"$f":"'3.WEF Status-Base'!$S$25","v":0},0,{"$f":"'3.WEF Status-Base'!$T$25","v":0},null,{"$f":"'3.WEF Status-Base'!$V$25","v":0},0,{"$f":"'3.WEF Status-Base'!$W$25","v":0},null,{"$f":"'3.WEF Status-Base'!$Y$25","v":0},0,{"$f":"'3.WEF Status-Base'!$Z$25","v":0},null,{"$f":"'3.WEF Status-Base'!$AB$25","v":0},0,{"$f":"'3.WEF Status-Base'!$AC$25","v":0},null,{"$f":"'3.WEF Status-Base'!$AE$25","v":0},0,{"$f":"'3.WEF Status-Base'!$AF$25","v":0},null,{"$f":"'3.WEF Status-Base'!$AH$25","v":0},0,{"$f":"'3.WEF Status-Base'!$AI$25","v":0},null,{"$f":"'3.WEF Status-Base'!$AK$25","v":0},0,{"$f":"'3.WEF Status-Base'!$AL$25","v":0},null,{"$f":"'3.WEF Status-Base'!$AN$25","v":0},0,{"$f":"'3.WEF Status-Base'!$AO$25","v":0},null,{"$f":"'3.WEF Status-Base'!$AQ$25","v":0},0,{"$f":"'3.WEF Status-Base'!$AR$25","v":0},null,{"$f":"'3.WEF Status-Base'!$AT$25","v":0},0,{"$f":"'3.WEF Status-Base'!$AU$25","v":0},null,{"$f":"'3.WEF Status-Base'!$AW$25","v":0},0,{"$f":"'3.WEF Status-Base'!$AX$25","v":0},null,{"$f":"'3.WEF Status-Base'!$AZ$25","v":0},0,{"$f":"'3.WEF Status-Base'!$BA$25","v":0},null,{"$f":"'3.WEF Status-Base'!$BC$25","v":0},0,{"$f":"'3.WEF Status-Base'!$BD$25","v":0},{"$f":"'3.WEF Status-Base'!$BE$25","v":0},null,16,{"$f":"'3.WEF Status-Base'!$D$25","v":0},0,{"$f":"'3.WEF Status-Base'!$E$25","v":0},null,{"$f":"'3.WEF Status-Base'!$G$25","v":0},0,{"$f":"'3.WEF Status-Base'!$H$25","v":0},null,{"$f":"'3.WEF Status-Base'!$J$25","v":0},0,{"$f":"'3.WEF Status-Base'!$K$25","v":0},null,{"$f":"'3.WEF Status-Base'!$M$25","v":0},0,{"$f":"'3.WEF Status-Base'!$N$25","v":0},null,{"$f":"'3.WEF Status-Base'!$P$25","v":0},0,{"$f":"'3.WEF Status-Base'!$Q$25","v":0},null,{"$f":"'3.WEF Status-Base'!$S$25","v":0},0,{"$f":"'3.WEF Status-Base'!$T$25","v":0},null,{"$f":"'3.WEF Status-Base'!$V$25","v":0},0,{"$f":"'3.WEF Status-Base'!$W$25","v":0},null,{"$f":"'3.WEF Status-Base'!$Y$25","v":0},0,{"$f":"'3.WEF Status-Base'!$Z$25","v":0},null,{"$f":"'3.WEF Status-Base'!$AB$25","v":0},0,{"$f":"'3.WEF Status-Base'!$AC$25","v":0},null,{"$f":"'3.WEF Status-Base'!$AE$25","v":0},0,{"$f":"'3.WEF Status-Base'!$AF$25","v":0},null,{"$f":"'3.WEF Status-Base'!$AH$25","v":0},0,{"$f":"'3.WEF Status-Base'!$AI$25","v":0},null,{"$f":"'3.WEF Status-Base'!$AK$25","v":0},0,{"$f":"'3.WEF Status-Base'!$AL$25","v":0},null,{"$f":"'3.WEF Status-Base'!$AN$25","v":0},0,{"$f":"'3.WEF Status-Base'!$AO$25","v":0},null,{"$f":"'3.WEF Status-Base'!$AQ$25","v":0},0,{"$f":"'3.WEF Status-Base'!$AR$25","v":0},null,{"$f":"'3.WEF Status-Base'!$AT$25","v":0},0,{"$f":"'3.WEF Status-Base'!$AU$25","v":0},null,{"$f":"'3.WEF Status-Base'!$AW$25","v":0},0,{"$f":"'3.WEF Status-Base'!$AX$25","v":0},null,{"$f":"'3.WEF Status-Base'!$AZ$25","v":0},0,{"$f":"'3.WEF Status-Base'!$BA$25","v":0},null,{"$f":"'3.WEF Status-Base'!$BC$25","v":0},0,{"$f":"'3.WEF Status-Base'!$BD$25","v":0},{"$f":"'3.WEF Status-Base'!$BE$25","v":0}]
[null,"     Air quality maintenance",null,0,null,17,{"$f":"'3.WEF Status-Base'!$D$26","v":0},0,{"$f":"'3.WEF Status-Base'!$E$26","v":0},null,{"$f":"'3.WEF Status-Base'!$G$26","v":0},0,{"$f":"'3.WEF Status-Base'!$H$26","v":0},null,{"$f":"'3.WEF Status-Base'!$J$26","v":0},0,{"$f":"'3.WEF Status-Base'!$K$26","v":0},null,{"$f":"'3.WEF Status-Base'!$M$26","v":0},0,{"$f":"'3.WEF Status-Base'!$N$26","v":0},null,{"$f":"'3.WEF Status-Base'!$P$26","v":0},0,{"$f":"'3.WEF Status-Base'!$Q$26","v":0},null,{"$f":"'3.WEF Status-Base'!$S$26","v":0},0,{"$f":"'3.WEF Status-Base'!$T$26","v":0},null,{"$f":"'3.WEF Status-Base'!$V$26","v":0},0,{"$f":"'3.WEF Status-Base'!$W$26","v":0},null,{"$f":"'3.WEF Status-Base'!$Y$26","v":0},0,{"$f":"'3.WEF Status-Base'!$Z$26","v":0},null,{"$f":"'3.WEF Status-Base'!$AB$26","v":0},0,{"$f":"'3.WEF Status-Base'!$AC$26","v":0},null,{"$f":"'3.WEF Status-Base'!$AE$26","v":0},0,{"$f":"'3.WEF Status-Base'!$AF$26","v":0},null,{"$f":"'3.WEF Status-Base'!$AH$26","v":0},0,{"$f":"'3.WEF Status-Base'!$AI$26","v":0},null,{"$f":"'3.WEF Status-Base'!$AK$26","v":0},0,{"$f":"'3.WEF Status-Base'!$AL$26","v":0},null,{"$f":"'3.WEF Status-Base'!$AN$26","v":0},0,{"$f":"'3.WEF Status-Base'!$AO$26","v":0},null,{"$f":"'3.WEF Status-Base'!$AQ$26","v":0},0,{"$f":"'3.WEF Status-Base'!$AR$26","v":0},null,{"$f":"'3.WEF Status-Base'!$AT$26","v":0},0,{"$f":"'3.WEF Status-Base'!$AU$26","v":0},null,{"$f":"'3.WEF Status-Base'!$AW$26","v":0},0,{"$f":"'3.WEF Status-Base'!$AX$26","v":0},null,{"$f":"'3.WEF Status-Base'!$AZ$26","v":0},0,{"$f":"'3.WEF Status-Base'!$BA$26","v":0},null,{"$f":"'3.WEF Status-Base'!$BC$26","v":0},0,{"$f":"'3.WEF Status-Base'!$BD$26","v":0},{"$f":"'3.WEF Status-Base'!$BE$26","v":0},null,17,{"$f":"'3.WEF Status-Base'!$D$26","v":0},0,{"$f":"'3.WEF Status-Base'!$E$26","v":0},null,{"$f":"'3.WEF Status-Base'!$G$26","v":0},0,{"$f":"'3.WEF Status-Base'!$H$26","v":0},null,{"$f":"'3.WEF Status-Base'!$J$26","v":0},0,{"$f":"'3.WEF Status-Base'!$K$26","v":0},null,{"$f":"'3.WEF Status-Base'!$M$26","v":0},0,{"$f":"'3.WEF Status-Base'!$N$26","v":0},null,{"$f":"'3.WEF Status-Base'!$P$26","v":0},0,{"$f":"'3.WEF Status-Base'!$Q$26","v":0},null,{"$f":"'3.WEF Status-Base'!$S$26","v":0},0,{"$f":"'3.WEF Status-Base'!$T$26","v":0},null,{"$f":"'3.WEF Status-Base'!$V$26","v":0},0,{"$f":"'3.WEF Status-Base'!$W$26","v":0},null,{"$f":"'3.WEF Status-Base'!$Y$26","v":0},0,{"$f":"'3.WEF Status-Base'!$Z$26","v":0},null,{"$f":"'3.WEF Status-Base'!$AB$26","v":0},0,{"$f":"'3.WEF Status-Base'!$AC$26","v":0},null,{"$f":"'3.WEF Status-Base'!$AE$26","v":0},0,{"$f":"'3.WEF Status-Base'!$AF$26","v":0},null,{"$f":"'3.WEF Status-Base'!$AH$26","v":0},0,{"$f":"'3.WEF Status-Base'!$AI$26","v":0},null,{"$f":"'3.WEF Status-Base'!$AK$26","v":0},0,{"$f":"'3.WEF Status-Base'!$AL$26","v":0},null,{"$f":"'3.WEF Status-Base'!$AN$26","v":0},0,{"$f":"'3.WEF Status-Base'!$AO$26","v":0},null,{"$f":"'3.WEF Status-Base'!$AQ$26","v":0},0,{"$f":"'3.WEF Status-Base'!$AR$26","v":0},null,{"$f":"'3.WEF Status-Base'!$AT$26","v":0},0,{"$f":"'3.WEF Status-Base'!$AU$26","v":0},null,{"$f":"'3.WEF Status-Base'!$AW$26","v":0},0,{"$f":"'3.WEF Status-Base'!$AX$26","v":0},null,{"$f":"'3.WEF Status-Base'!$AZ$26","v":0},0,{"$f":"'3.WEF Status-Base'!$BA$26","v":0},null,{"$f":"'3.WEF Status-Base'!$BC$26","v":0},0,{"$f":"'3.WEF Status-Base'!$BD$26","v":0},{"$f":"'3.WEF Status-Base'!$BE$26","v":0}]
[null,"     Erosion control",null,0,null,18,{"$f":"'3.WEF Status-Base'!$D$27","v":0},0,{"$f":"'3.WEF Status-Base'!$E$27","v":0},null,{"$f":"'3.WEF Status-Base'!$G$27","v":0},0,{"$f":"'3.WEF Status-Base'!$H$27","v":0},null,{"$f":"'3.WEF Status-Base'!$J$27","v":0},0,{"$f":"'3.WEF Status-Base'!$K$27","v":0},null,{"$f":"'3.WEF Status-Base'!$M$27","v":0},0,{"$f":"'3.WEF Status-Base'!$N$27","v":0},null,{"$f":"'3.WEF Status-Base'!$P$27","v":0},0,{"$f":"'3.WEF Status-Base'!$Q$27","v":0},null,{"$f":"'3.WEF Status-Base'!$S$27","v":0},0,{"$f":"'3.WEF Status-Base'!$T$27","v":0},null,{"$f":"'3.WEF Status-Base'!$V$27","v":0},0,{"$f":"'3.WEF Status-Base'!$W$27","v":0},null,{"$f":"'3.WEF Status-Base'!$Y$27","v":0},0,{"$f":"'3.WEF Status-Base'!$Z$27","v":0},null,{"$f":"'3.WEF Status-Base'!$AB$27","v":0},0,{"$f":"'3.WEF Status-Base'!$AC$27","v":0},null,{"$f":"'3.WEF Status-Base'!$AE$27","v":0},0,{"$f":"'3.WEF Status-Base'!$AF$27","v":0},null,{"$f":"'3.WEF Status-Base'!$AH$27","v":0},0,{"$f":"'3.WEF Status-Base'!$AI$27","v":0},null,{"$f":"'3.WEF Status-Base'!$AK$27","v":0},0,{"$f":"'3.WEF Status-Base'!$AL$27","v":0},null,{"$f":"'3.WEF Status-Base'!$AN$27","v":0},0,{"$f":"'3.WEF Status-Base'!$AO$27","v":0},null,{"$f":"'3.WEF Status-Base'!$AQ$27","v":0},0,{"$f":"'3.WEF Status-Base'!$AR$27","v":0},null,{"$f":"'3.WEF Status-Base'!$AT$27","v":0},0,{"$f":"'3.WEF Status-Base'!$AU$27","v":0},null,{"$f":"'3.WEF Status-Base'!$AW$27","v":0},0,{"$f":"'3.WEF Status-Base'!$AX$27","v":0},null,{"$f":"'3.WEF Status-Base'!$AZ$27","v":0},0,{"$f":"'3.WEF Status-Base'!$BA$27","v":0},null,{"$f":"'3.WEF Status-Base'!$BC$27","v":0},0,{"$f":"'3.WEF Status-Base'!$BD$27","v":0},{"$f":"'3.WEF Status-Base'!$BE$27","v":0},null,18,{"$f":"'3.WEF Status-Base'!$D$27","v":0},0,{"$f":"'3.WEF Status-Base'!$E$27","v":0},null,{"$f":"'3.WEF Status-Base'!$G$27","v":0},0,{"$f":"'3.WEF Status-Base'!$H$27","v":0},null,{"$f":"'3.WEF Status-Base'!$J$27","v":0},0,{"$f":"'3.WEF Status-Base'!$K$27","v":0},null,{"$f":"'3.WEF Status-Base'!$M$27","v":0},0,{"$f":"'3.WEF Status-Base'!$N$27","v":0},null,{"$f":"'3.WEF Status-Base'!$P$27","v":0},0,{"$f":"'3.WEF Status-Base'!$Q$27","v":0},null,{"$f":"'3.WEF Status-Base'!$S$27","v":0},0,{"$f":"'3.WEF Status-Base'!$T$27","v":0},null,{"$f":"'3.WEF Status-Base'!$V$27","v":0},0,{"$f":"'3.WEF Status-Base'!$W$27","v":0},null,{"$f":"'3.WEF Status-Base'!$Y$27","v":0},0,{"$f":"'3.WEF Status-Base'!$Z$27","v":0},null,{"$f":"'3.WEF Status-Base'!$AB$27","v":0},0,{"$f":"'3.WEF Status-Base'!$AC$27","v":0},null,{"$f":"'3.WEF Status-Base'!$AE$27","v":0},0,{"$f":"'3.WEF Status-Base'!$AF$27","v":0},null,{"$f":"'3.WEF Status-Base'!$AH$27","v":0},0,{"$f":"'3.WEF Status-Base'!$AI$27","v":0},null,{"$f":"'3.WEF Status-Base'!$AK$27","v":0},0,{"$f":"'3.WEF Status-Base'!$AL$27","v":0},null,{"$f":"'3.WEF Status-Base'!$AN$27","v":0},0,{"$f":"'3.WEF Status-Base'!$AO$27","v":0},null,{"$f":"'3.WEF Status-Base'!$AQ$27","v":0},0,{"$f":"'3.WEF Status-Base'!$AR$27","v":0},null,{"$f":"'3.WEF Status-Base'!$AT$27","v":0},0,{"$f":"'3.WEF Status-Base'!$AU$27","v":0},null,{"$f":"'3.WEF Status-Base'!$AW$27","v":0},0,{"$f":"'3.WEF Status-Base'!$AX$27","v":0},null,{"$f":"'3.WEF Status-Base'!$AZ$27","v":0},0,{"$f":"'3.WEF Status-Base'!$BA$27","v":0},null,{"$f":"'3.WEF Status-Base'!$BC$27","v":0},0,{"$f":"'3.WEF Status-Base'!$BD$27","v":0},{"$f":"'3.WEF Status-Base'!$BE$27","v":0}]
[null,"     Water purification and treatment",null,0,null,19,{"$f":"'3.WEF Status-Base'!$D$28","v":0},0,{"$f":"'3.WEF Status-Base'!$E$28","v":0},null,{"$f":"'3.WEF Status-Base'!$G$28","v":0},0,{"$f":"'3.WEF Status-Base'!$H$28","v":0},null,{"$f":"'3.WEF Status-Base'!$J$28","v":0},0,{"$f":"'3.WEF Status-Base'!$K$28","v":0},null,{"$f":"'3.WEF Status-Base'!$M$28","v":0},0,{"$f":"'3.WEF Status-Base'!$N$28","v":0},null,{"$f":"'3.WEF Status-Base'!$P$28","v":0},0,{"$f":"'3.WEF Status-Base'!$Q$28","v":0},null,{"$f":"'3.WEF Status-Base'!$S$28","v":0},0,{"$f":"'3.WEF Status-Base'!$T$28","v":0},null,{"$f":"'3.WEF Status-Base'!$V$28","v":0},0,{"$f":"'3.WEF Status-Base'!$W$28","v":0},null,{"$f":"'3.WEF Status-Base'!$Y$28","v":0},0,{"$f":"'3.WEF Status-Base'!$Z$28","v":0},null,{"$f":"'3.WEF Status-Base'!$AB$28","v":0},0,{"$f":"'3.WEF Status-Base'!$AC$28","v":0},null,{"$f":"'3.WEF Status-Base'!$AE$28","v":0},0,{"$f":"'3.WEF Status-Base'!$AF$28","v":0},null,{"$f":"'3.WEF Status-Base'!$AH$28","v":0},0,{"$f":"'3.WEF Status-Base'!$AI$28","v":0},null,{"$f":"'3.WEF Status-Base'!$AK$28","v":0},0,{"$f":"'3.WEF Status-Base'!$AL$28","v":0},null,{"$f":"'3.WEF Status-Base'!$AN$28","v":0},0,{"$f":"'3.WEF Status-Base'!$AO$28","v":0},null,{"$f":"'3.WEF Status-Base'!$AQ$28","v":0},0,{"$f":"'3.WEF Status-Base'!$AR$28","v":0},null,{"$f":"'3.WEF Status-Base'!$AT$28","v":0},0,{"$f":"'3.WEF Status-Base'!$AU$28","v":0},null,{"$f":"'3.WEF Status-Base'!$AW$28","v":0},0,{"$f":"'3.WEF Status-Base'!$AX$28","v":0},null,{"$f":"'3.WEF Status-Base'!$AZ$28","v":0},0,{"$f":"'3.WEF Status-Base'!$BA$28","v":0},null,{"$f":"'3.WEF Status-Base'!$BC$28","v":0},0,{"$f":"'3.WEF Status-Base'!$BD$28","v":0},{"$f":"'3.WEF Status-Base'!$BE$28","v":0},null,19,{"$f":"'3.WEF Status-Base'!$D$28","v":0},0,{"$f":"'3.WEF Status-Base'!$E$28","v":0},null,{"$f":"'3.WEF Status-Base'!$G$28","v":0},0,{"$f":"'3.WEF Status-Base'!$H$28","v":0},null,{"$f":"'3.WEF Status-Base'!$J$28","v":0},0,{"$f":"'3.WEF Status-Base'!$K$28","v":0},null,{"$f":"'3.WEF Status-Base'!$M$28","v":0},0,{"$f":"'3.WEF Status-Base'!$N$28","v":0},null,{"$f":"'3.WEF Status-Base'!$P$28","v":0},0,{"$f":"'3.WEF Status-Base'!$Q$28","v":0},null,{"$f":"'3.WEF Status-Base'!$S$28","v":0},0,{"$f":"'3.WEF Status-Base'!$T$28","v":0},null,{"$f":"'3.WEF Status-Base'!$V$28","v":0},0,{"$f":"'3.WEF Status-Base'!$W$28","v":0},null,{"$f":"'3.WEF Status-Base'!$Y$28","v":0},0,{"$f":"'3.WEF Status-Base'!$Z$28","v":0},null,{"$f":"'3.WEF Status-Base'!$AB$28","v":0},0,{"$f":"'3.WEF Status-Base'!$AC$28","v":0},null,{"$f":"'3.WEF Status-Base'!$AE$28","v":0},0,{"$f":"'3.WEF Status-Base'!$AF$28","v":0},null,{"$f":"'3.WEF Status-Base'!$AH$28","v":0},0,{"$f":"'3.WEF Status-Base'!$AI$28","v":0},null,{"$f":"'3.WEF Status-Base'!$AK$28","v":0},0,{"$f":"'3.WEF Status-Base'!$AL$28","v":0},null,{"$f":"'3.WEF Status-Base'!$AN$28","v":0},0,{"$f":"'3.WEF Status-Base'!$AO$28","v":0},null,{"$f":"'3.WEF Status-Base'!$AQ$28","v":0},0,{"$f":"'3.WEF Status-Base'!$AR$28","v":0},null,{"$f":"'3.WEF Status-Base'!$AT$28","v":0},0,{"$f":"'3.WEF Status-Base'!$AU$28","v":0},null,{"$f":"'3.WEF Status-Base'!$AW$28","v":0},0,{"$f":"'3.WEF Status-Base'!$AX$28","v":0},null,{"$f":"'3.WEF Status-Base'!$AZ$28","v":0},0,{"$f":"'3.WEF Status-Base'!$BA$28","v":0},null,{"$f":"'3.WEF Status-Base'!$BC$28","v":0},0,{"$f":"'3.WEF Status-Base'!$BD$28","v":0},{"$f":"'3.WEF Status-Base'!$BE$28","v":0}]
[null,"     Biological control",null,0,null,20,{"$f":"'3.WEF Status-Base'!$D$29","v":0},0,{"$f":"'3.WEF Status-Base'!$E$29","v":0},null,{"$f":"'3.WEF Status-Base'!$G$29","v":0},0,{"$f":"'3.WEF Status-Base'!$H$29","v":0},null,{"$f":"'3.WEF Status-Base'!$J$29","v":0},0,{"$f":"'3.WEF Status-Base'!$K$29","v":0},null,{"$f":"'3.WEF Status-Base'!$M$29","v":0},0,{"$f":"'3.WEF Status-Base'!$N$29","v":0},null,{"$f":"'3.WEF Status-Base'!$P$29","v":0},0,{"$f":"'3.WEF Status-Base'!$Q$29","v":0},null,{"$f":"'3.WEF Status-Base'!$S$29","v":0},0,{"$f":"'3.WEF Status-Base'!$T$29","v":0},null,{"$f":"'3.WEF Status-Base'!$V$29","v":0},0,{"$f":"'3.WEF Status-Base'!$W$29","v":0},null,{"$f":"'3.WEF Status-Base'!$Y$29","v":0},0,{"$f":"'3.WEF Status-Base'!$Z$29","v":0},null,{"$f":"'3.WEF Status-Base'!$AB$29","v":0},0,{"$f":"'3.WEF Status-Base'!$AC$29","v":0},null,{"$f":"'3.WEF Status-Base'!$AE$29","v":0},0,{"$f":"'3.WEF Status-Base'!$AF$29","v":0},null,{"$f":"'3.WEF Status-Base'!$AH$29","v":0},0,{"$f":"'3.WEF Status-Base'!$AI$29","v":0},null,{"$f":"'3.WEF Status-Base'!$AK$29","v":0},0,{"$f":"'3.WEF Status-Base'!$AL$29","v":0},null,{"$f":"'3.WEF Status-Base'!$AN$29","v":0},0,{"$f":"'3.WEF Status-Base'!$AO$29","v":0},null,{"$f":"'3.WEF Status-Base'!$AQ$29","v":0},0,{"$f":"'3.WEF Status-Base'!$AR$29","v":0},null,{"$f":"'3.WEF Status-Base'!$AT$29","v":0},0,{"$f":"'3.WEF Status-Base'!$AU$29","v":0},null,{"$f":"'3.WEF Status-Base'!$AW$29","v":0},0,{"$f":"'3.WEF Status-Base'!$AX$29","v":0},null,{"$f":"'3.WEF Status-Base'!$AZ$29","v":0},0,{"$f":"'3.WEF Status-Base'!$BA$29","v":0},null,{"$f":"'3.WEF Status-Base'!$BC$29","v":0},0,{"$f":"'3.WEF Status-Base'!$BD$29","v":0},{"$f":"'3.WEF Status-Base'!$BE$29","v":0},null,20,{"$f":"'3.WEF Status-Base'!$D$29","v":0},0,{"$f":"'3.WEF Status-Base'!$E$29","v":0},null,{"$f":"'3.WEF Status-Base'!$G$29","v":0},0,{"$f":"'3.WEF Status-Base'!$H$29","v":0},null,{"$f":"'3.WEF Status-Base'!$J$29","v":0},0,{"$f":"'3.WEF Status-Base'!$K$29","v":0},null,{"$f":"'3.WEF Status-Base'!$M$29","v":0},0,{"$f":"'3.WEF Status-Base'!$N$29","v":0},null,{"$f":"'3.WEF Status-Base'!$P$29","v":0},0,{"$f":"'3.WEF Status-Base'!$Q$29","v":0},null,{"$f":"'3.WEF Status-Base'!$S$29","v":0},0,{"$f":"'3.WEF Status-Base'!$T$29","v":0},null,{"$f":"'3.WEF Status-Base'!$V$29","v":0},0,{"$f":"'3.WEF Status-Base'!$W$29","v":0},null,{"$f":"'3.WEF Status-Base'!$Y$29","v":0},0,{"$f":"'3.WEF Status-Base'!$Z$29","v":0},null,{"$f":"'3.WEF Status-Base'!$AB$29","v":0},0,{"$f":"'3.WEF Status-Base'!$AC$29","v":0},null,{"$f":"'3.WEF Status-Base'!$AE$29","v":0},0,{"$f":"'3.WEF Status-Base'!$AF$29","v":0},null,{"$f":"'3.WEF Status-Base'!$AH$29","v":0},0,{"$f":"'3.WEF Status-Base'!$AI$29","v":0},null,{"$f":"'3.WEF Status-Base'!$AK$29","v":0},0,{"$f":"'3.WEF Status-Base'!$AL$29","v":0},null,{"$f":"'3.WEF Status-Base'!$AN$29","v":0},0,{"$f":"'3.WEF Status-Base'!$AO$29","v":0},null,{"$f":"'3.WEF Status-Base'!$AQ$29","v":0},0,{"$f":"'3.WEF Status-Base'!$AR$29","v":0},null,{"$f":"'3.WEF Status-Base'!$AT$29","v":0},0,{"$f":"'3.WEF Status-Base'!$AU$29","v":0},null,{"$f":"'3.WEF Status-Base'!$AW$29","v":0},0,{"$f":"'3.WEF Status-Base'!$AX$29","v":0},null,{"$f":"'3.WEF Status-Base'!$AZ$29","v":0},0,{"$f":"'3.WEF Status-Base'!$BA$29","v":0},null,{"$f":"'3.WEF Status-Base'!$BC$29","v":0},0,{"$f":"'3.WEF Status-Base'!$BD$29","v":0},{"$f":"'3.WEF Status-Base'!$BE$29","v":0}]
[null,"     Pollination",null,0,null,21,{"$f":"'3.WEF Status-Base'!$D$30","v":0},0,{"$f":"'3.WEF Status-Base'!$E$30","v":0},null,{"$f":"'3.WEF Status-Base'!$G$30","v":0},0,{"$f":"'3.WEF Status-Base'!$H$30","v":0},null,{"$f":"'3.WEF Status-Base'!$J$30","v":0},0,{"$f":"'3.WEF Status-Base'!$K$30","v":0},null,{"$f":"'3.WEF Status-Base'!$M$30","v":0},0,{"$f":"'3.WEF Status-Base'!$N$30","v":0},null,{"$f":"'3.WEF Status-Base'!$P$30","v":0},0,{"$f":"'3.WEF Status-Base'!$Q$30","v":0},null,{"$f":"'3.WEF Status-Base'!$S$30","v":0},0,{"$f":"'3.WEF Status-Base'!$T$30","v":0},null,{"$f":"'3.WEF Status-Base'!$V$30","v":0},0,{"$f":"'3.WEF Status-Base'!$W$30","v":0},null,{"$f":"'3.WEF Status-Base'!$Y$30","v":0},0,{"$f":"'3.WEF Status-Base'!$Z$30","v":0},null,{"$f":"'3.WEF Status-Base'!$AB$30","v":0},0,{"$f":"'3.WEF Status-Base'!$AC$30","v":0},null,{"$f":"'3.WEF Status-Base'!$AE$30","v":0},0,{"$f":"'3.WEF Status-Base'!$AF$30","v":0},null,{"$f":"'3.WEF Status-Base'!$AH$30","v":0},0,{"$f":"'3.WEF Status-Base'!$AI$30","v":0},null,{"$f":"'3.WEF Status-Base'!$AK$30","v":0},0,{"$f":"'3.WEF Status-Base'!$AL$30","v":0},null,{"$f":"'3.WEF Status-Base'!$AN$30","v":0},0,{"$f":"'3.WEF Status-Base'!$AO$30","v":0},null,{"$f":"'3.WEF Status-Base'!$AQ$30","v":0},0,{"$f":"'3.WEF Status-Base'!$AR$30","v":0},null,{"$f":"'3.WEF Status-Base'!$AT$30","v":0},0,{"$f":"'3.WEF Status-Base'!$AU$30","v":0},null,{"$f":"'3.WEF Status-Base'!$AW$30","v":0},0,{"$f":"'3.WEF Status-Base'!$AX$30","v":0},null,{"$f":"'3.WEF Status-Base'!$AZ$30","v":0},0,{"$f":"'3.WEF Status-Base'!$BA$30","v":0},null,{"$f":"'3.WEF Status-Base'!$BC$30","v":0},0,{"$f":"'3.WEF Status-Base'!$BD$30","v":0},{"$f":"'3.WEF Status-Base'!$BE$30","v":0},null,21,{"$f":"'3.WEF Status-Base'!$D$30","v":0},0,{"$f":"'3.WEF Status-Base'!$E$30","v":0},null,{"$f":"'3.WEF Status-Base'!$G$30","v":0},0,{"$f":"'3.WEF Status-Base'!$H$30","v":0},null,{"$f":"'3.WEF Status-Base'!$J$30","v":0},0,{"$f":"'3.WEF Status-Base'!$K$30","v":0},null,{"$f":"'3.WEF Status-Base'!$M$30","v":0},0,{"$f":"'3.WEF Status-Base'!$N$30","v":0},null,{"$f":"'3.WEF Status-Base'!$P$30","v":0},0,{"$f":"'3.WEF Status-Base'!$Q$30","v":0},null,{"$f":"'3.WEF Status-Base'!$S$30","v":0},0,{"$f":"'3.WEF Status-Base'!$T$30","v":0},null,{"$f":"'3.WEF Status-Base'!$V$30","v":0},0,{"$f":"'3.WEF Status-Base'!$W$30","v":0},null,{"$f":"'3.WEF Status-Base'!$Y$30","v":0},0,{"$f":"'3.WEF Status-Base'!$Z$30","v":0},null,{"$f":"'3.WEF Status-Base'!$AB$30","v":0},0,{"$f":"'3.WEF Status-Base'!$AC$30","v":0},null,{"$f":"'3.WEF Status-Base'!$AE$30","v":0},0,{"$f":"'3.WEF Status-Base'!$AF$30","v":0},null,{"$f":"'3.WEF Status-Base'!$AH$30","v":0},0,{"$f":"'3.WEF Status-Base'!$AI$30","v":0},null,{"$f":"'3.WEF Status-Base'!$AK$30","v":0},0,{"$f":"'3.WEF Status-Base'!$AL$30","v":0},null,{"$f":"'3.WEF Status-Base'!$AN$30","v":0},0,{"$f":"'3.WEF Status-Base'!$AO$30","v":0},null,{"$f":"'3.WEF Status-Base'!$AQ$30","v":0},0,{"$f":"'3.WEF Status-Base'!$AR$30","v":0},null,{"$f":"'3.WEF Status-Base'!$AT$30","v":0},0,{"$f":"'3.WEF Status-Base'!$AU$30","v":0},null,{"$f":"'3.WEF Status-Base'!$AW$30","v":0},0,{"$f":"'3.WEF Status-Base'!$AX$30","v":0},null,{"$f":"'3.WEF Status-Base'!$AZ$30","v":0},0,{"$f":"'3.WEF Status-Base'!$BA$30","v":0},null,{"$f":"'3.WEF Status-Base'!$BC$30","v":0},0,{"$f":"'3.WEF Status-Base'!$BD$30","v":0},{"$f":"'3.WEF Status-Base'!$BE$30","v":0}]
[null,"     Storm protection",null,0,null,22,{"$f":"'3.WEF Status-Base'!$D$31","v":0},0,{"$f":"'3.WEF Status-Base'!$E$31","v":0},null,{"$f":"'3.WEF Status-Base'!$G$31","v":0},0,{"$f":"'3.WEF Status-Base'!$H$31","v":0},null,{"$f":"'3.WEF Status-Base'!$J$31","v":0},0,{"$f":"'3.WEF Status-Base'!$K$31","v":0},null,{"$f":"'3.WEF Status-Base'!$M$31","v":0},0,{"$f":"'3.WEF Status-Base'!$N$31","v":0},null,{"$f":"'3.WEF Status-Base'!$P$31","v":0},0,{"$f":"'3.WEF Status-Base'!$Q$31","v":0},null,{"$f":"'3.WEF Status-Base'!$S$31","v":0},0,{"$f":"'3.WEF Status-Base'!$T$31","v":0},null,{"$f":"'3.WEF Status-Base'!$V$31","v":0},0,{"$f":"'3.WEF Status-Base'!$W$31","v":0},null,{"$f":"'3.WEF Status-Base'!$Y$31","v":0},0,{"$f":"'3.WEF Status-Base'!$Z$31","v":0},null,{"$f":"'3.WEF Status-Base'!$AB$31","v":0},0,{"$f":"'3.WEF Status-Base'!$AC$31","v":0},null,{"$f":"'3.WEF Status-Base'!$AE$31","v":0},0,{"$f":"'3.WEF Status-Base'!$AF$31","v":0},null,{"$f":"'3.WEF Status-Base'!$AH$31","v":0},0,{"$f":"'3.WEF Status-Base'!$AI$31","v":0},null,{"$f":"'3.WEF Status-Base'!$AK$31","v":0},0,{"$f":"'3.WEF Status-Base'!$AL$31","v":0},null,{"$f":"'3.WEF Status-Base'!$AN$31","v":0},0,{"$f":"'3.WEF Status-Base'!$AO$31","v":0},null,{"$f":"'3.WEF Status-Base'!$AQ$31","v":0},0,{"$f":"'3.WEF Status-Base'!$AR$31","v":0},null,{"$f":"'3.WEF Status-Base'!$AT$31","v":0},0,{"$f":"'3.WEF Status-Base'!$AU$31","v":0},null,{"$f":"'3.WEF Status-Base'!$AW$31","v":0},0,{"$f":"'3.WEF Status-Base'!$AX$31","v":0},null,{"$f":"'3.WEF Status-Base'!$AZ$31","v":0},0,{"$f":"'3.WEF Status-Base'!$BA$31","v":0},null,{"$f":"'3.WEF Status-Base'!$BC$31","v":0},0,{"$f":"'3.WEF Status-Base'!$BD$31","v":0},{"$f":"'3.WEF Status-Base'!$BE$31","v":0},null,22,{"$f":"'3.WEF Status-Base'!$D$31","v":0},0,{"$f":"'3.WEF Status-Base'!$E$31","v":0},null,{"$f":"'3.WEF Status-Base'!$G$31","v":0},0,{"$f":"'3.WEF Status-Base'!$H$31","v":0},null,{"$f":"'3.WEF Status-Base'!$J$31","v":0},0,{"$f":"'3.WEF Status-Base'!$K$31","v":0},null,{"$f":"'3.WEF Status-Base'!$M$31","v":0},0,{"$f":"'3.WEF Status-Base'!$N$31","v":0},null,{"$f":"'3.WEF Status-Base'!$P$31","v":0},0,{"$f":"'3.WEF Status-Base'!$Q$31","v":0},null,{"$f":"'3.WEF Status-Base'!$S$31","v":0},0,{"$f":"'3.WEF Status-Base'!$T$31","v":0},null,{"$f":"'3.WEF Status-Base'!$V$31","v":0},0,{"$f":"'3.WEF Status-Base'!$W$31","v":0},null,{"$f":"'3.WEF Status-Base'!$Y$31","v":0},0,{"$f":"'3.WEF Status-Base'!$Z$31","v":0},null,{"$f":"'3.WEF Status-Base'!$AB$31","v":0},0,{"$f":"'3.WEF Status-Base'!$AC$31","v":0},null,{"$f":"'3.WEF Status-Base'!$AE$31","v":0},0,{"$f":"'3.WEF Status-Base'!$AF$31","v":0},null,{"$f":"'3.WEF Status-Base'!$AH$31","v":0},0,{"$f":"'3.WEF Status-Base'!$AI$31","v":0},null,{"$f":"'3.WEF Status-Base'!$AK$31","v":0},0,{"$f":"'3.WEF Status-Base'!$AL$31","v":0},null,{"$f":"'3.WEF Status-Base'!$AN$31","v":0},0,{"$f":"'3.WEF Status-Base'!$AO$31","v":0},null,{"$f":"'3.WEF Status-Base'!$AQ$31","v":0},0,{"$f":"'3.WEF Status-Base'!$AR$31","v":0},null,{"$f":"'3.WEF Status-Base'!$AT$31","v":0},0,{"$f":"'3.WEF Status-Base'!$AU$31","v":0},null,{"$f":"'3.WEF Status-Base'!$AW$31","v":0},0,{"$f":"'3.WEF Status-Base'!$AX$31","v":0},null,{"$f":"'3.WEF Status-Base'!$AZ$31","v":0},0,{"$f":"'3.WEF Status-Base'!$BA$31","v":0},null,{"$f":"'3.WEF Status-Base'!$BC$31","v":0},0,{"$f":"'3.WEF Status-Base'!$BD$31","v":0},{"$f":"'3.WEF Status-Base'!$BE$31","v":0}]
[null,"Supporting Institutions and Policies",null,null,null,23,null,null,null,null,null,null,null,null,null,null,null,null,null,null,null,null,null,null,null,null,null,null,null,null,null,null,null,null,null,null,null,null,null,null,null,null,null,null,null,null,null,null,null,null,null,null,null,null,null,null,null,null,null,null,null,null,null,null,null,null,null,null,null,null,null,null,null,null,null,null,null,null,null,23]
[null,"Institutions",null,{"$f":"MAX(H246:BZ246)","v":0},null,24,{"$f":"'3.WEF Status-Base'!$D$33","v":0},0,{"$f":"'3.WEF Status-Base'!$E$33","v":0},null,{"$f":"'3.WEF Status-Base'!$G$33","v":0},0,{"$f":"'3.WEF Status-Base'!$H$33","v":0},null,{"$f":"'3.WEF Status-Base'!$J$33","v":0},0,{"$f":"'3.WEF Status-Base'!$K$33","v":0},null,{"$f":"'3.WEF Status-Base'!$M$33","v":0},0,{"$f":"'3.WEF Status-Base'!$N$33","v":0},null,{"$f":"'3.WEF Status-Base'!$P$33","v":0},0,{"$f":"'3.WEF Status-Base'!$Q$33","v":0},null,{"$f":"'3.WEF Status-Base'!$S$33","v":0},0,{"$f":"'3.WEF Status-Base'!$T$33","v":0},null,{"$f":"'3.WEF Status-Base'!$V$33","v":0},0,{"$f":"'3.WEF Status-Base'!$W$33","v":0},null,{"$f":"'3.WEF Status-Base'!$Y$33","v":0},0,{"$f":"'3.WEF Status-Base'!$Z$33","v":0},null,{"$f":"'3.WEF Status-Base'!$AB$33","v":0},0,{"$f":"'3.WEF Status-Base'!$AC$33","v":0},null,{"$f":"'3.WEF Status-Base'!$AE$33","v":0},0,{"$f":"'3.WEF Status-Base'!$AF$33","v":0},null,{"$f":"'3.WEF Status-Base'!$AH$33","v":0},0,{"$f":"'3.WEF Status-Base'!$AI$33","v":0},null,{"$f":"'3.WEF Status-Base'!$AK$33","v":0},0,{"$f":"'3.WEF Status-Base'!$AL$33","v":0},null,{"$f":"'3.WEF Status-Base'!$AN$33","v":0},0,{"$f":"'3.WEF Status-Base'!$AO$33","v":0},null,{"$f":"'3.WEF Status-Base'!$AQ$33","v":0},0,{"$f":"'3.WEF Status-Base'!$AR$33","v":0},null,{"$f":"'3.WEF Status-Base'!$AT$33","v":0},0,{"$f":"'3.WEF Status-Base'!$AU$33","v":0},null,{"$f":"'3.WEF Status-Base'!$AW$33","v":0},0,{"$f":"'3.WEF Status-Base'!$AX$33","v":0},null,{"$f":"'3.WEF Status-Base'!$AZ$33","v":0},0,{"$f":"'3.WEF Status-Base'!$BA$33","v":0},null,{"$f":"'3.WEF Status-Base'!$BC$33","v":0},0,{"$f":"'3.WEF Status-Base'!$BD$33","v":0},{"$f":"'3.WEF Status-Base'!$BE$33","v":0},null,24,{"$f":"'3.WEF Status-Base'!$D$33","v":0},0,{"$f":"'3.WEF Status-Base'!$E$33","v":0},null,{"$f":"'3.WEF Status-Base'!$G$33","v":0},0,{"$f":"'3.WEF Status-Base'!$H$33","v":0},null,{"$f":"'3.WEF Status-Base'!$J$33","v":0},0,{"$f":"'3.WEF Status-Base'!$K$33","v":0},null,{"$f":"'3.WEF Status-Base'!$M$33","v":0},0,{"$f":"'3.WEF Status-Base'!$N$33","v":0},null,{"$f":"'3.WEF Status-Base'!$P$33","v":0},0,{"$f":"'3.WEF Status-Base'!$Q$33","v":0},null,{"$f":"'3.WEF Status-Base'!$S$33","v":0},0,{"$f":"'3.WEF Status-Base'!$T$33","v":0},null,{"$f":"'3.WEF Status-Base'!$V$33","v":0},0,{"$f":"'3.WEF Status-Base'!$W$33","v":0},null,{"$f":"'3.WEF Status-Base'!$Y$33","v":0},0,{"$f":"'3.WEF Status-Base'!$Z$33","v":0},null,{"$f":"'3.WEF Status-Base'!$AB$33","v":0},0,{"$f":"'3.WEF Status-Base'!$AC$33","v":0},null,{"$f":"'3.WEF Status-Base'!$AE$33","v":0},0,{"$f":"'3.WEF Status-Base'!$AF$33","v":0},null,{"$f":"'3.WEF Status-Base'!$AH$33","v":0},0,{"$f":"'3.WEF Status-Base'!$AI$33","v":0},null,{"$f":"'3.WEF Status-Base'!$AK$33","v":0},0,{"$f":"'3.WEF Status-Base'!$AL$33","v":0},null,{"$f":"'3.WEF Status-Base'!$AN$33","v":0},0,{"$f":"'3.WEF Status-Base'!$AO$33","v":0},null,{"$f":"'3.WEF Status-Base'!$AQ$33","v":0},0,{"$f":"'3.WEF Status-Base'!$AR$33","v":0},null,{"$f":"'3.WEF Status-Base'!$AT$33","v":0},0,{"$f":"'3.WEF Status-Base'!$AU$33","v":0},null,{"$f":"'3.WEF Status-Base'!$AW$33","v":0},0,{"$f":"'3.WEF Status-Base'!$AX$33","v":0},null,{"$f":"'3.WEF Status-Base'!$AZ$33","v":0},0,{"$f":"'3.WEF Status-Base'!$BA$33","v":0},null,{"$f":"'3.WEF Status-Base'!$BC$33","v":0},0,{"$f":"'3.WEF Status-Base'!$BD$33","v":0},{"$f":"'3.WEF Status-Base'!$BE$33","v":0}]
[null,"     Utility boards",null,0,null,25,{"$f":"'3.WEF Status-Base'!$D$34","v":0},0,{"$f":"'3.WEF Status-Base'!$E$34","v":0},null,{"$f":"'3.WEF Status-Base'!$G$34","v":0},0,{"$f":"'3.WEF Status-Base'!$H$34","v":0},null,{"$f":"'3.WEF Status-Base'!$J$34","v":0},0,{"$f":"'3.WEF Status-Base'!$K$34","v":0},null,{"$f":"'3.WEF Status-Base'!$M$34","v":0},0,{"$f":"'3.WEF Status-Base'!$N$34","v":0},null,{"$f":"'3.WEF Status-Base'!$P$34","v":0},0,{"$f":"'3.WEF Status-Base'!$Q$34","v":0},null,{"$f":"'3.WEF Status-Base'!$S$34","v":0},0,{"$f":"'3.WEF Status-Base'!$T$34","v":0},null,{"$f":"'3.WEF Status-Base'!$V$34","v":0},0,{"$f":"'3.WEF Status-Base'!$W$34","v":0},null,{"$f":"'3.WEF Status-Base'!$Y$34","v":0},0,{"$f":"'3.WEF Status-Base'!$Z$34","v":0},null,{"$f":"'3.WEF Status-Base'!$AB$34","v":0},0,{"$f":"'3.WEF Status-Base'!$AC$34","v":0},null,{"$f":"'3.WEF Status-Base'!$AE$34","v":0},0,{"$f":"'3.WEF Status-Base'!$AF$34","v":0},null,{"$f":"'3.WEF Status-Base'!$AH$34","v":0},0,{"$f":"'3.WEF Status-Base'!$AI$34","v":0},null,{"$f":"'3.WEF Status-Base'!$AK$34","v":0},0,{"$f":"'3.WEF Status-Base'!$AL$34","v":0},null,{"$f":"'3.WEF Status-Base'!$AN$34","v":0},0,{"$f":"'3.WEF Status-Base'!$AO$34","v":0},null,{"$f":"'3.WEF Status-Base'!$AQ$34","v":0},0,{"$f":"'3.WEF Status-Base'!$AR$34","v":0},null,{"$f":"'3.WEF Status-Base'!$AT$34","v":0},0,{"$f":"'3.WEF Status-Base'!$AU$34","v":0},null,{"$f":"'3.WEF Status-Base'!$AW$34","v":0},0,{"$f":"'3.WEF Status-Base'!$AX$34","v":0},null,{"$f":"'3.WEF Status-Base'!$AZ$34","v":0},0,{"$f":"'3.WEF Status-Base'!$BA$34","v":0},null,{"$f":"'3.WEF Status-Base'!$BC$34","v":0},0,{"$f":"'3.WEF Status-Base'!$BD$34","v":0},{"$f":"'3.WEF Status-Base'!$BE$34","v":0},null,25,{"$f":"'3.WEF Status-Base'!$D$34","v":0},0,{"$f":"'3.WEF Status-Base'!$E$34","v":0},null,{"$f":"'3.WEF Status-Base'!$G$34","v":0},0,{"$f":"'3.WEF Status-Base'!$H$34","v":0},null,{"$f":"'3.WEF Status-Base'!$J$34","v":0},0,{"$f":"'3.WEF Status-Base'!$K$34","v":0},null,{"$f":"'3.WEF Status-Base'!$M$34","v":0},0,{"$f":"'3.WEF Status-Base'!$N$34","v":0},null,{"$f":"'3.WEF Status-Base'!$P$34","v":0},0,{"$f":"'3.WEF Status-Base'!$Q$34","v":0},null,{"$f":"'3.WEF Status-Base'!$S$34","v":0},0,{"$f":"'3.WEF Status-Base'!$T$34","v":0},null,{"$f":"'3.WEF Status-Base'!$V$34","v":0},0,{"$f":"'3.WEF Status-Base'!$W$34","v":0},null,{"$f":"'3.WEF Status-Base'!$Y$34","v":0},0,{"$f":"'3.WEF Status-Base'!$Z$34","v":0},null,{"$f":"'3.WEF Status-Base'!$AB$34","v":0},0,{"$f":"'3.WEF Status-Base'!$AC$34","v":0},null,{"$f":"'3.WEF Status-Base'!$AE$34","v":0},0,{"$f":"'3.WEF Status-Base'!$AF$34","v":0},null,{"$f":"'3.WEF Status-Base'!$AH$34","v":0},0,{"$f":"'3.WEF Status-Base'!$AI$34","v":0},null,{"$f":"'3.WEF Status-Base'!$AK$34","v":0},0,{"$f":"'3.WEF Status-Base'!$AL$34","v":0},null,{"$f":"'3.WEF Status-Base'!$AN$34","v":0},0,{"$f":"'3.WEF Status-Base'!$AO$34","v":0},null,{"$f":"'3.WEF Status-Base'!$AQ$34","v":0},0,{"$f":"'3.WEF Status-Base'!$AR$34","v":0},null,{"$f":"'3.WEF Status-Base'!$AT$34","v":0},0,{"$f":"'3.WEF Status-Base'!$AU$34","v":0},null,{"$f":"'3.WEF Status-Base'!$AW$34","v":0},0,{"$f":"'3.WEF Status-Base'!$AX$34","v":0},null,{"$f":"'3.WEF Status-Base'!$AZ$34","v":0},0,{"$f":"'3.WEF Status-Base'!$BA$34","v":0},null,{"$f":"'3.WEF Status-Base'!$BC$34","v":0},0,{"$f":"'3.WEF Status-Base'!$BD$34","v":0},{"$f":"'3.WEF Status-Base'!$BE$34","v":0}]
[null,"     Resource Coops",null,0,null,26,{"$f":"'3.WEF Status-Base'!$D$35","v":0},0,{"$f":"'3.WEF Status-Base'!$E$35","v":0},null,{"$f":"'3.WEF Status-Base'!$G$35","v":0},0,{"$f":"'3.WEF Status-Base'!$H$35","v":0},null,{"$f":"'3.WEF Status-Base'!$J$35","v":0},0,{"$f":"'3.WEF Status-Base'!$K$35","v":0},null,{"$f":"'3.WEF Status-Base'!$M$35","v":0},0,{"$f":"'3.WEF Status-Base'!$N$35","v":0},null,{"$f":"'3.WEF Status-Base'!$P$35","v":0},0,{"$f":"'3.WEF Status-Base'!$Q$35","v":0},null,{"$f":"'3.WEF Status-Base'!$S$35","v":0},0,{"$f":"'3.WEF Status-Base'!$T$35","v":0},null,{"$f":"'3.WEF Status-Base'!$V$35","v":0},0,{"$f":"'3.WEF Status-Base'!$W$35","v":0},null,{"$f":"'3.WEF Status-Base'!$Y$35","v":0},0,{"$f":"'3.WEF Status-Base'!$Z$35","v":0},null,{"$f":"'3.WEF Status-Base'!$AB$35","v":0},0,{"$f":"'3.WEF Status-Base'!$AC$35","v":0},null,{"$f":"'3.WEF Status-Base'!$AE$35","v":0},0,{"$f":"'3.WEF Status-Base'!$AF$35","v":0},null,{"$f":"'3.WEF Status-Base'!$AH$35","v":0},0,{"$f":"'3.WEF Status-Base'!$AI$35","v":0},null,{"$f":"'3.WEF Status-Base'!$AK$35","v":0},0,{"$f":"'3.WEF Status-Base'!$AL$35","v":0},null,{"$f":"'3.WEF Status-Base'!$AN$35","v":0},0,{"$f":"'3.WEF Status-Base'!$AO$35","v":0},null,{"$f":"'3.WEF Status-Base'!$AQ$35","v":0},0,{"$f":"'3.WEF Status-Base'!$AR$35","v":0},null,{"$f":"'3.WEF Status-Base'!$AT$35","v":0},0,{"$f":"'3.WEF Status-Base'!$AU$35","v":0},null,{"$f":"'3.WEF Status-Base'!$AW$35","v":0},0,{"$f":"'3.WEF Status-Base'!$AX$35","v":0},null,{"$f":"'3.WEF Status-Base'!$AZ$35","v":0},0,{"$f":"'3.WEF Status-Base'!$BA$35","v":0},null,{"$f":"'3.WEF Status-Base'!$BC$35","v":0},0,{"$f":"'3.WEF Status-Base'!$BD$35","v":0},{"$f":"'3.WEF Status-Base'!$BE$35","v":0},null,26,{"$f":"'3.WEF Status-Base'!$D$35","v":0},0,{"$f":"'3.WEF Status-Base'!$E$35","v":0},null,{"$f":"'3.WEF Status-Base'!$G$35","v":0},0,{"$f":"'3.WEF Status-Base'!$H$35","v":0},null,{"$f":"'3.WEF Status-Base'!$J$35","v":0},0,{"$f":"'3.WEF Status-Base'!$K$35","v":0},null,{"$f":"'3.WEF Status-Base'!$M$35","v":0},0,{"$f":"'3.WEF Status-Base'!$N$35","v":0},null,{"$f":"'3.WEF Status-Base'!$P$35","v":0},0,{"$f":"'3.WEF Status-Base'!$Q$35","v":0},null,{"$f":"'3.WEF Status-Base'!$S$35","v":0},0,{"$f":"'3.WEF Status-Base'!$T$35","v":0},null,{"$f":"'3.WEF Status-Base'!$V$35","v":0},0,{"$f":"'3.WEF Status-Base'!$W$35","v":0},null,{"$f":"'3.WEF Status-Base'!$Y$35","v":0},0,{"$f":"'3.WEF Status-Base'!$Z$35","v":0},null,{"$f":"'3.WEF Status-Base'!$AB$35","v":0},0,{"$f":"'3.WEF Status-Base'!$AC$35","v":0},null,{"$f":"'3.WEF Status-Base'!$AE$35","v":0},0,{"$f":"'3.WEF Status-Base'!$AF$35","v":0},null,{"$f":"'3.WEF Status-Base'!$AH$35","v":0},0,{"$f":"'3.WEF Status-Base'!$AI$35","v":0},null,{"$f":"'3.WEF Status-Base'!$AK$35","v":0},0,{"$f":"'3.WEF Status-Base'!$AL$35","v":0},null,{"$f":"'3.WEF Status-Base'!$AN$35","v":0},0,{"$f":"'3.WEF Status-Base'!$AO$35","v":0},null,{"$f":"'3.WEF Status-Base'!$AQ$35","v":0},0,{"$f":"'3.WEF Status-Base'!$AR$35","v":0},null,{"$f":"'3.WEF Status-Base'!$AT$35","v":0},0,{"$f":"'3.WEF Status-Base'!$AU$35","v":0},null,{"$f":"'3.WEF Status-Base'!$AW$35","v":0},0,{"$f":"'3.WEF Status-Base'!$AX$35","v":0},null,{"$f":"'3.WEF Status-Base'!$AZ$35","v":0},0,{"$f":"'3.WEF Status-Base'!$BA$35","v":0},null,{"$f":"'3.WEF Status-Base'!$BC$35","v":0},0,{"$f":"'3.WEF Status-Base'!$BD$35","v":0},{"$f":"'3.WEF Status-Base'!$BE$35","v":0}]
[null,"     Safety oversight agencies",null,0,null,27,{"$f":"'3.WEF Status-Base'!$D$36","v":0},0,{"$f":"'3.WEF Status-Base'!$E$36","v":0},null,{"$f":"'3.WEF Status-Base'!$G$36","v":0},0,{"$f":"'3.WEF Status-Base'!$H$36","v":0},null,{"$f":"'3.WEF Status-Base'!$J$36","v":0},0,{"$f":"'3.WEF Status-Base'!$K$36","v":0},null,{"$f":"'3.WEF Status-Base'!$M$36","v":0},0,{"$f":"'3.WEF Status-Base'!$N$36","v":0},null,{"$f":"'3.WEF Status-Base'!$P$36","v":0},0,{"$f":"'3.WEF Status-Base'!$Q$36","v":0},null,{"$f":"'3.WEF Status-Base'!$S$36","v":0},0,{"$f":"'3.WEF Status-Base'!$T$36","v":0},null,{"$f":"'3.WEF Status-Base'!$V$36","v":0},0,{"$f":"'3.WEF Status-Base'!$W$36","v":0},null,{"$f":"'3.WEF Status-Base'!$Y$36","v":0},0,{"$f":"'3.WEF Status-Base'!$Z$36","v":0},null,{"$f":"'3.WEF Status-Base'!$AB$36","v":0},0,{"$f":"'3.WEF Status-Base'!$AC$36","v":0},null,{"$f":"'3.WEF Status-Base'!$AE$36","v":0},0,{"$f":"'3.WEF Status-Base'!$AF$36","v":0},null,{"$f":"'3.WEF Status-Base'!$AH$36","v":0},0,{"$f":"'3.WEF Status-Base'!$AI$36","v":0},null,{"$f":"'3.WEF Status-Base'!$AK$36","v":0},0,{"$f":"'3.WEF Status-Base'!$AL$36","v":0},null,{"$f":"'3.WEF Status-Base'!$AN$36","v":0},0,{"$f":"'3.WEF Status-Base'!$AO$36","v":0},null,{"$f":"'3.WEF Status-Base'!$AQ$36","v":0},0,{"$f":"'3.WEF Status-Base'!$AR$36","v":0},null,{"$f":"'3.WEF Status-Base'!$AT$36","v":0},0,{"$f":"'3.WEF Status-Base'!$AU$36","v":0},null,{"$f":"'3.WEF Status-Base'!$AW$36","v":0},0,{"$f":"'3.WEF Status-Base'!$AX$36","v":0},null,{"$f":"'3.WEF Status-Base'!$AZ$36","v":0},0,{"$f":"'3.WEF Status-Base'!$BA$36","v":0},null,{"$f":"'3.WEF Status-Base'!$BC$36","v":0},0,{"$f":"'3.WEF Status-Base'!$BD$36","v":0},{"$f":"'3.WEF Status-Base'!$BE$36","v":0},null,27,{"$f":"'3.WEF Status-Base'!$D$36","v":0},0,{"$f":"'3.WEF Status-Base'!$E$36","v":0},null,{"$f":"'3.WEF Status-Base'!$G$36","v":0},0,{"$f":"'3.WEF Status-Base'!$H$36","v":0},null,{"$f":"'3.WEF Status-Base'!$J$36","v":0},0,{"$f":"'3.WEF Status-Base'!$K$36","v":0},null,{"$f":"'3.WEF Status-Base'!$M$36","v":0},0,{"$f":"'3.WEF Status-Base'!$N$36","v":0},null,{"$f":"'3.WEF Status-Base'!$P$36","v":0},0,{"$f":"'3.WEF Status-Base'!$Q$36","v":0},null,{"$f":"'3.WEF Status-Base'!$S$36","v":0},0,{"$f":"'3.WEF Status-Base'!$T$36","v":0},null,{"$f":"'3.WEF Status-Base'!$V$36","v":0},0,{"$f":"'3.WEF Status-Base'!$W$36","v":0},null,{"$f":"'3.WEF Status-Base'!$Y$36","v":0},0,{"$f":"'3.WEF Status-Base'!$Z$36","v":0},null,{"$f":"'3.WEF Status-Base'!$AB$36","v":0},0,{"$f":"'3.WEF Status-Base'!$AC$36","v":0},null,{"$f":"'3.WEF Status-Base'!$AE$36","v":0},0,{"$f":"'3.WEF Status-Base'!$AF$36","v":0},null,{"$f":"'3.WEF Status-Base'!$AH$36","v":0},0,{"$f":"'3.WEF Status-Base'!$AI$36","v":0},null,{"$f":"'3.WEF Status-Base'!$AK$36","v":0},0,{"$f":"'3.WEF Status-Base'!$AL$36","v":0},null,{"$f":"'3.WEF Status-Base'!$AN$36","v":0},0,{"$f":"'3.WEF Status-Base'!$AO$36","v":0},null,{"$f":"'3.WEF Status-Base'!$AQ$36","v":0},0,{"$f":"'3.WEF Status-Base'!$AR$36","v":0},null,{"$f":"'3.WEF Status-Base'!$AT$36","v":0},0,{"$f":"'3.WEF Status-Base'!$AU$36","v":0},null,{"$f":"'3.WEF Status-Base'!$AW$36","v":0},0,{"$f":"'3.WEF Status-Base'!$AX$36","v":0},null,{"$f":"'3.WEF Status-Base'!$AZ$36","v":0},0,{"$f":"'3.WEF Status-Base'!$BA$36","v":0},null,{"$f":"'3.WEF Status-Base'!$BC$36","v":0},0,{"$f":"'3.WEF Status-Base'!$BD$36","v":0},{"$f":"'3.WEF Status-Base'!$BE$36","v":0}]
[null,"     Education and training",null,0,null,28,{"$f":"'3.WEF Status-Base'!$D$37","v":0},0,{"$f":"'3.WEF Status-Base'!$E$37","v":0},null,{"$f":"'3.WEF Status-Base'!$G$37","v":0},0,{"$f":"'3.WEF Status-Base'!$H$37","v":0},null,{"$f":"'3.WEF Status-Base'!$J$37","v":0},0,{"$f":"'3.WEF Status-Base'!$K$37","v":0},null,{"$f":"'3.WEF Status-Base'!$M$37","v":0},0,{"$f":"'3.WEF Status-Base'!$N$37","v":0},null,{"$f":"'3.WEF Status-Base'!$P$37","v":0},0,{"$f":"'3.WEF Status-Base'!$Q$37","v":0},null,{"$f":"'3.WEF Status-Base'!$S$37","v":0},0,{"$f":"'3.WEF Status-Base'!$T$37","v":0},null,{"$f":"'3.WEF Status-Base'!$V$37","v":0},0,{"$f":"'3.WEF Status-Base'!$W$37","v":0},null,{"$f":"'3.WEF Status-Base'!$Y$37","v":0},0,{"$f":"'3.WEF Status-Base'!$Z$37","v":0},null,{"$f":"'3.WEF Status-Base'!$AB$37","v":0},0,{"$f":"'3.WEF Status-Base'!$AC$37","v":0},null,{"$f":"'3.WEF Status-Base'!$AE$37","v":0},0,{"$f":"'3.WEF Status-Base'!$AF$37","v":0},null,{"$f":"'3.WEF Status-Base'!$AH$37","v":0},0,{"$f":"'3.WEF Status-Base'!$AI$37","v":0},null,{"$f":"'3.WEF Status-Base'!$AK$37","v":0},0,{"$f":"'3.WEF Status-Base'!$AL$37","v":0},null,{"$f":"'3.WEF Status-Base'!$AN$37","v":0},0,{"$f":"'3.WEF Status-Base'!$AO$37","v":0},null,{"$f":"'3.WEF Status-Base'!$AQ$37","v":0},0,{"$f":"'3.WEF Status-Base'!$AR$37","v":0},null,{"$f":"'3.WEF Status-Base'!$AT$37","v":0},0,{"$f":"'3.WEF Status-Base'!$AU$37","v":0},null,{"$f":"'3.WEF Status-Base'!$AW$37","v":0},0,{"$f":"'3.WEF Status-Base'!$AX$37","v":0},null,{"$f":"'3.WEF Status-Base'!$AZ$37","v":0},0,{"$f":"'3.WEF Status-Base'!$BA$37","v":0},null,{"$f":"'3.WEF Status-Base'!$BC$37","v":0},0,{"$f":"'3.WEF Status-Base'!$BD$37","v":0},{"$f":"'3.WEF Status-Base'!$BE$37","v":0},null,28,{"$f":"'3.WEF Status-Base'!$D$37","v":0},0,{"$f":"'3.WEF Status-Base'!$E$37","v":0},null,{"$f":"'3.WEF Status-Base'!$G$37","v":0},0,{"$f":"'3.WEF Status-Base'!$H$37","v":0},null,{"$f":"'3.WEF Status-Base'!$J$37","v":0},0,{"$f":"'3.WEF Status-Base'!$K$37","v":0},null,{"$f":"'3.WEF Status-Base'!$M$37","v":0},0,{"$f":"'3.WEF Status-Base'!$N$37","v":0},null,{"$f":"'3.WEF Status-Base'!$P$37","v":0},0,{"$f":"'3.WEF Status-Base'!$Q$37","v":0},null,{"$f":"'3.WEF Status-Base'!$S$37","v":0},0,{"$f":"'3.WEF Status-Base'!$T$37","v":0},null,{"$f":"'3.WEF Status-Base'!$V$37","v":0},0,{"$f":"'3.WEF Status-Base'!$W$37","v":0},null,{"$f":"'3.WEF Status-Base'!$Y$37","v":0},0,{"$f":"'3.WEF Status-Base'!$Z$37","v":0},null,{"$f":"'3.WEF Status-Base'!$AB$37","v":0},0,{"$f":"'3.WEF Status-Base'!$AC$37","v":0},null,{"$f":"'3.WEF Status-Base'!$AE$37","v":0},0,{"$f":"'3.WEF Status-Base'!$AF$37","v":0},null,{"$f":"'3.WEF Status-Base'!$AH$37","v":0},0,{"$f":"'3.WEF Status-Base'!$AI$37","v":0},null,{"$f":"'3.WEF Status-Base'!$AK$37","v":0},0,{"$f":"'3.WEF Status-Base'!$AL$37","v":0},null,{"$f":"'3.WEF Status-Base'!$AN$37","v":0},0,{"$f":"'3.WEF Status-Base'!$AO$37","v":0},null,{"$f":"'3.WEF Status-Base'!$AQ$37","v":0},0,{"$f":"'3.WEF Status-Base'!$AR$37","v":0},null,{"$f":"'3.WEF Status-Base'!$AT$37","v":0},0,{"$f":"'3.WEF Status-Base'!$AU$37","v":0},null,{"$f":"'3.WEF Status-Base'!$AW$37","v":0},0,{"$f":"'3.WEF Status-Base'!$AX$37","v":0},null,{"$f":"'3.WEF Status-Base'!$AZ$37","v":0},0,{"$f":"'3.WEF Status-Base'!$BA$37","v":0},null,{"$f":"'3.WEF Status-Base'!$BC$37","v":0},0,{"$f":"'3.WEF Status-Base'!$BD$37","v":0},{"$f":"'3.WEF Status-Base'!$BE$37","v":0}]
[null,"     Law enforcement and security",null,0,null,29,{"$f":"'3.WEF Status-Base'!$D$38","v":0},0,{"$f":"'3.WEF Status-Base'!$E$38","v":0},null,{"$f":"'3.WEF Status-Base'!$G$38","v":0},0,{"$f":"'3.WEF Status-Base'!$H$38","v":0},null,{"$f":"'3.WEF Status-Base'!$J$38","v":0},0,{"$f":"'3.WEF Status-Base'!$K$38","v":0},null,{"$f":"'3.WEF Status-Base'!$M$38","v":0},0,{"$f":"'3.WEF Status-Base'!$N$38","v":0},null,{"$f":"'3.WEF Status-Base'!$P$38","v":0},0,{"$f":"'3.WEF Status-Base'!$Q$38","v":0},null,{"$f":"'3.WEF Status-Base'!$S$38","v":0},0,{"$f":"'3.WEF Status-Base'!$T$38","v":0},null,{"$f":"'3.WEF Status-Base'!$V$38","v":0},0,{"$f":"'3.WEF Status-Base'!$W$38","v":0},null,{"$f":"'3.WEF Status-Base'!$Y$38","v":0},0,{"$f":"'3.WEF Status-Base'!$Z$38","v":0},null,{"$f":"'3.WEF Status-Base'!$AB$38","v":0},0,{"$f":"'3.WEF Status-Base'!$AC$38","v":0},null,{"$f":"'3.WEF Status-Base'!$AE$38","v":0},0,{"$f":"'3.WEF Status-Base'!$AF$38","v":0},null,{"$f":"'3.WEF Status-Base'!$AH$38","v":0},0,{"$f":"'3.WEF Status-Base'!$AI$38","v":0},null,{"$f":"'3.WEF Status-Base'!$AK$38","v":0},0,{"$f":"'3.WEF Status-Base'!$AL$38","v":0},null,{"$f":"'3.WEF Status-Base'!$AN$38","v":0},0,{"$f":"'3.WEF Status-Base'!$AO$38","v":0},null,{"$f":"'3.WEF Status-Base'!$AQ$38","v":0},0,{"$f":"'3.WEF Status-Base'!$AR$38","v":0},null,{"$f":"'3.WEF Status-Base'!$AT$38","v":0},0,{"$f":"'3.WEF Status-Base'!$AU$38","v":0},null,{"$f":"'3.WEF Status-Base'!$AW$38","v":0},0,{"$f":"'3.WEF Status-Base'!$AX$38","v":0},null,{"$f":"'3.WEF Status-Base'!$AZ$38","v":0},0,{"$f":"'3.WEF Status-Base'!$BA$38","v":0},null,{"$f":"'3.WEF Status-Base'!$BC$38","v":0},0,{"$f":"'3.WEF Status-Base'!$BD$38","v":0},{"$f":"'3.WEF Status-Base'!$BE$38","v":0},null,29,{"$f":"'3.WEF Status-Base'!$D$38","v":0},0,{"$f":"'3.WEF Status-Base'!$E$38","v":0},null,{"$f":"'3.WEF Status-Base'!$G$38","v":0},0,{"$f":"'3.WEF Status-Base'!$H$38","v":0},null,{"$f":"'3.WEF Status-Base'!$J$38","v":0},0,{"$f":"'3.WEF Status-Base'!$K$38","v":0},null,{"$f":"'3.WEF Status-Base'!$M$38","v":0},0,{"$f":"'3.WEF Status-Base'!$N$38","v":0},null,{"$f":"'3.WEF Status-Base'!$P$38","v":0},0,{"$f":"'3.WEF Status-Base'!$Q$38","v":0},null,{"$f":"'3.WEF Status-Base'!$S$38","v":0},0,{"$f":"'3.WEF Status-Base'!$T$38","v":0},null,{"$f":"'3.WEF Status-Base'!$V$38","v":0},0,{"$f":"'3.WEF Status-Base'!$W$38","v":0},null,{"$f":"'3.WEF Status-Base'!$Y$38","v":0},0,{"$f":"'3.WEF Status-Base'!$Z$38","v":0},null,{"$f":"'3.WEF Status-Base'!$AB$38","v":0},0,{"$f":"'3.WEF Status-Base'!$AC$38","v":0},null,{"$f":"'3.WEF Status-Base'!$AE$38","v":0},0,{"$f":"'3.WEF Status-Base'!$AF$38","v":0},null,{"$f":"'3.WEF Status-Base'!$AH$38","v":0},0,{"$f":"'3.WEF Status-Base'!$AI$38","v":0},null,{"$f":"'3.WEF Status-Base'!$AK$38","v":0},0,{"$f":"'3.WEF Status-Base'!$AL$38","v":0},null,{"$f":"'3.WEF Status-Base'!$AN$38","v":0},0,{"$f":"'3.WEF Status-Base'!$AO$38","v":0},null,{"$f":"'3.WEF Status-Base'!$AQ$38","v":0},0,{"$f":"'3.WEF Status-Base'!$AR$38","v":0},null,{"$f":"'3.WEF Status-Base'!$AT$38","v":0},0,{"$f":"'3.WEF Status-Base'!$AU$38","v":0},null,{"$f":"'3.WEF Status-Base'!$AW$38","v":0},0,{"$f":"'3.WEF Status-Base'!$AX$38","v":0},null,{"$f":"'3.WEF Status-Base'!$AZ$38","v":0},0,{"$f":"'3.WEF Status-Base'!$BA$38","v":0},null,{"$f":"'3.WEF Status-Base'!$BC$38","v":0},0,{"$f":"'3.WEF Status-Base'!$BD$38","v":0},{"$f":"'3.WEF Status-Base'!$BE$38","v":0}]
[null,"Policies and Plans",null,0,null,30,{"$f":"'3.WEF Status-Base'!$D$39","v":0},0,{"$f":"'3.WEF Status-Base'!$E$39","v":0},null,{"$f":"'3.WEF Status-Base'!$G$39","v":0},0,{"$f":"'3.WEF Status-Base'!$H$39","v":0},null,{"$f":"'3.WEF Status-Base'!$J$39","v":0},0,{"$f":"'3.WEF Status-Base'!$K$39","v":0},null,{"$f":"'3.WEF Status-Base'!$M$39","v":0},0,{"$f":"'3.WEF Status-Base'!$N$39","v":0},null,{"$f":"'3.WEF Status-Base'!$P$39","v":0},0,{"$f":"'3.WEF Status-Base'!$Q$39","v":0},null,{"$f":"'3.WEF Status-Base'!$S$39","v":0},0,{"$f":"'3.WEF Status-Base'!$T$39","v":0},null,{"$f":"'3.WEF Status-Base'!$V$39","v":0},0,{"$f":"'3.WEF Status-Base'!$W$39","v":0},null,{"$f":"'3.WEF Status-Base'!$Y$39","v":0},0,{"$f":"'3.WEF Status-Base'!$Z$39","v":0},null,{"$f":"'3.WEF Status-Base'!$AB$39","v":0},0,{"$f":"'3.WEF Status-Base'!$AC$39","v":0},null,{"$f":"'3.WEF Status-Base'!$AE$39","v":0},0,{"$f":"'3.WEF Status-Base'!$AF$39","v":0},null,{"$f":"'3.WEF Status-Base'!$AH$39","v":0},0,{"$f":"'3.WEF Status-Base'!$AI$39","v":0},null,{"$f":"'3.WEF Status-Base'!$AK$39","v":0},0,{"$f":"'3.WEF Status-Base'!$AL$39","v":0},null,{"$f":"'3.WEF Status-Base'!$AN$39","v":0},0,{"$f":"'3.WEF Status-Base'!$AO$39","v":0},null,{"$f":"'3.WEF Status-Base'!$AQ$39","v":0},0,{"$f":"'3.WEF Status-Base'!$AR$39","v":0},null,{"$f":"'3.WEF Status-Base'!$AT$39","v":0},0,{"$f":"'3.WEF Status-Base'!$AU$39","v":0},null,{"$f":"'3.WEF Status-Base'!$AW$39","v":0},0,{"$f":"'3.WEF Status-Base'!$AX$39","v":0},null,{"$f":"'3.WEF Status-Base'!$AZ$39","v":0},0,{"$f":"'3.WEF Status-Base'!$BA$39","v":0},null,{"$f":"'3.WEF Status-Base'!$BC$39","v":0},0,{"$f":"'3.WEF Status-Base'!$BD$39","v":0},{"$f":"'3.WEF Status-Base'!$BE$39","v":0},null,30,{"$f":"'3.WEF Status-Base'!$D$39","v":0},0,{"$f":"'3.WEF Status-Base'!$E$39","v":0},null,{"$f":"'3.WEF Status-Base'!$G$39","v":0},0,{"$f":"'3.WEF Status-Base'!$H$39","v":0},null,{"$f":"'3.WEF Status-Base'!$J$39","v":0},0,{"$f":"'3.WEF Status-Base'!$K$39","v":0},null,{"$f":"'3.WEF Status-Base'!$M$39","v":0},0,{"$f":"'3.WEF Status-Base'!$N$39","v":0},null,{"$f":"'3.WEF Status-Base'!$P$39","v":0},0,{"$f":"'3.WEF Status-Base'!$Q$39","v":0},null,{"$f":"'3.WEF Status-Base'!$S$39","v":0},0,{"$f":"'3.WEF Status-Base'!$T$39","v":0},null,{"$f":"'3.WEF Status-Base'!$V$39","v":0},0,{"$f":"'3.WEF Status-Base'!$W$39","v":0},null,{"$f":"'3.WEF Status-Base'!$Y$39","v":0},0,{"$f":"'3.WEF Status-Base'!$Z$39","v":0},null,{"$f":"'3.WEF Status-Base'!$AB$39","v":0},0,{"$f":"'3.WEF Status-Base'!$AC$39","v":0},null,{"$f":"'3.WEF Status-Base'!$AE$39","v":0},0,{"$f":"'3.WEF Status-Base'!$AF$39","v":0},null,{"$f":"'3.WEF Status-Base'!$AH$39","v":0},0,{"$f":"'3.WEF Status-Base'!$AI$39","v":0},null,{"$f":"'3.WEF Status-Base'!$AK$39","v":0},0,{"$f":"'3.WEF Status-Base'!$AL$39","v":0},null,{"$f":"'3.WEF Status-Base'!$AN$39","v":0},0,{"$f":"'3.WEF Status-Base'!$AO$39","v":0},null,{"$f":"'3.WEF Status-Base'!$AQ$39","v":0},0,{"$f":"'3.WEF Status-Base'!$AR$39","v":0},null,{"$f":"'3.WEF Status-Base'!$AT$39","v":0},0,{"$f":"'3.WEF Status-Base'!$AU$39","v":0},null,{"$f":"'3.WEF Status-Base'!$AW$39","v":0},0,{"$f":"'3.WEF Status-Base'!$AX$39","v":0},null,{"$f":"'3.WEF Status-Base'!$AZ$39","v":0},0,{"$f":"'3.WEF Status-Base'!$BA$39","v":0},null,{"$f":"'3.WEF Status-Base'!$BC$39","v":0},0,{"$f":"'3.WEF Status-Base'!$BD$39","v":0},{"$f":"'3.WEF Status-Base'!$BE$39","v":0}]
[null,"     Resource use",null,0,null,31,{"$f":"'3.WEF Status-Base'!$D$40","v":0},0,{"$f":"'3.WEF Status-Base'!$E$40","v":0},null,{"$f":"'3.WEF Status-Base'!$G$40","v":0},0,{"$f":"'3.WEF Status-Base'!$H$40","v":0},null,{"$f":"'3.WEF Status-Base'!$J$40","v":0},0,{"$f":"'3.WEF Status-Base'!$K$40","v":0},null,{"$f":"'3.WEF Status-Base'!$M$40","v":0},0,{"$f":"'3.WEF Status-Base'!$N$40","v":0},null,{"$f":"'3.WEF Status-Base'!$P$40","v":0},0,{"$f":"'3.WEF Status-Base'!$Q$40","v":0},null,{"$f":"'3.WEF Status-Base'!$S$40","v":0},0,{"$f":"'3.WEF Status-Base'!$T$40","v":0},null,{"$f":"'3.WEF Status-Base'!$V$40","v":0},0,{"$f":"'3.WEF Status-Base'!$W$40","v":0},null,{"$f":"'3.WEF Status-Base'!$Y$40","v":0},0,{"$f":"'3.WEF Status-Base'!$Z$40","v":0},null,{"$f":"'3.WEF Status-Base'!$AB$40","v":0},0,{"$f":"'3.WEF Status-Base'!$AC$40","v":0},null,{"$f":"'3.WEF Status-Base'!$AE$40","v":0},0,{"$f":"'3.WEF Status-Base'!$AF$40","v":0},null,{"$f":"'3.WEF Status-Base'!$AH$40","v":0},0,{"$f":"'3.WEF Status-Base'!$AI$40","v":0},null,{"$f":"'3.WEF Status-Base'!$AK$40","v":0},0,{"$f":"'3.WEF Status-Base'!$AL$40","v":0},null,{"$f":"'3.WEF Status-Base'!$AN$40","v":0},0,{"$f":"'3.WEF Status-Base'!$AO$40","v":0},null,{"$f":"'3.WEF Status-Base'!$AQ$40","v":0},0,{"$f":"'3.WEF Status-Base'!$AR$40","v":0},null,{"$f":"'3.WEF Status-Base'!$AT$40","v":0},0,{"$f":"'3.WEF Status-Base'!$AU$40","v":0},null,{"$f":"'3.WEF Status-Base'!$AW$40","v":0},0,{"$f":"'3.WEF Status-Base'!$AX$40","v":0},null,{"$f":"'3.WEF Status-Base'!$AZ$40","v":0},0,{"$f":"'3.WEF Status-Base'!$BA$40","v":0},null,{"$f":"'3.WEF Status-Base'!$BC$40","v":0},0,{"$f":"'3.WEF Status-Base'!$BD$40","v":0},{"$f":"'3.WEF Status-Base'!$BE$40","v":0},null,31,{"$f":"'3.WEF Status-Base'!$D$40","v":0},0,{"$f":"'3.WEF Status-Base'!$E$40","v":0},null,{"$f":"'3.WEF Status-Base'!$G$40","v":0},0,{"$f":"'3.WEF Status-Base'!$H$40","v":0},null,{"$f":"'3.WEF Status-Base'!$J$40","v":0},0,{"$f":"'3.WEF Status-Base'!$K$40","v":0},null,{"$f":"'3.WEF Status-Base'!$M$40","v":0},0,{"$f":"'3.WEF Status-Base'!$N$40","v":0},null,{"$f":"'3.WEF Status-Base'!$P$40","v":0},0,{"$f":"'3.WEF Status-Base'!$Q$40","v":0},null,{"$f":"'3.WEF Status-Base'!$S$40","v":0},0,{"$f":"'3.WEF Status-Base'!$T$40","v":0},null,{"$f":"'3.WEF Status-Base'!$V$40","v":0},0,{"$f":"'3.WEF Status-Base'!$W$40","v":0},null,{"$f":"'3.WEF Status-Base'!$Y$40","v":0},0,{"$f":"'3.WEF Status-Base'!$Z$40","v":0},null,{"$f":"'3.WEF Status-Base'!$AB$40","v":0},0,{"$f":"'3.WEF Status-Base'!$AC$40","v":0},null,{"$f":"'3.WEF Status-Base'!$AE$40","v":0},0,{"$f":"'3.WEF Status-Base'!$AF$40","v":0},null,{"$f":"'3.WEF Status-Base'!$AH$40","v":0},0,{"$f":"'3.WEF Status-Base'!$AI$40","v":0},null,{"$f":"'3.WEF Status-Base'!$AK$40","v":0},0,{"$f":"'3.WEF Status-Base'!$AL$40","v":0},null,{"$f":"'3.WEF Status-Base'!$AN$40","v":0},0,{"$f":"'3.WEF Status-Base'!$AO$40","v":0},null,{"$f":"'3.WEF Status-Base'!$AQ$40","v":0},0,{"$f":"'3.WEF Status-Base'!$AR$40","v":0},null,{"$f":"'3.WEF Status-Base'!$AT$40","v":0},0,{"$f":"'3.WEF Status-Base'!$AU$40","v":0},null,{"$f":"'3.WEF Status-Base'!$AW$40","v":0},0,{"$f":"'3.WEF Status-Base'!$AX$40","v":0},null,{"$f":"'3.WEF Status-Base'!$AZ$40","v":0},0,{"$f":"'3.WEF Status-Base'!$BA$40","v":0},null,{"$f":"'3.WEF Status-Base'!$BC$40","v":0},0,{"$f":"'3.WEF Status-Base'!$BD$40","v":0},{"$f":"'3.WEF Status-Base'!$BE$40","v":0}]
[null,"     Climate change adaptation",null,0,null,32,{"$f":"'3.WEF Status-Base'!$D$41","v":0},0,{"$f":"'3.WEF Status-Base'!$E$41","v":0},null,{"$f":"'3.WEF Status-Base'!$G$41","v":0},0,{"$f":"'3.WEF Status-Base'!$H$41","v":0},null,{"$f":"'3.WEF Status-Base'!$J$41","v":0},0,{"$f":"'3.WEF Status-Base'!$K$41","v":0},null,{"$f":"'3.WEF Status-Base'!$M$41","v":0},0,{"$f":"'3.WEF Status-Base'!$N$41","v":0},null,{"$f":"'3.WEF Status-Base'!$P$41","v":0},0,{"$f":"'3.WEF Status-Base'!$Q$41","v":0},null,{"$f":"'3.WEF Status-Base'!$S$41","v":0},0,{"$f":"'3.WEF Status-Base'!$T$41","v":0},null,{"$f":"'3.WEF Status-Base'!$V$41","v":0},0,{"$f":"'3.WEF Status-Base'!$W$41","v":0},null,{"$f":"'3.WEF Status-Base'!$Y$41","v":0},0,{"$f":"'3.WEF Status-Base'!$Z$41","v":0},null,{"$f":"'3.WEF Status-Base'!$AB$41","v":0},0,{"$f":"'3.WEF Status-Base'!$AC$41","v":0},null,{"$f":"'3.WEF Status-Base'!$AE$41","v":0},0,{"$f":"'3.WEF Status-Base'!$AF$41","v":0},null,{"$f":"'3.WEF Status-Base'!$AH$41","v":0},0,{"$f":"'3.WEF Status-Base'!$AI$41","v":0},null,{"$f":"'3.WEF Status-Base'!$AK$41","v":0},0,{"$f":"'3.WEF Status-Base'!$AL$41","v":0},null,{"$f":"'3.WEF Status-Base'!$AN$41","v":0},0,{"$f":"'3.WEF Status-Base'!$AO$41","v":0},null,{"$f":"'3.WEF Status-Base'!$AQ$41","v":0},0,{"$f":"'3.WEF Status-Base'!$AR$41","v":0},null,{"$f":"'3.WEF Status-Base'!$AT$41","v":0},0,{"$f":"'3.WEF Status-Base'!$AU$41","v":0},null,{"$f":"'3.WEF Status-Base'!$AW$41","v":0},0,{"$f":"'3.WEF Status-Base'!$AX$41","v":0},null,{"$f":"'3.WEF Status-Base'!$AZ$41","v":0},0,{"$f":"'3.WEF Status-Base'!$BA$41","v":0},null,{"$f":"'3.WEF Status-Base'!$BC$41","v":0},0,{"$f":"'3.WEF Status-Base'!$BD$41","v":0},{"$f":"'3.WEF Status-Base'!$BE$41","v":0},null,32,{"$f":"'3.WEF Status-Base'!$D$41","v":0},0,{"$f":"'3.WEF Status-Base'!$E$41","v":0},null,{"$f":"'3.WEF Status-Base'!$G$41","v":0},0,{"$f":"'3.WEF Status-Base'!$H$41","v":0},null,{"$f":"'3.WEF Status-Base'!$J$41","v":0},0,{"$f":"'3.WEF Status-Base'!$K$41","v":0},null,{"$f":"'3.WEF Status-Base'!$M$41","v":0},0,{"$f":"'3.WEF Status-Base'!$N$41","v":0},null,{"$f":"'3.WEF Status-Base'!$P$41","v":0},0,{"$f":"'3.WEF Status-Base'!$Q$41","v":0},null,{"$f":"'3.WEF Status-Base'!$S$41","v":0},0,{"$f":"'3.WEF Status-Base'!$T$41","v":0},null,{"$f":"'3.WEF Status-Base'!$V$41","v":0},0,{"$f":"'3.WEF Status-Base'!$W$41","v":0},null,{"$f":"'3.WEF Status-Base'!$Y$41","v":0},0,{"$f":"'3.WEF Status-Base'!$Z$41","v":0},null,{"$f":"'3.WEF Status-Base'!$AB$41","v":0},0,{"$f":"'3.WEF Status-Base'!$AC$41","v":0},null,{"$f":"'3.WEF Status-Base'!$AE$41","v":0},0,{"$f":"'3.WEF Status-Base'!$AF$41","v":0},null,{"$f":"'3.WEF Status-Base'!$AH$41","v":0},0,{"$f":"'3.WEF Status-Base'!$AI$41","v":0},null,{"$f":"'3.WEF Status-Base'!$AK$41","v":0},0,{"$f":"'3.WEF Status-Base'!$AL$41","v":0},null,{"$f":"'3.WEF Status-Base'!$AN$41","v":0},0,{"$f":"'3.WEF Status-Base'!$AO$41","v":0},null,{"$f":"'3.WEF Status-Base'!$AQ$41","v":0},0,{"$f":"'3.WEF Status-Base'!$AR$41","v":0},null,{"$f":"'3.WEF Status-Base'!$AT$41","v":0},0,{"$f":"'3.WEF Status-Base'!$AU$41","v":0},null,{"$f":"'3.WEF Status-Base'!$AW$41","v":0},0,{"$f":"'3.WEF Status-Base'!$AX$41","v":0},null,{"$f":"'3.WEF Status-Base'!$AZ$41","v":0},0,{"$f":"'3.WEF Status-Base'!$BA$41","v":0},null,{"$f":"'3.WEF Status-Base'!$BC$41","v":0},0,{"$f":"'3.WEF Status-Base'!$BD$41","v":0},{"$f":"'3.WEF Status-Base'!$BE$41","v":0}]
[null,"     Disaster recovery and risk management ",null,0,null,33,{"$f":"'3.WEF Status-Base'!$D$42","v":0},0,{"$f":"'3.WEF Status-Base'!$E$42","v":0},null,{"$f":"'3.WEF Status-Base'!$G$42","v":0},0,{"$f":"'3.WEF Status-Base'!$H$42","v":0},null,{"$f":"'3.WEF Status-Base'!$J$42","v":0},0,{"$f":"'3.WEF Status-Base'!$K$42","v":0},null,{"$f":"'3.WEF Status-Base'!$M$42","v":0},0,{"$f":"'3.WEF Status-Base'!$N$42","v":0},null,{"$f":"'3.WEF Status-Base'!$P$42","v":0},0,{"$f":"'3.WEF Status-Base'!$Q$42","v":0},null,{"$f":"'3.WEF Status-Base'!$S$42","v":0},0,{"$f":"'3.WEF Status-Base'!$T$42","v":0},null,{"$f":"'3.WEF Status-Base'!$V$42","v":0},0,{"$f":"'3.WEF Status-Base'!$W$42","v":0},null,{"$f":"'3.WEF Status-Base'!$Y$42","v":0},0,{"$f":"'3.WEF Status-Base'!$Z$42","v":0},null,{"$f":"'3.WEF Status-Base'!$AB$42","v":0},0,{"$f":"'3.WEF Status-Base'!$AC$42","v":0},null,{"$f":"'3.WEF Status-Base'!$AE$42","v":0},0,{"$f":"'3.WEF Status-Base'!$AF$42","v":0},null,{"$f":"'3.WEF Status-Base'!$AH$42","v":0},0,{"$f":"'3.WEF Status-Base'!$AI$42","v":0},null,{"$f":"'3.WEF Status-Base'!$AK$42","v":0},0,{"$f":"'3.WEF Status-Base'!$AL$42","v":0},null,{"$f":"'3.WEF Status-Base'!$AN$42","v":0},0,{"$f":"'3.WEF Status-Base'!$AO$42","v":0},null,{"$f":"'3.WEF Status-Base'!$AQ$42","v":0},0,{"$f":"'3.WEF Status-Base'!$AR$42","v":0},null,{"$f":"'3.WEF Status-Base'!$AT$42","v":0},0,{"$f":"'3.WEF Status-Base'!$AU$42","v":0},null,{"$f":"'3.WEF Status-Base'!$AW$42","v":0},0,{"$f":"'3.WEF Status-Base'!$AX$42","v":0},null,{"$f":"'3.WEF Status-Base'!$AZ$42","v":0},0,{"$f":"'3.WEF Status-Base'!$BA$42","v":0},null,{"$f":"'3.WEF Status-Base'!$BC$42","v":0},0,{"$f":"'3.WEF Status-Base'!$BD$42","v":0},{"$f":"'3.WEF Status-Base'!$BE$42","v":0},null,33,{"$f":"'3.WEF Status-Base'!$D$42","v":0},0,{"$f":"'3.WEF Status-Base'!$E$42","v":0},null,{"$f":"'3.WEF Status-Base'!$G$42","v":0},0,{"$f":"'3.WEF Status-Base'!$H$42","v":0},null,{"$f":"'3.WEF Status-Base'!$J$42","v":0},0,{"$f":"'3.WEF Status-Base'!$K$42","v":0},null,{"$f":"'3.WEF Status-Base'!$M$42","v":0},0,{"$f":"'3.WEF Status-Base'!$N$42","v":0},null,{"$f":"'3.WEF Status-Base'!$P$42","v":0},0,{"$f":"'3.WEF Status-Base'!$Q$42","v":0},null,{"$f":"'3.WEF Status-Base'!$S$42","v":0},0,{"$f":"'3.WEF Status-Base'!$T$42","v":0},null,{"$f":"'3.WEF Status-Base'!$V$42","v":0},0,{"$f":"'3.WEF Status-Base'!$W$42","v":0},null,{"$f":"'3.WEF Status-Base'!$Y$42","v":0},0,{"$f":"'3.WEF Status-Base'!$Z$42","v":0},null,{"$f":"'3.WEF Status-Base'!$AB$42","v":0},0,{"$f":"'3.WEF Status-Base'!$AC$42","v":0},null,{"$f":"'3.WEF Status-Base'!$AE$42","v":0},0,{"$f":"'3.WEF Status-Base'!$AF$42","v":0},null,{"$f":"'3.WEF Status-Base'!$AH$42","v":0},0,{"$f":"'3.WEF Status-Base'!$AI$42","v":0},null,{"$f":"'3.WEF Status-Base'!$AK$42","v":0},0,{"$f":"'3.WEF Status-Base'!$AL$42","v":0},null,{"$f":"'3.WEF Status-Base'!$AN$42","v":0},0,{"$f":"'3.WEF Status-Base'!$AO$42","v":0},null,{"$f":"'3.WEF Status-Base'!$AQ$42","v":0},0,{"$f":"'3.WEF Status-Base'!$AR$42","v":0},null,{"$f":"'3.WEF Status-Base'!$AT$42","v":0},0,{"$f":"'3.WEF Status-Base'!$AU$42","v":0},null,{"$f":"'3.WEF Status-Base'!$AW$42","v":0},0,{"$f":"'3.WEF Status-Base'!$AX$42","v":0},null,{"$f":"'3.WEF Status-Base'!$AZ$42","v":0},0,{"$f":"'3.WEF Status-Base'!$BA$42","v":0},null,{"$f":"'3.WEF Status-Base'!$BC$42","v":0},0,{"$f":"'3.WEF Status-Base'!$BD$42","v":0},{"$f":"'3.WEF Status-Base'!$BE$42","v":0}]
[null,"     R&D and innovation",null,0,null,34,{"$f":"'3.WEF Status-Base'!$D$43","v":0},0,{"$f":"'3.WEF Status-Base'!$E$43","v":0},null,{"$f":"'3.WEF Status-Base'!$G$43","v":0},0,{"$f":"'3.WEF Status-Base'!$H$43","v":0},null,{"$f":"'3.WEF Status-Base'!$J$43","v":0},0,{"$f":"'3.WEF Status-Base'!$K$43","v":0},null,{"$f":"'3.WEF Status-Base'!$M$43","v":0},0,{"$f":"'3.WEF Status-Base'!$N$43","v":0},null,{"$f":"'3.WEF Status-Base'!$P$43","v":0},0,{"$f":"'3.WEF Status-Base'!$Q$43","v":0},null,{"$f":"'3.WEF Status-Base'!$S$43","v":0},0,{"$f":"'3.WEF Status-Base'!$T$43","v":0},null,{"$f":"'3.WEF Status-Base'!$V$43","v":0},0,{"$f":"'3.WEF Status-Base'!$W$43","v":0},null,{"$f":"'3.WEF Status-Base'!$Y$43","v":0},0,{"$f":"'3.WEF Status-Base'!$Z$43","v":0},null,{"$f":"'3.WEF Status-Base'!$AB$43","v":0},0,{"$f":"'3.WEF Status-Base'!$AC$43","v":0},null,{"$f":"'3.WEF Status-Base'!$AE$43","v":0},0,{"$f":"'3.WEF Status-Base'!$AF$43","v":0},null,{"$f":"'3.WEF Status-Base'!$AH$43","v":0},0,{"$f":"'3.WEF Status-Base'!$AI$43","v":0},null,{"$f":"'3.WEF Status-Base'!$AK$43","v":0},0,{"$f":"'3.WEF Status-Base'!$AL$43","v":0},null,{"$f":"'3.WEF Status-Base'!$AN$43","v":0},0,{"$f":"'3.WEF Status-Base'!$AO$43","v":0},null,{"$f":"'3.WEF Status-Base'!$AQ$43","v":0},0,{"$f":"'3.WEF Status-Base'!$AR$43","v":0},null,{"$f":"'3.WEF Status-Base'!$AT$43","v":0},0,{"$f":"'3.WEF Status-Base'!$AU$43","v":0},null,{"$f":"'3.WEF Status-Base'!$AW$43","v":0},0,{"$f":"'3.WEF Status-Base'!$AX$43","v":0},null,{"$f":"'3.WEF Status-Base'!$AZ$43","v":0},0,{"$f":"'3.WEF Status-Base'!$BA$43","v":0},null,{"$f":"'3.WEF Status-Base'!$BC$43","v":0},0,{"$f":"'3.WEF Status-Base'!$BD$43","v":0},{"$f":"'3.WEF Status-Base'!$BE$43","v":0},null,34,{"$f":"'3.WEF Status-Base'!$D$43","v":0},0,{"$f":"'3.WEF Status-Base'!$E$43","v":0},null,{"$f":"'3.WEF Status-Base'!$G$43","v":0},0,{"$f":"'3.WEF Status-Base'!$H$43","v":0},null,{"$f":"'3.WEF Status-Base'!$J$43","v":0},0,{"$f":"'3.WEF Status-Base'!$K$43","v":0},null,{"$f":"'3.WEF Status-Base'!$M$43","v":0},0,{"$f":"'3.WEF Status-Base'!$N$43","v":0},null,{"$f":"'3.WEF Status-Base'!$P$43","v":0},0,{"$f":"'3.WEF Status-Base'!$Q$43","v":0},null,{"$f":"'3.WEF Status-Base'!$S$43","v":0},0,{"$f":"'3.WEF Status-Base'!$T$43","v":0},null,{"$f":"'3.WEF Status-Base'!$V$43","v":0},0,{"$f":"'3.WEF Status-Base'!$W$43","v":0},null,{"$f":"'3.WEF Status-Base'!$Y$43","v":0},0,{"$f":"'3.WEF Status-Base'!$Z$43","v":0},null,{"$f":"'3.WEF Status-Base'!$AB$43","v":0},0,{"$f":"'3.WEF Status-Base'!$AC$43","v":0},null,{"$f":"'3.WEF Status-Base'!$AE$43","v":0},0,{"$f":"'3.WEF Status-Base'!$AF$43","v":0},null,{"$f":"'3.WEF Status-Base'!$AH$43","v":0},0,{"$f":"'3.WEF Status-Base'!$AI$43","v":0},null,{"$f":"'3.WEF Status-Base'!$AK$43","v":0},0,{"$f":"'3.WEF Status-Base'!$AL$43","v":0},null,{"$f":"'3.WEF Status-Base'!$AN$43","v":0},0,{"$f":"'3.WEF Status-Base'!$AO$43","v":0},null,{"$f":"'3.WEF Status-Base'!$AQ$43","v":0},0,{"$f":"'3.WEF Status-Base'!$AR$43","v":0},null,{"$f":"'3.WEF Status-Base'!$AT$43","v":0},0,{"$f":"'3.WEF Status-Base'!$AU$43","v":0},null,{"$f":"'3.WEF Status-Base'!$AW$43","v":0},0,{"$f":"'3.WEF Status-Base'!$AX$43","v":0},null,{"$f":"'3.WEF Status-Base'!$AZ$43","v":0},0,{"$f":"'3.WEF Status-Base'!$BA$43","v":0},null,{"$f":"'3.WEF Status-Base'!$BC$43","v":0},0,{"$f":"'3.WEF Status-Base'!$BD$43","v":0},{"$f":"'3.WEF Status-Base'!$BE$43","v":0}]
[]
[]
[]
[null,"Operation","General Operation"]
[null,"Change in Use"]
[null,"Change in source description due to process","Baseline","Change",null,null,"Baseline",0,null,null,"Baseline",0,null,null,"Baseline",0,null,null,"Baseline",0,null,null,"Baseline",0,null,null,"Baseline",0,null,null,"Baseline",0,null,null,"Baseline",0,null,null,"Baseline",0,null,null,"Baseline",0,null,null,"Baseline",0,null,null,"Baseline",0,null,null,"Baseline",0,null,null,"Baseline",0,null,null,"Baseline",0,null,null,"Baseline",0,null,null,"Baseline",0,null,null,"Baseline",0,null,null,null,null,"Baseline",0,null,null,"Baseline",0,null,null,"Baseline",0,null,null,"Baseline",0,null,null,"Baseline",0,null,null,"Baseline",0,null,null,"Baseline",0,null,null,"Baseline",0,null,null,"Baseline",0,null,null,"Baseline",0,null,null,"Baseline",0,null,null,"Baseline",0,null,null,"Baseline",0,null,null,"Baseline",0,null,null,"Baseline",0,null,null,"Baseline",0,null,null,"Baseline",0,null,null,"Baseline",0]
[null,"Availability (Other)",null,null,null,1,null,null,null,null,null,null,null,null,null,null,null,null,null,null,null,null,null,null,null,null,null,null,null,null,null,null,null,null,null,null,null,null,null,null,null,null,null,null,null,null,null,null,null,null,null,null,null,null,null,null,null,null,null,null,null,null,null,null,null,null,null,null,null,null,null,null,null,null,null,null,null,null,null,1]
[null,"Processing/treatment/conversion",null,{"$f":"MAX(H264:BZ264)","v":0},null,2,{"$f":"'3.WEF Status-Base'!$D$11","v":0},0,{"$f":"'3.WEF Status-Base'!$E$11","v":0},null,{"$f":"'3.WEF Status-Base'!$G$11","v":0},0,{"$f":"'3.WEF Status-Base'!$H$11","v":0},null,{"$f":"'3.WEF Status-Base'!$J$11","v":0},0,{"$f":"'3.WEF Status-Base'!$K$11","v":0},null,{"$f":"'3.WEF Status-Base'!$M$11","v":0},0,{"$f":"'3.WEF Status-Base'!$N$11","v":0},null,{"$f":"'3.WEF Status-Base'!$P$11","v":0},0,{"$f":"'3.WEF Status-Base'!$Q$11","v":0},null,{"$f":"'3.WEF Status-Base'!$S$11","v":0},0,{"$f":"'3.WEF Status-Base'!$T$11","v":0},null,{"$f":"'3.WEF Status-Base'!$V$11","v":0},0,{"$f":"'3.WEF Status-Base'!$W$11","v":0},null,{"$f":"'3.WEF Status-Base'!$Y$11","v":0},0,{"$f":"'3.WEF Status-Base'!$Z$11","v":0},null,{"$f":"'3.WEF Status-Base'!$AB$11","v":0},0,{"$f":"'3.WEF Status-Base'!$AC$11","v":0},null,{"$f":"'3.WEF Status-Base'!$AE$11","v":0},0,{"$f":"'3.WEF Status-Base'!$AF$11","v":0},null,{"$f":"'3.WEF Status-Base'!$AH$11","v":0},0,{"$f":"'3.WEF Status-Base'!$AI$11","v":0},null,{"$f":"'3.WEF Status-Base'!$AK$11","v":0},0,{"$f":"'3.WEF Status-Base'!$AL$11","v":0},null,{"$f":"'3.WEF Status-Base'!$AN$11","v":0},0,{"$f":"'3.WEF Status-Base'!$AO$11","v":0},null,{"$f":"'3.WEF Status-Base'!$AQ$11","v":0},0,{"$f":"'3.WEF Status-Base'!$AR$11","v":0},null,{"$f":"'3.WEF Status-Base'!$AT$11","v":0},0,{"$f":"'3.WEF Status-Base'!$AU$11","v":0},null,{"$f":"'3.WEF Status-Base'!$AW$11","v":0},0,{"$f":"'3.WEF Status-Base'!$AX$11","v":0},null,{"$f":"'3.WEF Status-Base'!$AZ$11","v":0},0,{"$f":"'3.WEF Status-Base'!$BA$11","v":0},null,{"$f":"'3.WEF Status-Base'!$BC$11","v":0},0,{"$f":"'3.WEF Status-Base'!$BD$11","v":0},{"$f":"'3.WEF Status-Base'!$BE$11","v":0},null,2,{"$f":"'3.WEF Status-Base'!$D$11","v":0},0,{"$f":"'3.WEF Status-Base'!$E$11","v":0},null,{"$f":"'3.WEF Status-Base'!$G$11","v":0},0,{"$f":"'3.WEF Status-Base'!$H$11","v":0},null,{"$f":"'3.WEF Status-Base'!$J$11","v":0},0,{"$f":"'3.WEF Status-Base'!$K$11","v":0},null,{"$f":"'3.WEF Status-Base'!$M$11","v":0},0,{"$f":"'3.WEF Status-Base'!$N$11","v":0},null,{"$f":"'3.WEF Status-Base'!$P$11","v":0},0,{"$f":"'3.WEF Status-Base'!$Q$11","v":0},null,{"$f":"'3.WEF Status-Base'!$S$11","v":0},0,{"$f":"'3.WEF Status-Base'!$T$11","v":0},null,{"$f":"'3.WEF Status-Base'!$V$11","v":0},0,{"$f":"'3.WEF Status-Base'!$W$11","v":0},null,{"$f":"'3.WEF Status-Base'!$Y$11","v":0},0,{"$f":"'3.WEF Status-Base'!$Z$11","v":0},null,{"$f":"'3.WEF Status-Base'!$AB$11","v":0},0,{"$f":"'3.WEF Status-Base'!$AC$11","v":0},null,{"$f":"'3.WEF Status-Base'!$AE$11","v":0},0,{"$f":"'3.WEF Status-Base'!$AF$11","v":0},null,{"$f":"'3.WEF Status-Base'!$AH$11","v":0},0,{"$f":"'3.WEF Status-Base'!$AI$11","v":0},null,{"$f":"'3.WEF Status-Base'!$AK$11","v":0},0,{"$f":"'3.WEF Status-Base'!$AL$11","v":0},null,{"$f":"'3.WEF Status-Base'!$AN$11","v":0},0,{"$f":"'3.WEF Status-Base'!$AO$11","v":0},null,{"$f":"'3.WEF Status-Base'!$AQ$11","v":0},0,{"$f":"'3.WEF Status-Base'!$AR$11","v":0},null,{"$f":"'3.WEF Status-Base'!$AT$11","v":0},0,{"$f":"'3.WEF Status-Base'!$AU$11","v":0},null,{"$f":"'3.WEF Status-Base'!$AW$11","v":0},0,{"$f":"'3.WEF Status-Base'!$AX$11","v":0},null,{"$f":"'3.WEF Status-Base'!$AZ$11","v":0},0,{"$f":"'3.WEF Status-Base'!$BA$11","v":0},null,{"$f":"'3.WEF Status-Base'!$BC$11","v":0},0,{"$f":"'3.WEF Status-Base'!$BD$11","v":0},{"$f":"'3.WEF Status-Base'!$BE$11","v":0}]
[null,"Timing of delivery (storage)",null,{"$f":"MAX(H265:BZ265)","v":0},null,3,{"$f":"'3.WEF Status-Base'!$D$12","v":0},0,{"$f":"'3.WEF Status-Base'!$E$12","v":0},null,{"$f":"'3.WEF Status-Base'!$G$12","v":0},0,{"$f":"'3.WEF Status-Base'!$H$12","v":0},null,{"$f":"'3.WEF Status-Base'!$J$12","v":0},0,{"$f":"'3.WEF Status-Base'!$K$12","v":0},null,{"$f":"'3.WEF Status-Base'!$M$12","v":0},0,{"$f":"'3.WEF Status-Base'!$N$12","v":0},null,{"$f":"'3.WEF Status-Base'!$P$12","v":0},0,{"$f":"'3.WEF Status-Base'!$Q$12","v":0},null,{"$f":"'3.WEF Status-Base'!$S$12","v":0},0,{"$f":"'3.WEF Status-Base'!$T$12","v":0},null,{"$f":"'3.WEF Status-Base'!$V$12","v":0},0,{"$f":"'3.WEF Status-Base'!$W$12","v":0},null,{"$f":"'3.WEF Status-Base'!$Y$12","v":0},0,{"$f":"'3.WEF Status-Base'!$Z$12","v":0},null,{"$f":"'3.WEF Status-Base'!$AB$12","v":0},0,{"$f":"'3.WEF Status-Base'!$AC$12","v":0},null,{"$f":"'3.WEF Status-Base'!$AE$12","v":0},0,{"$f":"'3.WEF Status-Base'!$AF$12","v":0},null,{"$f":"'3.WEF Status-Base'!$AH$12","v":0},0,{"$f":"'3.WEF Status-Base'!$AI$12","v":0},null,{"$f":"'3.WEF Status-Base'!$AK$12","v":0},0,{"$f":"'3.WEF Status-Base'!$AL$12","v":0},null,{"$f":"'3.WEF Status-Base'!$AN$12","v":0},0,{"$f":"'3.WEF Status-Base'!$AO$12","v":0},null,{"$f":"'3.WEF Status-Base'!$AQ$12","v":0},0,{"$f":"'3.WEF Status-Base'!$AR$12","v":0},null,{"$f":"'3.WEF Status-Base'!$AT$12","v":0},0,{"$f":"'3.WEF Status-Base'!$AU$12","v":0},null,{"$f":"'3.WEF Status-Base'!$AW$12","v":0},0,{"$f":"'3.WEF Status-Base'!$AX$12","v":0},null,{"$f":"'3.WEF Status-Base'!$AZ$12","v":0},0,{"$f":"'3.WEF Status-Base'!$BA$12","v":0},null,{"$f":"'3.WEF Status-Base'!$BC$12","v":0},0,{"$f":"'3.WEF Status-Base'!$BD$12","v":0},{"$f":"'3.WEF Status-Base'!$BE$12","v":0},null,3,{"$f":"'3.WEF Status-Base'!$D$12","v":0},0,{"$f":"'3.WEF Status-Base'!$E$12","v":0},null,{"$f":"'3.WEF Status-Base'!$G$12","v":0},0,{"$f":"'3.WEF Status-Base'!$H$12","v":0},null,{"$f":"'3.WEF Status-Base'!$J$12","v":0},0,{"$f":"'3.WEF Status-Base'!$K$12","v":0},null,{"$f":"'3.WEF Status-Base'!$M$12","v":0},0,{"$f":"'3.WEF Status-Base'!$N$12","v":0},null,{"$f":"'3.WEF Status-Base'!$P$12","v":0},0,{"$f":"'3.WEF Status-Base'!$Q$12","v":0},null,{"$f":"'3.WEF Status-Base'!$S$12","v":0},0,{"$f":"'3.WEF Status-Base'!$T$12","v":0},null,{"$f":"'3.WEF Status-Base'!$V$12","v":0},0,{"$f":"'3.WEF Status-Base'!$W$12","v":0},null,{"$f":"'3.WEF Status-Base'!$Y$12","v":0},0,{"$f":"'3.WEF Status-Base'!$Z$12","v":0},null,{"$f":"'3.WEF Status-Base'!$AB$12","v":0},0,{"$f":"'3.WEF Status-Base'!$AC$12","v":0},null,{"$f":"'3.WEF Status-Base'!$AE$12","v":0},0,{"$f":"'3.WEF Status-Base'!$AF$12","v":0},null,{"$f":"'3.WEF Status-Base'!$AH$12","v":0},0,{"$f":"'3.WEF Status-Base'!$AI$12","v":0},null,{"$f":"'3.WEF Status-Base'!$AK$12","v":0},0,{"$f":"'3.WEF Status-Base'!$AL$12","v":0},null,{"$f":"'3.WEF Status-Base'!$AN$12","v":0},0,{"$f":"'3.WEF Status-Base'!$AO$12","v":0},null,{"$f":"'3.WEF Status-Base'!$AQ$12","v":0},0,{"$f":"'3.WEF Status-Base'!$AR$12","v":0},null,{"$f":"'3.WEF Status-Base'!$AT$12","v":0},0,{"$f":"'3.WEF Status-Base'!$AU$12","v":0},null,{"$f":"'3.WEF Status-Base'!$AW$12","v":0},0,{"$f":"'3.WEF Status-Base'!$AX$12","v":0},null,{"$f":"'3.WEF Status-Base'!$AZ$12","v":0},0,{"$f":"'3.WEF Status-Base'!$BA$12","v":0},null,{"$f":"'3.WEF Status-Base'!$BC$12","v":0},0,{"$f":"'3.WEF Status-Base'!$BD$12","v":0},{"$f":"'3.WEF Status-Base'!$BE$12","v":0}]
[null,"Distribution (water towers)",null,{"$f":"MAX(H266:BZ266)","v":0},null,4,{"$f":"'3.WEF Status-Base'!$D$13","v":0},0,{"$f":"'3.WEF Status-Base'!$E$13","v":0},null,{"$f":"'3.WEF Status-Base'!$G$13","v":0},0,{"$f":"'3.WEF Status-Base'!$H$13","v":0},null,{"$f":"'3.WEF Status-Base'!$J$13","v":0},0,{"$f":"'3.WEF Status-Base'!$K$13","v":0},null,{"$f":"'3.WEF Status-Base'!$M$13","v":0},0,{"$f":"'3.WEF Status-Base'!$N$13","v":0},null,{"$f":"'3.WEF Status-Base'!$P$13","v":0},0,{"$f":"'3.WEF Status-Base'!$Q$13","v":0},null,{"$f":"'3.WEF Status-Base'!$S$13","v":0},0,{"$f":"'3.WEF Status-Base'!$T$13","v":0},null,{"$f":"'3.WEF Status-Base'!$V$13","v":0},0,{"$f":"'3.WEF Status-Base'!$W$13","v":0},null,{"$f":"'3.WEF Status-Base'!$Y$13","v":0},0,{"$f":"'3.WEF Status-Base'!$Z$13","v":0},null,{"$f":"'3.WEF Status-Base'!$AB$13","v":0},0,{"$f":"'3.WEF Status-Base'!$AC$13","v":0},null,{"$f":"'3.WEF Status-Base'!$AE$13","v":0},0,{"$f":"'3.WEF Status-Base'!$AF$13","v":0},null,{"$f":"'3.WEF Status-Base'!$AH$13","v":0},0,{"$f":"'3.WEF Status-Base'!$AI$13","v":0},null,{"$f":"'3.WEF Status-Base'!$AK$13","v":0},0,{"$f":"'3.WEF Status-Base'!$AL$13","v":0},null,{"$f":"'3.WEF Status-Base'!$AN$13","v":0},0,{"$f":"'3.WEF Status-Base'!$AO$13","v":0},null,{"$f":"'3.WEF Status-Base'!$AQ$13","v":0},0,{"$f":"'3.WEF Status-Base'!$AR$13","v":0},null,{"$f":"'3.WEF Status-Base'!$AT$13","v":0},0,{"$f":"'3.WEF Status-Base'!$AU$13","v":0},null,{"$f":"'3.WEF Status-Base'!$AW$13","v":0},0,{"$f":"'3.WEF Status-Base'!$AX$13","v":0},null,{"$f":"'3.WEF Status-Base'!$AZ$13","v":0},0,{"$f":"'3.WEF Status-Base'!$BA$13","v":0},null,{"$f":"'3.WEF Status-Base'!$BC$13","v":0},0,{"$f":"'3.WEF Status-Base'!$BD$13","v":0},{"$f":"'3.WEF Status-Base'!$BE$13","v":0},null,4,{"$f":"'3.WEF Status-Base'!$D$13","v":0},0,{"$f":"'3.WEF Status-Base'!$E$13","v":0},null,{"$f":"'3.WEF Status-Base'!$G$13","v":0},0,{"$f":"'3.WEF Status-Base'!$H$13","v":0},null,{"$f":"'3.WEF Status-Base'!$J$13","v":0},0,{"$f":"'3.WEF Status-Base'!$K$13","v":0},null,{"$f":"'3.WEF Status-Base'!$M$13","v":0},0,{"$f":"'3.WEF Status-Base'!$N$13","v":0},null,{"$f":"'3.WEF Status-Base'!$P$13","v":0},0,{"$f":"'3.WEF Status-Base'!$Q$13","v":0},null,{"$f":"'3.WEF Status-Base'!$S$13","v":0},0,{"$f":"'3.WEF Status-Base'!$T$13","v":0},null,{"$f":"'3.WEF Status-Base'!$V$13","v":0},0,{"$f":"'3.WEF Status-Base'!$W$13","v":0},null,{"$f":"'3.WEF Status-Base'!$Y$13","v":0},0,{"$f":"'3.WEF Status-Base'!$Z$13","v":0},null,{"$f":"'3.WEF Status-Base'!$AB$13","v":0},0,{"$f":"'3.WEF Status-Base'!$AC$13","v":0},null,{"$f":"'3.WEF Status-Base'!$AE$13","v":0},0,{"$f":"'3.WEF Status-Base'!$AF$13","v":0},null,{"$f":"'3.WEF Status-Base'!$AH$13","v":0},0,{"$f":"'3.WEF Status-Base'!$AI$13","v":0},null,{"$f":"'3.WEF Status-Base'!$AK$13","v":0},0,{"$f":"'3.WEF Status-Base'!$AL$13","v":0},null,{"$f":"'3.WEF Status-Base'!$AN$13","v":0},0,{"$f":"'3.WEF Status-Base'!$AO$13","v":0},null,{"$f":"'3.WEF Status-Base'!$AQ$13","v":0},0,{"$f":"'3.WEF Status-Base'!$AR$13","v":0},null,{"$f":"'3.WEF Status-Base'!$AT$13","v":0},0,{"$f":"'3.WEF Status-Base'!$AU$13","v":0},null,{"$f":"'3.WEF Status-Base'!$AW$13","v":0},0,{"$f":"'3.WEF Status-Base'!$AX$13","v":0},null,{"$f":"'3.WEF Status-Base'!$AZ$13","v":0},0,{"$f":"'3.WEF Status-Base'!$BA$13","v":0},null,{"$f":"'3.WEF Status-Base'!$BC$13","v":0},0,{"$f":"'3.WEF Status-Base'!$BD$13","v":0},{"$f":"'3.WEF Status-Base'!$BE$13","v":0}]
[null,"Retail (market prices)",null,{"$f":"MAX(H267:BZ267)","v":0},null,5,{"$f":"'3.WEF Status-Base'!$D$14","v":0},0,{"$f":"'3.WEF Status-Base'!$E$14","v":0},null,{"$f":"'3.WEF Status-Base'!$G$14","v":0},0,{"$f":"'3.WEF Status-Base'!$H$14","v":0},null,{"$f":"'3.WEF Status-Base'!$J$14","v":0},0,{"$f":"'3.WEF Status-Base'!$K$14","v":0},null,{"$f":"'3.WEF Status-Base'!$M$14","v":0},0,{"$f":"'3.WEF Status-Base'!$N$14","v":0},null,{"$f":"'3.WEF Status-Base'!$P$14","v":0},0,{"$f":"'3.WEF Status-Base'!$Q$14","v":0},null,{"$f":"'3.WEF Status-Base'!$S$14","v":0},0,{"$f":"'3.WEF Status-Base'!$T$14","v":0},null,{"$f":"'3.WEF Status-Base'!$V$14","v":0},0,{"$f":"'3.WEF Status-Base'!$W$14","v":0},null,{"$f":"'3.WEF Status-Base'!$Y$14","v":0},0,{"$f":"'3.WEF Status-Base'!$Z$14","v":0},null,{"$f":"'3.WEF Status-Base'!$AB$14","v":0},0,{"$f":"'3.WEF Status-Base'!$AC$14","v":0},null,{"$f":"'3.WEF Status-Base'!$AE$14","v":0},0,{"$f":"'3.WEF Status-Base'!$AF$14","v":0},null,{"$f":"'3.WEF Status-Base'!$AH$14","v":0},0,{"$f":"'3.WEF Status-Base'!$AI$14","v":0},null,{"$f":"'3.WEF Status-Base'!$AK$14","v":0},0,{"$f":"'3.WEF Status-Base'!$AL$14","v":0},null,{"$f":"'3.WEF Status-Base'!$AN$14","v":0},0,{"$f":"'3.WEF Status-Base'!$AO$14","v":0},null,{"$f":"'3.WEF Status-Base'!$AQ$14","v":0},0,{"$f":"'3.WEF Status-Base'!$AR$14","v":0},null,{"$f":"'3.WEF Status-Base'!$AT$14","v":0},0,{"$f":"'3.WEF Status-Base'!$AU$14","v":0},null,{"$f":"'3.WEF Status-Base'!$AW$14","v":0},0,{"$f":"'3.WEF Status-Base'!$AX$14","v":0},null,{"$f":"'3.WEF Status-Base'!$AZ$14","v":0},0,{"$f":"'3.WEF Status-Base'!$BA$14","v":0},null,{"$f":"'3.WEF Status-Base'!$BC$14","v":0},0,{"$f":"'3.WEF Status-Base'!$BD$14","v":0},{"$f":"'3.WEF Status-Base'!$BE$14","v":0},null,5,{"$f":"'3.WEF Status-Base'!$D$14","v":0},0,{"$f":"'3.WEF Status-Base'!$E$14","v":0},null,{"$f":"'3.WEF Status-Base'!$G$14","v":0},0,{"$f":"'3.WEF Status-Base'!$H$14","v":0},null,{"$f":"'3.WEF Status-Base'!$J$14","v":0},0,{"$f":"'3.WEF Status-Base'!$K$14","v":0},null,{"$f":"'3.WEF Status-Base'!$M$14","v":0},0,{"$f":"'3.WEF Status-Base'!$N$14","v":0},null,{"$f":"'3.WEF Status-Base'!$P$14","v":0},0,{"$f":"'3.WEF Status-Base'!$Q$14","v":0},null,{"$f":"'3.WEF Status-Base'!$S$14","v":0},0,{"$f":"'3.WEF Status-Base'!$T$14","v":0},null,{"$f":"'3.WEF Status-Base'!$V$14","v":0},0,{"$f":"'3.WEF Status-Base'!$W$14","v":0},null,{"$f":"'3.WEF Status-Base'!$Y$14","v":0},0,{"$f":"'3.WEF Status-Base'!$Z$14","v":0},null,{"$f":"'3.WEF Status-Base'!$AB$14","v":0},0,{"$f":"'3.WEF Status-Base'!$AC$14","v":0},null,{"$f":"'3.WEF Status-Base'!$AE$14","v":0},0,{"$f":"'3.WEF Status-Base'!$AF$14","v":0},null,{"$f":"'3.WEF Status-Base'!$AH$14","v":0},0,{"$f":"'3.WEF Status-Base'!$AI$14","v":0},null,{"$f":"'3.WEF Status-Base'!$AK$14","v":0},0,{"$f":"'3.WEF Status-Base'!$AL$14","v":0},null,{"$f":"'3.WEF Status-Base'!$AN$14","v":0},0,{"$f":"'3.WEF Status-Base'!$AO$14","v":0},null,{"$f":"'3.WEF Status-Base'!$AQ$14","v":0},0,{"$f":"'3.WEF Status-Base'!$AR$14","v":0},null,{"$f":"'3.WEF Status-Base'!$AT$14","v":0},0,{"$f":"'3.WEF Status-Base'!$AU$14","v":0},null,{"$f":"'3.WEF Status-Base'!$AW$14","v":0},0,{"$f":"'3.WEF Status-Base'!$AX$14","v":0},null,{"$f":"'3.WEF Status-Base'!$AZ$14","v":0},0,{"$f":"'3.WEF Status-Base'!$BA$14","v":0},null,{"$f":"'3.WEF Status-Base'!$BC$14","v":0},0,{"$f":"'3.WEF Status-Base'!$BD$14","v":0},{"$f":"'3.WEF Status-Base'!$BE$14","v":0}]
[null,"Access",null,null,null,6,null,null,null,null,null,null,null,null,null,null,null,null,null,null,null,null,null,null,null,null,null,null,null,null,null,null,null,null,null,null,null,null,null,null,null,null,null,null,null,null,null,null,null,null,null,null,null,null,null,null,null,null,null,null,null,null,null,null,null,null,null,null,null,null,null,null,null,null,null,null,null,null,null,6]
[null,"Purchasing power (livelihood income, remittances, credit)\n",null,{"$f":"MAX(H269:BZ269)","v":0},null,7,{"$f":"'3.WEF Status-Base'!$D$16","v":0},0,{"$f":"'3.WEF Status-Base'!$E$16","v":0},null,{"$f":"'3.WEF Status-Base'!$G$16","v":0},0,{"$f":"'3.WEF Status-Base'!$H$16","v":0},null,{"$f":"'3.WEF Status-Base'!$J$16","v":0},0,{"$f":"'3.WEF Status-Base'!$K$16","v":0},null,{"$f":"'3.WEF Status-Base'!$M$16","v":0},0,{"$f":"'3.WEF Status-Base'!$N$16","v":0},null,{"$f":"'3.WEF Status-Base'!$P$16","v":0},0,{"$f":"'3.WEF Status-Base'!$Q$16","v":0},null,{"$f":"'3.WEF Status-Base'!$S$16","v":0},0,{"$f":"'3.WEF Status-Base'!$T$16","v":0},null,{"$f":"'3.WEF Status-Base'!$V$16","v":0},0,{"$f":"'3.WEF Status-Base'!$W$16","v":0},null,{"$f":"'3.WEF Status-Base'!$Y$16","v":0},0,{"$f":"'3.WEF Status-Base'!$Z$16","v":0},null,{"$f":"'3.WEF Status-Base'!$AB$16","v":0},0,{"$f":"'3.WEF Status-Base'!$AC$16","v":0},null,{"$f":"'3.WEF Status-Base'!$AE$16","v":0},0,{"$f":"'3.WEF Status-Base'!$AF$16","v":0},null,{"$f":"'3.WEF Status-Base'!$AH$16","v":0},0,{"$f":"'3.WEF Status-Base'!$AI$16","v":0},null,{"$f":"'3.WEF Status-Base'!$AK$16","v":0},0,{"$f":"'3.WEF Status-Base'!$AL$16","v":0},null,{"$f":"'3.WEF Status-Base'!$AN$16","v":0},0,{"$f":"'3.WEF Status-Base'!$AO$16","v":0},null,{"$f":"'3.WEF Status-Base'!$AQ$16","v":0},0,{"$f":"'3.WEF Status-Base'!$AR$16","v":0},null,{"$f":"'3.WEF Status-Base'!$AT$16","v":0},0,{"$f":"'3.WEF Status-Base'!$AU$16","v":0},null,{"$f":"'3.WEF Status-Base'!$AW$16","v":0},0,{"$f":"'3.WEF Status-Base'!$AX$16","v":0},null,{"$f":"'3.WEF Status-Base'!$AZ$16","v":0},0,{"$f":"'3.WEF Status-Base'!$BA$16","v":0},null,{"$f":"'3.WEF Status-Base'!$BC$16","v":0},0,{"$f":"'3.WEF Status-Base'!$BD$16","v":0},{"$f":"'3.WEF Status-Base'!$BE$16","v":0},null,7,{"$f":"'3.WEF Status-Base'!$D$16","v":0},0,{"$f":"'3.WEF Status-Base'!$E$16","v":0},null,{"$f":"'3.WEF Status-Base'!$G$16","v":0},0,{"$f":"'3.WEF Status-Base'!$H$16","v":0},null,{"$f":"'3.WEF Status-Base'!$J$16","v":0},0,{"$f":"'3.WEF Status-Base'!$K$16","v":0},null,{"$f":"'3.WEF Status-Base'!$M$16","v":0},0,{"$f":"'3.WEF Status-Base'!$N$16","v":0},null,{"$f":"'3.WEF Status-Base'!$P$16","v":0},0,{"$f":"'3.WEF Status-Base'!$Q$16","v":0},null,{"$f":"'3.WEF Status-Base'!$S$16","v":0},0,{"$f":"'3.WEF Status-Base'!$T$16","v":0},null,{"$f":"'3.WEF Status-Base'!$V$16","v":0},0,{"$f":"'3.WEF Status-Base'!$W$16","v":0},null,{"$f":"'3.WEF Status-Base'!$Y$16","v":0},0,{"$f":"'3.WEF Status-Base'!$Z$16","v":0},null,{"$f":"'3.WEF Status-Base'!$AB$16","v":0},0,{"$f":"'3.WEF Status-Base'!$AC$16","v":0},null,{"$f":"'3.WEF Status-Base'!$AE$16","v":0},0,{"$f":"'3.WEF Status-Base'!$AF$16","v":0},null,{"$f":"'3.WEF Status-Base'!$AH$16","v":0},0,{"$f":"'3.WEF Status-Base'!$AI$16","v":0},null,{"$f":"'3.WEF Status-Base'!$AK$16","v":0},0,{"$f":"'3.WEF Status-Base'!$AL$16","v":0},null,{"$f":"'3.WEF Status-Base'!$AN$16","v":0},0,{"$f":"'3.WEF Status-Base'!$AO$16","v":0},null,{"$f":"'3.WEF Status-Base'!$AQ$16","v":0},0,{"$f":"'3.WEF Status-Base'!$AR$16","v":0},null,{"$f":"'3.WEF Status-Base'!$AT$16","v":0},0,{"$f":"'3.WEF Status-Base'!$AU$16","v":0},null,{"$f":"'3.WEF Status-Base'!$AW$16","v":0},0,{"$f":"'3.WEF Status-Base'!$AX$16","v":0},null,{"$f":"'3.WEF Status-Base'!$AZ$16","v":0},0,{"$f":"'3.WEF Status-Base'!$BA$16","v":0},null,{"$f":"'3.WEF Status-Base'!$BC$16","v":0},0,{"$f":"'3.WEF Status-Base'!$BD$16","v":0},{"$f":"'3.WEF Status-Base'!$BE$16","v":0}]
[null,"Aid (direct provision, saftey nets, subsidies)\n",null,{"$f":"MAX(H270:BZ270)","v":0},null,8,{"$f":"'3.WEF Status-Base'!$D$17","v":0},0,{"$f":"'3.WEF Status-Base'!$E$17","v":0},null,{"$f":"'3.WEF Status-Base'!$G$17","v":0},0,{"$f":"'3.WEF Status-Base'!$H$17","v":0},null,{"$f":"'3.WEF Status-Base'!$J$17","v":0},0,{"$f":"'3.WEF Status-Base'!$K$17","v":0},null,{"$f":"'3.WEF Status-Base'!$M$17","v":0},0,{"$f":"'3.WEF Status-Base'!$N$17","v":0},null,{"$f":"'3.WEF Status-Base'!$P$17","v":0},0,{"$f":"'3.WEF Status-Base'!$Q$17","v":0},null,{"$f":"'3.WEF Status-Base'!$S$17","v":0},0,{"$f":"'3.WEF Status-Base'!$T$17","v":0},null,{"$f":"'3.WEF Status-Base'!$V$17","v":0},0,{"$f":"'3.WEF Status-Base'!$W$17","v":0},null,{"$f":"'3.WEF Status-Base'!$Y$17","v":0},0,{"$f":"'3.WEF Status-Base'!$Z$17","v":0},null,{"$f":"'3.WEF Status-Base'!$AB$17","v":0},0,{"$f":"'3.WEF Status-Base'!$AC$17","v":0},null,{"$f":"'3.WEF Status-Base'!$AE$17","v":0},0,{"$f":"'3.WEF Status-Base'!$AF$17","v":0},null,{"$f":"'3.WEF Status-Base'!$AH$17","v":0},0,{"$f":"'3.WEF Status-Base'!$AI$17","v":0},null,{"$f":"'3.WEF Status-Base'!$AK$17","v":0},0,{"$f":"'3.WEF Status-Base'!$AL$17","v":0},null,{"$f":"'3.WEF Status-Base'!$AN$17","v":0},0,{"$f":"'3.WEF Status-Base'!$AO$17","v":0},null,{"$f":"'3.WEF Status-Base'!$AQ$17","v":0},0,{"$f":"'3.WEF Status-Base'!$AR$17","v":0},null,{"$f":"'3.WEF Status-Base'!$AT$17","v":0},0,{"$f":"'3.WEF Status-Base'!$AU$17","v":0},null,{"$f":"'3.WEF Status-Base'!$AW$17","v":0},0,{"$f":"'3.WEF Status-Base'!$AX$17","v":0},null,{"$f":"'3.WEF Status-Base'!$AZ$17","v":0},0,{"$f":"'3.WEF Status-Base'!$BA$17","v":0},null,{"$f":"'3.WEF Status-Base'!$BC$17","v":0},0,{"$f":"'3.WEF Status-Base'!$BD$17","v":0},{"$f":"'3.WEF Status-Base'!$BE$17","v":0},null,8,{"$f":"'3.WEF Status-Base'!$D$17","v":0},0,{"$f":"'3.WEF Status-Base'!$E$17","v":0},null,{"$f":"'3.WEF Status-Base'!$G$17","v":0},0,{"$f":"'3.WEF Status-Base'!$H$17","v":0},null,{"$f":"'3.WEF Status-Base'!$J$17","v":0},0,{"$f":"'3.WEF Status-Base'!$K$17","v":0},null,{"$f":"'3.WEF Status-Base'!$M$17","v":0},0,{"$f":"'3.WEF Status-Base'!$N$17","v":0},null,{"$f":"'3.WEF Status-Base'!$P$17","v":0},0,{"$f":"'3.WEF Status-Base'!$Q$17","v":0},null,{"$f":"'3.WEF Status-Base'!$S$17","v":0},0,{"$f":"'3.WEF Status-Base'!$T$17","v":0},null,{"$f":"'3.WEF Status-Base'!$V$17","v":0},0,{"$f":"'3.WEF Status-Base'!$W$17","v":0},null,{"$f":"'3.WEF Status-Base'!$Y$17","v":0},0,{"$f":"'3.WEF Status-Base'!$Z$17","v":0},null,{"$f":"'3.WEF Status-Base'!$AB$17","v":0},0,{"$f":"'3.WEF Status-Base'!$AC$17","v":0},null,{"$f":"'3.WEF Status-Base'!$AE$17","v":0},0,{"$f":"'3.WEF Status-Base'!$AF$17","v":0},null,{"$f":"'3.WEF Status-Base'!$AH$17","v":0},0,{"$f":"'3.WEF Status-Base'!$AI$17","v":0},null,{"$f":"'3.WEF Status-Base'!$AK$17","v":0},0,{"$f":"'3.WEF Status-Base'!$AL$17","v":0},null,{"$f":"'3.WEF Status-Base'!$AN$17","v":0},0,{"$f":"'3.WEF Status-Base'!$AO$17","v":0},null,{"$f":"'3.WEF Status-Base'!$AQ$17","v":0},0,{"$f":"'3.WEF Status-Base'!$AR$17","v":0},null,{"$f":"'3.WEF Status-Base'!$AT$17","v":0},0,{"$f":"'3.WEF Status-Base'!$AU$17","v":0},null,{"$f":"'3.WEF Status-Base'!$AW$17","v":0},0,{"$f":"'3.WEF Status-Base'!$AX$17","v":0},null,{"$f":"'3.WEF Status-Base'!$AZ$17","v":0},0,{"$f":"'3.WEF Status-Base'!$BA$17","v":0},null,{"$f":"'3.WEF Status-Base'!$BC$17","v":0},0,{"$f":"'3.WEF Status-Base'!$BD$17","v":0},{"$f":"'3.WEF Status-Base'!$BE$17","v":0}]
[null,"Self-production (water wells, off-grid power, individual/community gardens)\n",null,{"$f":"MAX(H271:BZ271)","v":0},null,9,{"$f":"'3.WEF Status-Base'!$D$18","v":0},0,{"$f":"'3.WEF Status-Base'!$E$18","v":0},null,{"$f":"'3.WEF Status-Base'!$G$18","v":0},0,{"$f":"'3.WEF Status-Base'!$H$18","v":0},null,{"$f":"'3.WEF Status-Base'!$J$18","v":0},0,{"$f":"'3.WEF Status-Base'!$K$18","v":0},null,{"$f":"'3.WEF Status-Base'!$M$18","v":0},0,{"$f":"'3.WEF Status-Base'!$N$18","v":0},null,{"$f":"'3.WEF Status-Base'!$P$18","v":0},0,{"$f":"'3.WEF Status-Base'!$Q$18","v":0},null,{"$f":"'3.WEF Status-Base'!$S$18","v":0},0,{"$f":"'3.WEF Status-Base'!$T$18","v":0},null,{"$f":"'3.WEF Status-Base'!$V$18","v":0},0,{"$f":"'3.WEF Status-Base'!$W$18","v":0},null,{"$f":"'3.WEF Status-Base'!$Y$18","v":0},0,{"$f":"'3.WEF Status-Base'!$Z$18","v":0},null,{"$f":"'3.WEF Status-Base'!$AB$18","v":0},0,{"$f":"'3.WEF Status-Base'!$AC$18","v":0},null,{"$f":"'3.WEF Status-Base'!$AE$18","v":0},0,{"$f":"'3.WEF Status-Base'!$AF$18","v":0},null,{"$f":"'3.WEF Status-Base'!$AH$18","v":0},0,{"$f":"'3.WEF Status-Base'!$AI$18","v":0},null,{"$f":"'3.WEF Status-Base'!$AK$18","v":0},0,{"$f":"'3.WEF Status-Base'!$AL$18","v":0},null,{"$f":"'3.WEF Status-Base'!$AN$18","v":0},0,{"$f":"'3.WEF Status-Base'!$AO$18","v":0},null,{"$f":"'3.WEF Status-Base'!$AQ$18","v":0},0,{"$f":"'3.WEF Status-Base'!$AR$18","v":0},null,{"$f":"'3.WEF Status-Base'!$AT$18","v":0},0,{"$f":"'3.WEF Status-Base'!$AU$18","v":0},null,{"$f":"'3.WEF Status-Base'!$AW$18","v":0},0,{"$f":"'3.WEF Status-Base'!$AX$18","v":0},null,{"$f":"'3.WEF Status-Base'!$AZ$18","v":0},0,{"$f":"'3.WEF Status-Base'!$BA$18","v":0},null,{"$f":"'3.WEF Status-Base'!$BC$18","v":0},0,{"$f":"'3.WEF Status-Base'!$BD$18","v":0},{"$f":"'3.WEF Status-Base'!$BE$18","v":0},null,9,{"$f":"'3.WEF Status-Base'!$D$18","v":0},0,{"$f":"'3.WEF Status-Base'!$E$18","v":0},null,{"$f":"'3.WEF Status-Base'!$G$18","v":0},0,{"$f":"'3.WEF Status-Base'!$H$18","v":0},null,{"$f":"'3.WEF Status-Base'!$J$18","v":0},0,{"$f":"'3.WEF Status-Base'!$K$18","v":0},null,{"$f":"'3.WEF Status-Base'!$M$18","v":0},0,{"$f":"'3.WEF Status-Base'!$N$18","v":0},null,{"$f":"'3.WEF Status-Base'!$P$18","v":0},0,{"$f":"'3.WEF Status-Base'!$Q$18","v":0},null,{"$f":"'3.WEF Status-Base'!$S$18","v":0},0,{"$f":"'3.WEF Status-Base'!$T$18","v":0},null,{"$f":"'3.WEF Status-Base'!$V$18","v":0},0,{"$f":"'3.WEF Status-Base'!$W$18","v":0},null,{"$f":"'3.WEF Status-Base'!$Y$18","v":0},0,{"$f":"'3.WEF Status-Base'!$Z$18","v":0},null,{"$f":"'3.WEF Status-Base'!$AB$18","v":0},0,{"$f":"'3.WEF Status-Base'!$AC$18","v":0},null,{"$f":"'3.WEF Status-Base'!$AE$18","v":0},0,{"$f":"'3.WEF Status-Base'!$AF$18","v":0},null,{"$f":"'3.WEF Status-Base'!$AH$18","v":0},0,{"$f":"'3.WEF Status-Base'!$AI$18","v":0},null,{"$f":"'3.WEF Status-Base'!$AK$18","v":0},0,{"$f":"'3.WEF Status-Base'!$AL$18","v":0},null,{"$f":"'3.WEF Status-Base'!$AN$18","v":0},0,{"$f":"'3.WEF Status-Base'!$AO$18","v":0},null,{"$f":"'3.WEF Status-Base'!$AQ$18","v":0},0,{"$f":"'3.WEF Status-Base'!$AR$18","v":0},null,{"$f":"'3.WEF Status-Base'!$AT$18","v":0},0,{"$f":"'3.WEF Status-Base'!$AU$18","v":0},null,{"$f":"'3.WEF Status-Base'!$AW$18","v":0},0,{"$f":"'3.WEF Status-Base'!$AX$18","v":0},null,{"$f":"'3.WEF Status-Base'!$AZ$18","v":0},0,{"$f":"'3.WEF Status-Base'!$BA$18","v":0},null,{"$f":"'3.WEF Status-Base'!$BC$18","v":0},0,{"$f":"'3.WEF Status-Base'!$BD$18","v":0},{"$f":"'3.WEF Status-Base'!$BE$18","v":0}]
[null,"Barter",null,{"$f":"MAX(H272:BZ272)","v":0},null,10,{"$f":"'3.WEF Status-Base'!$D$19","v":0},0,{"$f":"'3.WEF Status-Base'!$E$19","v":0},null,{"$f":"'3.WEF Status-Base'!$G$19","v":0},0,{"$f":"'3.WEF Status-Base'!$H$19","v":0},null,{"$f":"'3.WEF Status-Base'!$J$19","v":0},0,{"$f":"'3.WEF Status-Base'!$K$19","v":0},null,{"$f":"'3.WEF Status-Base'!$M$19","v":0},0,{"$f":"'3.WEF Status-Base'!$N$19","v":0},null,{"$f":"'3.WEF Status-Base'!$P$19","v":0},0,{"$f":"'3.WEF Status-Base'!$Q$19","v":0},null,{"$f":"'3.WEF Status-Base'!$S$19","v":0},0,{"$f":"'3.WEF Status-Base'!$T$19","v":0},null,{"$f":"'3.WEF Status-Base'!$V$19","v":0},0,{"$f":"'3.WEF Status-Base'!$W$19","v":0},null,{"$f":"'3.WEF Status-Base'!$Y$19","v":0},0,{"$f":"'3.WEF Status-Base'!$Z$19","v":0},null,{"$f":"'3.WEF Status-Base'!$AB$19","v":0},0,{"$f":"'3.WEF Status-Base'!$AC$19","v":0},null,{"$f":"'3.WEF Status-Base'!$AE$19","v":0},0,{"$f":"'3.WEF Status-Base'!$AF$19","v":0},null,{"$f":"'3.WEF Status-Base'!$AH$19","v":0},0,{"$f":"'3.WEF Status-Base'!$AI$19","v":0},null,{"$f":"'3.WEF Status-Base'!$AK$19","v":0},0,{"$f":"'3.WEF Status-Base'!$AL$19","v":0},null,{"$f":"'3.WEF Status-Base'!$AN$19","v":0},0,{"$f":"'3.WEF Status-Base'!$AO$19","v":0},null,{"$f":"'3.WEF Status-Base'!$AQ$19","v":0},0,{"$f":"'3.WEF Status-Base'!$AR$19","v":0},null,{"$f":"'3.WEF Status-Base'!$AT$19","v":0},0,{"$f":"'3.WEF Status-Base'!$AU$19","v":0},null,{"$f":"'3.WEF Status-Base'!$AW$19","v":0},0,{"$f":"'3.WEF Status-Base'!$AX$19","v":0},null,{"$f":"'3.WEF Status-Base'!$AZ$19","v":0},0,{"$f":"'3.WEF Status-Base'!$BA$19","v":0},null,{"$f":"'3.WEF Status-Base'!$BC$19","v":0},0,{"$f":"'3.WEF Status-Base'!$BD$19","v":0},{"$f":"'3.WEF Status-Base'!$BE$19","v":0},null,10,{"$f":"'3.WEF Status-Base'!$D$19","v":0},0,{"$f":"'3.WEF Status-Base'!$E$19","v":0},null,{"$f":"'3.WEF Status-Base'!$G$19","v":0},0,{"$f":"'3.WEF Status-Base'!$H$19","v":0},null,{"$f":"'3.WEF Status-Base'!$J$19","v":0},0,{"$f":"'3.WEF Status-Base'!$K$19","v":0},null,{"$f":"'3.WEF Status-Base'!$M$19","v":0},0,{"$f":"'3.WEF Status-Base'!$N$19","v":0},null,{"$f":"'3.WEF Status-Base'!$P$19","v":0},0,{"$f":"'3.WEF Status-Base'!$Q$19","v":0},null,{"$f":"'3.WEF Status-Base'!$S$19","v":0},0,{"$f":"'3.WEF Status-Base'!$T$19","v":0},null,{"$f":"'3.WEF Status-Base'!$V$19","v":0},0,{"$f":"'3.WEF Status-Base'!$W$19","v":0},null,{"$f":"'3.WEF Status-Base'!$Y$19","v":0},0,{"$f":"'3.WEF Status-Base'!$Z$19","v":0},null,{"$f":"'3.WEF Status-Base'!$AB$19","v":0},0,{"$f":"'3.WEF Status-Base'!$AC$19","v":0},null,{"$f":"'3.WEF Status-Base'!$AE$19","v":0},0,{"$f":"'3.WEF Status-Base'!$AF$19","v":0},null,{"$f":"'3.WEF Status-Base'!$AH$19","v":0},0,{"$f":"'3.WEF Status-Base'!$AI$19","v":0},null,{"$f":"'3.WEF Status-Base'!$AK$19","v":0},0,{"$f":"'3.WEF Status-Base'!$AL$19","v":0},null,{"$f":"'3.WEF Status-Base'!$AN$19","v":0},0,{"$f":"'3.WEF Status-Base'!$AO$19","v":0},null,{"$f":"'3.WEF Status-Base'!$AQ$19","v":0},0,{"$f":"'3.WEF Status-Base'!$AR$19","v":0},null,{"$f":"'3.WEF Status-Base'!$AT$19","v":0},0,{"$f":"'3.WEF Status-Base'!$AU$19","v":0},null,{"$f":"'3.WEF Status-Base'!$AW$19","v":0},0,{"$f":"'3.WEF Status-Base'!$AX$19","v":0},null,{"$f":"'3.WEF Status-Base'!$AZ$19","v":0},0,{"$f":"'3.WEF Status-Base'!$BA$19","v":0},null,{"$f":"'3.WEF Status-Base'!$BC$19","v":0},0,{"$f":"'3.WEF Status-Base'!$BD$19","v":0},{"$f":"'3.WEF Status-Base'!$BE$19","v":0}]
[null,"Supporting Infrastructure",null,null,null,11,null,null,null,null,null,null,null,null,null,null,null,null,null,null,null,null,null,null,null,null,null,null,null,null,null,null,null,null,null,null,null,null,null,null,null,null,null,null,null,null,null,null,null,null,null,null,null,null,null,null,null,null,null,null,null,null,null,null,null,null,null,null,null,null,null,null,null,null,null,null,null,null,null,11]
[null,"Built Infrastructure",null,{"$f":"MAX(H274:BZ274)","v":0},null,12,{"$f":"'3.WEF Status-Base'!$D$21","v":0},0,{"$f":"'3.WEF Status-Base'!$E$21","v":0},null,{"$f":"'3.WEF Status-Base'!$G$21","v":0},0,{"$f":"'3.WEF Status-Base'!$H$21","v":0},null,{"$f":"'3.WEF Status-Base'!$J$21","v":0},0,{"$f":"'3.WEF Status-Base'!$K$21","v":0},null,{"$f":"'3.WEF Status-Base'!$M$21","v":0},0,{"$f":"'3.WEF Status-Base'!$N$21","v":0},null,{"$f":"'3.WEF Status-Base'!$P$21","v":0},0,{"$f":"'3.WEF Status-Base'!$Q$21","v":0},null,{"$f":"'3.WEF Status-Base'!$S$21","v":0},0,{"$f":"'3.WEF Status-Base'!$T$21","v":0},null,{"$f":"'3.WEF Status-Base'!$V$21","v":0},0,{"$f":"'3.WEF Status-Base'!$W$21","v":0},null,{"$f":"'3.WEF Status-Base'!$Y$21","v":0},0,{"$f":"'3.WEF Status-Base'!$Z$21","v":0},null,{"$f":"'3.WEF Status-Base'!$AB$21","v":0},0,{"$f":"'3.WEF Status-Base'!$AC$21","v":0},null,{"$f":"'3.WEF Status-Base'!$AE$21","v":0},0,{"$f":"'3.WEF Status-Base'!$AF$21","v":0},null,{"$f":"'3.WEF Status-Base'!$AH$21","v":0},0,{"$f":"'3.WEF Status-Base'!$AI$21","v":0},null,{"$f":"'3.WEF Status-Base'!$AK$21","v":0},0,{"$f":"'3.WEF Status-Base'!$AL$21","v":0},null,{"$f":"'3.WEF Status-Base'!$AN$21","v":0},0,{"$f":"'3.WEF Status-Base'!$AO$21","v":0},null,{"$f":"'3.WEF Status-Base'!$AQ$21","v":0},0,{"$f":"'3.WEF Status-Base'!$AR$21","v":0},null,{"$f":"'3.WEF Status-Base'!$AT$21","v":0},0,{"$f":"'3.WEF Status-Base'!$AU$21","v":0},null,{"$f":"'3.WEF Status-Base'!$AW$21","v":0},0,{"$f":"'3.WEF Status-Base'!$AX$21","v":0},null,{"$f":"'3.WEF Status-Base'!$AZ$21","v":0},0,{"$f":"'3.WEF Status-Base'!$BA$21","v":0},null,{"$f":"'3.WEF Status-Base'!$BC$21","v":0},0,{"$f":"'3.WEF Status-Base'!$BD$21","v":0},{"$f":"'3.WEF Status-Base'!$BE$21","v":0},null,12,{"$f":"'3.WEF Status-Base'!$D$21","v":0},0,{"$f":"'3.WEF Status-Base'!$E$21","v":0},null,{"$f":"'3.WEF Status-Base'!$G$21","v":0},0,{"$f":"'3.WEF Status-Base'!$H$21","v":0},null,{"$f":"'3.WEF Status-Base'!$J$21","v":0},0,{"$f":"'3.WEF Status-Base'!$K$21","v":0},null,{"$f":"'3.WEF Status-Base'!$M$21","v":0},0,{"$f":"'3.WEF Status-Base'!$N$21","v":0},null,{"$f":"'3.WEF Status-Base'!$P$21","v":0},0,{"$f":"'3.WEF Status-Base'!$Q$21","v":0},null,{"$f":"'3.WEF Status-Base'!$S$21","v":0},0,{"$f":"'3.WEF Status-Base'!$T$21","v":0},null,{"$f":"'3.WEF Status-Base'!$V$21","v":0},0,{"$f":"'3.WEF Status-Base'!$W$21","v":0},null,{"$f":"'3.WEF Status-Base'!$Y$21","v":0},0,{"$f":"'3.WEF Status-Base'!$Z$21","v":0},null,{"$f":"'3.WEF Status-Base'!$AB$21","v":0},0,{"$f":"'3.WEF Status-Base'!$AC$21","v":0},null,{"$f":"'3.WEF Status-Base'!$AE$21","v":0},0,{"$f":"'3.WEF Status-Base'!$AF$21","v":0},null,{"$f":"'3.WEF Status-Base'!$AH$21","v":0},0,{"$f":"'3.WEF Status-Base'!$AI$21","v":0},null,{"$f":"'3.WEF Status-Base'!$AK$21","v":0},0,{"$f":"'3.WEF Status-Base'!$AL$21","v":0},null,{"$f":"'3.WEF Status-Base'!$AN$21","v":0},0,{"$f":"'3.WEF Status-Base'!$AO$21","v":0},null,{"$f":"'3.WEF Status-Base'!$AQ$21","v":0},0,{"$f":"'3.WEF Status-Base'!$AR$21","v":0},null,{"$f":"'3.WEF Status-Base'!$AT$21","v":0},0,{"$f":"'3.WEF Status-Base'!$AU$21","v":0},null,{"$f":"'3.WEF Status-Base'!$AW$21","v":0},0,{"$f":"'3.WEF Status-Base'!$AX$21","v":0},null,{"$f":"'3.WEF Status-Base'!$AZ$21","v":0},0,{"$f":"'3.WEF Status-Base'!$BA$21","v":0},null,{"$f":"'3.WEF Status-Base'!$BC$21","v":0},0,{"$f":"'3.WEF Status-Base'!$BD$21","v":0},{"$f":"'3.WEF Status-Base'!$BE$21","v":0}]
[null,"     Transportation",null,0,null,13,{"$f":"'3.WEF Status-Base'!$D$22","v":0},0,{"$f":"'3.WEF Status-Base'!$E$22","v":0},null,{"$f":"'3.WEF Status-Base'!$G$22","v":0},0,{"$f":"'3.WEF Status-Base'!$H$22","v":0},null,{"$f":"'3.WEF Status-Base'!$J$22","v":0},0,{"$f":"'3.WEF Status-Base'!$K$22","v":0},null,{"$f":"'3.WEF Status-Base'!$M$22","v":0},0,{"$f":"'3.WEF Status-Base'!$N$22","v":0},null,{"$f":"'3.WEF Status-Base'!$P$22","v":0},0,{"$f":"'3.WEF Status-Base'!$Q$22","v":0},null,{"$f":"'3.WEF Status-Base'!$S$22","v":0},0,{"$f":"'3.WEF Status-Base'!$T$22","v":0},null,{"$f":"'3.WEF Status-Base'!$V$22","v":0},0,{"$f":"'3.WEF Status-Base'!$W$22","v":0},null,{"$f":"'3.WEF Status-Base'!$Y$22","v":0},0,{"$f":"'3.WEF Status-Base'!$Z$22","v":0},null,{"$f":"'3.WEF Status-Base'!$AB$22","v":0},0,{"$f":"'3.WEF Status-Base'!$AC$22","v":0},null,{"$f":"'3.WEF Status-Base'!$AE$22","v":0},0,{"$f":"'3.WEF Status-Base'!$AF$22","v":0},null,{"$f":"'3.WEF Status-Base'!$AH$22","v":0},0,{"$f":"'3.WEF Status-Base'!$AI$22","v":0},null,{"$f":"'3.WEF Status-Base'!$AK$22","v":0},0,{"$f":"'3.WEF Status-Base'!$AL$22","v":0},null,{"$f":"'3.WEF Status-Base'!$AN$22","v":0},0,{"$f":"'3.WEF Status-Base'!$AO$22","v":0},null,{"$f":"'3.WEF Status-Base'!$AQ$22","v":0},0,{"$f":"'3.WEF Status-Base'!$AR$22","v":0},null,{"$f":"'3.WEF Status-Base'!$AT$22","v":0},0,{"$f":"'3.WEF Status-Base'!$AU$22","v":0},null,{"$f":"'3.WEF Status-Base'!$AW$22","v":0},0,{"$f":"'3.WEF Status-Base'!$AX$22","v":0},null,{"$f":"'3.WEF Status-Base'!$AZ$22","v":0},0,{"$f":"'3.WEF Status-Base'!$BA$22","v":0},null,{"$f":"'3.WEF Status-Base'!$BC$22","v":0},0,{"$f":"'3.WEF Status-Base'!$BD$22","v":0},{"$f":"'3.WEF Status-Base'!$BE$22","v":0},null,13,{"$f":"'3.WEF Status-Base'!$D$22","v":0},0,{"$f":"'3.WEF Status-Base'!$E$22","v":0},null,{"$f":"'3.WEF Status-Base'!$G$22","v":0},0,{"$f":"'3.WEF Status-Base'!$H$22","v":0},null,{"$f":"'3.WEF Status-Base'!$J$22","v":0},0,{"$f":"'3.WEF Status-Base'!$K$22","v":0},null,{"$f":"'3.WEF Status-Base'!$M$22","v":0},0,{"$f":"'3.WEF Status-Base'!$N$22","v":0},null,{"$f":"'3.WEF Status-Base'!$P$22","v":0},0,{"$f":"'3.WEF Status-Base'!$Q$22","v":0},null,{"$f":"'3.WEF Status-Base'!$S$22","v":0},0,{"$f":"'3.WEF Status-Base'!$T$22","v":0},null,{"$f":"'3.WEF Status-Base'!$V$22","v":0},0,{"$f":"'3.WEF Status-Base'!$W$22","v":0},null,{"$f":"'3.WEF Status-Base'!$Y$22","v":0},0,{"$f":"'3.WEF Status-Base'!$Z$22","v":0},null,{"$f":"'3.WEF Status-Base'!$AB$22","v":0},0,{"$f":"'3.WEF Status-Base'!$AC$22","v":0},null,{"$f":"'3.WEF Status-Base'!$AE$22","v":0},0,{"$f":"'3.WEF Status-Base'!$AF$22","v":0},null,{"$f":"'3.WEF Status-Base'!$AH$22","v":0},0,{"$f":"'3.WEF Status-Base'!$AI$22","v":0},null,{"$f":"'3.WEF Status-Base'!$AK$22","v":0},0,{"$f":"'3.WEF Status-Base'!$AL$22","v":0},null,{"$f":"'3.WEF Status-Base'!$AN$22","v":0},0,{"$f":"'3.WEF Status-Base'!$AO$22","v":0},null,{"$f":"'3.WEF Status-Base'!$AQ$22","v":0},0,{"$f":"'3.WEF Status-Base'!$AR$22","v":0},null,{"$f":"'3.WEF Status-Base'!$AT$22","v":0},0,{"$f":"'3.WEF Status-Base'!$AU$22","v":0},null,{"$f":"'3.WEF Status-Base'!$AW$22","v":0},0,{"$f":"'3.WEF Status-Base'!$AX$22","v":0},null,{"$f":"'3.WEF Status-Base'!$AZ$22","v":0},0,{"$f":"'3.WEF Status-Base'!$BA$22","v":0},null,{"$f":"'3.WEF Status-Base'!$BC$22","v":0},0,{"$f":"'3.WEF Status-Base'!$BD$22","v":0},{"$f":"'3.WEF Status-Base'!$BE$22","v":0}]
[null,"     Communication",null,0,null,14,{"$f":"'3.WEF Status-Base'!$D$23","v":0},0,{"$f":"'3.WEF Status-Base'!$E$23","v":0},null,{"$f":"'3.WEF Status-Base'!$G$23","v":0},0,{"$f":"'3.WEF Status-Base'!$H$23","v":0},null,{"$f":"'3.WEF Status-Base'!$J$23","v":0},0,{"$f":"'3.WEF Status-Base'!$K$23","v":0},null,{"$f":"'3.WEF Status-Base'!$M$23","v":0},0,{"$f":"'3.WEF Status-Base'!$N$23","v":0},null,{"$f":"'3.WEF Status-Base'!$P$23","v":0},0,{"$f":"'3.WEF Status-Base'!$Q$23","v":0},null,{"$f":"'3.WEF Status-Base'!$S$23","v":0},0,{"$f":"'3.WEF Status-Base'!$T$23","v":0},null,{"$f":"'3.WEF Status-Base'!$V$23","v":0},0,{"$f":"'3.WEF Status-Base'!$W$23","v":0},null,{"$f":"'3.WEF Status-Base'!$Y$23","v":0},0,{"$f":"'3.WEF Status-Base'!$Z$23","v":0},null,{"$f":"'3.WEF Status-Base'!$AB$23","v":0},0,{"$f":"'3.WEF Status-Base'!$AC$23","v":0},null,{"$f":"'3.WEF Status-Base'!$AE$23","v":0},0,{"$f":"'3.WEF Status-Base'!$AF$23","v":0},null,{"$f":"'3.WEF Status-Base'!$AH$23","v":0},0,{"$f":"'3.WEF Status-Base'!$AI$23","v":0},null,{"$f":"'3.WEF Status-Base'!$AK$23","v":0},0,{"$f":"'3.WEF Status-Base'!$AL$23","v":0},null,{"$f":"'3.WEF Status-Base'!$AN$23","v":0},0,{"$f":"'3.WEF Status-Base'!$AO$23","v":0},null,{"$f":"'3.WEF Status-Base'!$AQ$23","v":0},0,{"$f":"'3.WEF Status-Base'!$AR$23","v":0},null,{"$f":"'3.WEF Status-Base'!$AT$23","v":0},0,{"$f":"'3.WEF Status-Base'!$AU$23","v":0},null,{"$f":"'3.WEF Status-Base'!$AW$23","v":0},0,{"$f":"'3.WEF Status-Base'!$AX$23","v":0},null,{"$f":"'3.WEF Status-Base'!$AZ$23","v":0},0,{"$f":"'3.WEF Status-Base'!$BA$23","v":0},null,{"$f":"'3.WEF Status-Base'!$BC$23","v":0},0,{"$f":"'3.WEF Status-Base'!$BD$23","v":0},{"$f":"'3.WEF Status-Base'!$BE$23","v":0},null,14,{"$f":"'3.WEF Status-Base'!$D$23","v":0},0,{"$f":"'3.WEF Status-Base'!$E$23","v":0},null,{"$f":"'3.WEF Status-Base'!$G$23","v":0},0,{"$f":"'3.WEF Status-Base'!$H$23","v":0},null,{"$f":"'3.WEF Status-Base'!$J$23","v":0},0,{"$f":"'3.WEF Status-Base'!$K$23","v":0},null,{"$f":"'3.WEF Status-Base'!$M$23","v":0},0,{"$f":"'3.WEF Status-Base'!$N$23","v":0},null,{"$f":"'3.WEF Status-Base'!$P$23","v":0},0,{"$f":"'3.WEF Status-Base'!$Q$23","v":0},null,{"$f":"'3.WEF Status-Base'!$S$23","v":0},0,{"$f":"'3.WEF Status-Base'!$T$23","v":0},null,{"$f":"'3.WEF Status-Base'!$V$23","v":0},0,{"$f":"'3.WEF Status-Base'!$W$23","v":0},null,{"$f":"'3.WEF Status-Base'!$Y$23","v":0},0,{"$f":"'3.WEF Status-Base'!$Z$23","v":0},null,{"$f":"'3.WEF Status-Base'!$AB$23","v":0},0,{"$f":"'3.WEF Status-Base'!$AC$23","v":0},null,{"$f":"'3.WEF Status-Base'!$AE$23","v":0},0,{"$f":"'3.WEF Status-Base'!$AF$23","v":0},null,{"$f":"'3.WEF Status-Base'!$AH$23","v":0},0,{"$f":"'3.WEF Status-Base'!$AI$23","v":0},null,{"$f":"'3.WEF Status-Base'!$AK$23","v":0},0,{"$f":"'3.WEF Status-Base'!$AL$23","v":0},null,{"$f":"'3.WEF Status-Base'!$AN$23","v":0},0,{"$f":"'3.WEF Status-Base'!$AO$23","v":0},null,{"$f":"'3.WEF Status-Base'!$AQ$23","v":0},0,{"$f":"'3.WEF Status-Base'!$AR$23","v":0},null,{"$f":"'3.WEF Status-Base'!$AT$23","v":0},0,{"$f":"'3.WEF Status-Base'!$AU$23","v":0},null,{"$f":"'3.WEF Status-Base'!$AW$23","v":0},0,{"$f":"'3.WEF Status-Base'!$AX$23","v":0},null,{"$f":"'3.WEF Status-Base'!$AZ$23","v":0},0,{"$f":"'3.WEF Status-Base'!$BA$23","v":0},null,{"$f":"'3.WEF Status-Base'!$BC$23","v":0},0,{"$f":"'3.WEF Status-Base'!$BD$23","v":0},{"$f":"'3.WEF Status-Base'!$BE$23","v":0}]
[null,"     Waste removal/disposal",null,0,null,15,{"$f":"'3.WEF Status-Base'!$D$24","v":0},0,{"$f":"'3.WEF Status-Base'!$E$24","v":0},null,{"$f":"'3.WEF Status-Base'!$G$24","v":0},0,{"$f":"'3.WEF Status-Base'!$H$24","v":0},null,{"$f":"'3.WEF Status-Base'!$J$24","v":0},0,{"$f":"'3.WEF Status-Base'!$K$24","v":0},null,{"$f":"'3.WEF Status-Base'!$M$24","v":0},0,{"$f":"'3.WEF Status-Base'!$N$24","v":0},null,{"$f":"'3.WEF Status-Base'!$P$24","v":0},0,{"$f":"'3.WEF Status-Base'!$Q$24","v":0},null,{"$f":"'3.WEF Status-Base'!$S$24","v":0},0,{"$f":"'3.WEF Status-Base'!$T$24","v":0},null,{"$f":"'3.WEF Status-Base'!$V$24","v":0},0,{"$f":"'3.WEF Status-Base'!$W$24","v":0},null,{"$f":"'3.WEF Status-Base'!$Y$24","v":0},0,{"$f":"'3.WEF Status-Base'!$Z$24","v":0},null,{"$f":"'3.WEF Status-Base'!$AB$24","v":0},0,{"$f":"'3.WEF Status-Base'!$AC$24","v":0},null,{"$f":"'3.WEF Status-Base'!$AE$24","v":0},0,{"$f":"'3.WEF Status-Base'!$AF$24","v":0},null,{"$f":"'3.WEF Status-Base'!$AH$24","v":0},0,{"$f":"'3.WEF Status-Base'!$AI$24","v":0},null,{"$f":"'3.WEF Status-Base'!$AK$24","v":0},0,{"$f":"'3.WEF Status-Base'!$AL$24","v":0},null,{"$f":"'3.WEF Status-Base'!$AN$24","v":0},0,{"$f":"'3.WEF Status-Base'!$AO$24","v":0},null,{"$f":"'3.WEF Status-Base'!$AQ$24","v":0},0,{"$f":"'3.WEF Status-Base'!$AR$24","v":0},null,{"$f":"'3.WEF Status-Base'!$AT$24","v":0},0,{"$f":"'3.WEF Status-Base'!$AU$24","v":0},null,{"$f":"'3.WEF Status-Base'!$AW$24","v":0},0,{"$f":"'3.WEF Status-Base'!$AX$24","v":0},null,{"$f":"'3.WEF Status-Base'!$AZ$24","v":0},0,{"$f":"'3.WEF Status-Base'!$BA$24","v":0},null,{"$f":"'3.WEF Status-Base'!$BC$24","v":0},0,{"$f":"'3.WEF Status-Base'!$BD$24","v":0},{"$f":"'3.WEF Status-Base'!$BE$24","v":0},null,15,{"$f":"'3.WEF Status-Base'!$D$24","v":0},0,{"$f":"'3.WEF Status-Base'!$E$24","v":0},null,{"$f":"'3.WEF Status-Base'!$G$24","v":0},0,{"$f":"'3.WEF Status-Base'!$H$24","v":0},null,{"$f":"'3.WEF Status-Base'!$J$24","v":0},0,{"$f":"'3.WEF Status-Base'!$K$24","v":0},null,{"$f":"'3.WEF Status-Base'!$M$24","v":0},0,{"$f":"'3.WEF Status-Base'!$N$24","v":0},null,{"$f":"'3.WEF Status-Base'!$P$24","v":0},0,{"$f":"'3.WEF Status-Base'!$Q$24","v":0},null,{"$f":"'3.WEF Status-Base'!$S$24","v":0},0,{"$f":"'3.WEF Status-Base'!$T$24","v":0},null,{"$f":"'3.WEF Status-Base'!$V$24","v":0},0,{"$f":"'3.WEF Status-Base'!$W$24","v":0},null,{"$f":"'3.WEF Status-Base'!$Y$24","v":0},0,{"$f":"'3.WEF Status-Base'!$Z$24","v":0},null,{"$f":"'3.WEF Status-Base'!$AB$24","v":0},0,{"$f":"'3.WEF Status-Base'!$AC$24","v":0},null,{"$f":"'3.WEF Status-Base'!$AE$24","v":0},0,{"$f":"'3.WEF Status-Base'!$AF$24","v":0},null,{"$f":"'3.WEF Status-Base'!$AH$24","v":0},0,{"$f":"'3.WEF Status-Base'!$AI$24","v":0},null,{"$f":"'3.WEF Status-Base'!$AK$24","v":0},0,{"$f":"'3.WEF Status-Base'!$AL$24","v":0},null,{"$f":"'3.WEF Status-Base'!$AN$24","v":0},0,{"$f":"'3.WEF Status-Base'!$AO$24","v":0},null,{"$f":"'3.WEF Status-Base'!$AQ$24","v":0},0,{"$f":"'3.WEF Status-Base'!$AR$24","v":0},null,{"$f":"'3.WEF Status-Base'!$AT$24","v":0},0,{"$f":"'3.WEF Status-Base'!$AU$24","v":0},null,{"$f":"'3.WEF Status-Base'!$AW$24","v":0},0,{"$f":"'3.WEF Status-Base'!$AX$24","v":0},null,{"$f":"'3.WEF Status-Base'!$AZ$24","v":0},0,{"$f":"'3.WEF Status-Base'!$BA$24","v":0},null,{"$f":"'3.WEF Status-Base'!$BC$24","v":0},0,{"$f":"'3.WEF Status-Base'!$BD$24","v":0},{"$f":"'3.WEF Status-Base'!$BE$24","v":0}]
[null,"Natural Infrastructure",null,0,null,16,{"$f":"'3.WEF Status-Base'!$D$25","v":0},0,{"$f":"'3.WEF Status-Base'!$E$25","v":0},null,{"$f":"'3.WEF Status-Base'!$G$25","v":0},0,{"$f":"'3.WEF Status-Base'!$H$25","v":0},null,{"$f":"'3.WEF Status-Base'!$J$25","v":0},0,{"$f":"'3.WEF Status-Base'!$K$25","v":0},null,{"$f":"'3.WEF Status-Base'!$M$25","v":0},0,{"$f":"'3.WEF Status-Base'!$N$25","v":0},null,{"$f":"'3.WEF Status-Base'!$P$25","v":0},0,{"$f":"'3.WEF Status-Base'!$Q$25","v":0},null,{"$f":"'3.WEF Status-Base'!$S$25","v":0},0,{"$f":"'3.WEF Status-Base'!$T$25","v":0},null,{"$f":"'3.WEF Status-Base'!$V$25","v":0},0,{"$f":"'3.WEF Status-Base'!$W$25","v":0},null,{"$f":"'3.WEF Status-Base'!$Y$25","v":0},0,{"$f":"'3.WEF Status-Base'!$Z$25","v":0},null,{"$f":"'3.WEF Status-Base'!$AB$25","v":0},0,{"$f":"'3.WEF Status-Base'!$AC$25","v":0},null,{"$f":"'3.WEF Status-Base'!$AE$25","v":0},0,{"$f":"'3.WEF Status-Base'!$AF$25","v":0},null,{"$f":"'3.WEF Status-Base'!$AH$25","v":0},0,{"$f":"'3.WEF Status-Base'!$AI$25","v":0},null,{"$f":"'3.WEF Status-Base'!$AK$25","v":0},0,{"$f":"'3.WEF Status-Base'!$AL$25","v":0},null,{"$f":"'3.WEF Status-Base'!$AN$25","v":0},0,{"$f":"'3.WEF Status-Base'!$AO$25","v":0},null,{"$f":"'3.WEF Status-Base'!$AQ$25","v":0},0,{"$f":"'3.WEF Status-Base'!$AR$25","v":0},null,{"$f":"'3.WEF Status-Base'!$AT$25","v":0},0,{"$f":"'3.WEF Status-Base'!$AU$25","v":0},null,{"$f":"'3.WEF Status-Base'!$AW$25","v":0},0,{"$f":"'3.WEF Status-Base'!$AX$25","v":0},null,{"$f":"'3.WEF Status-Base'!$AZ$25","v":0},0,{"$f":"'3.WEF Status-Base'!$BA$25","v":0},null,{"$f":"'3.WEF Status-Base'!$BC$25","v":0},0,{"$f":"'3.WEF Status-Base'!$BD$25","v":0},{"$f":"'3.WEF Status-Base'!$BE$25","v":0},null,16,{"$f":"'3.WEF Status-Base'!$D$25","v":0},0,{"$f":"'3.WEF Status-Base'!$E$25","v":0},null,{"$f":"'3.WEF Status-Base'!$G$25","v":0},0,{"$f":"'3.WEF Status-Base'!$H$25","v":0},null,{"$f":"'3.WEF Status-Base'!$J$25","v":0},0,{"$f":"'3.WEF Status-Base'!$K$25","v":0},null,{"$f":"'3.WEF Status-Base'!$M$25","v":0},0,{"$f":"'3.WEF Status-Base'!$N$25","v":0},null,{"$f":"'3.WEF Status-Base'!$P$25","v":0},0,{"$f":"'3.WEF Status-Base'!$Q$25","v":0},null,{"$f":"'3.WEF Status-Base'!$S$25","v":0},0,{"$f":"'3.WEF Status-Base'!$T$25","v":0},null,{"$f":"'3.WEF Status-Base'!$V$25","v":0},0,{"$f":"'3.WEF Status-Base'!$W$25","v":0},null,{"$f":"'3.WEF Status-Base'!$Y$25","v":0},0,{"$f":"'3.WEF Status-Base'!$Z$25","v":0},null,{"$f":"'3.WEF Status-Base'!$AB$25","v":0},0,{"$f":"'3.WEF Status-Base'!$AC$25","v":0},null,{"$f":"'3.WEF Status-Base'!$AE$25","v":0},0,{"$f":"'3.WEF Status-Base'!$AF$25","v":0},null,{"$f":"'3.WEF Status-Base'!$AH$25","v":0},0,{"$f":"'3.WEF Status-Base'!$AI$25","v":0},null,{"$f":"'3.WEF Status-Base'!$AK$25","v":0},0,{"$f":"'3.WEF Status-Base'!$AL$25","v":0},null,{"$f":"'3.WEF Status-Base'!$AN$25","v":0},0,{"$f":"'3.WEF Status-Base'!$AO$25","v":0},null,{"$f":"'3.WEF Status-Base'!$AQ$25","v":0},0,{"$f":"'3.WEF Status-Base'!$AR$25","v":0},null,{"$f":"'3.WEF Status-Base'!$AT$25","v":0},0,{"$f":"'3.WEF Status-Base'!$AU$25","v":0},null,{"$f":"'3.WEF Status-Base'!$AW$25","v":0},0,{"$f":"'3.WEF Status-Base'!$AX$25","v":0},null,{"$f":"'3.WEF Status-Base'!$AZ$25","v":0},0,{"$f":"'3.WEF Status-Base'!$BA$25","v":0},null,{"$f":"'3.WEF Status-Base'!$BC$25","v":0},0,{"$f":"'3.WEF Status-Base'!$BD$25","v":0},{"$f":"'3.WEF Status-Base'!$BE$25","v":0}]
[null,"     Air quality maintenance",null,0,null,17,{"$f":"'3.WEF Status-Base'!$D$26","v":0},0,{"$f":"'3.WEF Status-Base'!$E$26","v":0},null,{"$f":"'3.WEF Status-Base'!$G$26","v":0},0,{"$f":"'3.WEF Status-Base'!$H$26","v":0},null,{"$f":"'3.WEF Status-Base'!$J$26","v":0},0,{"$f":"'3.WEF Status-Base'!$K$26","v":0},null,{"$f":"'3.WEF Status-Base'!$M$26","v":0},0,{"$f":"'3.WEF Status-Base'!$N$26","v":0},null,{"$f":"'3.WEF Status-Base'!$P$26","v":0},0,{"$f":"'3.WEF Status-Base'!$Q$26","v":0},null,{"$f":"'3.WEF Status-Base'!$S$26","v":0},0,{"$f":"'3.WEF Status-Base'!$T$26","v":0},null,{"$f":"'3.WEF Status-Base'!$V$26","v":0},0,{"$f":"'3.WEF Status-Base'!$W$26","v":0},null,{"$f":"'3.WEF Status-Base'!$Y$26","v":0},0,{"$f":"'3.WEF Status-Base'!$Z$26","v":0},null,{"$f":"'3.WEF Status-Base'!$AB$26","v":0},0,{"$f":"'3.WEF Status-Base'!$AC$26","v":0},null,{"$f":"'3.WEF Status-Base'!$AE$26","v":0},0,{"$f":"'3.WEF Status-Base'!$AF$26","v":0},null,{"$f":"'3.WEF Status-Base'!$AH$26","v":0},0,{"$f":"'3.WEF Status-Base'!$AI$26","v":0},null,{"$f":"'3.WEF Status-Base'!$AK$26","v":0},0,{"$f":"'3.WEF Status-Base'!$AL$26","v":0},null,{"$f":"'3.WEF Status-Base'!$AN$26","v":0},0,{"$f":"'3.WEF Status-Base'!$AO$26","v":0},null,{"$f":"'3.WEF Status-Base'!$AQ$26","v":0},0,{"$f":"'3.WEF Status-Base'!$AR$26","v":0},null,{"$f":"'3.WEF Status-Base'!$AT$26","v":0},0,{"$f":"'3.WEF Status-Base'!$AU$26","v":0},null,{"$f":"'3.WEF Status-Base'!$AW$26","v":0},0,{"$f":"'3.WEF Status-Base'!$AX$26","v":0},null,{"$f":"'3.WEF Status-Base'!$AZ$26","v":0},0,{"$f":"'3.WEF Status-Base'!$BA$26","v":0},null,{"$f":"'3.WEF Status-Base'!$BC$26","v":0},0,{"$f":"'3.WEF Status-Base'!$BD$26","v":0},{"$f":"'3.WEF Status-Base'!$BE$26","v":0},null,17,{"$f":"'3.WEF Status-Base'!$D$26","v":0},0,{"$f":"'3.WEF Status-Base'!$E$26","v":0},null,{"$f":"'3.WEF Status-Base'!$G$26","v":0},0,{"$f":"'3.WEF Status-Base'!$H$26","v":0},null,{"$f":"'3.WEF Status-Base'!$J$26","v":0},0,{"$f":"'3.WEF Status-Base'!$K$26","v":0},null,{"$f":"'3.WEF Status-Base'!$M$26","v":0},0,{"$f":"'3.WEF Status-Base'!$N$26","v":0},null,{"$f":"'3.WEF Status-Base'!$P$26","v":0},0,{"$f":"'3.WEF Status-Base'!$Q$26","v":0},null,{"$f":"'3.WEF Status-Base'!$S$26","v":0},0,{"$f":"'3.WEF Status-Base'!$T$26","v":0},null,{"$f":"'3.WEF Status-Base'!$V$26","v":0},0,{"$f":"'3.WEF Status-Base'!$W$26","v":0},null,{"$f":"'3.WEF Status-Base'!$Y$26","v":0},0,{"$f":"'3.WEF Status-Base'!$Z$26","v":0},null,{"$f":"'3.WEF Status-Base'!$AB$26","v":0},0,{"$f":"'3.WEF Status-Base'!$AC$26","v":0},null,{"$f":"'3.WEF Status-Base'!$AE$26","v":0},0,{"$f":"'3.WEF Status-Base'!$AF$26","v":0},null,{"$f":"'3.WEF Status-Base'!$AH$26","v":0},0,{"$f":"'3.WEF Status-Base'!$AI$26","v":0},null,{"$f":"'3.WEF Status-Base'!$AK$26","v":0},0,{"$f":"'3.WEF Status-Base'!$AL$26","v":0},null,{"$f":"'3.WEF Status-Base'!$AN$26","v":0},0,{"$f":"'3.WEF Status-Base'!$AO$26","v":0},null,{"$f":"'3.WEF Status-Base'!$AQ$26","v":0},0,{"$f":"'3.WEF Status-Base'!$AR$26","v":0},null,{"$f":"'3.WEF Status-Base'!$AT$26","v":0},0,{"$f":"'3.WEF Status-Base'!$AU$26","v":0},null,{"$f":"'3.WEF Status-Base'!$AW$26","v":0},0,{"$f":"'3.WEF Status-Base'!$AX$26","v":0},null,{"$f":"'3.WEF Status-Base'!$AZ$26","v":0},0,{"$f":"'3.WEF Status-Base'!$BA$26","v":0},null,{"$f":"'3.WEF Status-Base'!$BC$26","v":0},0,{"$f":"'3.WEF Status-Base'!$BD$26","v":0},{"$f":"'3.WEF Status-Base'!$BE$26","v":0}]
[null,"     Erosion control",null,0,null,18,{"$f":"'3.WEF Status-Base'!$D$27","v":0},0,{"$f":"'3.WEF Status-Base'!$E$27","v":0},null,{"$f":"'3.WEF Status-Base'!$G$27","v":0},0,{"$f":"'3.WEF Status-Base'!$H$27","v":0},null,{"$f":"'3.WEF Status-Base'!$J$27","v":0},0,{"$f":"'3.WEF Status-Base'!$K$27","v":0},null,{"$f":"'3.WEF Status-Base'!$M$27","v":0},0,{"$f":"'3.WEF Status-Base'!$N$27","v":0},null,{"$f":"'3.WEF Status-Base'!$P$27","v":0},0,{"$f":"'3.WEF Status-Base'!$Q$27","v":0},null,{"$f":"'3.WEF Status-Base'!$S$27","v":0},0,{"$f":"'3.WEF Status-Base'!$T$27","v":0},null,{"$f":"'3.WEF Status-Base'!$V$27","v":0},0,{"$f":"'3.WEF Status-Base'!$W$27","v":0},null,{"$f":"'3.WEF Status-Base'!$Y$27","v":0},0,{"$f":"'3.WEF Status-Base'!$Z$27","v":0},null,{"$f":"'3.WEF Status-Base'!$AB$27","v":0},0,{"$f":"'3.WEF Status-Base'!$AC$27","v":0},null,{"$f":"'3.WEF Status-Base'!$AE$27","v":0},0,{"$f":"'3.WEF Status-Base'!$AF$27","v":0},null,{"$f":"'3.WEF Status-Base'!$AH$27","v":0},0,{"$f":"'3.WEF Status-Base'!$AI$27","v":0},null,{"$f":"'3.WEF Status-Base'!$AK$27","v":0},0,{"$f":"'3.WEF Status-Base'!$AL$27","v":0},null,{"$f":"'3.WEF Status-Base'!$AN$27","v":0},0,{"$f":"'3.WEF Status-Base'!$AO$27","v":0},null,{"$f":"'3.WEF Status-Base'!$AQ$27","v":0},0,{"$f":"'3.WEF Status-Base'!$AR$27","v":0},null,{"$f":"'3.WEF Status-Base'!$AT$27","v":0},0,{"$f":"'3.WEF Status-Base'!$AU$27","v":0},null,{"$f":"'3.WEF Status-Base'!$AW$27","v":0},0,{"$f":"'3.WEF Status-Base'!$AX$27","v":0},null,{"$f":"'3.WEF Status-Base'!$AZ$27","v":0},0,{"$f":"'3.WEF Status-Base'!$BA$27","v":0},null,{"$f":"'3.WEF Status-Base'!$BC$27","v":0},0,{"$f":"'3.WEF Status-Base'!$BD$27","v":0},{"$f":"'3.WEF Status-Base'!$BE$27","v":0},null,18,{"$f":"'3.WEF Status-Base'!$D$27","v":0},0,{"$f":"'3.WEF Status-Base'!$E$27","v":0},null,{"$f":"'3.WEF Status-Base'!$G$27","v":0},0,{"$f":"'3.WEF Status-Base'!$H$27","v":0},null,{"$f":"'3.WEF Status-Base'!$J$27","v":0},0,{"$f":"'3.WEF Status-Base'!$K$27","v":0},null,{"$f":"'3.WEF Status-Base'!$M$27","v":0},0,{"$f":"'3.WEF Status-Base'!$N$27","v":0},null,{"$f":"'3.WEF Status-Base'!$P$27","v":0},0,{"$f":"'3.WEF Status-Base'!$Q$27","v":0},null,{"$f":"'3.WEF Status-Base'!$S$27","v":0},0,{"$f":"'3.WEF Status-Base'!$T$27","v":0},null,{"$f":"'3.WEF Status-Base'!$V$27","v":0},0,{"$f":"'3.WEF Status-Base'!$W$27","v":0},null,{"$f":"'3.WEF Status-Base'!$Y$27","v":0},0,{"$f":"'3.WEF Status-Base'!$Z$27","v":0},null,{"$f":"'3.WEF Status-Base'!$AB$27","v":0},0,{"$f":"'3.WEF Status-Base'!$AC$27","v":0},null,{"$f":"'3.WEF Status-Base'!$AE$27","v":0},0,{"$f":"'3.WEF Status-Base'!$AF$27","v":0},null,{"$f":"'3.WEF Status-Base'!$AH$27","v":0},0,{"$f":"'3.WEF Status-Base'!$AI$27","v":0},null,{"$f":"'3.WEF Status-Base'!$AK$27","v":0},0,{"$f":"'3.WEF Status-Base'!$AL$27","v":0},null,{"$f":"'3.WEF Status-Base'!$AN$27","v":0},0,{"$f":"'3.WEF Status-Base'!$AO$27","v":0},null,{"$f":"'3.WEF Status-Base'!$AQ$27","v":0},0,{"$f":"'3.WEF Status-Base'!$AR$27","v":0},null,{"$f":"'3.WEF Status-Base'!$AT$27","v":0},0,{"$f":"'3.WEF Status-Base'!$AU$27","v":0},null,{"$f":"'3.WEF Status-Base'!$AW$27","v":0},0,{"$f":"'3.WEF Status-Base'!$AX$27","v":0},null,{"$f":"'3.WEF Status-Base'!$AZ$27","v":0},0,{"$f":"'3.WEF Status-Base'!$BA$27","v":0},null,{"$f":"'3.WEF Status-Base'!$BC$27","v":0},0,{"$f":"'3.WEF Status-Base'!$BD$27","v":0},{"$f":"'3.WEF Status-Base'!$BE$27","v":0}]
[null,"     Water purification and treatment",null,0,null,19,{"$f":"'3.WEF Status-Base'!$D$28","v":0},0,{"$f":"'3.WEF Status-Base'!$E$28","v":0},null,{"$f":"'3.WEF Status-Base'!$G$28","v":0},0,{"$f":"'3.WEF Status-Base'!$H$28","v":0},null,{"$f":"'3.WEF Status-Base'!$J$28","v":0},0,{"$f":"'3.WEF Status-Base'!$K$28","v":0},null,{"$f":"'3.WEF Status-Base'!$M$28","v":0},0,{"$f":"'3.WEF Status-Base'!$N$28","v":0},null,{"$f":"'3.WEF Status-Base'!$P$28","v":0},0,{"$f":"'3.WEF Status-Base'!$Q$28","v":0},null,{"$f":"'3.WEF Status-Base'!$S$28","v":0},0,{"$f":"'3.WEF Status-Base'!$T$28","v":0},null,{"$f":"'3.WEF Status-Base'!$V$28","v":0},0,{"$f":"'3.WEF Status-Base'!$W$28","v":0},null,{"$f":"'3.WEF Status-Base'!$Y$28","v":0},0,{"$f":"'3.WEF Status-Base'!$Z$28","v":0},null,{"$f":"'3.WEF Status-Base'!$AB$28","v":0},0,{"$f":"'3.WEF Status-Base'!$AC$28","v":0},null,{"$f":"'3.WEF Status-Base'!$AE$28","v":0},0,{"$f":"'3.WEF Status-Base'!$AF$28","v":0},null,{"$f":"'3.WEF Status-Base'!$AH$28","v":0},0,{"$f":"'3.WEF Status-Base'!$AI$28","v":0},null,{"$f":"'3.WEF Status-Base'!$AK$28","v":0},0,{"$f":"'3.WEF Status-Base'!$AL$28","v":0},null,{"$f":"'3.WEF Status-Base'!$AN$28","v":0},0,{"$f":"'3.WEF Status-Base'!$AO$28","v":0},null,{"$f":"'3.WEF Status-Base'!$AQ$28","v":0},0,{"$f":"'3.WEF Status-Base'!$AR$28","v":0},null,{"$f":"'3.WEF Status-Base'!$AT$28","v":0},0,{"$f":"'3.WEF Status-Base'!$AU$28","v":0},null,{"$f":"'3.WEF Status-Base'!$AW$28","v":0},0,{"$f":"'3.WEF Status-Base'!$AX$28","v":0},null,{"$f":"'3.WEF Status-Base'!$AZ$28","v":0},0,{"$f":"'3.WEF Status-Base'!$BA$28","v":0},null,{"$f":"'3.WEF Status-Base'!$BC$28","v":0},0,{"$f":"'3.WEF Status-Base'!$BD$28","v":0},{"$f":"'3.WEF Status-Base'!$BE$28","v":0},null,19,{"$f":"'3.WEF Status-Base'!$D$28","v":0},0,{"$f":"'3.WEF Status-Base'!$E$28","v":0},null,{"$f":"'3.WEF Status-Base'!$G$28","v":0},0,{"$f":"'3.WEF Status-Base'!$H$28","v":0},null,{"$f":"'3.WEF Status-Base'!$J$28","v":0},0,{"$f":"'3.WEF Status-Base'!$K$28","v":0},null,{"$f":"'3.WEF Status-Base'!$M$28","v":0},0,{"$f":"'3.WEF Status-Base'!$N$28","v":0},null,{"$f":"'3.WEF Status-Base'!$P$28","v":0},0,{"$f":"'3.WEF Status-Base'!$Q$28","v":0},null,{"$f":"'3.WEF Status-Base'!$S$28","v":0},0,{"$f":"'3.WEF Status-Base'!$T$28","v":0},null,{"$f":"'3.WEF Status-Base'!$V$28","v":0},0,{"$f":"'3.WEF Status-Base'!$W$28","v":0},null,{"$f":"'3.WEF Status-Base'!$Y$28","v":0},0,{"$f":"'3.WEF Status-Base'!$Z$28","v":0},null,{"$f":"'3.WEF Status-Base'!$AB$28","v":0},0,{"$f":"'3.WEF Status-Base'!$AC$28","v":0},null,{"$f":"'3.WEF Status-Base'!$AE$28","v":0},0,{"$f":"'3.WEF Status-Base'!$AF$28","v":0},null,{"$f":"'3.WEF Status-Base'!$AH$28","v":0},0,{"$f":"'3.WEF Status-Base'!$AI$28","v":0},null,{"$f":"'3.WEF Status-Base'!$AK$28","v":0},0,{"$f":"'3.WEF Status-Base'!$AL$28","v":0},null,{"$f":"'3.WEF Status-Base'!$AN$28","v":0},0,{"$f":"'3.WEF Status-Base'!$AO$28","v":0},null,{"$f":"'3.WEF Status-Base'!$AQ$28","v":0},0,{"$f":"'3.WEF Status-Base'!$AR$28","v":0},null,{"$f":"'3.WEF Status-Base'!$AT$28","v":0},0,{"$f":"'3.WEF Status-Base'!$AU$28","v":0},null,{"$f":"'3.WEF Status-Base'!$AW$28","v":0},0,{"$f":"'3.WEF Status-Base'!$AX$28","v":0},null,{"$f":"'3.WEF Status-Base'!$AZ$28","v":0},0,{"$f":"'3.WEF Status-Base'!$BA$28","v":0},null,{"$f":"'3.WEF Status-Base'!$BC$28","v":0},0,{"$f":"'3.WEF Status-Base'!$BD$28","v":0},{"$f":"'3.WEF Status-Base'!$BE$28","v":0}]
[null,"     Biological control",null,0,null,20,{"$f":"'3.WEF Status-Base'!$D$29","v":0},0,{"$f":"'3.WEF Status-Base'!$E$29","v":0},null,{"$f":"'3.WEF Status-Base'!$G$29","v":0},0,{"$f":"'3.WEF Status-Base'!$H$29","v":0},null,{"$f":"'3.WEF Status-Base'!$J$29","v":0},0,{"$f":"'3.WEF Status-Base'!$K$29","v":0},null,{"$f":"'3.WEF Status-Base'!$M$29","v":0},0,{"$f":"'3.WEF Status-Base'!$N$29","v":0},null,{"$f":"'3.WEF Status-Base'!$P$29","v":0},0,{"$f":"'3.WEF Status-Base'!$Q$29","v":0},null,{"$f":"'3.WEF Status-Base'!$S$29","v":0},0,{"$f":"'3.WEF Status-Base'!$T$29","v":0},null,{"$f":"'3.WEF Status-Base'!$V$29","v":0},0,{"$f":"'3.WEF Status-Base'!$W$29","v":0},null,{"$f":"'3.WEF Status-Base'!$Y$29","v":0},0,{"$f":"'3.WEF Status-Base'!$Z$29","v":0},null,{"$f":"'3.WEF Status-Base'!$AB$29","v":0},0,{"$f":"'3.WEF Status-Base'!$AC$29","v":0},null,{"$f":"'3.WEF Status-Base'!$AE$29","v":0},0,{"$f":"'3.WEF Status-Base'!$AF$29","v":0},null,{"$f":"'3.WEF Status-Base'!$AH$29","v":0},0,{"$f":"'3.WEF Status-Base'!$AI$29","v":0},null,{"$f":"'3.WEF Status-Base'!$AK$29","v":0},0,{"$f":"'3.WEF Status-Base'!$AL$29","v":0},null,{"$f":"'3.WEF Status-Base'!$AN$29","v":0},0,{"$f":"'3.WEF Status-Base'!$AO$29","v":0},null,{"$f":"'3.WEF Status-Base'!$AQ$29","v":0},0,{"$f":"'3.WEF Status-Base'!$AR$29","v":0},null,{"$f":"'3.WEF Status-Base'!$AT$29","v":0},0,{"$f":"'3.WEF Status-Base'!$AU$29","v":0},null,{"$f":"'3.WEF Status-Base'!$AW$29","v":0},0,{"$f":"'3.WEF Status-Base'!$AX$29","v":0},null,{"$f":"'3.WEF Status-Base'!$AZ$29","v":0},0,{"$f":"'3.WEF Status-Base'!$BA$29","v":0},null,{"$f":"'3.WEF Status-Base'!$BC$29","v":0},0,{"$f":"'3.WEF Status-Base'!$BD$29","v":0},{"$f":"'3.WEF Status-Base'!$BE$29","v":0},null,20,{"$f":"'3.WEF Status-Base'!$D$29","v":0},0,{"$f":"'3.WEF Status-Base'!$E$29","v":0},null,{"$f":"'3.WEF Status-Base'!$G$29","v":0},0,{"$f":"'3.WEF Status-Base'!$H$29","v":0},null,{"$f":"'3.WEF Status-Base'!$J$29","v":0},0,{"$f":"'3.WEF Status-Base'!$K$29","v":0},null,{"$f":"'3.WEF Status-Base'!$M$29","v":0},0,{"$f":"'3.WEF Status-Base'!$N$29","v":0},null,{"$f":"'3.WEF Status-Base'!$P$29","v":0},0,{"$f":"'3.WEF Status-Base'!$Q$29","v":0},null,{"$f":"'3.WEF Status-Base'!$S$29","v":0},0,{"$f":"'3.WEF Status-Base'!$T$29","v":0},null,{"$f":"'3.WEF Status-Base'!$V$29","v":0},0,{"$f":"'3.WEF Status-Base'!$W$29","v":0},null,{"$f":"'3.WEF Status-Base'!$Y$29","v":0},0,{"$f":"'3.WEF Status-Base'!$Z$29","v":0},null,{"$f":"'3.WEF Status-Base'!$AB$29","v":0},0,{"$f":"'3.WEF Status-Base'!$AC$29","v":0},null,{"$f":"'3.WEF Status-Base'!$AE$29","v":0},0,{"$f":"'3.WEF Status-Base'!$AF$29","v":0},null,{"$f":"'3.WEF Status-Base'!$AH$29","v":0},0,{"$f":"'3.WEF Status-Base'!$AI$29","v":0},null,{"$f":"'3.WEF Status-Base'!$AK$29","v":0},0,{"$f":"'3.WEF Status-Base'!$AL$29","v":0},null,{"$f":"'3.WEF Status-Base'!$AN$29","v":0},0,{"$f":"'3.WEF Status-Base'!$AO$29","v":0},null,{"$f":"'3.WEF Status-Base'!$AQ$29","v":0},0,{"$f":"'3.WEF Status-Base'!$AR$29","v":0},null,{"$f":"'3.WEF Status-Base'!$AT$29","v":0},0,{"$f":"'3.WEF Status-Base'!$AU$29","v":0},null,{"$f":"'3.WEF Status-Base'!$AW$29","v":0},0,{"$f":"'3.WEF Status-Base'!$AX$29","v":0},null,{"$f":"'3.WEF Status-Base'!$AZ$29","v":0},0,{"$f":"'3.WEF Status-Base'!$BA$29","v":0},null,{"$f":"'3.WEF Status-Base'!$BC$29","v":0},0,{"$f":"'3.WEF Status-Base'!$BD$29","v":0},{"$f":"'3.WEF Status-Base'!$BE$29","v":0}]
[null,"     Pollination",null,0,null,21,{"$f":"'3.WEF Status-Base'!$D$30","v":0},0,{"$f":"'3.WEF Status-Base'!$E$30","v":0},null,{"$f":"'3.WEF Status-Base'!$G$30","v":0},0,{"$f":"'3.WEF Status-Base'!$H$30","v":0},null,{"$f":"'3.WEF Status-Base'!$J$30","v":0},0,{"$f":"'3.WEF Status-Base'!$K$30","v":0},null,{"$f":"'3.WEF Status-Base'!$M$30","v":0},0,{"$f":"'3.WEF Status-Base'!$N$30","v":0},null,{"$f":"'3.WEF Status-Base'!$P$30","v":0},0,{"$f":"'3.WEF Status-Base'!$Q$30","v":0},null,{"$f":"'3.WEF Status-Base'!$S$30","v":0},0,{"$f":"'3.WEF Status-Base'!$T$30","v":0},null,{"$f":"'3.WEF Status-Base'!$V$30","v":0},0,{"$f":"'3.WEF Status-Base'!$W$30","v":0},null,{"$f":"'3.WEF Status-Base'!$Y$30","v":0},0,{"$f":"'3.WEF Status-Base'!$Z$30","v":0},null,{"$f":"'3.WEF Status-Base'!$AB$30","v":0},0,{"$f":"'3.WEF Status-Base'!$AC$30","v":0},null,{"$f":"'3.WEF Status-Base'!$AE$30","v":0},0,{"$f":"'3.WEF Status-Base'!$AF$30","v":0},null,{"$f":"'3.WEF Status-Base'!$AH$30","v":0},0,{"$f":"'3.WEF Status-Base'!$AI$30","v":0},null,{"$f":"'3.WEF Status-Base'!$AK$30","v":0},0,{"$f":"'3.WEF Status-Base'!$AL$30","v":0},null,{"$f":"'3.WEF Status-Base'!$AN$30","v":0},0,{"$f":"'3.WEF Status-Base'!$AO$30","v":0},null,{"$f":"'3.WEF Status-Base'!$AQ$30","v":0},0,{"$f":"'3.WEF Status-Base'!$AR$30","v":0},null,{"$f":"'3.WEF Status-Base'!$AT$30","v":0},0,{"$f":"'3.WEF Status-Base'!$AU$30","v":0},null,{"$f":"'3.WEF Status-Base'!$AW$30","v":0},0,{"$f":"'3.WEF Status-Base'!$AX$30","v":0},null,{"$f":"'3.WEF Status-Base'!$AZ$30","v":0},0,{"$f":"'3.WEF Status-Base'!$BA$30","v":0},null,{"$f":"'3.WEF Status-Base'!$BC$30","v":0},0,{"$f":"'3.WEF Status-Base'!$BD$30","v":0},{"$f":"'3.WEF Status-Base'!$BE$30","v":0},null,21,{"$f":"'3.WEF Status-Base'!$D$30","v":0},0,{"$f":"'3.WEF Status-Base'!$E$30","v":0},null,{"$f":"'3.WEF Status-Base'!$G$30","v":0},0,{"$f":"'3.WEF Status-Base'!$H$30","v":0},null,{"$f":"'3.WEF Status-Base'!$J$30","v":0},0,{"$f":"'3.WEF Status-Base'!$K$30","v":0},null,{"$f":"'3.WEF Status-Base'!$M$30","v":0},0,{"$f":"'3.WEF Status-Base'!$N$30","v":0},null,{"$f":"'3.WEF Status-Base'!$P$30","v":0},0,{"$f":"'3.WEF Status-Base'!$Q$30","v":0},null,{"$f":"'3.WEF Status-Base'!$S$30","v":0},0,{"$f":"'3.WEF Status-Base'!$T$30","v":0},null,{"$f":"'3.WEF Status-Base'!$V$30","v":0},0,{"$f":"'3.WEF Status-Base'!$W$30","v":0},null,{"$f":"'3.WEF Status-Base'!$Y$30","v":0},0,{"$f":"'3.WEF Status-Base'!$Z$30","v":0},null,{"$f":"'3.WEF Status-Base'!$AB$30","v":0},0,{"$f":"'3.WEF Status-Base'!$AC$30","v":0},null,{"$f":"'3.WEF Status-Base'!$AE$30","v":0},0,{"$f":"'3.WEF Status-Base'!$AF$30","v":0},null,{"$f":"'3.WEF Status-Base'!$AH$30","v":0},0,{"$f":"'3.WEF Status-Base'!$AI$30","v":0},null,{"$f":"'3.WEF Status-Base'!$AK$30","v":0},0,{"$f":"'3.WEF Status-Base'!$AL$30","v":0},null,{"$f":"'3.WEF Status-Base'!$AN$30","v":0},0,{"$f":"'3.WEF Status-Base'!$AO$30","v":0},null,{"$f":"'3.WEF Status-Base'!$AQ$30","v":0},0,{"$f":"'3.WEF Status-Base'!$AR$30","v":0},null,{"$f":"'3.WEF Status-Base'!$AT$30","v":0},0,{"$f":"'3.WEF Status-Base'!$AU$30","v":0},null,{"$f":"'3.WEF Status-Base'!$AW$30","v":0},0,{"$f":"'3.WEF Status-Base'!$AX$30","v":0},null,{"$f":"'3.WEF Status-Base'!$AZ$30","v":0},0,{"$f":"'3.WEF Status-Base'!$BA$30","v":0},null,{"$f":"'3.WEF Status-Base'!$BC$30","v":0},0,{"$f":"'3.WEF Status-Base'!$BD$30","v":0},{"$f":"'3.WEF Status-Base'!$BE$30","v":0}]
[null,"     Storm protection",null,0,null,22,{"$f":"'3.WEF Status-Base'!$D$31","v":0},0,{"$f":"'3.WEF Status-Base'!$E$31","v":0},null,{"$f":"'3.WEF Status-Base'!$G$31","v":0},0,{"$f":"'3.WEF Status-Base'!$H$31","v":0},null,{"$f":"'3.WEF Status-Base'!$J$31","v":0},0,{"$f":"'3.WEF Status-Base'!$K$31","v":0},null,{"$f":"'3.WEF Status-Base'!$M$31","v":0},0,{"$f":"'3.WEF Status-Base'!$N$31","v":0},null,{"$f":"'3.WEF Status-Base'!$P$31","v":0},0,{"$f":"'3.WEF Status-Base'!$Q$31","v":0},null,{"$f":"'3.WEF Status-Base'!$S$31","v":0},0,{"$f":"'3.WEF Status-Base'!$T$31","v":0},null,{"$f":"'3.WEF Status-Base'!$V$31","v":0},0,{"$f":"'3.WEF Status-Base'!$W$31","v":0},null,{"$f":"'3.WEF Status-Base'!$Y$31","v":0},0,{"$f":"'3.WEF Status-Base'!$Z$31","v":0},null,{"$f":"'3.WEF Status-Base'!$AB$31","v":0},0,{"$f":"'3.WEF Status-Base'!$AC$31","v":0},null,{"$f":"'3.WEF Status-Base'!$AE$31","v":0},0,{"$f":"'3.WEF Status-Base'!$AF$31","v":0},null,{"$f":"'3.WEF Status-Base'!$AH$31","v":0},0,{"$f":"'3.WEF Status-Base'!$AI$31","v":0},null,{"$f":"'3.WEF Status-Base'!$AK$31","v":0},0,{"$f":"'3.WEF Status-Base'!$AL$31","v":0},null,{"$f":"'3.WEF Status-Base'!$AN$31","v":0},0,{"$f":"'3.WEF Status-Base'!$AO$31","v":0},null,{"$f":"'3.WEF Status-Base'!$AQ$31","v":0},0,{"$f":"'3.WEF Status-Base'!$AR$31","v":0},null,{"$f":"'3.WEF Status-Base'!$AT$31","v":0},0,{"$f":"'3.WEF Status-Base'!$AU$31","v":0},null,{"$f":"'3.WEF Status-Base'!$AW$31","v":0},0,{"$f":"'3.WEF Status-Base'!$AX$31","v":0},null,{"$f":"'3.WEF Status-Base'!$AZ$31","v":0},0,{"$f":"'3.WEF Status-Base'!$BA$31","v":0},null,{"$f":"'3.WEF Status-Base'!$BC$31","v":0},0,{"$f":"'3.WEF Status-Base'!$BD$31","v":0},{"$f":"'3.WEF Status-Base'!$BE$31","v":0},null,22,{"$f":"'3.WEF Status-Base'!$D$31","v":0},0,{"$f":"'3.WEF Status-Base'!$E$31","v":0},null,{"$f":"'3.WEF Status-Base'!$G$31","v":0},0,{"$f":"'3.WEF Status-Base'!$H$31","v":0},null,{"$f":"'3.WEF Status-Base'!$J$31","v":0},0,{"$f":"'3.WEF Status-Base'!$K$31","v":0},null,{"$f":"'3.WEF Status-Base'!$M$31","v":0},0,{"$f":"'3.WEF Status-Base'!$N$31","v":0},null,{"$f":"'3.WEF Status-Base'!$P$31","v":0},0,{"$f":"'3.WEF Status-Base'!$Q$31","v":0},null,{"$f":"'3.WEF Status-Base'!$S$31","v":0},0,{"$f":"'3.WEF Status-Base'!$T$31","v":0},null,{"$f":"'3.WEF Status-Base'!$V$31","v":0},0,{"$f":"'3.WEF Status-Base'!$W$31","v":0},null,{"$f":"'3.WEF Status-Base'!$Y$31","v":0},0,{"$f":"'3.WEF Status-Base'!$Z$31","v":0},null,{"$f":"'3.WEF Status-Base'!$AB$31","v":0},0,{"$f":"'3.WEF Status-Base'!$AC$31","v":0},null,{"$f":"'3.WEF Status-Base'!$AE$31","v":0},0,{"$f":"'3.WEF Status-Base'!$AF$31","v":0},null,{"$f":"'3.WEF Status-Base'!$AH$31","v":0},0,{"$f":"'3.WEF Status-Base'!$AI$31","v":0},null,{"$f":"'3.WEF Status-Base'!$AK$31","v":0},0,{"$f":"'3.WEF Status-Base'!$AL$31","v":0},null,{"$f":"'3.WEF Status-Base'!$AN$31","v":0},0,{"$f":"'3.WEF Status-Base'!$AO$31","v":0},null,{"$f":"'3.WEF Status-Base'!$AQ$31","v":0},0,{"$f":"'3.WEF Status-Base'!$AR$31","v":0},null,{"$f":"'3.WEF Status-Base'!$AT$31","v":0},0,{"$f":"'3.WEF Status-Base'!$AU$31","v":0},null,{"$f":"'3.WEF Status-Base'!$AW$31","v":0},0,{"$f":"'3.WEF Status-Base'!$AX$31","v":0},null,{"$f":"'3.WEF Status-Base'!$AZ$31","v":0},0,{"$f":"'3.WEF Status-Base'!$BA$31","v":0},null,{"$f":"'3.WEF Status-Base'!$BC$31","v":0},0,{"$f":"'3.WEF Status-Base'!$BD$31","v":0},{"$f":"'3.WEF Status-Base'!$BE$31","v":0}]
[null,"Supporting Institutions and Policies",null,null,null,23,null,null,null,null,null,null,null,null,null,null,null,null,null,null,null,null,null,null,null,null,null,null,null,null,null,null,null,null,null,null,null,null,null,null,null,null,null,null,null,null,null,null,null,null,null,null,null,null,null,null,null,null,null,null,null,null,null,null,null,null,null,null,null,null,null,null,null,null,null,null,null,null,null,23]
[null,"Institutions",null,{"$f":"MAX(H286:BZ286)","v":0},null,24,{"$f":"'3.WEF Status-Base'!$D$33","v":0},0,{"$f":"'3.WEF Status-Base'!$E$33","v":0},null,{"$f":"'3.WEF Status-Base'!$G$33","v":0},0,{"$f":"'3.WEF Status-Base'!$H$33","v":0},null,{"$f":"'3.WEF Status-Base'!$J$33","v":0},0,{"$f":"'3.WEF Status-Base'!$K$33","v":0},null,{"$f":"'3.WEF Status-Base'!$M$33","v":0},0,{"$f":"'3.WEF Status-Base'!$N$33","v":0},null,{"$f":"'3.WEF Status-Base'!$P$33","v":0},0,{"$f":"'3.WEF Status-Base'!$Q$33","v":0},null,{"$f":"'3.WEF Status-Base'!$S$33","v":0},0,{"$f":"'3.WEF Status-Base'!$T$33","v":0},null,{"$f":"'3.WEF Status-Base'!$V$33","v":0},0,{"$f":"'3.WEF Status-Base'!$W$33","v":0},null,{"$f":"'3.WEF Status-Base'!$Y$33","v":0},0,{"$f":"'3.WEF Status-Base'!$Z$33","v":0},null,{"$f":"'3.WEF Status-Base'!$AB$33","v":0},0,{"$f":"'3.WEF Status-Base'!$AC$33","v":0},null,{"$f":"'3.WEF Status-Base'!$AE$33","v":0},0,{"$f":"'3.WEF Status-Base'!$AF$33","v":0},null,{"$f":"'3.WEF Status-Base'!$AH$33","v":0},0,{"$f":"'3.WEF Status-Base'!$AI$33","v":0},null,{"$f":"'3.WEF Status-Base'!$AK$33","v":0},0,{"$f":"'3.WEF Status-Base'!$AL$33","v":0},null,{"$f":"'3.WEF Status-Base'!$AN$33","v":0},0,{"$f":"'3.WEF Status-Base'!$AO$33","v":0},null,{"$f":"'3.WEF Status-Base'!$AQ$33","v":0},0,{"$f":"'3.WEF Status-Base'!$AR$33","v":0},null,{"$f":"'3.WEF Status-Base'!$AT$33","v":0},0,{"$f":"'3.WEF Status-Base'!$AU$33","v":0},null,{"$f":"'3.WEF Status-Base'!$AW$33","v":0},0,{"$f":"'3.WEF Status-Base'!$AX$33","v":0},null,{"$f":"'3.WEF Status-Base'!$AZ$33","v":0},0,{"$f":"'3.WEF Status-Base'!$BA$33","v":0},null,{"$f":"'3.WEF Status-Base'!$BC$33","v":0},0,{"$f":"'3.WEF Status-Base'!$BD$33","v":0},{"$f":"'3.WEF Status-Base'!$BE$33","v":0},null,24,{"$f":"'3.WEF Status-Base'!$D$33","v":0},0,{"$f":"'3.WEF Status-Base'!$E$33","v":0},null,{"$f":"'3.WEF Status-Base'!$G$33","v":0},0,{"$f":"'3.WEF Status-Base'!$H$33","v":0},null,{"$f":"'3.WEF Status-Base'!$J$33","v":0},0,{"$f":"'3.WEF Status-Base'!$K$33","v":0},null,{"$f":"'3.WEF Status-Base'!$M$33","v":0},0,{"$f":"'3.WEF Status-Base'!$N$33","v":0},null,{"$f":"'3.WEF Status-Base'!$P$33","v":0},0,{"$f":"'3.WEF Status-Base'!$Q$33","v":0},null,{"$f":"'3.WEF Status-Base'!$S$33","v":0},0,{"$f":"'3.WEF Status-Base'!$T$33","v":0},null,{"$f":"'3.WEF Status-Base'!$V$33","v":0},0,{"$f":"'3.WEF Status-Base'!$W$33","v":0},null,{"$f":"'3.WEF Status-Base'!$Y$33","v":0},0,{"$f":"'3.WEF Status-Base'!$Z$33","v":0},null,{"$f":"'3.WEF Status-Base'!$AB$33","v":0},0,{"$f":"'3.WEF Status-Base'!$AC$33","v":0},null,{"$f":"'3.WEF Status-Base'!$AE$33","v":0},0,{"$f":"'3.WEF Status-Base'!$AF$33","v":0},null,{"$f":"'3.WEF Status-Base'!$AH$33","v":0},0,{"$f":"'3.WEF Status-Base'!$AI$33","v":0},null,{"$f":"'3.WEF Status-Base'!$AK$33","v":0},0,{"$f":"'3.WEF Status-Base'!$AL$33","v":0},null,{"$f":"'3.WEF Status-Base'!$AN$33","v":0},0,{"$f":"'3.WEF Status-Base'!$AO$33","v":0},null,{"$f":"'3.WEF Status-Base'!$AQ$33","v":0},0,{"$f":"'3.WEF Status-Base'!$AR$33","v":0},null,{"$f":"'3.WEF Status-Base'!$AT$33","v":0},0,{"$f":"'3.WEF Status-Base'!$AU$33","v":0},null,{"$f":"'3.WEF Status-Base'!$AW$33","v":0},0,{"$f":"'3.WEF Status-Base'!$AX$33","v":0},null,{"$f":"'3.WEF Status-Base'!$AZ$33","v":0},0,{"$f":"'3.WEF Status-Base'!$BA$33","v":0},null,{"$f":"'3.WEF Status-Base'!$BC$33","v":0},0,{"$f":"'3.WEF Status-Base'!$BD$33","v":0},{"$f":"'3.WEF Status-Base'!$BE$33","v":0}]
[null,"     Utility boards",null,0,null,25,{"$f":"'3.WEF Status-Base'!$D$34","v":0},0,{"$f":"'3.WEF Status-Base'!$E$34","v":0},null,{"$f":"'3.WEF Status-Base'!$G$34","v":0},0,{"$f":"'3.WEF Status-Base'!$H$34","v":0},null,{"$f":"'3.WEF Status-Base'!$J$34","v":0},0,{"$f":"'3.WEF Status-Base'!$K$34","v":0},null,{"$f":"'3.WEF Status-Base'!$M$34","v":0},0,{"$f":"'3.WEF Status-Base'!$N$34","v":0},null,{"$f":"'3.WEF Status-Base'!$P$34","v":0},0,{"$f":"'3.WEF Status-Base'!$Q$34","v":0},null,{"$f":"'3.WEF Status-Base'!$S$34","v":0},0,{"$f":"'3.WEF Status-Base'!$T$34","v":0},null,{"$f":"'3.WEF Status-Base'!$V$34","v":0},0,{"$f":"'3.WEF Status-Base'!$W$34","v":0},null,{"$f":"'3.WEF Status-Base'!$Y$34","v":0},0,{"$f":"'3.WEF Status-Base'!$Z$34","v":0},null,{"$f":"'3.WEF Status-Base'!$AB$34","v":0},0,{"$f":"'3.WEF Status-Base'!$AC$34","v":0},null,{"$f":"'3.WEF Status-Base'!$AE$34","v":0},0,{"$f":"'3.WEF Status-Base'!$AF$34","v":0},null,{"$f":"'3.WEF Status-Base'!$AH$34","v":0},0,{"$f":"'3.WEF Status-Base'!$AI$34","v":0},null,{"$f":"'3.WEF Status-Base'!$AK$34","v":0},0,{"$f":"'3.WEF Status-Base'!$AL$34","v":0},null,{"$f":"'3.WEF Status-Base'!$AN$34","v":0},0,{"$f":"'3.WEF Status-Base'!$AO$34","v":0},null,{"$f":"'3.WEF Status-Base'!$AQ$34","v":0},0,{"$f":"'3.WEF Status-Base'!$AR$34","v":0},null,{"$f":"'3.WEF Status-Base'!$AT$34","v":0},0,{"$f":"'3.WEF Status-Base'!$AU$34","v":0},null,{"$f":"'3.WEF Status-Base'!$AW$34","v":0},0,{"$f":"'3.WEF Status-Base'!$AX$34","v":0},null,{"$f":"'3.WEF Status-Base'!$AZ$34","v":0},0,{"$f":"'3.WEF Status-Base'!$BA$34","v":0},null,{"$f":"'3.WEF Status-Base'!$BC$34","v":0},0,{"$f":"'3.WEF Status-Base'!$BD$34","v":0},{"$f":"'3.WEF Status-Base'!$BE$34","v":0},null,25,{"$f":"'3.WEF Status-Base'!$D$34","v":0},0,{"$f":"'3.WEF Status-Base'!$E$34","v":0},null,{"$f":"'3.WEF Status-Base'!$G$34","v":0},0,{"$f":"'3.WEF Status-Base'!$H$34","v":0},null,{"$f":"'3.WEF Status-Base'!$J$34","v":0},0,{"$f":"'3.WEF Status-Base'!$K$34","v":0},null,{"$f":"'3.WEF Status-Base'!$M$34","v":0},0,{"$f":"'3.WEF Status-Base'!$N$34","v":0},null,{"$f":"'3.WEF Status-Base'!$P$34","v":0},0,{"$f":"'3.WEF Status-Base'!$Q$34","v":0},null,{"$f":"'3.WEF Status-Base'!$S$34","v":0},0,{"$f":"'3.WEF Status-Base'!$T$34","v":0},null,{"$f":"'3.WEF Status-Base'!$V$34","v":0},0,{"$f":"'3.WEF Status-Base'!$W$34","v":0},null,{"$f":"'3.WEF Status-Base'!$Y$34","v":0},0,{"$f":"'3.WEF Status-Base'!$Z$34","v":0},null,{"$f":"'3.WEF Status-Base'!$AB$34","v":0},0,{"$f":"'3.WEF Status-Base'!$AC$34","v":0},null,{"$f":"'3.WEF Status-Base'!$AE$34","v":0},0,{"$f":"'3.WEF Status-Base'!$AF$34","v":0},null,{"$f":"'3.WEF Status-Base'!$AH$34","v":0},0,{"$f":"'3.WEF Status-Base'!$AI$34","v":0},null,{"$f":"'3.WEF Status-Base'!$AK$34","v":0},0,{"$f":"'3.WEF Status-Base'!$AL$34","v":0},null,{"$f":"'3.WEF Status-Base'!$AN$34","v":0},0,{"$f":"'3.WEF Status-Base'!$AO$34","v":0},null,{"$f":"'3.WEF Status-Base'!$AQ$34","v":0},0,{"$f":"'3.WEF Status-Base'!$AR$34","v":0},null,{"$f":"'3.WEF Status-Base'!$AT$34","v":0},0,{"$f":"'3.WEF Status-Base'!$AU$34","v":0},null,{"$f":"'3.WEF Status-Base'!$AW$34","v":0},0,{"$f":"'3.WEF Status-Base'!$AX$34","v":0},null,{"$f":"'3.WEF Status-Base'!$AZ$34","v":0},0,{"$f":"'3.WEF Status-Base'!$BA$34","v":0},null,{"$f":"'3.WEF Status-Base'!$BC$34","v":0},0,{"$f":"'3.WEF Status-Base'!$BD$34","v":0},{"$f":"'3.WEF Status-Base'!$BE$34","v":0}]
[null,"     Resource Coops",null,0,null,26,{"$f":"'3.WEF Status-Base'!$D$35","v":0},0,{"$f":"'3.WEF Status-Base'!$E$35","v":0},null,{"$f":"'3.WEF Status-Base'!$G$35","v":0},0,{"$f":"'3.WEF Status-Base'!$H$35","v":0},null,{"$f":"'3.WEF Status-Base'!$J$35","v":0},0,{"$f":"'3.WEF Status-Base'!$K$35","v":0},null,{"$f":"'3.WEF Status-Base'!$M$35","v":0},0,{"$f":"'3.WEF Status-Base'!$N$35","v":0},null,{"$f":"'3.WEF Status-Base'!$P$35","v":0},0,{"$f":"'3.WEF Status-Base'!$Q$35","v":0},null,{"$f":"'3.WEF Status-Base'!$S$35","v":0},0,{"$f":"'3.WEF Status-Base'!$T$35","v":0},null,{"$f":"'3.WEF Status-Base'!$V$35","v":0},0,{"$f":"'3.WEF Status-Base'!$W$35","v":0},null,{"$f":"'3.WEF Status-Base'!$Y$35","v":0},0,{"$f":"'3.WEF Status-Base'!$Z$35","v":0},null,{"$f":"'3.WEF Status-Base'!$AB$35","v":0},0,{"$f":"'3.WEF Status-Base'!$AC$35","v":0},null,{"$f":"'3.WEF Status-Base'!$AE$35","v":0},0,{"$f":"'3.WEF Status-Base'!$AF$35","v":0},null,{"$f":"'3.WEF Status-Base'!$AH$35","v":0},0,{"$f":"'3.WEF Status-Base'!$AI$35","v":0},null,{"$f":"'3.WEF Status-Base'!$AK$35","v":0},0,{"$f":"'3.WEF Status-Base'!$AL$35","v":0},null,{"$f":"'3.WEF Status-Base'!$AN$35","v":0},0,{"$f":"'3.WEF Status-Base'!$AO$35","v":0},null,{"$f":"'3.WEF Status-Base'!$AQ$35","v":0},0,{"$f":"'3.WEF Status-Base'!$AR$35","v":0},null,{"$f":"'3.WEF Status-Base'!$AT$35","v":0},0,{"$f":"'3.WEF Status-Base'!$AU$35","v":0},null,{"$f":"'3.WEF Status-Base'!$AW$35","v":0},0,{"$f":"'3.WEF Status-Base'!$AX$35","v":0},null,{"$f":"'3.WEF Status-Base'!$AZ$35","v":0},0,{"$f":"'3.WEF Status-Base'!$BA$35","v":0},null,{"$f":"'3.WEF Status-Base'!$BC$35","v":0},0,{"$f":"'3.WEF Status-Base'!$BD$35","v":0},{"$f":"'3.WEF Status-Base'!$BE$35","v":0},null,26,{"$f":"'3.WEF Status-Base'!$D$35","v":0},0,{"$f":"'3.WEF Status-Base'!$E$35","v":0},null,{"$f":"'3.WEF Status-Base'!$G$35","v":0},0,{"$f":"'3.WEF Status-Base'!$H$35","v":0},null,{"$f":"'3.WEF Status-Base'!$J$35","v":0},0,{"$f":"'3.WEF Status-Base'!$K$35","v":0},null,{"$f":"'3.WEF Status-Base'!$M$35","v":0},0,{"$f":"'3.WEF Status-Base'!$N$35","v":0},null,{"$f":"'3.WEF Status-Base'!$P$35","v":0},0,{"$f":"'3.WEF Status-Base'!$Q$35","v":0},null,{"$f":"'3.WEF Status-Base'!$S$35","v":0},0,{"$f":"'3.WEF Status-Base'!$T$35","v":0},null,{"$f":"'3.WEF Status-Base'!$V$35","v":0},0,{"$f":"'3.WEF Status-Base'!$W$35","v":0},null,{"$f":"'3.WEF Status-Base'!$Y$35","v":0},0,{"$f":"'3.WEF Status-Base'!$Z$35","v":0},null,{"$f":"'3.WEF Status-Base'!$AB$35","v":0},0,{"$f":"'3.WEF Status-Base'!$AC$35","v":0},null,{"$f":"'3.WEF Status-Base'!$AE$35","v":0},0,{"$f":"'3.WEF Status-Base'!$AF$35","v":0},null,{"$f":"'3.WEF Status-Base'!$AH$35","v":0},0,{"$f":"'3.WEF Status-Base'!$AI$35","v":0},null,{"$f":"'3.WEF Status-Base'!$AK$35","v":0},0,{"$f":"'3.WEF Status-Base'!$AL$35","v":0},null,{"$f":"'3.WEF Status-Base'!$AN$35","v":0},0,{"$f":"'3.WEF Status-Base'!$AO$35","v":0},null,{"$f":"'3.WEF Status-Base'!$AQ$35","v":0},0,{"$f":"'3.WEF Status-Base'!$AR$35","v":0},null,{"$f":"'3.WEF Status-Base'!$AT$35","v":0},0,{"$f":"'3.WEF Status-Base'!$AU$35","v":0},null,{"$f":"'3.WEF Status-Base'!$AW$35","v":0},0,{"$f":"'3.WEF Status-Base'!$AX$35","v":0},null,{"$f":"'3.WEF Status-Base'!$AZ$35","v":0},0,{"$f":"'3.WEF Status-Base'!$BA$35","v":0},null,{"$f":"'3.WEF Status-Base'!$BC$35","v":0},0,{"$f":"'3.WEF Status-Base'!$BD$35","v":0},{"$f":"'3.WEF Status-Base'!$BE$35","v":0}]
[null,"     Safety oversight agencies",null,0,null,27,{"$f":"'3.WEF Status-Base'!$D$36","v":0},0,{"$f":"'3.WEF Status-Base'!$E$36","v":0},null,{"$f":"'3.WEF Status-Base'!$G$36","v":0},0,{"$f":"'3.WEF Status-Base'!$H$36","v":0},null,{"$f":"'3.WEF Status-Base'!$J$36","v":0},0,{"$f":"'3.WEF Status-Base'!$K$36","v":0},null,{"$f":"'3.WEF Status-Base'!$M$36","v":0},0,{"$f":"'3.WEF Status-Base'!$N$36","v":0},null,{"$f":"'3.WEF Status-Base'!$P$36","v":0},0,{"$f":"'3.WEF Status-Base'!$Q$36","v":0},null,{"$f":"'3.WEF Status-Base'!$S$36","v":0},0,{"$f":"'3.WEF Status-Base'!$T$36","v":0},null,{"$f":"'3.WEF Status-Base'!$V$36","v":0},0,{"$f":"'3.WEF Status-Base'!$W$36","v":0},null,{"$f":"'3.WEF Status-Base'!$Y$36","v":0},0,{"$f":"'3.WEF Status-Base'!$Z$36","v":0},null,{"$f":"'3.WEF Status-Base'!$AB$36","v":0},0,{"$f":"'3.WEF Status-Base'!$AC$36","v":0},null,{"$f":"'3.WEF Status-Base'!$AE$36","v":0},0,{"$f":"'3.WEF Status-Base'!$AF$36","v":0},null,{"$f":"'3.WEF Status-Base'!$AH$36","v":0},0,{"$f":"'3.WEF Status-Base'!$AI$36","v":0},null,{"$f":"'3.WEF Status-Base'!$AK$36","v":0},0,{"$f":"'3.WEF Status-Base'!$AL$36","v":0},null,{"$f":"'3.WEF Status-Base'!$AN$36","v":0},0,{"$f":"'3.WEF Status-Base'!$AO$36","v":0},null,{"$f":"'3.WEF Status-Base'!$AQ$36","v":0},0,{"$f":"'3.WEF Status-Base'!$AR$36","v":0},null,{"$f":"'3.WEF Status-Base'!$AT$36","v":0},0,{"$f":"'3.WEF Status-Base'!$AU$36","v":0},null,{"$f":"'3.WEF Status-Base'!$AW$36","v":0},0,{"$f":"'3.WEF Status-Base'!$AX$36","v":0},null,{"$f":"'3.WEF Status-Base'!$AZ$36","v":0},0,{"$f":"'3.WEF Status-Base'!$BA$36","v":0},null,{"$f":"'3.WEF Status-Base'!$BC$36","v":0},0,{"$f":"'3.WEF Status-Base'!$BD$36","v":0},{"$f":"'3.WEF Status-Base'!$BE$36","v":0},null,27,{"$f":"'3.WEF Status-Base'!$D$36","v":0},0,{"$f":"'3.WEF Status-Base'!$E$36","v":0},null,{"$f":"'3.WEF Status-Base'!$G$36","v":0},0,{"$f":"'3.WEF Status-Base'!$H$36","v":0},null,{"$f":"'3.WEF Status-Base'!$J$36","v":0},0,{"$f":"'3.WEF Status-Base'!$K$36","v":0},null,{"$f":"'3.WEF Status-Base'!$M$36","v":0},0,{"$f":"'3.WEF Status-Base'!$N$36","v":0},null,{"$f":"'3.WEF Status-Base'!$P$36","v":0},0,{"$f":"'3.WEF Status-Base'!$Q$36","v":0},null,{"$f":"'3.WEF Status-Base'!$S$36","v":0},0,{"$f":"'3.WEF Status-Base'!$T$36","v":0},null,{"$f":"'3.WEF Status-Base'!$V$36","v":0},0,{"$f":"'3.WEF Status-Base'!$W$36","v":0},null,{"$f":"'3.WEF Status-Base'!$Y$36","v":0},0,{"$f":"'3.WEF Status-Base'!$Z$36","v":0},null,{"$f":"'3.WEF Status-Base'!$AB$36","v":0},0,{"$f":"'3.WEF Status-Base'!$AC$36","v":0},null,{"$f":"'3.WEF Status-Base'!$AE$36","v":0},0,{"$f":"'3.WEF Status-Base'!$AF$36","v":0},null,{"$f":"'3.WEF Status-Base'!$AH$36","v":0},0,{"$f":"'3.WEF Status-Base'!$AI$36","v":0},null,{"$f":"'3.WEF Status-Base'!$AK$36","v":0},0,{"$f":"'3.WEF Status-Base'!$AL$36","v":0},null,{"$f":"'3.WEF Status-Base'!$AN$36","v":0},0,{"$f":"'3.WEF Status-Base'!$AO$36","v":0},null,{"$f":"'3.WEF Status-Base'!$AQ$36","v":0},0,{"$f":"'3.WEF Status-Base'!$AR$36","v":0},null,{"$f":"'3.WEF Status-Base'!$AT$36","v":0},0,{"$f":"'3.WEF Status-Base'!$AU$36","v":0},null,{"$f":"'3.WEF Status-Base'!$AW$36","v":0},0,{"$f":"'3.WEF Status-Base'!$AX$36","v":0},null,{"$f":"'3.WEF Status-Base'!$AZ$36","v":0},0,{"$f":"'3.WEF Status-Base'!$BA$36","v":0},null,{"$f":"'3.WEF Status-Base'!$BC$36","v":0},0,{"$f":"'3.WEF Status-Base'!$BD$36","v":0},{"$f":"'3.WEF Status-Base'!$BE$36","v":0}]
[null,"     Education and training",null,0,null,28,{"$f":"'3.WEF Status-Base'!$D$37","v":0},0,{"$f":"'3.WEF Status-Base'!$E$37","v":0},null,{"$f":"'3.WEF Status-Base'!$G$37","v":0},0,{"$f":"'3.WEF Status-Base'!$H$37","v":0},null,{"$f":"'3.WEF Status-Base'!$J$37","v":0},0,{"$f":"'3.WEF Status-Base'!$K$37","v":0},null,{"$f":"'3.WEF Status-Base'!$M$37","v":0},0,{"$f":"'3.WEF Status-Base'!$N$37","v":0},null,{"$f":"'3.WEF Status-Base'!$P$37","v":0},0,{"$f":"'3.WEF Status-Base'!$Q$37","v":0},null,{"$f":"'3.WEF Status-Base'!$S$37","v":0},0,{"$f":"'3.WEF Status-Base'!$T$37","v":0},null,{"$f":"'3.WEF Status-Base'!$V$37","v":0},0,{"$f":"'3.WEF Status-Base'!$W$37","v":0},null,{"$f":"'3.WEF Status-Base'!$Y$37","v":0},0,{"$f":"'3.WEF Status-Base'!$Z$37","v":0},null,{"$f":"'3.WEF Status-Base'!$AB$37","v":0},0,{"$f":"'3.WEF Status-Base'!$AC$37","v":0},null,{"$f":"'3.WEF Status-Base'!$AE$37","v":0},0,{"$f":"'3.WEF Status-Base'!$AF$37","v":0},null,{"$f":"'3.WEF Status-Base'!$AH$37","v":0},0,{"$f":"'3.WEF Status-Base'!$AI$37","v":0},null,{"$f":"'3.WEF Status-Base'!$AK$37","v":0},0,{"$f":"'3.WEF Status-Base'!$AL$37","v":0},null,{"$f":"'3.WEF Status-Base'!$AN$37","v":0},0,{"$f":"'3.WEF Status-Base'!$AO$37","v":0},null,{"$f":"'3.WEF Status-Base'!$AQ$37","v":0},0,{"$f":"'3.WEF Status-Base'!$AR$37","v":0},null,{"$f":"'3.WEF Status-Base'!$AT$37","v":0},0,{"$f":"'3.WEF Status-Base'!$AU$37","v":0},null,{"$f":"'3.WEF Status-Base'!$AW$37","v":0},0,{"$f":"'3.WEF Status-Base'!$AX$37","v":0},null,{"$f":"'3.WEF Status-Base'!$AZ$37","v":0},0,{"$f":"'3.WEF Status-Base'!$BA$37","v":0},null,{"$f":"'3.WEF Status-Base'!$BC$37","v":0},0,{"$f":"'3.WEF Status-Base'!$BD$37","v":0},{"$f":"'3.WEF Status-Base'!$BE$37","v":0},null,28,{"$f":"'3.WEF Status-Base'!$D$37","v":0},0,{"$f":"'3.WEF Status-Base'!$E$37","v":0},null,{"$f":"'3.WEF Status-Base'!$G$37","v":0},0,{"$f":"'3.WEF Status-Base'!$H$37","v":0},null,{"$f":"'3.WEF Status-Base'!$J$37","v":0},0,{"$f":"'3.WEF Status-Base'!$K$37","v":0},null,{"$f":"'3.WEF Status-Base'!$M$37","v":0},0,{"$f":"'3.WEF Status-Base'!$N$37","v":0},null,{"$f":"'3.WEF Status-Base'!$P$37","v":0},0,{"$f":"'3.WEF Status-Base'!$Q$37","v":0},null,{"$f":"'3.WEF Status-Base'!$S$37","v":0},0,{"$f":"'3.WEF Status-Base'!$T$37","v":0},null,{"$f":"'3.WEF Status-Base'!$V$37","v":0},0,{"$f":"'3.WEF Status-Base'!$W$37","v":0},null,{"$f":"'3.WEF Status-Base'!$Y$37","v":0},0,{"$f":"'3.WEF Status-Base'!$Z$37","v":0},null,{"$f":"'3.WEF Status-Base'!$AB$37","v":0},0,{"$f":"'3.WEF Status-Base'!$AC$37","v":0},null,{"$f":"'3.WEF Status-Base'!$AE$37","v":0},0,{"$f":"'3.WEF Status-Base'!$AF$37","v":0},null,{"$f":"'3.WEF Status-Base'!$AH$37","v":0},0,{"$f":"'3.WEF Status-Base'!$AI$37","v":0},null,{"$f":"'3.WEF Status-Base'!$AK$37","v":0},0,{"$f":"'3.WEF Status-Base'!$AL$37","v":0},null,{"$f":"'3.WEF Status-Base'!$AN$37","v":0},0,{"$f":"'3.WEF Status-Base'!$AO$37","v":0},null,{"$f":"'3.WEF Status-Base'!$AQ$37","v":0},0,{"$f":"'3.WEF Status-Base'!$AR$37","v":0},null,{"$f":"'3.WEF Status-Base'!$AT$37","v":0},0,{"$f":"'3.WEF Status-Base'!$AU$37","v":0},null,{"$f":"'3.WEF Status-Base'!$AW$37","v":0},0,{"$f":"'3.WEF Status-Base'!$AX$37","v":0},null,{"$f":"'3.WEF Status-Base'!$AZ$37","v":0},0,{"$f":"'3.WEF Status-Base'!$BA$37","v":0},null,{"$f":"'3.WEF Status-Base'!$BC$37","v":0},0,{"$f":"'3.WEF Status-Base'!$BD$37","v":0},{"$f":"'3.WEF Status-Base'!$BE$37","v":0}]
[null,"     Law enforcement and security",null,0,null,29,{"$f":"'3.WEF Status-Base'!$D$38","v":0},0,{"$f":"'3.WEF Status-Base'!$E$38","v":0},null,{"$f":"'3.WEF Status-Base'!$G$38","v":0},0,{"$f":"'3.WEF Status-Base'!$H$38","v":0},null,{"$f":"'3.WEF Status-Base'!$J$38","v":0},0,{"$f":"'3.WEF Status-Base'!$K$38","v":0},null,{"$f":"'3.WEF Status-Base'!$M$38","v":0},0,{"$f":"'3.WEF Status-Base'!$N$38","v":0},null,{"$f":"'3.WEF Status-Base'!$P$38","v":0},0,{"$f":"'3.WEF Status-Base'!$Q$38","v":0},null,{"$f":"'3.WEF Status-Base'!$S$38","v":0},0,{"$f":"'3.WEF Status-Base'!$T$38","v":0},null,{"$f":"'3.WEF Status-Base'!$V$38","v":0},0,{"$f":"'3.WEF Status-Base'!$W$38","v":0},null,{"$f":"'3.WEF Status-Base'!$Y$38","v":0},0,{"$f":"'3.WEF Status-Base'!$Z$38","v":0},null,{"$f":"'3.WEF Status-Base'!$AB$38","v":0},0,{"$f":"'3.WEF Status-Base'!$AC$38","v":0},null,{"$f":"'3.WEF Status-Base'!$AE$38","v":0},0,{"$f":"'3.WEF Status-Base'!$AF$38","v":0},null,{"$f":"'3.WEF Status-Base'!$AH$38","v":0},0,{"$f":"'3.WEF Status-Base'!$AI$38","v":0},null,{"$f":"'3.WEF Status-Base'!$AK$38","v":0},0,{"$f":"'3.WEF Status-Base'!$AL$38","v":0},null,{"$f":"'3.WEF Status-Base'!$AN$38","v":0},0,{"$f":"'3.WEF Status-Base'!$AO$38","v":0},null,{"$f":"'3.WEF Status-Base'!$AQ$38","v":0},0,{"$f":"'3.WEF Status-Base'!$AR$38","v":0},null,{"$f":"'3.WEF Status-Base'!$AT$38","v":0},0,{"$f":"'3.WEF Status-Base'!$AU$38","v":0},null,{"$f":"'3.WEF Status-Base'!$AW$38","v":0},0,{"$f":"'3.WEF Status-Base'!$AX$38","v":0},null,{"$f":"'3.WEF Status-Base'!$AZ$38","v":0},0,{"$f":"'3.WEF Status-Base'!$BA$38","v":0},null,{"$f":"'3.WEF Status-Base'!$BC$38","v":0},0,{"$f":"'3.WEF Status-Base'!$BD$38","v":0},{"$f":"'3.WEF Status-Base'!$BE$38","v":0},null,29,{"$f":"'3.WEF Status-Base'!$D$38","v":0},0,{"$f":"'3.WEF Status-Base'!$E$38","v":0},null,{"$f":"'3.WEF Status-Base'!$G$38","v":0},0,{"$f":"'3.WEF Status-Base'!$H$38","v":0},null,{"$f":"'3.WEF Status-Base'!$J$38","v":0},0,{"$f":"'3.WEF Status-Base'!$K$38","v":0},null,{"$f":"'3.WEF Status-Base'!$M$38","v":0},0,{"$f":"'3.WEF Status-Base'!$N$38","v":0},null,{"$f":"'3.WEF Status-Base'!$P$38","v":0},0,{"$f":"'3.WEF Status-Base'!$Q$38","v":0},null,{"$f":"'3.WEF Status-Base'!$S$38","v":0},0,{"$f":"'3.WEF Status-Base'!$T$38","v":0},null,{"$f":"'3.WEF Status-Base'!$V$38","v":0},0,{"$f":"'3.WEF Status-Base'!$W$38","v":0},null,{"$f":"'3.WEF Status-Base'!$Y$38","v":0},0,{"$f":"'3.WEF Status-Base'!$Z$38","v":0},null,{"$f":"'3.WEF Status-Base'!$AB$38","v":0},0,{"$f":"'3.WEF Status-Base'!$AC$38","v":0},null,{"$f":"'3.WEF Status-Base'!$AE$38","v":0},0,{"$f":"'3.WEF Status-Base'!$AF$38","v":0},null,{"$f":"'3.WEF Status-Base'!$AH$38","v":0},0,{"$f":"'3.WEF Status-Base'!$AI$38","v":0},null,{"$f":"'3.WEF Status-Base'!$AK$38","v":0},0,{"$f":"'3.WEF Status-Base'!$AL$38","v":0},null,{"$f":"'3.WEF Status-Base'!$AN$38","v":0},0,{"$f":"'3.WEF Status-Base'!$AO$38","v":0},null,{"$f":"'3.WEF Status-Base'!$AQ$38","v":0},0,{"$f":"'3.WEF Status-Base'!$AR$38","v":0},null,{"$f":"'3.WEF Status-Base'!$AT$38","v":0},0,{"$f":"'3.WEF Status-Base'!$AU$38","v":0},null,{"$f":"'3.WEF Status-Base'!$AW$38","v":0},0,{"$f":"'3.WEF Status-Base'!$AX$38","v":0},null,{"$f":"'3.WEF Status-Base'!$AZ$38","v":0},0,{"$f":"'3.WEF Status-Base'!$BA$38","v":0},null,{"$f":"'3.WEF Status-Base'!$BC$38","v":0},0,{"$f":"'3.WEF Status-Base'!$BD$38","v":0},{"$f":"'3.WEF Status-Base'!$BE$38","v":0}]
[null,"Policies and Plans",null,0,null,30,{"$f":"'3.WEF Status-Base'!$D$39","v":0},0,{"$f":"'3.WEF Status-Base'!$E$39","v":0},null,{"$f":"'3.WEF Status-Base'!$G$39","v":0},0,{"$f":"'3.WEF Status-Base'!$H$39","v":0},null,{"$f":"'3.WEF Status-Base'!$J$39","v":0},0,{"$f":"'3.WEF Status-Base'!$K$39","v":0},null,{"$f":"'3.WEF Status-Base'!$M$39","v":0},0,{"$f":"'3.WEF Status-Base'!$N$39","v":0},null,{"$f":"'3.WEF Status-Base'!$P$39","v":0},0,{"$f":"'3.WEF Status-Base'!$Q$39","v":0},null,{"$f":"'3.WEF Status-Base'!$S$39","v":0},0,{"$f":"'3.WEF Status-Base'!$T$39","v":0},null,{"$f":"'3.WEF Status-Base'!$V$39","v":0},0,{"$f":"'3.WEF Status-Base'!$W$39","v":0},null,{"$f":"'3.WEF Status-Base'!$Y$39","v":0},0,{"$f":"'3.WEF Status-Base'!$Z$39","v":0},null,{"$f":"'3.WEF Status-Base'!$AB$39","v":0},0,{"$f":"'3.WEF Status-Base'!$AC$39","v":0},null,{"$f":"'3.WEF Status-Base'!$AE$39","v":0},0,{"$f":"'3.WEF Status-Base'!$AF$39","v":0},null,{"$f":"'3.WEF Status-Base'!$AH$39","v":0},0,{"$f":"'3.WEF Status-Base'!$AI$39","v":0},null,{"$f":"'3.WEF Status-Base'!$AK$39","v":0},0,{"$f":"'3.WEF Status-Base'!$AL$39","v":0},null,{"$f":"'3.WEF Status-Base'!$AN$39","v":0},0,{"$f":"'3.WEF Status-Base'!$AO$39","v":0},null,{"$f":"'3.WEF Status-Base'!$AQ$39","v":0},0,{"$f":"'3.WEF Status-Base'!$AR$39","v":0},null,{"$f":"'3.WEF Status-Base'!$AT$39","v":0},0,{"$f":"'3.WEF Status-Base'!$AU$39","v":0},null,{"$f":"'3.WEF Status-Base'!$AW$39","v":0},0,{"$f":"'3.WEF Status-Base'!$AX$39","v":0},null,{"$f":"'3.WEF Status-Base'!$AZ$39","v":0},0,{"$f":"'3.WEF Status-Base'!$BA$39","v":0},null,{"$f":"'3.WEF Status-Base'!$BC$39","v":0},0,{"$f":"'3.WEF Status-Base'!$BD$39","v":0},{"$f":"'3.WEF Status-Base'!$BE$39","v":0},null,30,{"$f":"'3.WEF Status-Base'!$D$39","v":0},0,{"$f":"'3.WEF Status-Base'!$E$39","v":0},null,{"$f":"'3.WEF Status-Base'!$G$39","v":0},0,{"$f":"'3.WEF Status-Base'!$H$39","v":0},null,{"$f":"'3.WEF Status-Base'!$J$39","v":0},0,{"$f":"'3.WEF Status-Base'!$K$39","v":0},null,{"$f":"'3.WEF Status-Base'!$M$39","v":0},0,{"$f":"'3.WEF Status-Base'!$N$39","v":0},null,{"$f":"'3.WEF Status-Base'!$P$39","v":0},0,{"$f":"'3.WEF Status-Base'!$Q$39","v":0},null,{"$f":"'3.WEF Status-Base'!$S$39","v":0},0,{"$f":"'3.WEF Status-Base'!$T$39","v":0},null,{"$f":"'3.WEF Status-Base'!$V$39","v":0},0,{"$f":"'3.WEF Status-Base'!$W$39","v":0},null,{"$f":"'3.WEF Status-Base'!$Y$39","v":0},0,{"$f":"'3.WEF Status-Base'!$Z$39","v":0},null,{"$f":"'3.WEF Status-Base'!$AB$39","v":0},0,{"$f":"'3.WEF Status-Base'!$AC$39","v":0},null,{"$f":"'3.WEF Status-Base'!$AE$39","v":0},0,{"$f":"'3.WEF Status-Base'!$AF$39","v":0},null,{"$f":"'3.WEF Status-Base'!$AH$39","v":0},0,{"$f":"'3.WEF Status-Base'!$AI$39","v":0},null,{"$f":"'3.WEF Status-Base'!$AK$39","v":0},0,{"$f":"'3.WEF Status-Base'!$AL$39","v":0},null,{"$f":"'3.WEF Status-Base'!$AN$39","v":0},0,{"$f":"'3.WEF Status-Base'!$AO$39","v":0},null,{"$f":"'3.WEF Status-Base'!$AQ$39","v":0},0,{"$f":"'3.WEF Status-Base'!$AR$39","v":0},null,{"$f":"'3.WEF Status-Base'!$AT$39","v":0},0,{"$f":"'3.WEF Status-Base'!$AU$39","v":0},null,{"$f":"'3.WEF Status-Base'!$AW$39","v":0},0,{"$f":"'3.WEF Status-Base'!$AX$39","v":0},null,{"$f":"'3.WEF Status-Base'!$AZ$39","v":0},0,{"$f":"'3.WEF Status-Base'!$BA$39","v":0},null,{"$f":"'3.WEF Status-Base'!$BC$39","v":0},0,{"$f":"'3.WEF Status-Base'!$BD$39","v":0},{"$f":"'3.WEF Status-Base'!$BE$39","v":0}]
[null,"     Resource use",null,0,null,31,{"$f":"'3.WEF Status-Base'!$D$40","v":0},0,{"$f":"'3.WEF Status-Base'!$E$40","v":0},null,{"$f":"'3.WEF Status-Base'!$G$40","v":0},0,{"$f":"'3.WEF Status-Base'!$H$40","v":0},null,{"$f":"'3.WEF Status-Base'!$J$40","v":0},0,{"$f":"'3.WEF Status-Base'!$K$40","v":0},null,{"$f":"'3.WEF Status-Base'!$M$40","v":0},0,{"$f":"'3.WEF Status-Base'!$N$40","v":0},null,{"$f":"'3.WEF Status-Base'!$P$40","v":0},0,{"$f":"'3.WEF Status-Base'!$Q$40","v":0},null,{"$f":"'3.WEF Status-Base'!$S$40","v":0},0,{"$f":"'3.WEF Status-Base'!$T$40","v":0},null,{"$f":"'3.WEF Status-Base'!$V$40","v":0},0,{"$f":"'3.WEF Status-Base'!$W$40","v":0},null,{"$f":"'3.WEF Status-Base'!$Y$40","v":0},0,{"$f":"'3.WEF Status-Base'!$Z$40","v":0},null,{"$f":"'3.WEF Status-Base'!$AB$40","v":0},0,{"$f":"'3.WEF Status-Base'!$AC$40","v":0},null,{"$f":"'3.WEF Status-Base'!$AE$40","v":0},0,{"$f":"'3.WEF Status-Base'!$AF$40","v":0},null,{"$f":"'3.WEF Status-Base'!$AH$40","v":0},0,{"$f":"'3.WEF Status-Base'!$AI$40","v":0},null,{"$f":"'3.WEF Status-Base'!$AK$40","v":0},0,{"$f":"'3.WEF Status-Base'!$AL$40","v":0},null,{"$f":"'3.WEF Status-Base'!$AN$40","v":0},0,{"$f":"'3.WEF Status-Base'!$AO$40","v":0},null,{"$f":"'3.WEF Status-Base'!$AQ$40","v":0},0,{"$f":"'3.WEF Status-Base'!$AR$40","v":0},null,{"$f":"'3.WEF Status-Base'!$AT$40","v":0},0,{"$f":"'3.WEF Status-Base'!$AU$40","v":0},null,{"$f":"'3.WEF Status-Base'!$AW$40","v":0},0,{"$f":"'3.WEF Status-Base'!$AX$40","v":0},null,{"$f":"'3.WEF Status-Base'!$AZ$40","v":0},0,{"$f":"'3.WEF Status-Base'!$BA$40","v":0},null,{"$f":"'3.WEF Status-Base'!$BC$40","v":0},0,{"$f":"'3.WEF Status-Base'!$BD$40","v":0},{"$f":"'3.WEF Status-Base'!$BE$40","v":0},null,31,{"$f":"'3.WEF Status-Base'!$D$40","v":0},0,{"$f":"'3.WEF Status-Base'!$E$40","v":0},null,{"$f":"'3.WEF Status-Base'!$G$40","v":0},0,{"$f":"'3.WEF Status-Base'!$H$40","v":0},null,{"$f":"'3.WEF Status-Base'!$J$40","v":0},0,{"$f":"'3.WEF Status-Base'!$K$40","v":0},null,{"$f":"'3.WEF Status-Base'!$M$40","v":0},0,{"$f":"'3.WEF Status-Base'!$N$40","v":0},null,{"$f":"'3.WEF Status-Base'!$P$40","v":0},0,{"$f":"'3.WEF Status-Base'!$Q$40","v":0},null,{"$f":"'3.WEF Status-Base'!$S$40","v":0},0,{"$f":"'3.WEF Status-Base'!$T$40","v":0},null,{"$f":"'3.WEF Status-Base'!$V$40","v":0},0,{"$f":"'3.WEF Status-Base'!$W$40","v":0},null,{"$f":"'3.WEF Status-Base'!$Y$40","v":0},0,{"$f":"'3.WEF Status-Base'!$Z$40","v":0},null,{"$f":"'3.WEF Status-Base'!$AB$40","v":0},0,{"$f":"'3.WEF Status-Base'!$AC$40","v":0},null,{"$f":"'3.WEF Status-Base'!$AE$40","v":0},0,{"$f":"'3.WEF Status-Base'!$AF$40","v":0},null,{"$f":"'3.WEF Status-Base'!$AH$40","v":0},0,{"$f":"'3.WEF Status-Base'!$AI$40","v":0},null,{"$f":"'3.WEF Status-Base'!$AK$40","v":0},0,{"$f":"'3.WEF Status-Base'!$AL$40","v":0},null,{"$f":"'3.WEF Status-Base'!$AN$40","v":0},0,{"$f":"'3.WEF Status-Base'!$AO$40","v":0},null,{"$f":"'3.WEF Status-Base'!$AQ$40","v":0},0,{"$f":"'3.WEF Status-Base'!$AR$40","v":0},null,{"$f":"'3.WEF Status-Base'!$AT$40","v":0},0,{"$f":"'3.WEF Status-Base'!$AU$40","v":0},null,{"$f":"'3.WEF Status-Base'!$AW$40","v":0},0,{"$f":"'3.WEF Status-Base'!$AX$40","v":0},null,{"$f":"'3.WEF Status-Base'!$AZ$40","v":0},0,{"$f":"'3.WEF Status-Base'!$BA$40","v":0},null,{"$f":"'3.WEF Status-Base'!$BC$40","v":0},0,{"$f":"'3.WEF Status-Base'!$BD$40","v":0},{"$f":"'3.WEF Status-Base'!$BE$40","v":0}]
[null,"     Climate change adaptation",null,0,null,32,{"$f":"'3.WEF Status-Base'!$D$41","v":0},0,{"$f":"'3.WEF Status-Base'!$E$41","v":0},null,{"$f":"'3.WEF Status-Base'!$G$41","v":0},0,{"$f":"'3.WEF Status-Base'!$H$41","v":0},null,{"$f":"'3.WEF Status-Base'!$J$41","v":0},0,{"$f":"'3.WEF Status-Base'!$K$41","v":0},null,{"$f":"'3.WEF Status-Base'!$M$41","v":0},0,{"$f":"'3.WEF Status-Base'!$N$41","v":0},null,{"$f":"'3.WEF Status-Base'!$P$41","v":0},0,{"$f":"'3.WEF Status-Base'!$Q$41","v":0},null,{"$f":"'3.WEF Status-Base'!$S$41","v":0},0,{"$f":"'3.WEF Status-Base'!$T$41","v":0},null,{"$f":"'3.WEF Status-Base'!$V$41","v":0},0,{"$f":"'3.WEF Status-Base'!$W$41","v":0},null,{"$f":"'3.WEF Status-Base'!$Y$41","v":0},0,{"$f":"'3.WEF Status-Base'!$Z$41","v":0},null,{"$f":"'3.WEF Status-Base'!$AB$41","v":0},0,{"$f":"'3.WEF Status-Base'!$AC$41","v":0},null,{"$f":"'3.WEF Status-Base'!$AE$41","v":0},0,{"$f":"'3.WEF Status-Base'!$AF$41","v":0},null,{"$f":"'3.WEF Status-Base'!$AH$41","v":0},0,{"$f":"'3.WEF Status-Base'!$AI$41","v":0},null,{"$f":"'3.WEF Status-Base'!$AK$41","v":0},0,{"$f":"'3.WEF Status-Base'!$AL$41","v":0},null,{"$f":"'3.WEF Status-Base'!$AN$41","v":0},0,{"$f":"'3.WEF Status-Base'!$AO$41","v":0},null,{"$f":"'3.WEF Status-Base'!$AQ$41","v":0},0,{"$f":"'3.WEF Status-Base'!$AR$41","v":0},null,{"$f":"'3.WEF Status-Base'!$AT$41","v":0},0,{"$f":"'3.WEF Status-Base'!$AU$41","v":0},null,{"$f":"'3.WEF Status-Base'!$AW$41","v":0},0,{"$f":"'3.WEF Status-Base'!$AX$41","v":0},null,{"$f":"'3.WEF Status-Base'!$AZ$41","v":0},0,{"$f":"'3.WEF Status-Base'!$BA$41","v":0},null,{"$f":"'3.WEF Status-Base'!$BC$41","v":0},0,{"$f":"'3.WEF Status-Base'!$BD$41","v":0},{"$f":"'3.WEF Status-Base'!$BE$41","v":0},null,32,{"$f":"'3.WEF Status-Base'!$D$41","v":0},0,{"$f":"'3.WEF Status-Base'!$E$41","v":0},null,{"$f":"'3.WEF Status-Base'!$G$41","v":0},0,{"$f":"'3.WEF Status-Base'!$H$41","v":0},null,{"$f":"'3.WEF Status-Base'!$J$41","v":0},0,{"$f":"'3.WEF Status-Base'!$K$41","v":0},null,{"$f":"'3.WEF Status-Base'!$M$41","v":0},0,{"$f":"'3.WEF Status-Base'!$N$41","v":0},null,{"$f":"'3.WEF Status-Base'!$P$41","v":0},0,{"$f":"'3.WEF Status-Base'!$Q$41","v":0},null,{"$f":"'3.WEF Status-Base'!$S$41","v":0},0,{"$f":"'3.WEF Status-Base'!$T$41","v":0},null,{"$f":"'3.WEF Status-Base'!$V$41","v":0},0,{"$f":"'3.WEF Status-Base'!$W$41","v":0},null,{"$f":"'3.WEF Status-Base'!$Y$41","v":0},0,{"$f":"'3.WEF Status-Base'!$Z$41","v":0},null,{"$f":"'3.WEF Status-Base'!$AB$41","v":0},0,{"$f":"'3.WEF Status-Base'!$AC$41","v":0},null,{"$f":"'3.WEF Status-Base'!$AE$41","v":0},0,{"$f":"'3.WEF Status-Base'!$AF$41","v":0},null,{"$f":"'3.WEF Status-Base'!$AH$41","v":0},0,{"$f":"'3.WEF Status-Base'!$AI$41","v":0},null,{"$f":"'3.WEF Status-Base'!$AK$41","v":0},0,{"$f":"'3.WEF Status-Base'!$AL$41","v":0},null,{"$f":"'3.WEF Status-Base'!$AN$41","v":0},0,{"$f":"'3.WEF Status-Base'!$AO$41","v":0},null,{"$f":"'3.WEF Status-Base'!$AQ$41","v":0},0,{"$f":"'3.WEF Status-Base'!$AR$41","v":0},null,{"$f":"'3.WEF Status-Base'!$AT$41","v":0},0,{"$f":"'3.WEF Status-Base'!$AU$41","v":0},null,{"$f":"'3.WEF Status-Base'!$AW$41","v":0},0,{"$f":"'3.WEF Status-Base'!$AX$41","v":0},null,{"$f":"'3.WEF Status-Base'!$AZ$41","v":0},0,{"$f":"'3.WEF Status-Base'!$BA$41","v":0},null,{"$f":"'3.WEF Status-Base'!$BC$41","v":0},0,{"$f":"'3.WEF Status-Base'!$BD$41","v":0},{"$f":"'3.WEF Status-Base'!$BE$41","v":0}]
[null,"     Disaster recovery and risk management ",null,0,null,33,{"$f":"'3.WEF Status-Base'!$D$42","v":0},0,{"$f":"'3.WEF Status-Base'!$E$42","v":0},null,{"$f":"'3.WEF Status-Base'!$G$42","v":0},0,{"$f":"'3.WEF Status-Base'!$H$42","v":0},null,{"$f":"'3.WEF Status-Base'!$J$42","v":0},0,{"$f":"'3.WEF Status-Base'!$K$42","v":0},null,{"$f":"'3.WEF Status-Base'!$M$42","v":0},0,{"$f":"'3.WEF Status-Base'!$N$42","v":0},null,{"$f":"'3.WEF Status-Base'!$P$42","v":0},0,{"$f":"'3.WEF Status-Base'!$Q$42","v":0},null,{"$f":"'3.WEF Status-Base'!$S$42","v":0},0,{"$f":"'3.WEF Status-Base'!$T$42","v":0},null,{"$f":"'3.WEF Status-Base'!$V$42","v":0},0,{"$f":"'3.WEF Status-Base'!$W$42","v":0},null,{"$f":"'3.WEF Status-Base'!$Y$42","v":0},0,{"$f":"'3.WEF Status-Base'!$Z$42","v":0},null,{"$f":"'3.WEF Status-Base'!$AB$42","v":0},0,{"$f":"'3.WEF Status-Base'!$AC$42","v":0},null,{"$f":"'3.WEF Status-Base'!$AE$42","v":0},0,{"$f":"'3.WEF Status-Base'!$AF$42","v":0},null,{"$f":"'3.WEF Status-Base'!$AH$42","v":0},0,{"$f":"'3.WEF Status-Base'!$AI$42","v":0},null,{"$f":"'3.WEF Status-Base'!$AK$42","v":0},0,{"$f":"'3.WEF Status-Base'!$AL$42","v":0},null,{"$f":"'3.WEF Status-Base'!$AN$42","v":0},0,{"$f":"'3.WEF Status-Base'!$AO$42","v":0},null,{"$f":"'3.WEF Status-Base'!$AQ$42","v":0},0,{"$f":"'3.WEF Status-Base'!$AR$42","v":0},null,{"$f":"'3.WEF Status-Base'!$AT$42","v":0},0,{"$f":"'3.WEF Status-Base'!$AU$42","v":0},null,{"$f":"'3.WEF Status-Base'!$AW$42","v":0},0,{"$f":"'3.WEF Status-Base'!$AX$42","v":0},null,{"$f":"'3.WEF Status-Base'!$AZ$42","v":0},0,{"$f":"'3.WEF Status-Base'!$BA$42","v":0},null,{"$f":"'3.WEF Status-Base'!$BC$42","v":0},0,{"$f":"'3.WEF Status-Base'!$BD$42","v":0},{"$f":"'3.WEF Status-Base'!$BE$42","v":0},null,33,{"$f":"'3.WEF Status-Base'!$D$42","v":0},0,{"$f":"'3.WEF Status-Base'!$E$42","v":0},null,{"$f":"'3.WEF Status-Base'!$G$42","v":0},0,{"$f":"'3.WEF Status-Base'!$H$42","v":0},null,{"$f":"'3.WEF Status-Base'!$J$42","v":0},0,{"$f":"'3.WEF Status-Base'!$K$42","v":0},null,{"$f":"'3.WEF Status-Base'!$M$42","v":0},0,{"$f":"'3.WEF Status-Base'!$N$42","v":0},null,{"$f":"'3.WEF Status-Base'!$P$42","v":0},0,{"$f":"'3.WEF Status-Base'!$Q$42","v":0},null,{"$f":"'3.WEF Status-Base'!$S$42","v":0},0,{"$f":"'3.WEF Status-Base'!$T$42","v":0},null,{"$f":"'3.WEF Status-Base'!$V$42","v":0},0,{"$f":"'3.WEF Status-Base'!$W$42","v":0},null,{"$f":"'3.WEF Status-Base'!$Y$42","v":0},0,{"$f":"'3.WEF Status-Base'!$Z$42","v":0},null,{"$f":"'3.WEF Status-Base'!$AB$42","v":0},0,{"$f":"'3.WEF Status-Base'!$AC$42","v":0},null,{"$f":"'3.WEF Status-Base'!$AE$42","v":0},0,{"$f":"'3.WEF Status-Base'!$AF$42","v":0},null,{"$f":"'3.WEF Status-Base'!$AH$42","v":0},0,{"$f":"'3.WEF Status-Base'!$AI$42","v":0},null,{"$f":"'3.WEF Status-Base'!$AK$42","v":0},0,{"$f":"'3.WEF Status-Base'!$AL$42","v":0},null,{"$f":"'3.WEF Status-Base'!$AN$42","v":0},0,{"$f":"'3.WEF Status-Base'!$AO$42","v":0},null,{"$f":"'3.WEF Status-Base'!$AQ$42","v":0},0,{"$f":"'3.WEF Status-Base'!$AR$42","v":0},null,{"$f":"'3.WEF Status-Base'!$AT$42","v":0},0,{"$f":"'3.WEF Status-Base'!$AU$42","v":0},null,{"$f":"'3.WEF Status-Base'!$AW$42","v":0},0,{"$f":"'3.WEF Status-Base'!$AX$42","v":0},null,{"$f":"'3.WEF Status-Base'!$AZ$42","v":0},0,{"$f":"'3.WEF Status-Base'!$BA$42","v":0},null,{"$f":"'3.WEF Status-Base'!$BC$42","v":0},0,{"$f":"'3.WEF Status-Base'!$BD$42","v":0},{"$f":"'3.WEF Status-Base'!$BE$42","v":0}]
[null,"     R&D and innovation",null,0,null,34,{"$f":"'3.WEF Status-Base'!$D$43","v":0},0,{"$f":"'3.WEF Status-Base'!$E$43","v":0},null,{"$f":"'3.WEF Status-Base'!$G$43","v":0},0,{"$f":"'3.WEF Status-Base'!$H$43","v":0},null,{"$f":"'3.WEF Status-Base'!$J$43","v":0},0,{"$f":"'3.WEF Status-Base'!$K$43","v":0},null,{"$f":"'3.WEF Status-Base'!$M$43","v":0},0,{"$f":"'3.WEF Status-Base'!$N$43","v":0},null,{"$f":"'3.WEF Status-Base'!$P$43","v":0},0,{"$f":"'3.WEF Status-Base'!$Q$43","v":0},null,{"$f":"'3.WEF Status-Base'!$S$43","v":0},0,{"$f":"'3.WEF Status-Base'!$T$43","v":0},null,{"$f":"'3.WEF Status-Base'!$V$43","v":0},0,{"$f":"'3.WEF Status-Base'!$W$43","v":0},null,{"$f":"'3.WEF Status-Base'!$Y$43","v":0},0,{"$f":"'3.WEF Status-Base'!$Z$43","v":0},null,{"$f":"'3.WEF Status-Base'!$AB$43","v":0},0,{"$f":"'3.WEF Status-Base'!$AC$43","v":0},null,{"$f":"'3.WEF Status-Base'!$AE$43","v":0},0,{"$f":"'3.WEF Status-Base'!$AF$43","v":0},null,{"$f":"'3.WEF Status-Base'!$AH$43","v":0},0,{"$f":"'3.WEF Status-Base'!$AI$43","v":0},null,{"$f":"'3.WEF Status-Base'!$AK$43","v":0},0,{"$f":"'3.WEF Status-Base'!$AL$43","v":0},null,{"$f":"'3.WEF Status-Base'!$AN$43","v":0},0,{"$f":"'3.WEF Status-Base'!$AO$43","v":0},null,{"$f":"'3.WEF Status-Base'!$AQ$43","v":0},0,{"$f":"'3.WEF Status-Base'!$AR$43","v":0},null,{"$f":"'3.WEF Status-Base'!$AT$43","v":0},0,{"$f":"'3.WEF Status-Base'!$AU$43","v":0},null,{"$f":"'3.WEF Status-Base'!$AW$43","v":0},0,{"$f":"'3.WEF Status-Base'!$AX$43","v":0},null,{"$f":"'3.WEF Status-Base'!$AZ$43","v":0},0,{"$f":"'3.WEF Status-Base'!$BA$43","v":0},null,{"$f":"'3.WEF Status-Base'!$BC$43","v":0},0,{"$f":"'3.WEF Status-Base'!$BD$43","v":0},{"$f":"'3.WEF Status-Base'!$BE$43","v":0},null,34,{"$f":"'3.WEF Status-Base'!$D$43","v":0},0,{"$f":"'3.WEF Status-Base'!$E$43","v":0},null,{"$f":"'3.WEF Status-Base'!$G$43","v":0},0,{"$f":"'3.WEF Status-Base'!$H$43","v":0},null,{"$f":"'3.WEF Status-Base'!$J$43","v":0},0,{"$f":"'3.WEF Status-Base'!$K$43","v":0},null,{"$f":"'3.WEF Status-Base'!$M$43","v":0},0,{"$f":"'3.WEF Status-Base'!$N$43","v":0},null,{"$f":"'3.WEF Status-Base'!$P$43","v":0},0,{"$f":"'3.WEF Status-Base'!$Q$43","v":0},null,{"$f":"'3.WEF Status-Base'!$S$43","v":0},0,{"$f":"'3.WEF Status-Base'!$T$43","v":0},null,{"$f":"'3.WEF Status-Base'!$V$43","v":0},0,{"$f":"'3.WEF Status-Base'!$W$43","v":0},null,{"$f":"'3.WEF Status-Base'!$Y$43","v":0},0,{"$f":"'3.WEF Status-Base'!$Z$43","v":0},null,{"$f":"'3.WEF Status-Base'!$AB$43","v":0},0,{"$f":"'3.WEF Status-Base'!$AC$43","v":0},null,{"$f":"'3.WEF Status-Base'!$AE$43","v":0},0,{"$f":"'3.WEF Status-Base'!$AF$43","v":0},null,{"$f":"'3.WEF Status-Base'!$AH$43","v":0},0,{"$f":"'3.WEF Status-Base'!$AI$43","v":0},null,{"$f":"'3.WEF Status-Base'!$AK$43","v":0},0,{"$f":"'3.WEF Status-Base'!$AL$43","v":0},null,{"$f":"'3.WEF Status-Base'!$AN$43","v":0},0,{"$f":"'3.WEF Status-Base'!$AO$43","v":0},null,{"$f":"'3.WEF Status-Base'!$AQ$43","v":0},0,{"$f":"'3.WEF Status-Base'!$AR$43","v":0},null,{"$f":"'3.WEF Status-Base'!$AT$43","v":0},0,{"$f":"'3.WEF Status-Base'!$AU$43","v":0},null,{"$f":"'3.WEF Status-Base'!$AW$43","v":0},0,{"$f":"'3.WEF Status-Base'!$AX$43","v":0},null,{"$f":"'3.WEF Status-Base'!$AZ$43","v":0},0,{"$f":"'3.WEF Status-Base'!$BA$43","v":0},null,{"$f":"'3.WEF Status-Base'!$BC$43","v":0},0,{"$f":"'3.WEF Status-Base'!$BD$43","v":0},{"$f":"'3.WEF Status-Base'!$BE$43","v":0}]
[]
[]
[]
[]
[null,"Baseline from sheet 3"]
[null,"Change in Use","Baseline","Change"]
[null,"Change in Source",null,null,null,null,"Baseline",0,null,null,"Baseline",0,null,null,"Baseline",0,null,null,"Baseline",0,null,null,"Baseline",0,null,null,"Baseline",0,null,null,"Baseline",0,null,null,"Baseline",0,null,null,"Baseline",0,null,null,"Baseline",0,null,null,"Baseline",0,null,null,"Baseline",0,null,null,"Baseline",0,null,null,"Baseline",0,null,null,"Baseline",0,null,null,"Baseline",0,null,null,"Baseline",0,null,null,"Baseline",0]
[null,"Availability (Other)",null,null,null,1]
[null,"Processing/treatment/conversion",null,{"$f":"MAX(H305:BZ305)","v":0},null,2,{"$f":"'3.WEF Status-Base'!$D$11","v":0},0,{"$f":"'3.WEF Status-Base'!$E$11","v":0},null,{"$f":"'3.WEF Status-Base'!$G$11","v":0},0,{"$f":"'3.WEF Status-Base'!$H$11","v":0},null,{"$f":"'3.WEF Status-Base'!$J$11","v":0},0,{"$f":"'3.WEF Status-Base'!$K$11","v":0},null,{"$f":"'3.WEF Status-Base'!$M$11","v":0},0,{"$f":"'3.WEF Status-Base'!$N$11","v":0},null,{"$f":"'3.WEF Status-Base'!$P$11","v":0},0,{"$f":"'3.WEF Status-Base'!$Q$11","v":0},null,{"$f":"'3.WEF Status-Base'!$S$11","v":0},0,{"$f":"'3.WEF Status-Base'!$T$11","v":0},null,{"$f":"'3.WEF Status-Base'!$V$11","v":0},0,{"$f":"'3.WEF Status-Base'!$W$11","v":0},null,{"$f":"'3.WEF Status-Base'!$Y$11","v":0},0,{"$f":"'3.WEF Status-Base'!$Z$11","v":0},null,{"$f":"'3.WEF Status-Base'!$AB$11","v":0},0,{"$f":"'3.WEF Status-Base'!$AC$11","v":0},null,{"$f":"'3.WEF Status-Base'!$AE$11","v":0},0,{"$f":"'3.WEF Status-Base'!$AF$11","v":0},null,{"$f":"'3.WEF Status-Base'!$AH$11","v":0},0,{"$f":"'3.WEF Status-Base'!$AI$11","v":0},null,{"$f":"'3.WEF Status-Base'!$AK$11","v":0},0,{"$f":"'3.WEF Status-Base'!$AL$11","v":0},null,{"$f":"'3.WEF Status-Base'!$AN$11","v":0},0,{"$f":"'3.WEF Status-Base'!$AO$11","v":0},null,{"$f":"'3.WEF Status-Base'!$AQ$11","v":0},0,{"$f":"'3.WEF Status-Base'!$AR$11","v":0},null,{"$f":"'3.WEF Status-Base'!$AT$11","v":0},0,{"$f":"'3.WEF Status-Base'!$AU$11","v":0},null,{"$f":"'3.WEF Status-Base'!$AW$11","v":0},0,{"$f":"'3.WEF Status-Base'!$AX$11","v":0},null,{"$f":"'3.WEF Status-Base'!$AZ$11","v":0},0,{"$f":"'3.WEF Status-Base'!$BA$11","v":0},null,{"$f":"'3.WEF Status-Base'!$BC$11","v":0},0,{"$f":"'3.WEF Status-Base'!$BD$11","v":0},{"$f":"'3.WEF Status-Base'!$BE$11","v":0}]
[null,"Timing of delivery (storage)",null,{"$f":"MAX(H306:BZ306)","v":0},null,3,{"$f":"'3.WEF Status-Base'!$D$12","v":0},0,{"$f":"'3.WEF Status-Base'!$E$12","v":0},null,{"$f":"'3.WEF Status-Base'!$G$12","v":0},0,{"$f":"'3.WEF Status-Base'!$H$12","v":0},null,{"$f":"'3.WEF Status-Base'!$J$12","v":0},0,{"$f":"'3.WEF Status-Base'!$K$12","v":0},null,{"$f":"'3.WEF Status-Base'!$M$12","v":0},0,{"$f":"'3.WEF Status-Base'!$N$12","v":0},null,{"$f":"'3.WEF Status-Base'!$P$12","v":0},0,{"$f":"'3.WEF Status-Base'!$Q$12","v":0},null,{"$f":"'3.WEF Status-Base'!$S$12","v":0},0,{"$f":"'3.WEF Status-Base'!$T$12","v":0},null,{"$f":"'3.WEF Status-Base'!$V$12","v":0},0,{"$f":"'3.WEF Status-Base'!$W$12","v":0},null,{"$f":"'3.WEF Status-Base'!$Y$12","v":0},0,{"$f":"'3.WEF Status-Base'!$Z$12","v":0},null,{"$f":"'3.WEF Status-Base'!$AB$12","v":0},0,{"$f":"'3.WEF Status-Base'!$AC$12","v":0},null,{"$f":"'3.WEF Status-Base'!$AE$12","v":0},0,{"$f":"'3.WEF Status-Base'!$AF$12","v":0},null,{"$f":"'3.WEF Status-Base'!$AH$12","v":0},0,{"$f":"'3.WEF Status-Base'!$AI$12","v":0},null,{"$f":"'3.WEF Status-Base'!$AK$12","v":0},0,{"$f":"'3.WEF Status-Base'!$AL$12","v":0},null,{"$f":"'3.WEF Status-Base'!$AN$12","v":0},0,{"$f":"'3.WEF Status-Base'!$AO$12","v":0},null,{"$f":"'3.WEF Status-Base'!$AQ$12","v":0},0,{"$f":"'3.WEF Status-Base'!$AR$12","v":0},null,{"$f":"'3.WEF Status-Base'!$AT$12","v":0},0,{"$f":"'3.WEF Status-Base'!$AU$12","v":0},null,{"$f":"'3.WEF Status-Base'!$AW$12","v":0},0,{"$f":"'3.WEF Status-Base'!$AX$12","v":0},null,{"$f":"'3.WEF Status-Base'!$AZ$12","v":0},0,{"$f":"'3.WEF Status-Base'!$BA$12","v":0},null,{"$f":"'3.WEF Status-Base'!$BC$12","v":0},0,{"$f":"'3.WEF Status-Base'!$BD$12","v":0},{"$f":"'3.WEF Status-Base'!$BE$12","v":0}]
[null,"Distribution (water towers)",null,{"$f":"MAX(H307:BZ307)","v":0},null,4,{"$f":"'3.WEF Status-Base'!$D$13","v":0},0,{"$f":"'3.WEF Status-Base'!$E$13","v":0},null,{"$f":"'3.WEF Status-Base'!$G$13","v":0},0,{"$f":"'3.WEF Status-Base'!$H$13","v":0},null,{"$f":"'3.WEF Status-Base'!$J$13","v":0},0,{"$f":"'3.WEF Status-Base'!$K$13","v":0},null,{"$f":"'3.WEF Status-Base'!$M$13","v":0},0,{"$f":"'3.WEF Status-Base'!$N$13","v":0},null,{"$f":"'3.WEF Status-Base'!$P$13","v":0},0,{"$f":"'3.WEF Status-Base'!$Q$13","v":0},null,{"$f":"'3.WEF Status-Base'!$S$13","v":0},0,{"$f":"'3.WEF Status-Base'!$T$13","v":0},null,{"$f":"'3.WEF Status-Base'!$V$13","v":0},0,{"$f":"'3.WEF Status-Base'!$W$13","v":0},null,{"$f":"'3.WEF Status-Base'!$Y$13","v":0},0,{"$f":"'3.WEF Status-Base'!$Z$13","v":0},null,{"$f":"'3.WEF Status-Base'!$AB$13","v":0},0,{"$f":"'3.WEF Status-Base'!$AC$13","v":0},null,{"$f":"'3.WEF Status-Base'!$AE$13","v":0},0,{"$f":"'3.WEF Status-Base'!$AF$13","v":0},null,{"$f":"'3.WEF Status-Base'!$AH$13","v":0},0,{"$f":"'3.WEF Status-Base'!$AI$13","v":0},null,{"$f":"'3.WEF Status-Base'!$AK$13","v":0},0,{"$f":"'3.WEF Status-Base'!$AL$13","v":0},null,{"$f":"'3.WEF Status-Base'!$AN$13","v":0},0,{"$f":"'3.WEF Status-Base'!$AO$13","v":0},null,{"$f":"'3.WEF Status-Base'!$AQ$13","v":0},0,{"$f":"'3.WEF Status-Base'!$AR$13","v":0},null,{"$f":"'3.WEF Status-Base'!$AT$13","v":0},0,{"$f":"'3.WEF Status-Base'!$AU$13","v":0},null,{"$f":"'3.WEF Status-Base'!$AW$13","v":0},0,{"$f":"'3.WEF Status-Base'!$AX$13","v":0},null,{"$f":"'3.WEF Status-Base'!$AZ$13","v":0},0,{"$f":"'3.WEF Status-Base'!$BA$13","v":0},null,{"$f":"'3.WEF Status-Base'!$BC$13","v":0},0,{"$f":"'3.WEF Status-Base'!$BD$13","v":0},{"$f":"'3.WEF Status-Base'!$BE$13","v":0}]
[null,"Retail (market prices)",null,{"$f":"MAX(H308:BZ308)","v":0},null,5,{"$f":"'3.WEF Status-Base'!$D$14","v":0},0,{"$f":"'3.WEF Status-Base'!$E$14","v":0},null,{"$f":"'3.WEF Status-Base'!$G$14","v":0},0,{"$f":"'3.WEF Status-Base'!$H$14","v":0},null,{"$f":"'3.WEF Status-Base'!$J$14","v":0},0,{"$f":"'3.WEF Status-Base'!$K$14","v":0},null,{"$f":"'3.WEF Status-Base'!$M$14","v":0},0,{"$f":"'3.WEF Status-Base'!$N$14","v":0},null,{"$f":"'3.WEF Status-Base'!$P$14","v":0},0,{"$f":"'3.WEF Status-Base'!$Q$14","v":0},null,{"$f":"'3.WEF Status-Base'!$S$14","v":0},0,{"$f":"'3.WEF Status-Base'!$T$14","v":0},null,{"$f":"'3.WEF Status-Base'!$V$14","v":0},0,{"$f":"'3.WEF Status-Base'!$W$14","v":0},null,{"$f":"'3.WEF Status-Base'!$Y$14","v":0},0,{"$f":"'3.WEF Status-Base'!$Z$14","v":0},null,{"$f":"'3.WEF Status-Base'!$AB$14","v":0},0,{"$f":"'3.WEF Status-Base'!$AC$14","v":0},null,{"$f":"'3.WEF Status-Base'!$AE$14","v":0},0,{"$f":"'3.WEF Status-Base'!$AF$14","v":0},null,{"$f":"'3.WEF Status-Base'!$AH$14","v":0},0,{"$f":"'3.WEF Status-Base'!$AI$14","v":0},null,{"$f":"'3.WEF Status-Base'!$AK$14","v":0},0,{"$f":"'3.WEF Status-Base'!$AL$14","v":0},null,{"$f":"'3.WEF Status-Base'!$AN$14","v":0},0,{"$f":"'3.WEF Status-Base'!$AO$14","v":0},null,{"$f":"'3.WEF Status-Base'!$AQ$14","v":0},0,{"$f":"'3.WEF Status-Base'!$AR$14","v":0},null,{"$f":"'3.WEF Status-Base'!$AT$14","v":0},0,{"$f":"'3.WEF Status-Base'!$AU$14","v":0},null,{"$f":"'3.WEF Status-Base'!$AW$14","v":0},0,{"$f":"'3.WEF Status-Base'!$AX$14","v":0},null,{"$f":"'3.WEF Status-Base'!$AZ$14","v":0},0,{"$f":"'3.WEF Status-Base'!$BA$14","v":0},null,{"$f":"'3.WEF Status-Base'!$BC$14","v":0},0,{"$f":"'3.WEF Status-Base'!$BD$14","v":0},{"$f":"'3.WEF Status-Base'!$BE$14","v":0}]
[null,"Access",null,null,null,6]
[null,"Purchasing power (livelihood income, remittances, credit)\n",null,{"$f":"MAX(H310:BZ310)","v":0},null,7,{"$f":"'3.WEF Status-Base'!$D$16","v":0},0,{"$f":"'3.WEF Status-Base'!$E$16","v":0},null,{"$f":"'3.WEF Status-Base'!$G$16","v":0},0,{"$f":"'3.WEF Status-Base'!$H$16","v":0},null,{"$f":"'3.WEF Status-Base'!$J$16","v":0},0,{"$f":"'3.WEF Status-Base'!$K$16","v":0},null,{"$f":"'3.WEF Status-Base'!$M$16","v":0},0,{"$f":"'3.WEF Status-Base'!$N$16","v":0},null,{"$f":"'3.WEF Status-Base'!$P$16","v":0},0,{"$f":"'3.WEF Status-Base'!$Q$16","v":0},null,{"$f":"'3.WEF Status-Base'!$S$16","v":0},0,{"$f":"'3.WEF Status-Base'!$T$16","v":0},null,{"$f":"'3.WEF Status-Base'!$V$16","v":0},0,{"$f":"'3.WEF Status-Base'!$W$16","v":0},null,{"$f":"'3.WEF Status-Base'!$Y$16","v":0},0,{"$f":"'3.WEF Status-Base'!$Z$16","v":0},null,{"$f":"'3.WEF Status-Base'!$AB$16","v":0},0,{"$f":"'3.WEF Status-Base'!$AC$16","v":0},null,{"$f":"'3.WEF Status-Base'!$AE$16","v":0},0,{"$f":"'3.WEF Status-Base'!$AF$16","v":0},null,{"$f":"'3.WEF Status-Base'!$AH$16","v":0},0,{"$f":"'3.WEF Status-Base'!$AI$16","v":0},null,{"$f":"'3.WEF Status-Base'!$AK$16","v":0},0,{"$f":"'3.WEF Status-Base'!$AL$16","v":0},null,{"$f":"'3.WEF Status-Base'!$AN$16","v":0},0,{"$f":"'3.WEF Status-Base'!$AO$16","v":0},null,{"$f":"'3.WEF Status-Base'!$AQ$16","v":0},0,{"$f":"'3.WEF Status-Base'!$AR$16","v":0},null,{"$f":"'3.WEF Status-Base'!$AT$16","v":0},0,{"$f":"'3.WEF Status-Base'!$AU$16","v":0},null,{"$f":"'3.WEF Status-Base'!$AW$16","v":0},0,{"$f":"'3.WEF Status-Base'!$AX$16","v":0},null,{"$f":"'3.WEF Status-Base'!$AZ$16","v":0},0,{"$f":"'3.WEF Status-Base'!$BA$16","v":0},null,{"$f":"'3.WEF Status-Base'!$BC$16","v":0},0,{"$f":"'3.WEF Status-Base'!$BD$16","v":0},{"$f":"'3.WEF Status-Base'!$BE$16","v":0}]
[null,"Aid (direct provision, saftey nets, subsidies)\n",null,{"$f":"MAX(H311:BZ311)","v":0},null,8,{"$f":"'3.WEF Status-Base'!$D$17","v":0},0,{"$f":"'3.WEF Status-Base'!$E$17","v":0},null,{"$f":"'3.WEF Status-Base'!$G$17","v":0},0,{"$f":"'3.WEF Status-Base'!$H$17","v":0},null,{"$f":"'3.WEF Status-Base'!$J$17","v":0},0,{"$f":"'3.WEF Status-Base'!$K$17","v":0},null,{"$f":"'3.WEF Status-Base'!$M$17","v":0},0,{"$f":"'3.WEF Status-Base'!$N$17","v":0},null,{"$f":"'3.WEF Status-Base'!$P$17","v":0},0,{"$f":"'3.WEF Status-Base'!$Q$17","v":0},null,{"$f":"'3.WEF Status-Base'!$S$17","v":0},0,{"$f":"'3.WEF Status-Base'!$T$17","v":0},null,{"$f":"'3.WEF Status-Base'!$V$17","v":0},0,{"$f":"'3.WEF Status-Base'!$W$17","v":0},null,{"$f":"'3.WEF Status-Base'!$Y$17","v":0},0,{"$f":"'3.WEF Status-Base'!$Z$17","v":0},null,{"$f":"'3.WEF Status-Base'!$AB$17","v":0},0,{"$f":"'3.WEF Status-Base'!$AC$17","v":0},null,{"$f":"'3.WEF Status-Base'!$AE$17","v":0},0,{"$f":"'3.WEF Status-Base'!$AF$17","v":0},null,{"$f":"'3.WEF Status-Base'!$AH$17","v":0},0,{"$f":"'3.WEF Status-Base'!$AI$17","v":0},null,{"$f":"'3.WEF Status-Base'!$AK$17","v":0},0,{"$f":"'3.WEF Status-Base'!$AL$17","v":0},null,{"$f":"'3.WEF Status-Base'!$AN$17","v":0},0,{"$f":"'3.WEF Status-Base'!$AO$17","v":0},null,{"$f":"'3.WEF Status-Base'!$AQ$17","v":0},0,{"$f":"'3.WEF Status-Base'!$AR$17","v":0},null,{"$f":"'3.WEF Status-Base'!$AT$17","v":0},0,{"$f":"'3.WEF Status-Base'!$AU$17","v":0},null,{"$f":"'3.WEF Status-Base'!$AW$17","v":0},0,{"$f":"'3.WEF Status-Base'!$AX$17","v":0},null,{"$f":"'3.WEF Status-Base'!$AZ$17","v":0},0,{"$f":"'3.WEF Status-Base'!$BA$17","v":0},null,{"$f":"'3.WEF Status-Base'!$BC$17","v":0},0,{"$f":"'3.WEF Status-Base'!$BD$17","v":0},{"$f":"'3.WEF Status-Base'!$BE$17","v":0}]
[null,"Self-production (water wells, off-grid power, individual/community gardens)\n",null,{"$f":"MAX(H312:BZ312)","v":0},null,9,{"$f":"'3.WEF Status-Base'!$D$18","v":0},0,{"$f":"'3.WEF Status-Base'!$E$18","v":0},null,{"$f":"'3.WEF Status-Base'!$G$18","v":0},0,{"$f":"'3.WEF Status-Base'!$H$18","v":0},null,{"$f":"'3.WEF Status-Base'!$J$18","v":0},0,{"$f":"'3.WEF Status-Base'!$K$18","v":0},null,{"$f":"'3.WEF Status-Base'!$M$18","v":0},0,{"$f":"'3.WEF Status-Base'!$N$18","v":0},null,{"$f":"'3.WEF Status-Base'!$P$18","v":0},0,{"$f":"'3.WEF Status-Base'!$Q$18","v":0},null,{"$f":"'3.WEF Status-Base'!$S$18","v":0},0,{"$f":"'3.WEF Status-Base'!$T$18","v":0},null,{"$f":"'3.WEF Status-Base'!$V$18","v":0},0,{"$f":"'3.WEF Status-Base'!$W$18","v":0},null,{"$f":"'3.WEF Status-Base'!$Y$18","v":0},0,{"$f":"'3.WEF Status-Base'!$Z$18","v":0},null,{"$f":"'3.WEF Status-Base'!$AB$18","v":0},0,{"$f":"'3.WEF Status-Base'!$AC$18","v":0},null,{"$f":"'3.WEF Status-Base'!$AE$18","v":0},0,{"$f":"'3.WEF Status-Base'!$AF$18","v":0},null,{"$f":"'3.WEF Status-Base'!$AH$18","v":0},0,{"$f":"'3.WEF Status-Base'!$AI$18","v":0},null,{"$f":"'3.WEF Status-Base'!$AK$18","v":0},0,{"$f":"'3.WEF Status-Base'!$AL$18","v":0},null,{"$f":"'3.WEF Status-Base'!$AN$18","v":0},0,{"$f":"'3.WEF Status-Base'!$AO$18","v":0},null,{"$f":"'3.WEF Status-Base'!$AQ$18","v":0},0,{"$f":"'3.WEF Status-Base'!$AR$18","v":0},null,{"$f":"'3.WEF Status-Base'!$AT$18","v":0},0,{"$f":"'3.WEF Status-Base'!$AU$18","v":0},null,{"$f":"'3.WEF Status-Base'!$AW$18","v":0},0,{"$f":"'3.WEF Status-Base'!$AX$18","v":0},null,{"$f":"'3.WEF Status-Base'!$AZ$18","v":0},0,{"$f":"'3.WEF Status-Base'!$BA$18","v":0},null,{"$f":"'3.WEF Status-Base'!$BC$18","v":0},0,{"$f":"'3.WEF Status-Base'!$BD$18","v":0},{"$f":"'3.WEF Status-Base'!$BE$18","v":0}]
[null,"Barter",null,{"$f":"MAX(H313:BZ313)","v":0},null,10,{"$f":"'3.WEF Status-Base'!$D$19","v":0},0,{"$f":"'3.WEF Status-Base'!$E$19","v":0},null,{"$f":"'3.WEF Status-Base'!$G$19","v":0},0,{"$f":"'3.WEF Status-Base'!$H$19","v":0},null,{"$f":"'3.WEF Status-Base'!$J$19","v":0},0,{"$f":"'3.WEF Status-Base'!$K$19","v":0},null,{"$f":"'3.WEF Status-Base'!$M$19","v":0},0,{"$f":"'3.WEF Status-Base'!$N$19","v":0},null,{"$f":"'3.WEF Status-Base'!$P$19","v":0},0,{"$f":"'3.WEF Status-Base'!$Q$19","v":0},null,{"$f":"'3.WEF Status-Base'!$S$19","v":0},0,{"$f":"'3.WEF Status-Base'!$T$19","v":0},null,{"$f":"'3.WEF Status-Base'!$V$19","v":0},0,{"$f":"'3.WEF Status-Base'!$W$19","v":0},null,{"$f":"'3.WEF Status-Base'!$Y$19","v":0},0,{"$f":"'3.WEF Status-Base'!$Z$19","v":0},null,{"$f":"'3.WEF Status-Base'!$AB$19","v":0},0,{"$f":"'3.WEF Status-Base'!$AC$19","v":0},null,{"$f":"'3.WEF Status-Base'!$AE$19","v":0},0,{"$f":"'3.WEF Status-Base'!$AF$19","v":0},null,{"$f":"'3.WEF Status-Base'!$AH$19","v":0},0,{"$f":"'3.WEF Status-Base'!$AI$19","v":0},null,{"$f":"'3.WEF Status-Base'!$AK$19","v":0},0,{"$f":"'3.WEF Status-Base'!$AL$19","v":0},null,{"$f":"'3.WEF Status-Base'!$AN$19","v":0},0,{"$f":"'3.WEF Status-Base'!$AO$19","v":0},null,{"$f":"'3.WEF Status-Base'!$AQ$19","v":0},0,{"$f":"'3.WEF Status-Base'!$AR$19","v":0},null,{"$f":"'3.WEF Status-Base'!$AT$19","v":0},0,{"$f":"'3.WEF Status-Base'!$AU$19","v":0},null,{"$f":"'3.WEF Status-Base'!$AW$19","v":0},0,{"$f":"'3.WEF Status-Base'!$AX$19","v":0},null,{"$f":"'3.WEF Status-Base'!$AZ$19","v":0},0,{"$f":"'3.WEF Status-Base'!$BA$19","v":0},null,{"$f":"'3.WEF Status-Base'!$BC$19","v":0},0,{"$f":"'3.WEF Status-Base'!$BD$19","v":0},{"$f":"'3.WEF Status-Base'!$BE$19","v":0}]
[null,"Supporting Infrastructure",null,null,null,11]
[null,"Built Infrastructure",null,{"$f":"MAX(H315:BZ315)","v":0},null,12,{"$f":"'3.WEF Status-Base'!$D$21","v":0},0,{"$f":"'3.WEF Status-Base'!$E$21","v":0},null,{"$f":"'3.WEF Status-Base'!$G$21","v":0},0,{"$f":"'3.WEF Status-Base'!$H$21","v":0},null,{"$f":"'3.WEF Status-Base'!$J$21","v":0},0,{"$f":"'3.WEF Status-Base'!$K$21","v":0},null,{"$f":"'3.WEF Status-Base'!$M$21","v":0},0,{"$f":"'3.WEF Status-Base'!$N$21","v":0},null,{"$f":"'3.WEF Status-Base'!$P$21","v":0},0,{"$f":"'3.WEF Status-Base'!$Q$21","v":0},null,{"$f":"'3.WEF Status-Base'!$S$21","v":0},0,{"$f":"'3.WEF Status-Base'!$T$21","v":0},null,{"$f":"'3.WEF Status-Base'!$V$21","v":0},0,{"$f":"'3.WEF Status-Base'!$W$21","v":0},null,{"$f":"'3.WEF Status-Base'!$Y$21","v":0},0,{"$f":"'3.WEF Status-Base'!$Z$21","v":0},null,{"$f":"'3.WEF Status-Base'!$AB$21","v":0},0,{"$f":"'3.WEF Status-Base'!$AC$21","v":0},null,{"$f":"'3.WEF Status-Base'!$AE$21","v":0},0,{"$f":"'3.WEF Status-Base'!$AF$21","v":0},null,{"$f":"'3.WEF Status-Base'!$AH$21","v":0},0,{"$f":"'3.WEF Status-Base'!$AI$21","v":0},null,{"$f":"'3.WEF Status-Base'!$AK$21","v":0},0,{"$f":"'3.WEF Status-Base'!$AL$21","v":0},null,{"$f":"'3.WEF Status-Base'!$AN$21","v":0},0,{"$f":"'3.WEF Status-Base'!$AO$21","v":0},null,{"$f":"'3.WEF Status-Base'!$AQ$21","v":0},0,{"$f":"'3.WEF Status-Base'!$AR$21","v":0},null,{"$f":"'3.WEF Status-Base'!$AT$21","v":0},0,{"$f":"'3.WEF Status-Base'!$AU$21","v":0},null,{"$f":"'3.WEF Status-Base'!$AW$21","v":0},0,{"$f":"'3.WEF Status-Base'!$AX$21","v":0},null,{"$f":"'3.WEF Status-Base'!$AZ$21","v":0},0,{"$f":"'3.WEF Status-Base'!$BA$21","v":0},null,{"$f":"'3.WEF Status-Base'!$BC$21","v":0},0,{"$f":"'3.WEF Status-Base'!$BD$21","v":0},{"$f":"'3.WEF Status-Base'!$BE$21","v":0}]
[null,"     Transportation",null,0,null,13,{"$f":"'3.WEF Status-Base'!$D$22","v":0},0,{"$f":"'3.WEF Status-Base'!$E$22","v":0},null,{"$f":"'3.WEF Status-Base'!$G$22","v":0},0,{"$f":"'3.WEF Status-Base'!$H$22","v":0},null,{"$f":"'3.WEF Status-Base'!$J$22","v":0},0,{"$f":"'3.WEF Status-Base'!$K$22","v":0},null,{"$f":"'3.WEF Status-Base'!$M$22","v":0},0,{"$f":"'3.WEF Status-Base'!$N$22","v":0},null,{"$f":"'3.WEF Status-Base'!$P$22","v":0},0,{"$f":"'3.WEF Status-Base'!$Q$22","v":0},null,{"$f":"'3.WEF Status-Base'!$S$22","v":0},0,{"$f":"'3.WEF Status-Base'!$T$22","v":0},null,{"$f":"'3.WEF Status-Base'!$V$22","v":0},0,{"$f":"'3.WEF Status-Base'!$W$22","v":0},null,{"$f":"'3.WEF Status-Base'!$Y$22","v":0},0,{"$f":"'3.WEF Status-Base'!$Z$22","v":0},null,{"$f":"'3.WEF Status-Base'!$AB$22","v":0},0,{"$f":"'3.WEF Status-Base'!$AC$22","v":0},null,{"$f":"'3.WEF Status-Base'!$AE$22","v":0},0,{"$f":"'3.WEF Status-Base'!$AF$22","v":0},null,{"$f":"'3.WEF Status-Base'!$AH$22","v":0},0,{"$f":"'3.WEF Status-Base'!$AI$22","v":0},null,{"$f":"'3.WEF Status-Base'!$AK$22","v":0},0,{"$f":"'3.WEF Status-Base'!$AL$22","v":0},null,{"$f":"'3.WEF Status-Base'!$AN$22","v":0},0,{"$f":"'3.WEF Status-Base'!$AO$22","v":0},null,{"$f":"'3.WEF Status-Base'!$AQ$22","v":0},0,{"$f":"'3.WEF Status-Base'!$AR$22","v":0},null,{"$f":"'3.WEF Status-Base'!$AT$22","v":0},0,{"$f":"'3.WEF Status-Base'!$AU$22","v":0},null,{"$f":"'3.WEF Status-Base'!$AW$22","v":0},0,{"$f":"'3.WEF Status-Base'!$AX$22","v":0},null,{"$f":"'3.WEF Status-Base'!$AZ$22","v":0},0,{"$f":"'3.WEF Status-Base'!$BA$22","v":0},null,{"$f":"'3.WEF Status-Base'!$BC$22","v":0},0,{"$f":"'3.WEF Status-Base'!$BD$22","v":0},{"$f":"'3.WEF Status-Base'!$BE$22","v":0}]
[null,"     Communication",null,0,null,14,{"$f":"'3.WEF Status-Base'!$D$23","v":0},0,{"$f":"'3.WEF Status-Base'!$E$23","v":0},null,{"$f":"'3.WEF Status-Base'!$G$23","v":0},0,{"$f":"'3.WEF Status-Base'!$H$23","v":0},null,{"$f":"'3.WEF Status-Base'!$J$23","v":0},0,{"$f":"'3.WEF Status-Base'!$K$23","v":0},null,{"$f":"'3.WEF Status-Base'!$M$23","v":0},0,{"$f":"'3.WEF Status-Base'!$N$23","v":0},null,{"$f":"'3.WEF Status-Base'!$P$23","v":0},0,{"$f":"'3.WEF Status-Base'!$Q$23","v":0},null,{"$f":"'3.WEF Status-Base'!$S$23","v":0},0,{"$f":"'3.WEF Status-Base'!$T$23","v":0},null,{"$f":"'3.WEF Status-Base'!$V$23","v":0},0,{"$f":"'3.WEF Status-Base'!$W$23","v":0},null,{"$f":"'3.WEF Status-Base'!$Y$23","v":0},0,{"$f":"'3.WEF Status-Base'!$Z$23","v":0},null,{"$f":"'3.WEF Status-Base'!$AB$23","v":0},0,{"$f":"'3.WEF Status-Base'!$AC$23","v":0},null,{"$f":"'3.WEF Status-Base'!$AE$23","v":0},0,{"$f":"'3.WEF Status-Base'!$AF$23","v":0},null,{"$f":"'3.WEF Status-Base'!$AH$23","v":0},0,{"$f":"'3.WEF Status-Base'!$AI$23","v":0},null,{"$f":"'3.WEF Status-Base'!$AK$23","v":0},0,{"$f":"'3.WEF Status-Base'!$AL$23","v":0},null,{"$f":"'3.WEF Status-Base'!$AN$23","v":0},0,{"$f":"'3.WEF Status-Base'!$AO$23","v":0},null,{"$f":"'3.WEF Status-Base'!$AQ$23","v":0},0,{"$f":"'3.WEF Status-Base'!$AR$23","v":0},null,{"$f":"'3.WEF Status-Base'!$AT$23","v":0},0,{"$f":"'3.WEF Status-Base'!$AU$23","v":0},null,{"$f":"'3.WEF Status-Base'!$AW$23","v":0},0,{"$f":"'3.WEF Status-Base'!$AX$23","v":0},null,{"$f":"'3.WEF Status-Base'!$AZ$23","v":0},0,{"$f":"'3.WEF Status-Base'!$BA$23","v":0},null,{"$f":"'3.WEF Status-Base'!$BC$23","v":0},0,{"$f":"'3.WEF Status-Base'!$BD$23","v":0},{"$f":"'3.WEF Status-Base'!$BE$23","v":0}]
[null,"     Waste removal/disposal",null,0,null,15,{"$f":"'3.WEF Status-Base'!$D$24","v":0},0,{"$f":"'3.WEF Status-Base'!$E$24","v":0},null,{"$f":"'3.WEF Status-Base'!$G$24","v":0},0,{"$f":"'3.WEF Status-Base'!$H$24","v":0},null,{"$f":"'3.WEF Status-Base'!$J$24","v":0},0,{"$f":"'3.WEF Status-Base'!$K$24","v":0},null,{"$f":"'3.WEF Status-Base'!$M$24","v":0},0,{"$f":"'3.WEF Status-Base'!$N$24","v":0},null,{"$f":"'3.WEF Status-Base'!$P$24","v":0},0,{"$f":"'3.WEF Status-Base'!$Q$24","v":0},null,{"$f":"'3.WEF Status-Base'!$S$24","v":0},0,{"$f":"'3.WEF Status-Base'!$T$24","v":0},null,{"$f":"'3.WEF Status-Base'!$V$24","v":0},0,{"$f":"'3.WEF Status-Base'!$W$24","v":0},null,{"$f":"'3.WEF Status-Base'!$Y$24","v":0},0,{"$f":"'3.WEF Status-Base'!$Z$24","v":0},null,{"$f":"'3.WEF Status-Base'!$AB$24","v":0},0,{"$f":"'3.WEF Status-Base'!$AC$24","v":0},null,{"$f":"'3.WEF Status-Base'!$AE$24","v":0},0,{"$f":"'3.WEF Status-Base'!$AF$24","v":0},null,{"$f":"'3.WEF Status-Base'!$AH$24","v":0},0,{"$f":"'3.WEF Status-Base'!$AI$24","v":0},null,{"$f":"'3.WEF Status-Base'!$AK$24","v":0},0,{"$f":"'3.WEF Status-Base'!$AL$24","v":0},null,{"$f":"'3.WEF Status-Base'!$AN$24","v":0},0,{"$f":"'3.WEF Status-Base'!$AO$24","v":0},null,{"$f":"'3.WEF Status-Base'!$AQ$24","v":0},0,{"$f":"'3.WEF Status-Base'!$AR$24","v":0},null,{"$f":"'3.WEF Status-Base'!$AT$24","v":0},0,{"$f":"'3.WEF Status-Base'!$AU$24","v":0},null,{"$f":"'3.WEF Status-Base'!$AW$24","v":0},0,{"$f":"'3.WEF Status-Base'!$AX$24","v":0},null,{"$f":"'3.WEF Status-Base'!$AZ$24","v":0},0,{"$f":"'3.WEF Status-Base'!$BA$24","v":0},null,{"$f":"'3.WEF Status-Base'!$BC$24","v":0},0,{"$f":"'3.WEF Status-Base'!$BD$24","v":0},{"$f":"'3.WEF Status-Base'!$BE$24","v":0}]
[null,"Natural Infrastructure",null,0,null,16,{"$f":"'3.WEF Status-Base'!$D$25","v":0},0,{"$f":"'3.WEF Status-Base'!$E$25","v":0},null,{"$f":"'3.WEF Status-Base'!$G$25","v":0},0,{"$f":"'3.WEF Status-Base'!$H$25","v":0},null,{"$f":"'3.WEF Status-Base'!$J$25","v":0},0,{"$f":"'3.WEF Status-Base'!$K$25","v":0},null,{"$f":"'3.WEF Status-Base'!$M$25","v":0},0,{"$f":"'3.WEF Status-Base'!$N$25","v":0},null,{"$f":"'3.WEF Status-Base'!$P$25","v":0},0,{"$f":"'3.WEF Status-Base'!$Q$25","v":0},null,{"$f":"'3.WEF Status-Base'!$S$25","v":0},0,{"$f":"'3.WEF Status-Base'!$T$25","v":0},null,{"$f":"'3.WEF Status-Base'!$V$25","v":0},0,{"$f":"'3.WEF Status-Base'!$W$25","v":0},null,{"$f":"'3.WEF Status-Base'!$Y$25","v":0},0,{"$f":"'3.WEF Status-Base'!$Z$25","v":0},null,{"$f":"'3.WEF Status-Base'!$AB$25","v":0},0,{"$f":"'3.WEF Status-Base'!$AC$25","v":0},null,{"$f":"'3.WEF Status-Base'!$AE$25","v":0},0,{"$f":"'3.WEF Status-Base'!$AF$25","v":0},null,{"$f":"'3.WEF Status-Base'!$AH$25","v":0},0,{"$f":"'3.WEF Status-Base'!$AI$25","v":0},null,{"$f":"'3.WEF Status-Base'!$AK$25","v":0},0,{"$f":"'3.WEF Status-Base'!$AL$25","v":0},null,{"$f":"'3.WEF Status-Base'!$AN$25","v":0},0,{"$f":"'3.WEF Status-Base'!$AO$25","v":0},null,{"$f":"'3.WEF Status-Base'!$AQ$25","v":0},0,{"$f":"'3.WEF Status-Base'!$AR$25","v":0},null,{"$f":"'3.WEF Status-Base'!$AT$25","v":0},0,{"$f":"'3.WEF Status-Base'!$AU$25","v":0},null,{"$f":"'3.WEF Status-Base'!$AW$25","v":0},0,{"$f":"'3.WEF Status-Base'!$AX$25","v":0},null,{"$f":"'3.WEF Status-Base'!$AZ$25","v":0},0,{"$f":"'3.WEF Status-Base'!$BA$25","v":0},null,{"$f":"'3.WEF Status-Base'!$BC$25","v":0},0,{"$f":"'3.WEF Status-Base'!$BD$25","v":0},{"$f":"'3.WEF Status-Base'!$BE$25","v":0}]
[null,"     Air quality maintenance",null,0,null,17,{"$f":"'3.WEF Status-Base'!$D$26","v":0},0,{"$f":"'3.WEF Status-Base'!$E$26","v":0},null,{"$f":"'3.WEF Status-Base'!$G$26","v":0},0,{"$f":"'3.WEF Status-Base'!$H$26","v":0},null,{"$f":"'3.WEF Status-Base'!$J$26","v":0},0,{"$f":"'3.WEF Status-Base'!$K$26","v":0},null,{"$f":"'3.WEF Status-Base'!$M$26","v":0},0,{"$f":"'3.WEF Status-Base'!$N$26","v":0},null,{"$f":"'3.WEF Status-Base'!$P$26","v":0},0,{"$f":"'3.WEF Status-Base'!$Q$26","v":0},null,{"$f":"'3.WEF Status-Base'!$S$26","v":0},0,{"$f":"'3.WEF Status-Base'!$T$26","v":0},null,{"$f":"'3.WEF Status-Base'!$V$26","v":0},0,{"$f":"'3.WEF Status-Base'!$W$26","v":0},null,{"$f":"'3.WEF Status-Base'!$Y$26","v":0},0,{"$f":"'3.WEF Status-Base'!$Z$26","v":0},null,{"$f":"'3.WEF Status-Base'!$AB$26","v":0},0,{"$f":"'3.WEF Status-Base'!$AC$26","v":0},null,{"$f":"'3.WEF Status-Base'!$AE$26","v":0},0,{"$f":"'3.WEF Status-Base'!$AF$26","v":0},null,{"$f":"'3.WEF Status-Base'!$AH$26","v":0},0,{"$f":"'3.WEF Status-Base'!$AI$26","v":0},null,{"$f":"'3.WEF Status-Base'!$AK$26","v":0},0,{"$f":"'3.WEF Status-Base'!$AL$26","v":0},null,{"$f":"'3.WEF Status-Base'!$AN$26","v":0},0,{"$f":"'3.WEF Status-Base'!$AO$26","v":0},null,{"$f":"'3.WEF Status-Base'!$AQ$26","v":0},0,{"$f":"'3.WEF Status-Base'!$AR$26","v":0},null,{"$f":"'3.WEF Status-Base'!$AT$26","v":0},0,{"$f":"'3.WEF Status-Base'!$AU$26","v":0},null,{"$f":"'3.WEF Status-Base'!$AW$26","v":0},0,{"$f":"'3.WEF Status-Base'!$AX$26","v":0},null,{"$f":"'3.WEF Status-Base'!$AZ$26","v":0},0,{"$f":"'3.WEF Status-Base'!$BA$26","v":0},null,{"$f":"'3.WEF Status-Base'!$BC$26","v":0},0,{"$f":"'3.WEF Status-Base'!$BD$26","v":0},{"$f":"'3.WEF Status-Base'!$BE$26","v":0}]
[null,"     Erosion control",null,0,null,18,{"$f":"'3.WEF Status-Base'!$D$27","v":0},0,{"$f":"'3.WEF Status-Base'!$E$27","v":0},null,{"$f":"'3.WEF Status-Base'!$G$27","v":0},0,{"$f":"'3.WEF Status-Base'!$H$27","v":0},null,{"$f":"'3.WEF Status-Base'!$J$27","v":0},0,{"$f":"'3.WEF Status-Base'!$K$27","v":0},null,{"$f":"'3.WEF Status-Base'!$M$27","v":0},0,{"$f":"'3.WEF Status-Base'!$N$27","v":0},null,{"$f":"'3.WEF Status-Base'!$P$27","v":0},0,{"$f":"'3.WEF Status-Base'!$Q$27","v":0},null,{"$f":"'3.WEF Status-Base'!$S$27","v":0},0,{"$f":"'3.WEF Status-Base'!$T$27","v":0},null,{"$f":"'3.WEF Status-Base'!$V$27","v":0},0,{"$f":"'3.WEF Status-Base'!$W$27","v":0},null,{"$f":"'3.WEF Status-Base'!$Y$27","v":0},0,{"$f":"'3.WEF Status-Base'!$Z$27","v":0},null,{"$f":"'3.WEF Status-Base'!$AB$27","v":0},0,{"$f":"'3.WEF Status-Base'!$AC$27","v":0},null,{"$f":"'3.WEF Status-Base'!$AE$27","v":0},0,{"$f":"'3.WEF Status-Base'!$AF$27","v":0},null,{"$f":"'3.WEF Status-Base'!$AH$27","v":0},0,{"$f":"'3.WEF Status-Base'!$AI$27","v":0},null,{"$f":"'3.WEF Status-Base'!$AK$27","v":0},0,{"$f":"'3.WEF Status-Base'!$AL$27","v":0},null,{"$f":"'3.WEF Status-Base'!$AN$27","v":0},0,{"$f":"'3.WEF Status-Base'!$AO$27","v":0},null,{"$f":"'3.WEF Status-Base'!$AQ$27","v":0},0,{"$f":"'3.WEF Status-Base'!$AR$27","v":0},null,{"$f":"'3.WEF Status-Base'!$AT$27","v":0},0,{"$f":"'3.WEF Status-Base'!$AU$27","v":0},null,{"$f":"'3.WEF Status-Base'!$AW$27","v":0},0,{"$f":"'3.WEF Status-Base'!$AX$27","v":0},null,{"$f":"'3.WEF Status-Base'!$AZ$27","v":0},0,{"$f":"'3.WEF Status-Base'!$BA$27","v":0},null,{"$f":"'3.WEF Status-Base'!$BC$27","v":0},0,{"$f":"'3.WEF Status-Base'!$BD$27","v":0},{"$f":"'3.WEF Status-Base'!$BE$27","v":0}]
[null,"     Water purification and treatment",null,0,null,19,{"$f":"'3.WEF Status-Base'!$D$28","v":0},0,{"$f":"'3.WEF Status-Base'!$E$28","v":0},null,{"$f":"'3.WEF Status-Base'!$G$28","v":0},0,{"$f":"'3.WEF Status-Base'!$H$28","v":0},null,{"$f":"'3.WEF Status-Base'!$J$28","v":0},0,{"$f":"'3.WEF Status-Base'!$K$28","v":0},null,{"$f":"'3.WEF Status-Base'!$M$28","v":0},0,{"$f":"'3.WEF Status-Base'!$N$28","v":0},null,{"$f":"'3.WEF Status-Base'!$P$28","v":0},0,{"$f":"'3.WEF Status-Base'!$Q$28","v":0},null,{"$f":"'3.WEF Status-Base'!$S$28","v":0},0,{"$f":"'3.WEF Status-Base'!$T$28","v":0},null,{"$f":"'3.WEF Status-Base'!$V$28","v":0},0,{"$f":"'3.WEF Status-Base'!$W$28","v":0},null,{"$f":"'3.WEF Status-Base'!$Y$28","v":0},0,{"$f":"'3.WEF Status-Base'!$Z$28","v":0},null,{"$f":"'3.WEF Status-Base'!$AB$28","v":0},0,{"$f":"'3.WEF Status-Base'!$AC$28","v":0},null,{"$f":"'3.WEF Status-Base'!$AE$28","v":0},0,{"$f":"'3.WEF Status-Base'!$AF$28","v":0},null,{"$f":"'3.WEF Status-Base'!$AH$28","v":0},0,{"$f":"'3.WEF Status-Base'!$AI$28","v":0},null,{"$f":"'3.WEF Status-Base'!$AK$28","v":0},0,{"$f":"'3.WEF Status-Base'!$AL$28","v":0},null,{"$f":"'3.WEF Status-Base'!$AN$28","v":0},0,{"$f":"'3.WEF Status-Base'!$AO$28","v":0},null,{"$f":"'3.WEF Status-Base'!$AQ$28","v":0},0,{"$f":"'3.WEF Status-Base'!$AR$28","v":0},null,{"$f":"'3.WEF Status-Base'!$AT$28","v":0},0,{"$f":"'3.WEF Status-Base'!$AU$28","v":0},null,{"$f":"'3.WEF Status-Base'!$AW$28","v":0},0,{"$f":"'3.WEF Status-Base'!$AX$28","v":0},null,{"$f":"'3.WEF Status-Base'!$AZ$28","v":0},0,{"$f":"'3.WEF Status-Base'!$BA$28","v":0},null,{"$f":"'3.WEF Status-Base'!$BC$28","v":0},0,{"$f":"'3.WEF Status-Base'!$BD$28","v":0},{"$f":"'3.WEF Status-Base'!$BE$28","v":0}]
[null,"     Biological control",null,0,null,20,{"$f":"'3.WEF Status-Base'!$D$29","v":0},0,{"$f":"'3.WEF Status-Base'!$E$29","v":0},null,{"$f":"'3.WEF Status-Base'!$G$29","v":0},0,{"$f":"'3.WEF Status-Base'!$H$29","v":0},null,{"$f":"'3.WEF Status-Base'!$J$29","v":0},0,{"$f":"'3.WEF Status-Base'!$K$29","v":0},null,{"$f":"'3.WEF Status-Base'!$M$29","v":0},0,{"$f":"'3.WEF Status-Base'!$N$29","v":0},null,{"$f":"'3.WEF Status-Base'!$P$29","v":0},0,{"$f":"'3.WEF Status-Base'!$Q$29","v":0},null,{"$f":"'3.WEF Status-Base'!$S$29","v":0},0,{"$f":"'3.WEF Status-Base'!$T$29","v":0},null,{"$f":"'3.WEF Status-Base'!$V$29","v":0},0,{"$f":"'3.WEF Status-Base'!$W$29","v":0},null,{"$f":"'3.WEF Status-Base'!$Y$29","v":0},0,{"$f":"'3.WEF Status-Base'!$Z$29","v":0},null,{"$f":"'3.WEF Status-Base'!$AB$29","v":0},0,{"$f":"'3.WEF Status-Base'!$AC$29","v":0},null,{"$f":"'3.WEF Status-Base'!$AE$29","v":0},0,{"$f":"'3.WEF Status-Base'!$AF$29","v":0},null,{"$f":"'3.WEF Status-Base'!$AH$29","v":0},0,{"$f":"'3.WEF Status-Base'!$AI$29","v":0},null,{"$f":"'3.WEF Status-Base'!$AK$29","v":0},0,{"$f":"'3.WEF Status-Base'!$AL$29","v":0},null,{"$f":"'3.WEF Status-Base'!$AN$29","v":0},0,{"$f":"'3.WEF Status-Base'!$AO$29","v":0},null,{"$f":"'3.WEF Status-Base'!$AQ$29","v":0},0,{"$f":"'3.WEF Status-Base'!$AR$29","v":0},null,{"$f":"'3.WEF Status-Base'!$AT$29","v":0},0,{"$f":"'3.WEF Status-Base'!$AU$29","v":0},null,{"$f":"'3.WEF Status-Base'!$AW$29","v":0},0,{"$f":"'3.WEF Status-Base'!$AX$29","v":0},null,{"$f":"'3.WEF Status-Base'!$AZ$29","v":0},0,{"$f":"'3.WEF Status-Base'!$BA$29","v":0},null,{"$f":"'3.WEF Status-Base'!$BC$29","v":0},0,{"$f":"'3.WEF Status-Base'!$BD$29","v":0},{"$f":"'3.WEF Status-Base'!$BE$29","v":0}]
[null,"     Pollination",null,0,null,21,{"$f":"'3.WEF Status-Base'!$D$30","v":0},0,{"$f":"'3.WEF Status-Base'!$E$30","v":0},null,{"$f":"'3.WEF Status-Base'!$G$30","v":0},0,{"$f":"'3.WEF Status-Base'!$H$30","v":0},null,{"$f":"'3.WEF Status-Base'!$J$30","v":0},0,{"$f":"'3.WEF Status-Base'!$K$30","v":0},null,{"$f":"'3.WEF Status-Base'!$M$30","v":0},0,{"$f":"'3.WEF Status-Base'!$N$30","v":0},null,{"$f":"'3.WEF Status-Base'!$P$30","v":0},0,{"$f":"'3.WEF Status-Base'!$Q$30","v":0},null,{"$f":"'3.WEF Status-Base'!$S$30","v":0},0,{"$f":"'3.WEF Status-Base'!$T$30","v":0},null,{"$f":"'3.WEF Status-Base'!$V$30","v":0},0,{"$f":"'3.WEF Status-Base'!$W$30","v":0},null,{"$f":"'3.WEF Status-Base'!$Y$30","v":0},0,{"$f":"'3.WEF Status-Base'!$Z$30","v":0},null,{"$f":"'3.WEF Status-Base'!$AB$30","v":0},0,{"$f":"'3.WEF Status-Base'!$AC$30","v":0},null,{"$f":"'3.WEF Status-Base'!$AE$30","v":0},0,{"$f":"'3.WEF Status-Base'!$AF$30","v":0},null,{"$f":"'3.WEF Status-Base'!$AH$30","v":0},0,{"$f":"'3.WEF Status-Base'!$AI$30","v":0},null,{"$f":"'3.WEF Status-Base'!$AK$30","v":0},0,{"$f":"'3.WEF Status-Base'!$AL$30","v":0},null,{"$f":"'3.WEF Status-Base'!$AN$30","v":0},0,{"$f":"'3.WEF Status-Base'!$AO$30","v":0},null,{"$f":"'3.WEF Status-Base'!$AQ$30","v":0},0,{"$f":"'3.WEF Status-Base'!$AR$30","v":0},null,{"$f":"'3.WEF Status-Base'!$AT$30","v":0},0,{"$f":"'3.WEF Status-Base'!$AU$30","v":0},null,{"$f":"'3.WEF Status-Base'!$AW$30","v":0},0,{"$f":"'3.WEF Status-Base'!$AX$30","v":0},null,{"$f":"'3.WEF Status-Base'!$AZ$30","v":0},0,{"$f":"'3.WEF Status-Base'!$BA$30","v":0},null,{"$f":"'3.WEF Status-Base'!$BC$30","v":0},0,{"$f":"'3.WEF Status-Base'!$BD$30","v":0},{"$f":"'3.WEF Status-Base'!$BE$30","v":0}]
[null,"     Storm protection",null,0,null,22,{"$f":"'3.WEF Status-Base'!$D$31","v":0},0,{"$f":"'3.WEF Status-Base'!$E$31","v":0},null,{"$f":"'3.WEF Status-Base'!$G$31","v":0},0,{"$f":"'3.WEF Status-Base'!$H$31","v":0},null,{"$f":"'3.WEF Status-Base'!$J$31","v":0},0,{"$f":"'3.WEF Status-Base'!$K$31","v":0},null,{"$f":"'3.WEF Status-Base'!$M$31","v":0},0,{"$f":"'3.WEF Status-Base'!$N$31","v":0},null,{"$f":"'3.WEF Status-Base'!$P$31","v":0},0,{"$f":"'3.WEF Status-Base'!$Q$31","v":0},null,{"$f":"'3.WEF Status-Base'!$S$31","v":0},0,{"$f":"'3.WEF Status-Base'!$T$31","v":0},null,{"$f":"'3.WEF Status-Base'!$V$31","v":0},0,{"$f":"'3.WEF Status-Base'!$W$31","v":0},null,{"$f":"'3.WEF Status-Base'!$Y$31","v":0},0,{"$f":"'3.WEF Status-Base'!$Z$31","v":0},null,{"$f":"'3.WEF Status-Base'!$AB$31","v":0},0,{"$f":"'3.WEF Status-Base'!$AC$31","v":0},null,{"$f":"'3.WEF Status-Base'!$AE$31","v":0},0,{"$f":"'3.WEF Status-Base'!$AF$31","v":0},null,{"$f":"'3.WEF Status-Base'!$AH$31","v":0},0,{"$f":"'3.WEF Status-Base'!$AI$31","v":0},null,{"$f":"'3.WEF Status-Base'!$AK$31","v":0},0,{"$f":"'3.WEF Status-Base'!$AL$31","v":0},null,{"$f":"'3.WEF Status-Base'!$AN$31","v":0},0,{"$f":"'3.WEF Status-Base'!$AO$31","v":0},null,{"$f":"'3.WEF Status-Base'!$AQ$31","v":0},0,{"$f":"'3.WEF Status-Base'!$AR$31","v":0},null,{"$f":"'3.WEF Status-Base'!$AT$31","v":0},0,{"$f":"'3.WEF Status-Base'!$AU$31","v":0},null,{"$f":"'3.WEF Status-Base'!$AW$31","v":0},0,{"$f":"'3.WEF Status-Base'!$AX$31","v":0},null,{"$f":"'3.WEF Status-Base'!$AZ$31","v":0},0,{"$f":"'3.WEF Status-Base'!$BA$31","v":0},null,{"$f":"'3.WEF Status-Base'!$BC$31","v":0},0,{"$f":"'3.WEF Status-Base'!$BD$31","v":0},{"$f":"'3.WEF Status-Base'!$BE$31","v":0}]
[null,"Supporting Institutions and Policies",null,null,null,23]
[null,"Institutions",null,{"$f":"MAX(H327:BZ327)","v":0},null,24,{"$f":"'3.WEF Status-Base'!$D$33","v":0},0,{"$f":"'3.WEF Status-Base'!$E$33","v":0},null,{"$f":"'3.WEF Status-Base'!$G$33","v":0},0,{"$f":"'3.WEF Status-Base'!$H$33","v":0},null,{"$f":"'3.WEF Status-Base'!$J$33","v":0},0,{"$f":"'3.WEF Status-Base'!$K$33","v":0},null,{"$f":"'3.WEF Status-Base'!$M$33","v":0},0,{"$f":"'3.WEF Status-Base'!$N$33","v":0},null,{"$f":"'3.WEF Status-Base'!$P$33","v":0},0,{"$f":"'3.WEF Status-Base'!$Q$33","v":0},null,{"$f":"'3.WEF Status-Base'!$S$33","v":0},0,{"$f":"'3.WEF Status-Base'!$T$33","v":0},null,{"$f":"'3.WEF Status-Base'!$V$33","v":0},0,{"$f":"'3.WEF Status-Base'!$W$33","v":0},null,{"$f":"'3.WEF Status-Base'!$Y$33","v":0},0,{"$f":"'3.WEF Status-Base'!$Z$33","v":0},null,{"$f":"'3.WEF Status-Base'!$AB$33","v":0},0,{"$f":"'3.WEF Status-Base'!$AC$33","v":0},null,{"$f":"'3.WEF Status-Base'!$AE$33","v":0},0,{"$f":"'3.WEF Status-Base'!$AF$33","v":0},null,{"$f":"'3.WEF Status-Base'!$AH$33","v":0},0,{"$f":"'3.WEF Status-Base'!$AI$33","v":0},null,{"$f":"'3.WEF Status-Base'!$AK$33","v":0},0,{"$f":"'3.WEF Status-Base'!$AL$33","v":0},null,{"$f":"'3.WEF Status-Base'!$AN$33","v":0},0,{"$f":"'3.WEF Status-Base'!$AO$33","v":0},null,{"$f":"'3.WEF Status-Base'!$AQ$33","v":0},0,{"$f":"'3.WEF Status-Base'!$AR$33","v":0},null,{"$f":"'3.WEF Status-Base'!$AT$33","v":0},0,{"$f":"'3.WEF Status-Base'!$AU$33","v":0},null,{"$f":"'3.WEF Status-Base'!$AW$33","v":0},0,{"$f":"'3.WEF Status-Base'!$AX$33","v":0},null,{"$f":"'3.WEF Status-Base'!$AZ$33","v":0},0,{"$f":"'3.WEF Status-Base'!$BA$33","v":0},null,{"$f":"'3.WEF Status-Base'!$BC$33","v":0},0,{"$f":"'3.WEF Status-Base'!$BD$33","v":0},{"$f":"'3.WEF Status-Base'!$BE$33","v":0}]
[null,"     Utility boards",null,0,null,25,{"$f":"'3.WEF Status-Base'!$D$34","v":0},0,{"$f":"'3.WEF Status-Base'!$E$34","v":0},null,{"$f":"'3.WEF Status-Base'!$G$34","v":0},0,{"$f":"'3.WEF Status-Base'!$H$34","v":0},null,{"$f":"'3.WEF Status-Base'!$J$34","v":0},0,{"$f":"'3.WEF Status-Base'!$K$34","v":0},null,{"$f":"'3.WEF Status-Base'!$M$34","v":0},0,{"$f":"'3.WEF Status-Base'!$N$34","v":0},null,{"$f":"'3.WEF Status-Base'!$P$34","v":0},0,{"$f":"'3.WEF Status-Base'!$Q$34","v":0},null,{"$f":"'3.WEF Status-Base'!$S$34","v":0},0,{"$f":"'3.WEF Status-Base'!$T$34","v":0},null,{"$f":"'3.WEF Status-Base'!$V$34","v":0},0,{"$f":"'3.WEF Status-Base'!$W$34","v":0},null,{"$f":"'3.WEF Status-Base'!$Y$34","v":0},0,{"$f":"'3.WEF Status-Base'!$Z$34","v":0},null,{"$f":"'3.WEF Status-Base'!$AB$34","v":0},0,{"$f":"'3.WEF Status-Base'!$AC$34","v":0},null,{"$f":"'3.WEF Status-Base'!$AE$34","v":0},0,{"$f":"'3.WEF Status-Base'!$AF$34","v":0},null,{"$f":"'3.WEF Status-Base'!$AH$34","v":0},0,{"$f":"'3.WEF Status-Base'!$AI$34","v":0},null,{"$f":"'3.WEF Status-Base'!$AK$34","v":0},0,{"$f":"'3.WEF Status-Base'!$AL$34","v":0},null,{"$f":"'3.WEF Status-Base'!$AN$34","v":0},0,{"$f":"'3.WEF Status-Base'!$AO$34","v":0},null,{"$f":"'3.WEF Status-Base'!$AQ$34","v":0},0,{"$f":"'3.WEF Status-Base'!$AR$34","v":0},null,{"$f":"'3.WEF Status-Base'!$AT$34","v":0},0,{"$f":"'3.WEF Status-Base'!$AU$34","v":0},null,{"$f":"'3.WEF Status-Base'!$AW$34","v":0},0,{"$f":"'3.WEF Status-Base'!$AX$34","v":0},null,{"$f":"'3.WEF Status-Base'!$AZ$34","v":0},0,{"$f":"'3.WEF Status-Base'!$BA$34","v":0},null,{"$f":"'3.WEF Status-Base'!$BC$34","v":0},0,{"$f":"'3.WEF Status-Base'!$BD$34","v":0},{"$f":"'3.WEF Status-Base'!$BE$34","v":0}]
[null,"     Resource Coops",null,0,null,26,{"$f":"'3.WEF Status-Base'!$D$35","v":0},0,{"$f":"'3.WEF Status-Base'!$E$35","v":0},null,{"$f":"'3.WEF Status-Base'!$G$35","v":0},0,{"$f":"'3.WEF Status-Base'!$H$35","v":0},null,{"$f":"'3.WEF Status-Base'!$J$35","v":0},0,{"$f":"'3.WEF Status-Base'!$K$35","v":0},null,{"$f":"'3.WEF Status-Base'!$M$35","v":0},0,{"$f":"'3.WEF Status-Base'!$N$35","v":0},null,{"$f":"'3.WEF Status-Base'!$P$35","v":0},0,{"$f":"'3.WEF Status-Base'!$Q$35","v":0},null,{"$f":"'3.WEF Status-Base'!$S$35","v":0},0,{"$f":"'3.WEF Status-Base'!$T$35","v":0},null,{"$f":"'3.WEF Status-Base'!$V$35","v":0},0,{"$f":"'3.WEF Status-Base'!$W$35","v":0},null,{"$f":"'3.WEF Status-Base'!$Y$35","v":0},0,{"$f":"'3.WEF Status-Base'!$Z$35","v":0},null,{"$f":"'3.WEF Status-Base'!$AB$35","v":0},0,{"$f":"'3.WEF Status-Base'!$AC$35","v":0},null,{"$f":"'3.WEF Status-Base'!$AE$35","v":0},0,{"$f":"'3.WEF Status-Base'!$AF$35","v":0},null,{"$f":"'3.WEF Status-Base'!$AH$35","v":0},0,{"$f":"'3.WEF Status-Base'!$AI$35","v":0},null,{"$f":"'3.WEF Status-Base'!$AK$35","v":0},0,{"$f":"'3.WEF Status-Base'!$AL$35","v":0},null,{"$f":"'3.WEF Status-Base'!$AN$35","v":0},0,{"$f":"'3.WEF Status-Base'!$AO$35","v":0},null,{"$f":"'3.WEF Status-Base'!$AQ$35","v":0},0,{"$f":"'3.WEF Status-Base'!$AR$35","v":0},null,{"$f":"'3.WEF Status-Base'!$AT$35","v":0},0,{"$f":"'3.WEF Status-Base'!$AU$35","v":0},null,{"$f":"'3.WEF Status-Base'!$AW$35","v":0},0,{"$f":"'3.WEF Status-Base'!$AX$35","v":0},null,{"$f":"'3.WEF Status-Base'!$AZ$35","v":0},0,{"$f":"'3.WEF Status-Base'!$BA$35","v":0},null,{"$f":"'3.WEF Status-Base'!$BC$35","v":0},0,{"$f":"'3.WEF Status-Base'!$BD$35","v":0},{"$f":"'3.WEF Status-Base'!$BE$35","v":0}]
[null,"     Safety oversight agencies",null,0,null,27,{"$f":"'3.WEF Status-Base'!$D$36","v":0},0,{"$f":"'3.WEF Status-Base'!$E$36","v":0},null,{"$f":"'3.WEF Status-Base'!$G$36","v":0},0,{"$f":"'3.WEF Status-Base'!$H$36","v":0},null,{"$f":"'3.WEF Status-Base'!$J$36","v":0},0,{"$f":"'3.WEF Status-Base'!$K$36","v":0},null,{"$f":"'3.WEF Status-Base'!$M$36","v":0},0,{"$f":"'3.WEF Status-Base'!$N$36","v":0},null,{"$f":"'3.WEF Status-Base'!$P$36","v":0},0,{"$f":"'3.WEF Status-Base'!$Q$36","v":0},null,{"$f":"'3.WEF Status-Base'!$S$36","v":0},0,{"$f":"'3.WEF Status-Base'!$T$36","v":0},null,{"$f":"'3.WEF Status-Base'!$V$36","v":0},0,{"$f":"'3.WEF Status-Base'!$W$36","v":0},null,{"$f":"'3.WEF Status-Base'!$Y$36","v":0},0,{"$f":"'3.WEF Status-Base'!$Z$36","v":0},null,{"$f":"'3.WEF Status-Base'!$AB$36","v":0},0,{"$f":"'3.WEF Status-Base'!$AC$36","v":0},null,{"$f":"'3.WEF Status-Base'!$AE$36","v":0},0,{"$f":"'3.WEF Status-Base'!$AF$36","v":0},null,{"$f":"'3.WEF Status-Base'!$AH$36","v":0},0,{"$f":"'3.WEF Status-Base'!$AI$36","v":0},null,{"$f":"'3.WEF Status-Base'!$AK$36","v":0},0,{"$f":"'3.WEF Status-Base'!$AL$36","v":0},null,{"$f":"'3.WEF Status-Base'!$AN$36","v":0},0,{"$f":"'3.WEF Status-Base'!$AO$36","v":0},null,{"$f":"'3.WEF Status-Base'!$AQ$36","v":0},0,{"$f":"'3.WEF Status-Base'!$AR$36","v":0},null,{"$f":"'3.WEF Status-Base'!$AT$36","v":0},0,{"$f":"'3.WEF Status-Base'!$AU$36","v":0},null,{"$f":"'3.WEF Status-Base'!$AW$36","v":0},0,{"$f":"'3.WEF Status-Base'!$AX$36","v":0},null,{"$f":"'3.WEF Status-Base'!$AZ$36","v":0},0,{"$f":"'3.WEF Status-Base'!$BA$36","v":0},null,{"$f":"'3.WEF Status-Base'!$BC$36","v":0},0,{"$f":"'3.WEF Status-Base'!$BD$36","v":0},{"$f":"'3.WEF Status-Base'!$BE$36","v":0}]
[null,"     Education and training",null,0,null,28,{"$f":"'3.WEF Status-Base'!$D$37","v":0},0,{"$f":"'3.WEF Status-Base'!$E$37","v":0},null,{"$f":"'3.WEF Status-Base'!$G$37","v":0},0,{"$f":"'3.WEF Status-Base'!$H$37","v":0},null,{"$f":"'3.WEF Status-Base'!$J$37","v":0},0,{"$f":"'3.WEF Status-Base'!$K$37","v":0},null,{"$f":"'3.WEF Status-Base'!$M$37","v":0},0,{"$f":"'3.WEF Status-Base'!$N$37","v":0},null,{"$f":"'3.WEF Status-Base'!$P$37","v":0},0,{"$f":"'3.WEF Status-Base'!$Q$37","v":0},null,{"$f":"'3.WEF Status-Base'!$S$37","v":0},0,{"$f":"'3.WEF Status-Base'!$T$37","v":0},null,{"$f":"'3.WEF Status-Base'!$V$37","v":0},0,{"$f":"'3.WEF Status-Base'!$W$37","v":0},null,{"$f":"'3.WEF Status-Base'!$Y$37","v":0},0,{"$f":"'3.WEF Status-Base'!$Z$37","v":0},null,{"$f":"'3.WEF Status-Base'!$AB$37","v":0},0,{"$f":"'3.WEF Status-Base'!$AC$37","v":0},null,{"$f":"'3.WEF Status-Base'!$AE$37","v":0},0,{"$f":"'3.WEF Status-Base'!$AF$37","v":0},null,{"$f":"'3.WEF Status-Base'!$AH$37","v":0},0,{"$f":"'3.WEF Status-Base'!$AI$37","v":0},null,{"$f":"'3.WEF Status-Base'!$AK$37","v":0},0,{"$f":"'3.WEF Status-Base'!$AL$37","v":0},null,{"$f":"'3.WEF Status-Base'!$AN$37","v":0},0,{"$f":"'3.WEF Status-Base'!$AO$37","v":0},null,{"$f":"'3.WEF Status-Base'!$AQ$37","v":0},0,{"$f":"'3.WEF Status-Base'!$AR$37","v":0},null,{"$f":"'3.WEF Status-Base'!$AT$37","v":0},0,{"$f":"'3.WEF Status-Base'!$AU$37","v":0},null,{"$f":"'3.WEF Status-Base'!$AW$37","v":0},0,{"$f":"'3.WEF Status-Base'!$AX$37","v":0},null,{"$f":"'3.WEF Status-Base'!$AZ$37","v":0},0,{"$f":"'3.WEF Status-Base'!$BA$37","v":0},null,{"$f":"'3.WEF Status-Base'!$BC$37","v":0},0,{"$f":"'3.WEF Status-Base'!$BD$37","v":0},{"$f":"'3.WEF Status-Base'!$BE$37","v":0}]
[null,"     Law enforcement and security",null,0,null,29,{"$f":"'3.WEF Status-Base'!$D$38","v":0},0,{"$f":"'3.WEF Status-Base'!$E$38","v":0},null,{"$f":"'3.WEF Status-Base'!$G$38","v":0},0,{"$f":"'3.WEF Status-Base'!$H$38","v":0},null,{"$f":"'3.WEF Status-Base'!$J$38","v":0},0,{"$f":"'3.WEF Status-Base'!$K$38","v":0},null,{"$f":"'3.WEF Status-Base'!$M$38","v":0},0,{"$f":"'3.WEF Status-Base'!$N$38","v":0},null,{"$f":"'3.WEF Status-Base'!$P$38","v":0},0,{"$f":"'3.WEF Status-Base'!$Q$38","v":0},null,{"$f":"'3.WEF Status-Base'!$S$38","v":0},0,{"$f":"'3.WEF Status-Base'!$T$38","v":0},null,{"$f":"'3.WEF Status-Base'!$V$38","v":0},0,{"$f":"'3.WEF Status-Base'!$W$38","v":0},null,{"$f":"'3.WEF Status-Base'!$Y$38","v":0},0,{"$f":"'3.WEF Status-Base'!$Z$38","v":0},null,{"$f":"'3.WEF Status-Base'!$AB$38","v":0},0,{"$f":"'3.WEF Status-Base'!$AC$38","v":0},null,{"$f":"'3.WEF Status-Base'!$AE$38","v":0},0,{"$f":"'3.WEF Status-Base'!$AF$38","v":0},null,{"$f":"'3.WEF Status-Base'!$AH$38","v":0},0,{"$f":"'3.WEF Status-Base'!$AI$38","v":0},null,{"$f":"'3.WEF Status-Base'!$AK$38","v":0},0,{"$f":"'3.WEF Status-Base'!$AL$38","v":0},null,{"$f":"'3.WEF Status-Base'!$AN$38","v":0},0,{"$f":"'3.WEF Status-Base'!$AO$38","v":0},null,{"$f":"'3.WEF Status-Base'!$AQ$38","v":0},0,{"$f":"'3.WEF Status-Base'!$AR$38","v":0},null,{"$f":"'3.WEF Status-Base'!$AT$38","v":0},0,{"$f":"'3.WEF Status-Base'!$AU$38","v":0},null,{"$f":"'3.WEF Status-Base'!$AW$38","v":0},0,{"$f":"'3.WEF Status-Base'!$AX$38","v":0},null,{"$f":"'3.WEF Status-Base'!$AZ$38","v":0},0,{"$f":"'3.WEF Status-Base'!$BA$38","v":0},null,{"$f":"'3.WEF Status-Base'!$BC$38","v":0},0,{"$f":"'3.WEF Status-Base'!$BD$38","v":0},{"$f":"'3.WEF Status-Base'!$BE$38","v":0}]
[null,"Policies and Plans",null,0,null,30,{"$f":"'3.WEF Status-Base'!$D$39","v":0},0,{"$f":"'3.WEF Status-Base'!$E$39","v":0},null,{"$f":"'3.WEF Status-Base'!$G$39","v":0},0,{"$f":"'3.WEF Status-Base'!$H$39","v":0},null,{"$f":"'3.WEF Status-Base'!$J$39","v":0},0,{"$f":"'3.WEF Status-Base'!$K$39","v":0},null,{"$f":"'3.WEF Status-Base'!$M$39","v":0},0,{"$f":"'3.WEF Status-Base'!$N$39","v":0},null,{"$f":"'3.WEF Status-Base'!$P$39","v":0},0,{"$f":"'3.WEF Status-Base'!$Q$39","v":0},null,{"$f":"'3.WEF Status-Base'!$S$39","v":0},0,{"$f":"'3.WEF Status-Base'!$T$39","v":0},null,{"$f":"'3.WEF Status-Base'!$V$39","v":0},0,{"$f":"'3.WEF Status-Base'!$W$39","v":0},null,{"$f":"'3.WEF Status-Base'!$Y$39","v":0},0,{"$f":"'3.WEF Status-Base'!$Z$39","v":0},null,{"$f":"'3.WEF Status-Base'!$AB$39","v":0},0,{"$f":"'3.WEF Status-Base'!$AC$39","v":0},null,{"$f":"'3.WEF Status-Base'!$AE$39","v":0},0,{"$f":"'3.WEF Status-Base'!$AF$39","v":0},null,{"$f":"'3.WEF Status-Base'!$AH$39","v":0},0,{"$f":"'3.WEF Status-Base'!$AI$39","v":0},null,{"$f":"'3.WEF Status-Base'!$AK$39","v":0},0,{"$f":"'3.WEF Status-Base'!$AL$39","v":0},null,{"$f":"'3.WEF Status-Base'!$AN$39","v":0},0,{"$f":"'3.WEF Status-Base'!$AO$39","v":0},null,{"$f":"'3.WEF Status-Base'!$AQ$39","v":0},0,{"$f":"'3.WEF Status-Base'!$AR$39","v":0},null,{"$f":"'3.WEF Status-Base'!$AT$39","v":0},0,{"$f":"'3.WEF Status-Base'!$AU$39","v":0},null,{"$f":"'3.WEF Status-Base'!$AW$39","v":0},0,{"$f":"'3.WEF Status-Base'!$AX$39","v":0},null,{"$f":"'3.WEF Status-Base'!$AZ$39","v":0},0,{"$f":"'3.WEF Status-Base'!$BA$39","v":0},null,{"$f":"'3.WEF Status-Base'!$BC$39","v":0},0,{"$f":"'3.WEF Status-Base'!$BD$39","v":0},{"$f":"'3.WEF Status-Base'!$BE$39","v":0}]
[null,"     Resource use",null,0,null,31,{"$f":"'3.WEF Status-Base'!$D$40","v":0},0,{"$f":"'3.WEF Status-Base'!$E$40","v":0},null,{"$f":"'3.WEF Status-Base'!$G$40","v":0},0,{"$f":"'3.WEF Status-Base'!$H$40","v":0},null,{"$f":"'3.WEF Status-Base'!$J$40","v":0},0,{"$f":"'3.WEF Status-Base'!$K$40","v":0},null,{"$f":"'3.WEF Status-Base'!$M$40","v":0},0,{"$f":"'3.WEF Status-Base'!$N$40","v":0},null,{"$f":"'3.WEF Status-Base'!$P$40","v":0},0,{"$f":"'3.WEF Status-Base'!$Q$40","v":0},null,{"$f":"'3.WEF Status-Base'!$S$40","v":0},0,{"$f":"'3.WEF Status-Base'!$T$40","v":0},null,{"$f":"'3.WEF Status-Base'!$V$40","v":0},0,{"$f":"'3.WEF Status-Base'!$W$40","v":0},null,{"$f":"'3.WEF Status-Base'!$Y$40","v":0},0,{"$f":"'3.WEF Status-Base'!$Z$40","v":0},null,{"$f":"'3.WEF Status-Base'!$AB$40","v":0},0,{"$f":"'3.WEF Status-Base'!$AC$40","v":0},null,{"$f":"'3.WEF Status-Base'!$AE$40","v":0},0,{"$f":"'3.WEF Status-Base'!$AF$40","v":0},null,{"$f":"'3.WEF Status-Base'!$AH$40","v":0},0,{"$f":"'3.WEF Status-Base'!$AI$40","v":0},null,{"$f":"'3.WEF Status-Base'!$AK$40","v":0},0,{"$f":"'3.WEF Status-Base'!$AL$40","v":0},null,{"$f":"'3.WEF Status-Base'!$AN$40","v":0},0,{"$f":"'3.WEF Status-Base'!$AO$40","v":0},null,{"$f":"'3.WEF Status-Base'!$AQ$40","v":0},0,{"$f":"'3.WEF Status-Base'!$AR$40","v":0},null,{"$f":"'3.WEF Status-Base'!$AT$40","v":0},0,{"$f":"'3.WEF Status-Base'!$AU$40","v":0},null,{"$f":"'3.WEF Status-Base'!$AW$40","v":0},0,{"$f":"'3.WEF Status-Base'!$AX$40","v":0},null,{"$f":"'3.WEF Status-Base'!$AZ$40","v":0},0,{"$f":"'3.WEF Status-Base'!$BA$40","v":0},null,{"$f":"'3.WEF Status-Base'!$BC$40","v":0},0,{"$f":"'3.WEF Status-Base'!$BD$40","v":0},{"$f":"'3.WEF Status-Base'!$BE$40","v":0}]
[null,"     Climate change adaptation",null,0,null,32,{"$f":"'3.WEF Status-Base'!$D$41","v":0},0,{"$f":"'3.WEF Status-Base'!$E$41","v":0},null,{"$f":"'3.WEF Status-Base'!$G$41","v":0},0,{"$f":"'3.WEF Status-Base'!$H$41","v":0},null,{"$f":"'3.WEF Status-Base'!$J$41","v":0},0,{"$f":"'3.WEF Status-Base'!$K$41","v":0},null,{"$f":"'3.WEF Status-Base'!$M$41","v":0},0,{"$f":"'3.WEF Status-Base'!$N$41","v":0},null,{"$f":"'3.WEF Status-Base'!$P$41","v":0},0,{"$f":"'3.WEF Status-Base'!$Q$41","v":0},null,{"$f":"'3.WEF Status-Base'!$S$41","v":0},0,{"$f":"'3.WEF Status-Base'!$T$41","v":0},null,{"$f":"'3.WEF Status-Base'!$V$41","v":0},0,{"$f":"'3.WEF Status-Base'!$W$41","v":0},null,{"$f":"'3.WEF Status-Base'!$Y$41","v":0},0,{"$f":"'3.WEF Status-Base'!$Z$41","v":0},null,{"$f":"'3.WEF Status-Base'!$AB$41","v":0},0,{"$f":"'3.WEF Status-Base'!$AC$41","v":0},null,{"$f":"'3.WEF Status-Base'!$AE$41","v":0},0,{"$f":"'3.WEF Status-Base'!$AF$41","v":0},null,{"$f":"'3.WEF Status-Base'!$AH$41","v":0},0,{"$f":"'3.WEF Status-Base'!$AI$41","v":0},null,{"$f":"'3.WEF Status-Base'!$AK$41","v":0},0,{"$f":"'3.WEF Status-Base'!$AL$41","v":0},null,{"$f":"'3.WEF Status-Base'!$AN$41","v":0},0,{"$f":"'3.WEF Status-Base'!$AO$41","v":0},null,{"$f":"'3.WEF Status-Base'!$AQ$41","v":0},0,{"$f":"'3.WEF Status-Base'!$AR$41","v":0},null,{"$f":"'3.WEF Status-Base'!$AT$41","v":0},0,{"$f":"'3.WEF Status-Base'!$AU$41","v":0},null,{"$f":"'3.WEF Status-Base'!$AW$41","v":0},0,{"$f":"'3.WEF Status-Base'!$AX$41","v":0},null,{"$f":"'3.WEF Status-Base'!$AZ$41","v":0},0,{"$f":"'3.WEF Status-Base'!$BA$41","v":0},null,{"$f":"'3.WEF Status-Base'!$BC$41","v":0},0,{"$f":"'3.WEF Status-Base'!$BD$41","v":0},{"$f":"'3.WEF Status-Base'!$BE$41","v":0}]
[null,"     Disaster recovery and risk management ",null,0,null,33,{"$f":"'3.WEF Status-Base'!$D$42","v":0},0,{"$f":"'3.WEF Status-Base'!$E$42","v":0},null,{"$f":"'3.WEF Status-Base'!$G$42","v":0},0,{"$f":"'3.WEF Status-Base'!$H$42","v":0},null,{"$f":"'3.WEF Status-Base'!$J$42","v":0},0,{"$f":"'3.WEF Status-Base'!$K$42","v":0},null,{"$f":"'3.WEF Status-Base'!$M$42","v":0},0,{"$f":"'3.WEF Status-Base'!$N$42","v":0},null,{"$f":"'3.WEF Status-Base'!$P$42","v":0},0,{"$f":"'3.WEF Status-Base'!$Q$42","v":0},null,{"$f":"'3.WEF Status-Base'!$S$42","v":0},0,{"$f":"'3.WEF Status-Base'!$T$42","v":0},null,{"$f":"'3.WEF Status-Base'!$V$42","v":0},0,{"$f":"'3.WEF Status-Base'!$W$42","v":0},null,{"$f":"'3.WEF Status-Base'!$Y$42","v":0},0,{"$f":"'3.WEF Status-Base'!$Z$42","v":0},null,{"$f":"'3.WEF Status-Base'!$AB$42","v":0},0,{"$f":"'3.WEF Status-Base'!$AC$42","v":0},null,{"$f":"'3.WEF Status-Base'!$AE$42","v":0},0,{"$f":"'3.WEF Status-Base'!$AF$42","v":0},null,{"$f":"'3.WEF Status-Base'!$AH$42","v":0},0,{"$f":"'3.WEF Status-Base'!$AI$42","v":0},null,{"$f":"'3.WEF Status-Base'!$AK$42","v":0},0,{"$f":"'3.WEF Status-Base'!$AL$42","v":0},null,{"$f":"'3.WEF Status-Base'!$AN$42","v":0},0,{"$f":"'3.WEF Status-Base'!$AO$42","v":0},null,{"$f":"'3.WEF Status-Base'!$AQ$42","v":0},0,{"$f":"'3.WEF Status-Base'!$AR$42","v":0},null,{"$f":"'3.WEF Status-Base'!$AT$42","v":0},0,{"$f":"'3.WEF Status-Base'!$AU$42","v":0},null,{"$f":"'3.WEF Status-Base'!$AW$42","v":0},0,{"$f":"'3.WEF Status-Base'!$AX$42","v":0},null,{"$f":"'3.WEF Status-Base'!$AZ$42","v":0},0,{"$f":"'3.WEF Status-Base'!$BA$42","v":0},null,{"$f":"'3.WEF Status-Base'!$BC$42","v":0},0,{"$f":"'3.WEF Status-Base'!$BD$42","v":0},{"$f":"'3.WEF Status-Base'!$BE$42","v":0}]
[null,"     R&D and innovation",null,0,null,34,{"$f":"'3.WEF Status-Base'!$D$43","v":0},0,{"$f":"'3.WEF Status-Base'!$E$43","v":0},null,{"$f":"'3.WEF Status-Base'!$G$43","v":0},0,{"$f":"'3.WEF Status-Base'!$H$43","v":0},null,{"$f":"'3.WEF Status-Base'!$J$43","v":0},0,{"$f":"'3.WEF Status-Base'!$K$43","v":0},null,{"$f":"'3.WEF Status-Base'!$M$43","v":0},0,{"$f":"'3.WEF Status-Base'!$N$43","v":0},null,{"$f":"'3.WEF Status-Base'!$P$43","v":0},0,{"$f":"'3.WEF Status-Base'!$Q$43","v":0},null,{"$f":"'3.WEF Status-Base'!$S$43","v":0},0,{"$f":"'3.WEF Status-Base'!$T$43","v":0},null,{"$f":"'3.WEF Status-Base'!$V$43","v":0},0,{"$f":"'3.WEF Status-Base'!$W$43","v":0},null,{"$f":"'3.WEF Status-Base'!$Y$43","v":0},0,{"$f":"'3.WEF Status-Base'!$Z$43","v":0},null,{"$f":"'3.WEF Status-Base'!$AB$43","v":0},0,{"$f":"'3.WEF Status-Base'!$AC$43","v":0},null,{"$f":"'3.WEF Status-Base'!$AE$43","v":0},0,{"$f":"'3.WEF Status-Base'!$AF$43","v":0},null,{"$f":"'3.WEF Status-Base'!$AH$43","v":0},0,{"$f":"'3.WEF Status-Base'!$AI$43","v":0},null,{"$f":"'3.WEF Status-Base'!$AK$43","v":0},0,{"$f":"'3.WEF Status-Base'!$AL$43","v":0},null,{"$f":"'3.WEF Status-Base'!$AN$43","v":0},0,{"$f":"'3.WEF Status-Base'!$AO$43","v":0},null,{"$f":"'3.WEF Status-Base'!$AQ$43","v":0},0,{"$f":"'3.WEF Status-Base'!$AR$43","v":0},null,{"$f":"'3.WEF Status-Base'!$AT$43","v":0},0,{"$f":"'3.WEF Status-Base'!$AU$43","v":0},null,{"$f":"'3.WEF Status-Base'!$AW$43","v":0},0,{"$f":"'3.WEF Status-Base'!$AX$43","v":0},null,{"$f":"'3.WEF Status-Base'!$AZ$43","v":0},0,{"$f":"'3.WEF Status-Base'!$BA$43","v":0},null,{"$f":"'3.WEF Status-Base'!$BC$43","v":0},0,{"$f":"'3.WEF Status-Base'!$BD$43","v":0},{"$f":"'3.WEF Status-Base'!$BE$43","v":0}]

{"sheet":"8a.WEF Mine-Composite","index":8,"n_rows":44,"n_cols":241,"rows_kept":44,"cut":false,"hidden":false,"merged":[[5,162,5,166],[5,149,5,153],[5,45,5,49],[5,136,5,140],[5,84,5,88],[5,58,5,62],[5,71,5,75],[5,97,5,101],[5,110,5,114],[5,123,5,127],[5,6,5,10],[7,19,9,19],[5,19,5,23],[7,6,9,6],[5,32,5,36],[5,175,5,179],[5,188,5,192],[5,201,5,205],[5,214,5,218],[5,227,5,231]]}
[null,"WEF Security"]
[null,"WEF Benefit-Impact from Mining"]
[null,{"$f":"'2.WEF Inventory Base'!C3","v":"Community A"}]
[null,"User Guidance Notes"]
[null,"WEF SECURITY Components"]
[null,"Source",null,"X",null,null,"Active ",null,null,null,null,{"$f":"'6.WEF Inventory Mine'!$O$10","v":"N"},{"$f":"'6.WEF Inventory Mine'!$B$10","v":"Surface Water"},null,null,null,null,null,null,"Active ",null,null,null,null,{"$f":"'6.WEF Inventory Mine'!$O$11","v":"N"},{"$f":"'6.WEF Inventory Mine'!$B$11","v":"Groundwater"},null,null,null,null,null,null,"Active ",null,null,null,null,{"$f":"'6.WEF Inventory Mine'!O12","v":"N"},{"$f":"'6.WEF Inventory Mine'!$B$12","v":"Storage Water"},null,null,null,null,null,null,"Active ",null,null,null,null,{"$f":"'6.WEF Inventory Mine'!$O$13","v":"N"},{"$f":"'6.WEF Inventory Mine'!$B$13","v":"Rainwater Harvest"},null,null,null,null,null,null,"Active ",null,null,null,null,{"$f":"'6.WEF Inventory Mine'!$O$14","v":"N"},{"$f":"'6.WEF Inventory Mine'!$B$14","v":"Imported"},null,null,null,null,null,null,"Active ",null,null,null,null,{"$f":"'6.WEF Inventory Mine'!$O$15","v":"N"},{"$f":"'6.WEF Inventory Mine'!$B$15","v":"Other"},null,null,null,null,null,null,"Active ",null,null,null,null,{"$f":"'6.WEF Inventory Mine'!$O$22","v":"N"},{"$f":"'6.WEF Inventory Mine'!$B$22","v":"Biomass (Wood)"},null,null,null,null,null,null,"Active ",null,null,null,null,{"$f":"'6.WEF Inventory Mine'!$O$23","v":"N"},{"$f":"'6.WEF Inventory Mine'!$B$23","v":"Diesel, Petrol"},null,null,null,null,null,null,"Active ",null,null,null,null,{"$f":"'6.WEF Inventory Mine'!$O$24","v":"N"},{"$f":"'6.WEF Inventory Mine'!$B$24","v":"Electric Grid"},null,null,null,null,null,null,"Active ",null,null,null,null,{"$f":"'6.WEF Inventory Mine'!$O$25","v":"N"},{"$f":"'6.WEF Inventory Mine'!$B$25","v":"Propane (Gas)"},null,null,null,null,null,null,"Active ",null,null,null,null,{"$f":"'6.WEF Inventory Mine'!$O$26","v":"N"},{"$f":"'6.WEF Inventory Mine'!$B$26","v":"Renewable"},null,null,null,null,null,null,"Active ",null,null,null,null,{"$f":"'6.WEF Inventory Mine'!$O$27","v":"N"},{"$f":"'6.WEF Inventory Mine'!$B$27","v":"Other"},null,null,null,null,null,null,"Active ",null,null,null,null,{"$f":"'6.WEF Inventory Mine'!O34","v":"N"},{"$f":"'6.WEF Inventory Mine'!B34","v":"Self Produced"},null,null,null,null,null,null,"Active ",null,null,null,null,{"$f":"'6.WEF Inventory Mine'!O35","v":"N"},{"$f":"'6.WEF Inventory Mine'!B35","v":"Purchased Locally"},null,null,null,null,null,null,"Active ",null,null,null,null,{"$f":"'6.WEF Inventory Mine'!O36","v":"N"},{"$f":"'6.WEF Inventory Mine'!B36","v":"Imported"},null,null,null,null,null,null,"Active ",null,null,null,null,{"$f":"'6.WEF Inventory Mine'!O37","v":"N"},{"$f":"'6.WEF Inventory Mine'!B37","v":"Other"},null,null,null,null,null,null,"Active ",null,null,null,null,{"$f":"'6.WEF Inventory Mine'!O38","v":"N"},{"$f":"'6.WEF Inventory Mine'!B38","v":0},null,null,null,null,null,null,"Active ",null,null,null,null,{"$f":"'6.WEF Inventory Mine'!O39","v":"N"},{"$f":"'6.WEF Inventory Mine'!B39","v":0}]
[null,"Relevance Threshold",null,1,null,null,{"$f":"IF(MAX(G12:G44)<>0,\"Y\",\"N\")","v":"N"},{"$f":"IF(MAX(H12:H44)<>0,\"Y\",IF(MIN(H12:H44)<>0,\"Y\",\"N\"))","v":"N"},{"$f":"IF(MAX(I12:I44)<>0,\"Y\",IF(MIN(I12:I44)<>0,\"Y\",\"N\"))","v":"N"},{"$f":"IF(MAX(J12:J44)<>0,\"Y\",IF(MIN(J12:J44)<>0,\"Y\",\"N\"))","v":"N"},{"$f":"IF(MAX(K12:K44)<>0,\"Y\",IF(MIN(K12:K44)<>0,\"Y\",\"N\"))","v":"N"},{"$f":"IF(MAX(L12:L44)<>0,\"Y\",IF(MIN(L12:L44)<>0,\"Y\",\"N\"))","v":"N"},"Mining Benefit & Impacts","Actions","Status Indicator","Pressure Indicator","Action Indicator",null,null,{"$f":"IF(MAX(T12:T44)<>0,\"Y\",\"N\")","v":"N"},{"$f":"IF(MAX(U12:U44)<>0,\"Y\",IF(MIN(U12:U44)<>0,\"Y\",\"N\"))","v":"N"},{"$f":"IF(MAX(V12:V44)<>0,\"Y\",IF(MIN(V12:V44)<>0,\"Y\",\"N\"))","v":"N"},{"$f":"IF(MAX(W12:W44)<>0,\"Y\",IF(MIN(W12:W44)<>0,\"Y\",\"N\"))","v":"N"},{"$f":"IF(MAX(X12:X44)<>0,\"Y\",IF(MIN(X12:X44)<>0,\"Y\",\"N\"))","v":"N"},{"$f":"IF(MAX(Y12:Y44)<>0,\"Y\",IF(MIN(Y12:Y44)<>0,\"Y\",\"N\"))","v":"N"},"Mining Benefit & Impacts","Actions","Status Indicator","Pressure Indicator","Action Indicator",null,null,{"$f":"IF(MAX(AG12:AG44)<>0,\"Y\",\"N\")","v":"N"},{"$f":"IF(MAX(AH12:AH44)<>0,\"Y\",IF(MIN(AH12:AH44)<>0,\"Y\",\"N\"))","v":"N"},{"$f":"IF(MAX(AI12:AI44)<>0,\"Y\",IF(MIN(AI12:AI44)<>0,\"Y\",\"N\"))","v":"N"},{"$f":"IF(MAX(AJ12:AJ44)<>0,\"Y\",IF(MIN(AJ12:AJ44)<>0,\"Y\",\"N\"))","v":"N"},{"$f":"IF(MAX(AK12:AK44)<>0,\"Y\",IF(MIN(AK12:AK44)<>0,\"Y\",\"N\"))","v":"N"},{"$f":"IF(MAX(AL12:AL44)<>0,\"Y\",IF(MIN(AL12:AL44)<>0,\"Y\",\"N\"))","v":"N"},"Mining Benefit & Impacts","Actions","Status Indicator","Pressure Indicator","Action Indicator",null,null,{"$f":"IF(MAX(AT12:AT44)<>0,\"Y\",\"N\")","v":"N"},{"$f":"IF(MAX(AU12:AU44)<>0,\"Y\",IF(MIN(AU12:AU44)<>0,\"Y\",\"N\"))","v":"N"},{"$f":"IF(MAX(AV12:AV44)<>0,\"Y\",IF(MIN(AV12:AV44)<>0,\"Y\",\"N\"))","v":"N"},{"$f":"IF(MAX(AW12:AW44)<>0,\"Y\",IF(MIN(AW12:AW44)<>0,\"Y\",\"N\"))","v":"N"},{"$f":"IF(MAX(AX12:AX44)<>0,\"Y\",IF(MIN(AX12:AX44)<>0,\"Y\",\"N\"))","v":"N"},{"$f":"IF(MAX(AY12:AY44)<>0,\"Y\",IF(MIN(AY12:AY44)<>0,\"Y\",\"N\"))","v":"N"},"Mining Benefit & Impacts","Actions","Status Indicator","Pressure Indicator","Action Indicator",null,null,{"$f":"IF(MAX(BG12:BG44)<>0,\"Y\",\"N\")","v":"N"},{"$f":"IF(MAX(BH12:BH44)<>0,\"Y\",IF(MIN(BH12:BH44)<>0,\"Y\",\"N\"))","v":"N"},{"$f":"IF(MAX(BI12:BI44)<>0,\"Y\",IF(MIN(BI12:BI44)<>0,\"Y\",\"N\"))","v":"N"},{"$f":"IF(MAX(BJ12:BJ44)<>0,\"Y\",IF(MIN(BJ12:BJ44)<>0,\"Y\",\"N\"))","v":"N"},{"$f":"IF(MAX(BK12:BK44)<>0,\"Y\",IF(MIN(BK12:BK44)<>0,\"Y\",\"N\"))","v":"N"},{"$f":"IF(MAX(BL12:BL44)<>0,\"Y\",IF(MIN(BL12:BL44)<>0,\"Y\",\"N\"))","v":"N"},"Mining Benefit & Impacts","Actions","Status Indicator","Pressure Indicator","Action Indicator",null,null,{"$f":"IF(MAX(BT12:BT44)<>0,\"Y\",\"N\")","v":"N"},{"$f":"IF(MAX(BU12:BU44)<>0,\"Y\",IF(MIN(BU12:BU44)<>0,\"Y\",\"N\"))","v":"N"},{"$f":"IF(MAX(BV12:BV44)<>0,\"Y\",IF(MIN(BV12:BV44)<>0,\"Y\",\"N\"))","v":"N"},{"$f":"IF(MAX(BW12:BW44)<>0,\"Y\",IF(MIN(BW12:BW44)<>0,\"Y\",\"N\"))","v":"N"},{"$f":"IF(MAX(BX12:BX44)<>0,\"Y\",IF(MIN(BX12:BX44)<>0,\"Y\",\"N\"))","v":"N"},{"$f":"IF(MAX(BY12:BY44)<>0,\"Y\",IF(MIN(BY12:BY44)<>0,\"Y\",\"N\"))","v":"N"},"Mining Benefit & Impacts","Actions","Status Indicator","Pressure Indicator","Action Indicator",null,null,{"$f":"IF(MAX(CG12:CG44)<>0,\"Y\",\"N\")","v":"N"},{"$f":"IF(MAX(CH12:CH44)<>0,\"Y\",IF(MIN(CH12:CH44)<>0,\"Y\",\"N\"))","v":"N"},{"$f":"IF(MAX(CI12:CI44)<>0,\"Y\",IF(MIN(CI12:CI44)<>0,\"Y\",\"N\"))","v":"N"},{"$f":"IF(MAX(CJ12:CJ44)<>0,\"Y\",IF(MIN(CJ12:CJ44)<>0,\"Y\",\"N\"))","v":"N"},{"$f":"IF(MAX(CK12:CK44)<>0,\"Y\",IF(MIN(CK12:CK44)<>0,\"Y\",\"N\"))","v":"N"},{"$f":"IF(MAX(CL12:CL44)<>0,\"Y\",IF(MIN(CL12:CL44)<>0,\"Y\",\"N\"))","v":"N"},"Mining Benefit & Impacts","Actions","Status Indicator","Pressure Indicator","Action Indicator",null,null,{"$f":"IF(MAX(CT12:CT44)<>0,\"Y\",\"N\")","v":"N"},{"$f":"IF(MAX(CU12:CU44)<>0,\"Y\",IF(MIN(CU12:CU44)<>0,\"Y\",\"N\"))","v":"N"},{"$f":"IF(MAX(CV12:CV44)<>0,\"Y\",IF(MIN(CV12:CV44)<>0,\"Y\",\"N\"))","v":"N"},{"$f":"IF(MAX(CW12:CW44)<>0,\"Y\",IF(MIN(CW12:CW44)<>0,\"Y\",\"N\"))","v":"N"},{"$f":"IF(MAX(CX12:CX44)<>0,\"Y\",IF(MIN(CX12:CX44)<>0,\"Y\",\"N\"))","v":"N"},{"$f":"IF(MAX(CY12:CY44)<>0,\"Y\",IF(MIN(CY12:CY44)<>0,\"Y\",\"N\"))","v":"N"},"Mining Benefit & Impacts","Actions","Status Indicator","Pressure Indicator","Action Indicator",null,null,{"$f":"IF(MAX(DG12:DG44)<>0,\"Y\",\"N\")","v":"N"},{"$f":"IF(MAX(DH12:DH44)<>0,\"Y\",IF(MIN(DH12:DH44)<>0,\"Y\",\"N\"))","v":"N"},{"$f":"IF(MAX(DI12:DI44)<>0,\"Y\",IF(MIN(DI12:DI44)<>0,\"Y\",\"N\"))","v":"N"},{"$f":"IF(MAX(DJ12:DJ44)<>0,\"Y\",IF(MIN(DJ12:DJ44)<>0,\"Y\",\"N\"))","v":"N"},{"$f":"IF(MAX(DK12:DK44)<>0,\"Y\",IF(MIN(DK12:DK44)<>0,\"Y\",\"N\"))","v":"N"},{"$f":"IF(MAX(DL12:DL44)<>0,\"Y\",IF(MIN(DL12:DL44)<>0,\"Y\",\"N\"))","v":"N"},"Mining Benefit & Impacts","Actions","Status Indicator","Pressure Indicator","Action Indicator",null,null,{"$f":"IF(MAX(DT12:DT44)<>0,\"Y\",\"N\")","v":"N"},{"$f":"IF(MAX(DU12:DU44)<>0,\"Y\",IF(MIN(DU12:DU44)<>0,\"Y\",\"N\"))","v":"N"},{"$f":"IF(MAX(DV12:DV44)<>0,\"Y\",IF(MIN(DV12:DV44)<>0,\"Y\",\"N\"))","v":"N"},{"$f":"IF(MAX(DW12:DW44)<>0,\"Y\",IF(MIN(DW12:DW44)<>0,\"Y\",\"N\"))","v":"N"},{"$f":"IF(MAX(DX12:DX44)<>0,\"Y\",IF(MIN(DX12:DX44)<>0,\"Y\",\"N\"))","v":"N"},{"$f":"IF(MAX(DY12:DY44)<>0,\"Y\",IF(MIN(DY12:DY44)<>0,\"Y\",\"N\"))","v":"N"},"Mining Benefit & Impacts","Actions","Status Indicator","Pressure Indicator","Action Indicator",null,null,{"$f":"IF(MAX(EG12:EG44)<>0,\"Y\",\"N\")","v":"N"},{"$f":"IF(MAX(EH12:EH44)<>0,\"Y\",IF(MIN(EH12:EH44)<>0,\"Y\",\"N\"))","v":"N"},{"$f":"IF(MAX(EI12:EI44)<>0,\"Y\",IF(MIN(EI12:EI44)<>0,\"Y\",\"N\"))","v":"N"},{"$f":"IF(MAX(EJ12:EJ44)<>0,\"Y\",IF(MIN(EJ12:EJ44)<>0,\"Y\",\"N\"))","v":"N"},{"$f":"IF(MAX(EK12:EK44)<>0,\"Y\",IF(MIN(EK12:EK44)<>0,\"Y\",\"N\"))","v":"N"},{"$f":"IF(MAX(EL12:EL44)<>0,\"Y\",IF(MIN(EL12:EL44)<>0,\"Y\",\"N\"))","v":"N"},"Mining Benefit & Impacts","Actions","Status Indicator","Pressure Indicator","Action Indicator",null,null,{"$f":"IF(MAX(ET12:ET44)<>0,\"Y\",\"N\")","v":"N"},{"$f":"IF(MAX(EU12:EU44)<>0,\"Y\",IF(MIN(EU12:EU44)<>0,\"Y\",\"N\"))","v":"N"},{"$f":"IF(MAX(EV12:EV44)<>0,\"Y\",IF(MIN(EV12:EV44)<>0,\"Y\",\"N\"))","v":"N"},{"$f":"IF(MAX(EW12:EW44)<>0,\"Y\",IF(MIN(EW12:EW44)<>0,\"Y\",\"N\"))","v":"N"},{"$f":"IF(MAX(EX12:EX44)<>0,\"Y\",IF(MIN(EX12:EX44)<>0,\"Y\",\"N\"))","v":"N"},{"$f":"IF(MAX(EY12:EY44)<>0,\"Y\",IF(MIN(EY12:EY44)<>0,\"Y\",\"N\"))","v":"N"},"Mining Benefit & Impacts","Actions","Status Indicator","Pressure Indicator","Action Indicator",null,null,{"$f":"IF(MAX(FG12:FG44)<>0,\"Y\",\"N\")","v":"N"},{"$f":"IF(MAX(FH12:FH44)<>0,\"Y\",IF(MIN(FH12:FH44)<>0,\"Y\",\"N\"))","v":"N"},{"$f":"IF(MAX(FI12:FI44)<>0,\"Y\",IF(MIN(FI12:FI44)<>0,\"Y\",\"N\"))","v":"N"},{"$f":"IF(MAX(FJ12:FJ44)<>0,\"Y\",IF(MIN(FJ12:FJ44)<>0,\"Y\",\"N\"))","v":"N"},{"$f":"IF(MAX(FK12:FK44)<>0,\"Y\",IF(MIN(FK12:FK44)<>0,\"Y\",\"N\"))","v":"N"},{"$f":"IF(MAX(FL12:FL44)<>0,\"Y\",IF(MIN(FL12:FL44)<>0,\"Y\",\"N\"))","v":"N"},"Mining Benefit & Impacts","Actions","Status Indicator","Pressure Indicator","Action Indicator",null,null,{"$f":"IF(MAX(FT12:FT44)<>0,\"Y\",\"N\")","v":"N"},{"$f":"IF(MAX(FU12:FU44)<>0,\"Y\",IF(MIN(FU12:FU44)<>0,\"Y\",\"N\"))","v":"N"},{"$f":"IF(MAX(FV12:FV44)<>0,\"Y\",IF(MIN(FV12:FV44)<>0,\"Y\",\"N\"))","v":"N"},{"$f":"IF(MAX(FW12:FW44)<>0,\"Y\",IF(MIN(FW12:FW44)<>0,\"Y\",\"N\"))","v":"N"},{"$f":"IF(MAX(FX12:FX44)<>0,\"Y\",IF(MIN(FX12:FX44)<>0,\"Y\",\"N\"))","v":"N"},{"$f":"IF(MAX(FY12:FY44)<>0,\"Y\",IF(MIN(FY12:FY44)<>0,\"Y\",\"N\"))","v":"N"},"Mining Benefit & Impacts","Actions","Status Indicator","Pressure Indicator","Action Indicator",null,null,{"$f":"IF(MAX(GG12:GG44)<>0,\"Y\",\"N\")","v":"N"},{"$f":"IF(MAX(GH12:GH44)<>0,\"Y\",IF(MIN(GH12:GH44)<>0,\"Y\",\"N\"))","v":"N"},{"$f":"IF(MAX(GI12:GI44)<>0,\"Y\",IF(MIN(GI12:GI44)<>0,\"Y\",\"N\"))","v":"N"},{"$f":"IF(MAX(GJ12:GJ44)<>0,\"Y\",IF(MIN(GJ12:GJ44)<>0,\"Y\",\"N\"))","v":"N"},{"$f":"IF(MAX(GK12:GK44)<>0,\"Y\",IF(MIN(GK12:GK44)<>0,\"Y\",\"N\"))","v":"N"},{"$f":"IF(MAX(GL12:GL44)<>0,\"Y\",IF(MIN(GL12:GL44)<>0,\"Y\",\"N\"))","v":"N"},"Mining Benefit & Impacts","Actions","Status Indicator","Pressure Indicator","Action Indicator",null,null,{"$f":"IF(MAX(GT12:GT44)<>0,\"Y\",\"N\")","v":"N"},{"$f":"IF(MAX(GU12:GU44)<>0,\"Y\",IF(MIN(GU12:GU44)<>0,\"Y\",\"N\"))","v":"N"},{"$f":"IF(MAX(GV12:GV44)<>0,\"Y\",IF(MIN(GV12:GV44)<>0,\"Y\",\"N\"))","v":"N"},{"$f":"IF(MAX(GW12:GW44)<>0,\"Y\",IF(MIN(GW12:GW44)<>0,\"Y\",\"N\"))","v":"N"},{"$f":"IF(MAX(GX12:GX44)<>0,\"Y\",IF(MIN(GX12:GX44)<>0,\"Y\",\"N\"))","v":"N"},{"$f":"IF(MAX(GY12:GY44)<>0,\"Y\",IF(MIN(GY12:GY44)<>0,\"Y\",\"N\"))","v":"N"},"Mining Benefit & Impacts","Actions","Status Indicator","Pressure Indicator","Action Indicator",null,null,{"$f":"IF(MAX(HG12:HG44)<>0,\"Y\",\"N\")","v":"N"},{"$f":"IF(MAX(HH12:HH44)<>0,\"Y\",IF(MIN(HH12:HH44)<>0,\"Y\",\"N\"))","v":"N"},{"$f":"IF(MAX(HI12:HI44)<>0,\"Y\",IF(MIN(HI12:HI44)<>0,\"Y\",\"N\"))","v":"N"},{"$f":"IF(MAX(HJ12:HJ44)<>0,\"Y\",IF(MIN(HJ12:HJ44)<>0,\"Y\",\"N\"))","v":"N"},{"$f":"IF(MAX(HK12:HK44)<>0,\"Y\",IF(MIN(HK12:HK44)<>0,\"Y\",\"N\"))","v":"N"},{"$f":"IF(MAX(HL12:HL44)<>0,\"Y\",IF(MIN(HL12:HL44)<>0,\"Y\",\"N\"))","v":"N"},"Mining Benefit & Impacts","Actions","Status Indicator","Pressure Indicator","Action Indicator",null,null,{"$f":"IF(MAX(HT12:HT44)<>0,\"Y\",\"N\")","v":"N"},{"$f":"IF(MAX(HU12:HU44)<>0,\"Y\",IF(MIN(HU12:HU44)<>0,\"Y\",\"N\"))","v":"N"},{"$f":"IF(MAX(HV12:HV44)<>0,\"Y\",IF(MIN(HV12:HV44)<>0,\"Y\",\"N\"))","v":"N"},{"$f":"IF(MAX(HW12:HW44)<>0,\"Y\",IF(MIN(HW12:HW44)<>0,\"Y\",\"N\"))","v":"N"},{"$f":"IF(MAX(HX12:HX44)<>0,\"Y\",IF(MIN(HX12:HX44)<>0,\"Y\",\"N\"))","v":"N"},{"$f":"IF(MAX(HY12:HY44)<>0,\"Y\",IF(MIN(HY12:HY44)<>0,\"Y\",\"N\"))","v":"N"},"Mining Benefit & Impacts","Actions","Status Indicator","Pressure Indicator","Action Indicator"]
[null,null,null,null,"Use",null,"Baseline","1.Mineral Extraction","2.Mineral Processing","3.Mine Waste","4.Economic Activity","5.General Facilities",{"$f":"'6.WEF Inventory Mine'!$P$10","v":0},null,null,null,null,null,null,"Baseline","1.Mineral Extraction","2.Mineral Processing","3.Mine Waste","4.Economic Activity","5.General Facilities",{"$f":"'6.WEF Inventory Mine'!$P$11","v":0},null,null,null,null,null,null,"Baseline","1.Mineral Extraction","2.Mineral Processing","3.Mine Waste","4.Economic Activity","5.General Facilities",{"$f":"'6.WEF Inventory Mine'!$P$12","v":0},null,null,null,null,null,null,"Baseline","1.Mineral Extraction","2.Mineral Processing","3.Mine Waste","4.Economic Activity","5.General Facilities",{"$f":"'6.WEF Inventory Mine'!$P$13","v":0},null,null,null,null,null,null,"Baseline","1.Mineral Extraction","2.Mineral Processing","3.Mine Waste","4.Economic Activity","5.General Facilities",{"$f":"'6.WEF Inventory Mine'!$P$14","v":0},null,null,null,null,null,null,"Baseline","1.Mineral Extraction","2.Mineral Processing","3.Mine Waste","4.Economic Activity","5.General Facilities",{"$f":"'6.WEF Inventory Mine'!$P$15","v":0},null,null,null,null,null,null,"Baseline","1.Mineral Extraction","2.Mineral Processing","3.Mine Waste","4.Economic Activity","5.General Facilities",{"$f":"'6.WEF Inventory Mine'!$P$22","v":0},null,null,null,null,null,null,"Baseline","1.Mineral Extraction","2.Mineral Processing","3.Mine Waste","4.Economic Activity","5.General Facilities",{"$f":"'6.WEF Inventory Mine'!$P$23","v":0},null,null,null,null,null,null,"Baseline","1.Mineral Extraction","2.Mineral Processing","3.Mine Waste","4.Economic Activity","5.General Facilities",{"$f":"'6.WEF Inventory Mine'!$P$24","v":0},null,null,null,null,null,null,"Baseline","1.Mineral Extraction","2.Mineral Processing","3.Mine Waste","4.Economic Activity","5.General Facilities",{"$f":"'6.WEF Inventory Mine'!$P$25","v":0},null,null,null,null,null,null,"Baseline","1.Mineral Extraction","2.Mineral Processing","3.Mine Waste","4.Economic Activity","5.General Facilities",{"$f":"'6.WEF Inventory Mine'!$P$26","v":0},null,null,null,null,null,null,"Baseline","1.Mineral Extraction","2.Mineral Processing","3.Mine Waste","4.Economic Activity","5.General Facilities",{"$f":"'6.WEF Inventory Mine'!$P$27","v":0},null,null,null,null,null,null,"Baseline","1.Mineral Extraction","2.Mineral Processing","3.Mine Waste","4.Economic Activity","5.General Facilities",{"$f":"'6.WEF Inventory Mine'!$P$34","v":0},null,null,null,null,null,null,"Baseline","1.Mineral Extraction","2.Mineral Processing","3.Mine Waste","4.Economic Activity","5.General Facilities",{"$f":"'6.WEF Inventory Mine'!$P$35","v":0},null,null,null,null,null,null,"Baseline","1.Mineral Extraction","2.Mineral Processing","3.Mine Waste","4.Economic Activity","5.General Facilities",{"$f":"'6.WEF Inventory Mine'!$P$36","v":0},null,null,null,null,null,null,"Baseline","1.Mineral Extraction","2.Mineral Processing","3.Mine Waste","4.Economic Activity","5.General Facilities",{"$f":"'6.WEF Inventory Mine'!$P$37","v":0},null,null,null,null,null,null,"Baseline","1.Mineral Extraction","2.Mineral Processing","3.Mine Waste","4.Economic Activity","5.General Facilities",{"$f":"'6.WEF Inventory Mine'!$P$38","v":0},null,null,null,null,null,null,"Baseline","1.Mineral Extraction","2.Mineral Processing","3.Mine Waste","4.Economic Activity","5.General Facilities",{"$f":"'6.WEF Inventory Mine'!$P$39","v":0}]
[null,null,null,null,"Change in use",null,null,{"$f":"'7.WEF Influence-Mine'!$H101","v":0},{"$f":"'7.WEF Influence-Mine'!$H141","v":0},{"$f":"'7.WEF Influence-Mine'!$H181","v":0},{"$f":"'7.WEF Influence-Mine'!$H221","v":0},{"$f":"'7.WEF Influence-Mine'!$H261","v":0},{"$f":"\"1. \"&'7.WEF Influence-Mine'!$I101&\": 2. \"&'7.WEF Influence-Mine'!$I141&\": 3. \"&'7.WEF Influence-Mine'!$I181&\": 4. \"&'7.WEF Influence-Mine'!$I221&\": 5. \"&'7.WEF Influence-Mine'!$I261","v":"1. : 2. : 3. : 4. : 5. "},null,null,null,null,null,null,null,{"$f":"'7.WEF Influence-Mine'!$L101","v":0},{"$f":"'7.WEF Influence-Mine'!$L141","v":0},{"$f":"'7.WEF Influence-Mine'!$L181","v":0},{"$f":"'7.WEF Influence-Mine'!$L221","v":0},{"$f":"'7.WEF Influence-Mine'!$L261","v":0},{"$f":"\"1.\"&'7.WEF Influence-Mine'!$M101&\": 2.\"&'7.WEF Influence-Mine'!$M141&\": 3.\"&'7.WEF Influence-Mine'!$M181&\": 4.\"&'7.WEF Influence-Mine'!$M221&\": 5. \"&'7.WEF Influence-Mine'!$M261","v":"1.: 2.: 3.: 4.: 5. "},null,null,null,null,null,null,null,{"$f":"'7.WEF Influence-Mine'!$P101","v":0},{"$f":"'7.WEF Influence-Mine'!$P141","v":0},{"$f":"'7.WEF Influence-Mine'!$P181","v":0},{"$f":"'7.WEF Influence-Mine'!$P221","v":0},{"$f":"'7.WEF Influence-Mine'!$P261","v":0},{"$f":"\"1.\"&'7.WEF Influence-Mine'!$Q101&\": 2.\"&'7.WEF Influence-Mine'!$Q141&\": 3.\"&'7.WEF Influence-Mine'!$Q181&\": 4.\"&'7.WEF Influence-Mine'!$Q221&\": 5. \"&'7.WEF Influence-Mine'!$Q261","v":"1.: 2.: 3.: 4.: 5. "},null,null,null,null,null,null,null,{"$f":"'7.WEF Influence-Mine'!$T101","v":0},{"$f":"'7.WEF Influence-Mine'!$T141","v":0},{"$f":"'7.WEF Influence-Mine'!$T181","v":0},{"$f":"'7.WEF Influence-Mine'!$T221","v":0},{"$f":"'7.WEF Influence-Mine'!$T261","v":0},{"$f":"\"1.\"&'7.WEF Influence-Mine'!$U101&\": 2.\"&'7.WEF Influence-Mine'!$U141&\": 3.\"&'7.WEF Influence-Mine'!$U181&\": 4.\"&'7.WEF Influence-Mine'!$U221&\": 5. \"&'7.WEF Influence-Mine'!$U261","v":"1.: 2.: 3.: 4.: 5. "},null,null,null,null,null,null,null,{"$f":"'7.WEF Influence-Mine'!$X101","v":0},{"$f":"'7.WEF Influence-Mine'!$X141","v":0},{"$f":"'7.WEF Influence-Mine'!$X181","v":0},{"$f":"'7.WEF Influence-Mine'!$X221","v":0},{"$f":"'7.WEF Influence-Mine'!$X261","v":0},{"$f":"\"1.\"&'7.WEF Influence-Mine'!$Y101&\": 2.\"&'7.WEF Influence-Mine'!$Y141&\": 3.\"&'7.WEF Influence-Mine'!$Y181&\": 4.\"&'7.WEF Influence-Mine'!$Y221&\": 5. \"&'7.WEF Influence-Mine'!$Y261","v":"1.: 2.: 3.: 4.: 5. "},null,null,null,null,null,null,null,{"$f":"'7.WEF Influence-Mine'!$AB101","v":0},{"$f":"'7.WEF Influence-Mine'!$AB141","v":0},{"$f":"'7.WEF Influence-Mine'!$AB181","v":0},{"$f":"'7.WEF Influence-Mine'!$AB221","v":0},{"$f":"'7.WEF Influence-Mine'!$AB261","v":0},{"$f":"\"1.\"&'7.WEF Influence-Mine'!$AC101&\": 2.\"&'7.WEF Influence-Mine'!$AC141&\": 3.\"&'7.WEF Influence-Mine'!$AC181&\": 4.\"&'7.WEF Influence-Mine'!$AC221&\": 5. \"&'7.WEF Influence-Mine'!$AC261","v":"1.: 2.: 3.: 4.: 5. "},null,null,null,null,null,null,null,{"$f":"'7.WEF Influence-Mine'!$AF101","v":0},{"$f":"'7.WEF Influence-Mine'!$AF141","v":0},{"$f":"'7.WEF Influence-Mine'!$AF181","v":0},{"$f":"'7.WEF Influence-Mine'!$AF221","v":0},{"$f":"'7.WEF Influence-Mine'!$AF261","v":0},{"$f":"\"1.\"&'7.WEF Influence-Mine'!$AG101&\": 2.\"&'7.WEF Influence-Mine'!$AG141&\": 3.\"&'7.WEF Influence-Mine'!$AG181&\": 4.\"&'7.WEF Influence-Mine'!$AG221&\": 5. \"&'7.WEF Influence-Mine'!$AG261","v":"1.: 2.: 3.: 4.: 5. "},null,null,null,null,null,null,null,{"$f":"'7.WEF Influence-Mine'!$AJ101","v":0},{"$f":"'7.WEF Influence-Mine'!$AJ141","v":0},{"$f":"'7.WEF Influence-Mine'!$AJ181","v":0},{"$f":"'7.WEF Influence-Mine'!$AJ221","v":0},{"$f":"'7.WEF Influence-Mine'!$AJ261","v":0},{"$f":"\"1.\"&'7.WEF Influence-Mine'!$AK101&\": 2.\"&'7.WEF Influence-Mine'!$AK141&\": 3.\"&'7.WEF Influence-Mine'!$AK181&\": 4.\"&'7.WEF Influence-Mine'!$AK221&\": 5. \"&'7.WEF Influence-Mine'!$AK261","v":"1.: 2.: 3.: 4.: 5. "},null,null,null,null,null,null,null,{"$f":"'7.WEF Influence-Mine'!$AN101","v":0},{"$f":"'7.WEF Influence-Mine'!$AN141","v":0},{"$f":"'7.WEF Influence-Mine'!$AN181","v":0},{"$f":"'7.WEF Influence-Mine'!$AN221","v":0},{"$f":"'7.WEF Influence-Mine'!$AN261","v":0},{"$f":"\"1.\"&'7.WEF Influence-Mine'!$AO101&\": 2.\"&'7.WEF Influence-Mine'!$AO141&\": 3.\"&'7.WEF Influence-Mine'!$AO181&\": 4.\"&'7.WEF Influence-Mine'!$AO221&\": 5. \"&'7.WEF Influence-Mine'!$AO261","v":"1.: 2.: 3.: 4.: 5. "},null,null,null,null,null,null,null,{"$f":"'7.WEF Influence-Mine'!$AR101","v":0},{"$f":"'7.WEF Influence-Mine'!$AR141","v":0},{"$f":"'7.WEF Influence-Mine'!$AR181","v":0},{"$f":"'7.WEF Influence-Mine'!$AR221","v":0},{"$f":"'7.WEF Influence-Mine'!$AR261","v":0},{"$f":"\"1.\"&'7.WEF Influence-Mine'!$AS101&\": 2.\"&'7.WEF Influence-Mine'!$AS141&\": 3.\"&'7.WEF Influence-Mine'!$AS181&\": 4.\"&'7.WEF Influence-Mine'!$AS221&\": 5. \"&'7.WEF Influence-Mine'!$AS261","v":"1.: 2.: 3.: 4.: 5. "},null,null,null,null,null,null,null,{"$f":"'7.WEF Influence-Mine'!$AV101","v":0},{"$f":"'7.WEF Influence-Mine'!$AV141","v":0},{"$f":"'7.WEF Influence-Mine'!$AV181","v":0},{"$f":"'7.WEF Influence-Mine'!$AV221","v":0},{"$f":"'7.WEF Influence-Mine'!$AV261","v":0},{"$f":"\"1.\"&'7.WEF Influence-Mine'!$AW101&\": 2.\"&'7.WEF Influence-Mine'!$AW141&\": 3.\"&'7.WEF Influence-Mine'!$AW181&\": 4.\"&'7.WEF Influence-Mine'!$AW221&\": 5. \"&'7.WEF Influence-Mine'!$AW261","v":"1.: 2.: 3.: 4.: 5. "},null,null,null,null,null,null,null,{"$f":"'7.WEF Influence-Mine'!$AZ101","v":0},{"$f":"'7.WEF Influence-Mine'!$AZ141","v":0},{"$f":"'7.WEF Influence-Mine'!$AZ181","v":0},{"$f":"'7.WEF Influence-Mine'!$AZ221","v":0},{"$f":"'7.WEF Influence-Mine'!$AZ261","v":0},{"$f":"\"1.\"&'7.WEF Influence-Mine'!$BA101&\": 2.\"&'7.WEF Influence-Mine'!$BA141&\": 3.\"&'7.WEF Influence-Mine'!$BA181&\": 4.\"&'7.WEF Influence-Mine'!$BA221&\": 5. \"&'7.WEF Influence-Mine'!$BA261","v":"1.: 2.: 3.: 4.: 5. "},null,null,null,null,null,null,null,{"$f":"'7.WEF Influence-Mine'!$BD101","v":0},{"$f":"'7.WEF Influence-Mine'!$BD141","v":0},{"$f":"'7.WEF Influence-Mine'!$BD181","v":0},{"$f":"'7.WEF Influence-Mine'!$BD221","v":0},{"$f":"'7.WEF Influence-Mine'!$BD261","v":0},{"$f":"\"1.\"&'7.WEF Influence-Mine'!$BE101&\": 2.\"&'7.WEF Influence-Mine'!$BE141&\": 3.\"&'7.WEF Influence-Mine'!$BE181&\": 4.\"&'7.WEF Influence-Mine'!$BE221&\": 5. \"&'7.WEF Influence-Mine'!$BE261","v":"1.: 2.: 3.: 4.: 5. "},null,null,null,null,null,null,null,{"$f":"'7.WEF Influence-Mine'!$BH101","v":0},{"$f":"'7.WEF Influence-Mine'!$BH141","v":0},{"$f":"'7.WEF Influence-Mine'!$BH181","v":0},{"$f":"'7.WEF Influence-Mine'!$BH221","v":0},{"$f":"'7.WEF Influence-Mine'!$BH261","v":0},{"$f":"\"1.\"&'7.WEF Influence-Mine'!$BI101&\": 2.\"&'7.WEF Influence-Mine'!$BI141&\": 3.\"&'7.WEF Influence-Mine'!$BI181&\": 4.\"&'7.WEF Influence-Mine'!$BI221&\": 5. \"&'7.WEF Influence-Mine'!$BI261","v":"1.: 2.: 3.: 4.: 5. "},null,null,null,null,null,null,null,{"$f":"'7.WEF Influence-Mine'!$BL101","v":0},{"$f":"'7.WEF Influence-Mine'!$BL141","v":0},{"$f":"'7.WEF Influence-Mine'!$BL181","v":0},{"$f":"'7.WEF Influence-Mine'!$BL221","v":0},{"$f":"'7.WEF Influence-Mine'!$BL261","v":0},{"$f":"\"1.\"&'7.WEF Influence-Mine'!$BM101&\": 2.\"&'7.WEF Influence-Mine'!$BM141&\": 3.\"&'7.WEF Influence-Mine'!$BM181&\": 4.\"&'7.WEF Influence-Mine'!$BM221&\": 5. \"&'7.WEF Influence-Mine'!$BM261","v":"1.: 2.: 3.: 4.: 5. "},null,null,null,null,null,null,null,{"$f":"'7.WEF Influence-Mine'!$BP101","v":0},{"$f":"'7.WEF Influence-Mine'!$BP141","v":0},{"$f":"'7.WEF Influence-Mine'!$BP181","v":0},{"$f":"'7.WEF Influence-Mine'!$BP221","v":0},{"$f":"'7.WEF Influence-Mine'!$BP261","v":0},{"$f":"\"1.\"&'7.WEF Influence-Mine'!$BQ101&\": 2.\"&'7.WEF Influence-Mine'!$BQ141&\": 3.\"&'7.WEF Influence-Mine'!$BQ181&\": 4.\"&'7.WEF Influence-Mine'!$BQ221&\": 5. \"&'7.WEF Influence-Mine'!$BQ261","v":"1.: 2.: 3.: 4.: 5. "},null,null,null,null,null,null,null,{"$f":"'7.WEF Influence-Mine'!$BT101","v":0},{"$f":"'7.WEF Influence-Mine'!$BT141","v":0},{"$f":"'7.WEF Influence-Mine'!$BT181","v":0},{"$f":"'7.WEF Influence-Mine'!$BT221","v":0},{"$f":"'7.WEF Influence-Mine'!$BT261","v":0},{"$f":"\"1.\"&'7.WEF Influence-Mine'!$BU101&\": 2.\"&'7.WEF Influence-Mine'!$BU141&\": 3.\"&'7.WEF Influence-Mine'!$BU181&\": 4.\"&'7.WEF Influence-Mine'!$BU221&\": 5. \"&'7.WEF Influence-Mine'!$BU261","v":"1.: 2.: 3.: 4.: 5. "},null,null,null,null,null,null,null,{"$f":"'7.WEF Influence-Mine'!$BX101","v":0},{"$f":"'7.WEF Influence-Mine'!$BX141","v":0},{"$f":"'7.WEF Influence-Mine'!$BX181","v":0},{"$f":"'7.WEF Influence-Mine'!$BX221","v":0},{"$f":"'7.WEF Influence-Mine'!$BX261","v":0},{"$f":"\"1.\"&'7.WEF Influence-Mine'!$BY101&\": 2.\"&'7.WEF Influence-Mine'!$BY141&\": 3.\"&'7.WEF Influence-Mine'!$BY181&\": 4.\"&'7.WEF Influence-Mine'!$BY221&\": 5. \"&'7.WEF Influence-Mine'!$BY261","v":"1.: 2.: 3.: 4.: 5. "}]
[null,"Change in source description ","Baseline","+Change","-Change",null,null,{"$f":"'7.WEF Influence-Mine'!$H102","v":0},{"$f":"'7.WEF Influence-Mine'!$H142","v":0},{"$f":"'7.WEF Influence-Mine'!$H182","v":0},{"$f":"'7.WEF Influence-Mine'!$H222","v":0},{"$f":"'7.WEF Influence-Mine'!$H262","v":0},{"$f":"\"1. \"&'7.WEF Influence-Mine'!$I102&\": 2. \"&'7.WEF Influence-Mine'!$I142&\": 3. \"&'7.WEF Influence-Mine'!$I182&\": 4. \"&'7.WEF Influence-Mine'!$I222&\": 5. \"&'7.WEF Influence-Mine'!$I262","v":"1. : 2. : 3. : 4. : 5. "},null,null,null,null,null,null,null,{"$f":"'7.WEF Influence-Mine'!$L102","v":0},{"$f":"'7.WEF Influence-Mine'!$L142","v":0},{"$f":"'7.WEF Influence-Mine'!$L182","v":0},{"$f":"'7.WEF Influence-Mine'!$L222","v":0},{"$f":"'7.WEF Influence-Mine'!$L262","v":0},{"$f":"\"1.\"&'7.WEF Influence-Mine'!$M102&\": 2.\"&'7.WEF Influence-Mine'!$M142&\": 3.\"&'7.WEF Influence-Mine'!$M182&\": 4.\"&'7.WEF Influence-Mine'!$M222&\": 5. \"&'7.WEF Influence-Mine'!$M262","v":"1.: 2.: 3.: 4.: 5. "},null,null,null,null,null,null,null,{"$f":"'7.WEF Influence-Mine'!$P102","v":0},{"$f":"'7.WEF Influence-Mine'!$P142","v":0},{"$f":"'7.WEF Influence-Mine'!$P182","v":0},{"$f":"'7.WEF Influence-Mine'!$P222","v":0},{"$f":"'7.WEF Influence-Mine'!$P262","v":0},{"$f":"\"1.\"&'7.WEF Influence-Mine'!$Q102&\": 2.\"&'7.WEF Influence-Mine'!$Q142&\": 3.\"&'7.WEF Influence-Mine'!$Q182&\": 4.\"&'7.WEF Influence-Mine'!$Q222&\": 5. \"&'7.WEF Influence-Mine'!$Q262","v":"1.: 2.: 3.: 4.: 5. "},null,null,null,null,null,null,null,{"$f":"'7.WEF Influence-Mine'!$T102","v":0},{"$f":"'7.WEF Influence-Mine'!$T142","v":0},{"$f":"'7.WEF Influence-Mine'!$T182","v":0},{"$f":"'7.WEF Influence-Mine'!$T222","v":0},{"$f":"'7.WEF Influence-Mine'!$T262","v":0},{"$f":"\"1.\"&'7.WEF Influence-Mine'!$U102&\": 2.\"&'7.WEF Influence-Mine'!$U142&\": 3.\"&'7.WEF Influence-Mine'!$U182&\": 4.\"&'7.WEF Influence-Mine'!$U222&\": 5. \"&'7.WEF Influence-Mine'!$U262","v":"1.: 2.: 3.: 4.: 5. "},null,null,null,null,null,null,null,{"$f":"'7.WEF Influence-Mine'!$X102","v":0},{"$f":"'7.WEF Influence-Mine'!$X142","v":0},{"$f":"'7.WEF Influence-Mine'!$X182","v":0},{"$f":"'7.WEF Influence-Mine'!$X222","v":0},{"$f":"'7.WEF Influence-Mine'!$X262","v":0},{"$f":"\"1.\"&'7.WEF Influence-Mine'!$Y102&\": 2.\"&'7.WEF Influence-Mine'!$Y142&\": 3.\"&'7.WEF Influence-Mine'!$Y182&\": 4.\"&'7.WEF Influence-Mine'!$Y222&\": 5. \"&'7.WEF Influence-Mine'!$Y262","v":"1.: 2.: 3.: 4.: 5. "},null,null,null,null,null,null,null,{"$f":"'7.WEF Influence-Mine'!$AB102","v":0},{"$f":"'7.WEF Influence-Mine'!$AB142","v":0},{"$f":"'7.WEF Influence-Mine'!$AB182","v":0},{"$f":"'7.WEF Influence-Mine'!$AB222","v":0},{"$f":"'7.WEF Influence-Mine'!$AB262","v":0},{"$f":"\"1.\"&'7.WEF Influence-Mine'!$AC102&\": 2.\"&'7.WEF Influence-Mine'!$AC142&\": 3.\"&'7.WEF Influence-Mine'!$AC182&\": 4.\"&'7.WEF Influence-Mine'!$AC222&\": 5. \"&'7.WEF Influence-Mine'!$AC262","v":"1.: 2.: 3.: 4.: 5. "},null,null,null,null,null,null,null,{"$f":"'7.WEF Influence-Mine'!$AF102","v":0},{"$f":"'7.WEF Influence-Mine'!$AF142","v":0},{"$f":"'7.WEF Influence-Mine'!$AF182","v":0},{"$f":"'7.WEF Influence-Mine'!$AF222","v":0},{"$f":"'7.WEF Influence-Mine'!$AF262","v":0},{"$f":"\"1.\"&'7.WEF Influence-Mine'!$AG102&\": 2.\"&'7.WEF Influence-Mine'!$AG142&\": 3.\"&'7.WEF Influence-Mine'!$AG182&\": 4.\"&'7.WEF Influence-Mine'!$AG222&\": 5. \"&'7.WEF Influence-Mine'!$AG262","v":"1.: 2.: 3.: 4.: 5. "},null,null,null,null,null,null,null,{"$f":"'7.WEF Influence-Mine'!$AJ102","v":0},{"$f":"'7.WEF Influence-Mine'!$AJ142","v":0},{"$f":"'7.WEF Influence-Mine'!$AJ182","v":0},{"$f":"'7.WEF Influence-Mine'!$AJ222","v":0},{"$f":"'7.WEF Influence-Mine'!$AJ262","v":0},{"$f":"\"1.\"&'7.WEF Influence-Mine'!$AK102&\": 2.\"&'7.WEF Influence-Mine'!$AK142&\": 3.\"&'7.WEF Influence-Mine'!$AK182&\": 4.\"&'7.WEF Influence-Mine'!$AK222&\": 5. \"&'7.WEF Influence-Mine'!$AK262","v":"1.: 2.: 3.: 4.: 5. "},null,null,null,null,null,null,null,{"$f":"'7.WEF Influence-Mine'!$AN102","v":0},{"$f":"'7.WEF Influence-Mine'!$AN142","v":0},{"$f":"'7.WEF Influence-Mine'!$AN182","v":0},{"$f":"'7.WEF Influence-Mine'!$AN222","v":0},{"$f":"'7.WEF Influence-Mine'!$AN262","v":0},{"$f":"\"1.\"&'7.WEF Influence-Mine'!$AO102&\": 2.\"&'7.WEF Influence-Mine'!$AO142&\": 3.\"&'7.WEF Influence-Mine'!$AO182&\": 4.\"&'7.WEF Influence-Mine'!$AO222&\": 5. \"&'7.WEF Influence-Mine'!$AO262","v":"1.: 2.: 3.: 4.: 5. "},null,null,null,null,null,null,null,{"$f":"'7.WEF Influence-Mine'!$AR102","v":0},{"$f":"'7.WEF Influence-Mine'!$AR142","v":0},{"$f":"'7.WEF Influence-Mine'!$AR182","v":0},{"$f":"'7.WEF Influence-Mine'!$AR222","v":0},{"$f":"'7.WEF Influence-Mine'!$AR262","v":0},{"$f":"\"1.\"&'7.WEF Influence-Mine'!$AS102&\": 2.\"&'7.WEF Influence-Mine'!$AS142&\": 3.\"&'7.WEF Influence-Mine'!$AS182&\": 4.\"&'7.WEF Influence-Mine'!$AS222&\": 5. \"&'7.WEF Influence-Mine'!$AS262","v":"1.: 2.: 3.: 4.: 5. "},null,null,null,null,null,null,null,{"$f":"'7.WEF Influence-Mine'!$AV102","v":0},{"$f":"'7.WEF Influence-Mine'!$AV142","v":0},{"$f":"'7.WEF Influence-Mine'!$AV182","v":0},{"$f":"'7.WEF Influence-Mine'!$AV222","v":0},{"$f":"'7.WEF Influence-Mine'!$AV262","v":0},{"$f":"\"1.\"&'7.WEF Influence-Mine'!$AW102&\": 2.\"&'7.WEF Influence-Mine'!$AW142&\": 3.\"&'7.WEF Influence-Mine'!$AW182&\": 4.\"&'7.WEF Influence-Mine'!$AW222&\": 5. \"&'7.WEF Influence-Mine'!$AW262","v":"1.: 2.: 3.: 4.: 5. "},null,null,null,null,null,null,null,{"$f":"'7.WEF Influence-Mine'!$AZ102","v":0},{"$f":"'7.WEF Influence-Mine'!$AZ142","v":0},{"$f":"'7.WEF Influence-Mine'!$AZ182","v":0},{"$f":"'7.WEF Influence-Mine'!$AZ222","v":0},{"$f":"'7.WEF Influence-Mine'!$AZ262","v":0},{"$f":"\"1.\"&'7.WEF Influence-Mine'!$BA102&\": 2.\"&'7.WEF Influence-Mine'!$BA142&\": 3.\"&'7.WEF Influence-Mine'!$BA182&\": 4.\"&'7.WEF Influence-Mine'!$BA222&\": 5. \"&'7.WEF Influence-Mine'!$BA262","v":"1.: 2.: 3.: 4.: 5. "},null,null,null,null,null,null,null,{"$f":"'7.WEF Influence-Mine'!$BD102","v":0},{"$f":"'7.WEF Influence-Mine'!$BD142","v":0},{"$f":"'7.WEF Influence-Mine'!$BD182","v":0},{"$f":"'7.WEF Influence-Mine'!$BD222","v":0},{"$f":"'7.WEF Influence-Mine'!$BD262","v":0},{"$f":"\"1.\"&'7.WEF Influence-Mine'!$BE102&\": 2.\"&'7.WEF Influence-Mine'!$BE142&\": 3.\"&'7.WEF Influence-Mine'!$BE182&\": 4.\"&'7.WEF Influence-Mine'!$BE222&\": 5. \"&'7.WEF Influence-Mine'!$BE262","v":"1.: 2.: 3.: 4.: 5. "},null,null,null,null,null,null,null,{"$f":"'7.WEF Influence-Mine'!$BH102","v":0},{"$f":"'7.WEF Influence-Mine'!$BH142","v":0},{"$f":"'7.WEF Influence-Mine'!$BH182","v":0},{"$f":"'7.WEF Influence-Mine'!$BH222","v":0},{"$f":"'7.WEF Influence-Mine'!$BH262","v":0},{"$f":"\"1.\"&'7.WEF Influence-Mine'!$BI102&\": 2.\"&'7.WEF Influence-Mine'!$BI142&\": 3.\"&'7.WEF Influence-Mine'!$BI182&\": 4.\"&'7.WEF Influence-Mine'!$BI222&\": 5. \"&'7.WEF Influence-Mine'!$BI262","v":"1.: 2.: 3.: 4.: 5. "},null,null,null,null,null,null,null,{"$f":"'7.WEF Influence-Mine'!$BL102","v":0},{"$f":"'7.WEF Influence-Mine'!$BL142","v":0},{"$f":"'7.WEF Influence-Mine'!$BL182","v":0},{"$f":"'7.WEF Influence-Mine'!$BL222","v":0},{"$f":"'7.WEF Influence-Mine'!$BL262","v":0},{"$f":"\"1.\"&'7.WEF Influence-Mine'!$BM102&\": 2.\"&'7.WEF Influence-Mine'!$BM142&\": 3.\"&'7.WEF Influence-Mine'!$BM182&\": 4.\"&'7.WEF Influence-Mine'!$BM222&\": 5. \"&'7.WEF Influence-Mine'!$BM262","v":"1.: 2.: 3.: 4.: 5. "},null,null,null,null,null,null,null,{"$f":"'7.WEF Influence-Mine'!$BP102","v":0},{"$f":"'7.WEF Influence-Mine'!$BP142","v":0},{"$f":"'7.WEF Influence-Mine'!$BP182","v":0},{"$f":"'7.WEF Influence-Mine'!$BP222","v":0},{"$f":"'7.WEF Influence-Mine'!$BP262","v":0},{"$f":"\"1.\"&'7.WEF Influence-Mine'!$BQ102&\": 2.\"&'7.WEF Influence-Mine'!$BQ142&\": 3.\"&'7.WEF Influence-Mine'!$BQ182&\": 4.\"&'7.WEF Influence-Mine'!$BQ222&\": 5. \"&'7.WEF Influence-Mine'!$BQ262","v":"1.: 2.: 3.: 4.: 5. "},null,null,null,null,null,null,null,{"$f":"'7.WEF Influence-Mine'!$BT102","v":0},{"$f":"'7.WEF Influence-Mine'!$BT142","v":0},{"$f":"'7.WEF Influence-Mine'!$BT182","v":0},{"$f":"'7.WEF Influence-Mine'!$BT222","v":0},{"$f":"'7.WEF Influence-Mine'!$BT262","v":0},{"$f":"\"1.\"&'7.WEF Influence-Mine'!$BU102&\": 2.\"&'7.WEF Influence-Mine'!$BU142&\": 3.\"&'7.WEF Influence-Mine'!$BU182&\": 4.\"&'7.WEF Influence-Mine'!$BU222&\": 5. \"&'7.WEF Influence-Mine'!$BU262","v":"1.: 2.: 3.: 4.: 5. "},null,null,null,null,null,null,null,{"$f":"'7.WEF Influence-Mine'!$BX102","v":0},{"$f":"'7.WEF Influence-Mine'!$BX142","v":0},{"$f":"'7.WEF Influence-Mine'!$BX182","v":0},{"$f":"'7.WEF Influence-Mine'!$BX222","v":0},{"$f":"'7.WEF Influence-Mine'!$BX262","v":0},{"$f":"\"1.\"&'7.WEF Influence-Mine'!$BY102&\": 2.\"&'7.WEF Influence-Mine'!$BY142&\": 3.\"&'7.WEF Influence-Mine'!$BY182&\": 4.\"&'7.WEF Influence-Mine'!$BY222&\": 5. \"&'7.WEF Influence-Mine'!$BY262","v":"1.: 2.: 3.: 4.: 5. "}]
[null,"Availability (Other)","X","X",null,1]
[2,"Processing/ treatment/ conversion",{"$f":"'3.WEF Status-Base'!B11","v":0},{"$f":"MAX($H12:$L12,$U12:$Y12,$AH12:$AL12,$AU12:$AY12,$BH12:$BL12,$BU12:$BY12,$CH12:$CL12,$CU12:$CY12,$DH12:$DL12,$DU12:$DY12,$EH12:$EL12,$EU12:$EY12,$FH12:$FL12,$FU12:$FY12,$GH12:$GL12,$GU12:$GY12,$HH12:$HL12,$HU12:$HY12)","v":0},{"$f":"MIN($H12:$L12,$U12:$Y12,$AH12:$AL12,$AU12:$AY12,$BH12:$BL12,$BU12:$BY12,$CH12:$CL12,$CU12:$CY12,$DH12:$DL12,$DU12:$DY12,$EH12:$EL12,$EU12:$EY12,$FH12:$FL12,$FU12:$FY12,$GH12:$GL12,$GU12:$GY12,$HH12:$HL12,$HU12:$HY12)","v":0},null,{"$f":"'3.WEF Status-Base'!D11","v":0},{"$f":"'7.WEF Influence-Mine'!$H104","v":0},{"$f":"'7.WEF Influence-Mine'!$H144","v":0},{"$f":"'7.WEF Influence-Mine'!$H184","v":0},{"$f":"'7.WEF Influence-Mine'!$H224","v":0},{"$f":"'7.WEF Influence-Mine'!$H264","v":0},{"$f":"IF(G12>=$D$7,\"B:\"&'3.WEF Status-Base'!$E11&\": \",)&IF(H12<>0,\"1. \"&'7.WEF Influence-Mine'!$I104&\" \",)&IF(I12<>0,\"2. \"&'7.WEF Influence-Mine'!$I144&\" \",)&IF(J12<>0,\"3. \"&'7.WEF Influence-Mine'!$I184&\" \",)&IF(K12<>0,\"4. \"&'7.WEF Influence-Mine'!$I224&\" \",)&IF(L12<>0,\"5. \"&'7.WEF Influence-Mine'!$I264&\" \",)","v":""},null,null,null,null,null,null,{"$f":"'3.WEF Status-Base'!G11","v":0},{"$f":"'7.WEF Influence-Mine'!$L104","v":0},{"$f":"'7.WEF Influence-Mine'!$L144","v":0},{"$f":"'7.WEF Influence-Mine'!$L184","v":0},{"$f":"'7.WEF Influence-Mine'!$L224","v":0},{"$f":"'7.WEF Influence-Mine'!$L264","v":0},{"$f":"IF(T12>=$D$7,\"B:\"&'3.WEF Status-Base'!$H11&\": \",)&IF(U12<>0,\"1.\"&'7.WEF Influence-Mine'!$M104&\" \",)&IF(V12<>0,\"2.\"&'7.WEF Influence-Mine'!$M144&\" \",)&IF(W12<>0,\"3.\"&'7.WEF Influence-Mine'!$M184&\" \",)&IF(X12<>0,\"4.\"&'7.WEF Influence-Mine'!$M224&\" \",)&IF(Y12<>0,\"5.\"&'7.WEF Influence-Mine'!$M264&\" \",)","v":""},null,null,null,null,null,null,{"$f":"'3.WEF Status-Base'!J11","v":0},{"$f":"'7.WEF Influence-Mine'!$P104","v":0},{"$f":"'7.WEF Influence-Mine'!$P144","v":0},{"$f":"'7.WEF Influence-Mine'!$P184","v":0},{"$f":"'7.WEF Influence-Mine'!$P224","v":0},{"$f":"'7.WEF Influence-Mine'!$P264","v":0},null,null,null,null,null,null,null,{"$f":"'3.WEF Status-Base'!M11","v":0},{"$f":"'7.WEF Influence-Mine'!$T104","v":0},{"$f":"'7.WEF Influence-Mine'!$T144","v":0},{"$f":"'7.WEF Influence-Mine'!$T184","v":0},{"$f":"'7.WEF Influence-Mine'!$T224","v":0},{"$f":"'7.WEF Influence-Mine'!$T264","v":0},{"$f":"IF(AT12>=$D$7,\"B:\"&'3.WEF Status-Base'!$N11&\": \",)&IF(AU12<>0,\"1.\"&'7.WEF Influence-Mine'!$U104&\" \",)&IF(AV12<>0,\"2.\"&'7.WEF Influence-Mine'!$U144&\" \",)&IF(AW12<>0,\"3.\"&'7.WEF Influence-Mine'!$U184&\" \",)&IF(AX12<>0,\"4.\"&'7.WEF Influence-Mine'!$U224&\" \",)&IF(AY12<>0,\"5.\"&'7.WEF Influence-Mine'!$U264&\" \",)","v":""},null,null,null,null,null,null,{"$f":"'3.WEF Status-Base'!P11","v":0},{"$f":"'7.WEF Influence-Mine'!$X104","v":0},{"$f":"'7.WEF Influence-Mine'!$X144","v":0},{"$f":"'7.WEF Influence-Mine'!$X184","v":0},{"$f":"'7.WEF Influence-Mine'!$X224","v":0},{"$f":"'7.WEF Influence-Mine'!$X264","v":0},{"$f":"IF(BG12>=$D$7,\"B:\"&'3.WEF Status-Base'!$Q11&\": \",)&IF(BH12<>0,\"1.\"&'7.WEF Influence-Mine'!$Y104&\" \",)&IF(BI12<>0,\"2.\"&'7.WEF Influence-Mine'!$Y144&\" \",)&IF(BJ12<>0,\"3.\"&'7.WEF Influence-Mine'!$Y184&\" \",)&IF(BK12<>0,\"4.\"&'7.WEF Influence-Mine'!$Y224&\" \",)&IF(BL12<>0,\"5.\"&'7.WEF Influence-Mine'!$Y264&\" \",)","v":""},null,null,null,null,null,null,{"$f":"'3.WEF Status-Base'!S11","v":0},{"$f":"'7.WEF Influence-Mine'!$AB104","v":0},{"$f":"'7.WEF Influence-Mine'!$AB144","v":0},{"$f":"'7.WEF Influence-Mine'!$AB184","v":0},{"$f":"'7.WEF Influence-Mine'!$AB224","v":0},{"$f":"'7.WEF Influence-Mine'!$AB264","v":0},{"$f":"IF(BT12>=$D$7,\"B:\"&'3.WEF Status-Base'!$T11&\": \",)&IF(BU12<>0,\"1.\"&'7.WEF Influence-Mine'!$AC104&\" \",)&IF(BV12<>0,\"2.\"&'7.WEF Influence-Mine'!$AC144&\" \",)&IF(BW12<>0,\"3.\"&'7.WEF Influence-Mine'!$AC184&\" \",)&IF(BX12<>0,\"4.\"&'7.WEF Influence-Mine'!$AC224&\" \",)&IF(BY12<>0,\"5.\"&'7.WEF Influence-Mine'!$AC264&\" \",)","v":""},null,null,null,null,null,null,{"$f":"'3.WEF Status-Base'!V11","v":0},{"$f":"'7.WEF Influence-Mine'!$AF104","v":0},{"$f":"'7.WEF Influence-Mine'!$AF144","v":0},{"$f":"'7.WEF Influence-Mine'!$AF184","v":0},{"$f":"'7.WEF Influence-Mine'!$AF224","v":0},{"$f":"'7.WEF Influence-Mine'!$AF264","v":0},{"$f":"IF(CG12>=$D$7,\"B:\"&'3.WEF Status-Base'!$W11&\": \",)&IF(CH12<>0,\"1.\"&'7.WEF Influence-Mine'!$AG104&\" \",)&IF(CI12<>0,\"2.\"&'7.WEF Influence-Mine'!$AG144&\" \",)&IF(CJ12<>0,\"3.\"&'7.WEF Influence-Mine'!$AG184&\" \",)&IF(CK12<>0,\"4.\"&'7.WEF Influence-Mine'!$AG224&\" \",)&IF(CL12<>0,\"5.\"&'7.WEF Influence-Mine'!$AG264&\" \",)","v":""},null,null,null,null,null,null,{"$f":"'3.WEF Status-Base'!Y11","v":0},{"$f":"'7.WEF Influence-Mine'!$AJ104","v":0},{"$f":"'7.WEF Influence-Mine'!$AJ144","v":0},{"$f":"'7.WEF Influence-Mine'!$AJ184","v":0},{"$f":"'7.WEF Influence-Mine'!$AJ224","v":0},{"$f":"'7.WEF Influence-Mine'!$AJ264","v":0},{"$f":"IF(CT12>=$D$7,\"B:\"&'3.WEF Status-Base'!$Z11&\": \",)&IF(CU12<>0,\"1.\"&'7.WEF Influence-Mine'!$AK104&\" \",)&IF(CV12<>0,\"2.\"&'7.WEF Influence-Mine'!$AK144&\" \",)&IF(CW12<>0,\"3.\"&'7.WEF Influence-Mine'!$AK184&\" \",)&IF(CX12<>0,\"4.\"&'7.WEF Influence-Mine'!$AK224&\" \",)&IF(CY12<>0,\"5.\"&'7.WEF Influence-Mine'!$AK264&\" \",)","v":""},null,null,null,null,null,null,{"$f":"'3.WEF Status-Base'!AB11","v":0},{"$f":"'7.WEF Influence-Mine'!$AN104","v":0},{"$f":"'7.WEF Influence-Mine'!$AN144","v":0},{"$f":"'7.WEF Influence-Mine'!$AN184","v":0},{"$f":"'7.WEF Influence-Mine'!$AN224","v":0},{"$f":"'7.WEF Influence-Mine'!$AN264","v":0},{"$f":"IF(DG12>=$D$7,\"B:\"&'3.WEF Status-Base'!$AC11&\": \",)&IF(DH12<>0,\"1.\"&'7.WEF Influence-Mine'!$AO104&\" \",)&IF(DI12<>0,\"2.\"&'7.WEF Influence-Mine'!$AO144&\" \",)&IF(DJ12<>0,\"3.\"&'7.WEF Influence-Mine'!$AO184&\" \",)&IF(DK12<>0,\"4.\"&'7.WEF Influence-Mine'!$AO224&\" \",)&IF(DL12<>0,\"5.\"&'7.WEF Influence-Mine'!$AO264&\" \",)","v":""},null,null,null,null,null,null,{"$f":"'3.WEF Status-Base'!AE11","v":0},{"$f":"'7.WEF Influence-Mine'!$AR104","v":0},{"$f":"'7.WEF Influence-Mine'!$AR144","v":0},{"$f":"'7.WEF Influence-Mine'!$AR184","v":0},{"$f":"'7.WEF Influence-Mine'!$AR224","v":0},{"$f":"'7.WEF Influence-Mine'!$AR264","v":0},{"$f":"IF(DT12>=$D$7,\"B:\"&'3.WEF Status-Base'!$AF11&\": \",)&IF(DU12<>0,\"1.\"&'7.WEF Influence-Mine'!$AS104&\" \",)&IF(DV12<>0,\"2.\"&'7.WEF Influence-Mine'!$AS144&\" \",)&IF(DW12<>0,\"3.\"&'7.WEF Influence-Mine'!$AS184&\" \",)&IF(DX12<>0,\"4.\"&'7.WEF Influence-Mine'!$AS224&\" \",)&IF(DY12<>0,\"5.\"&'7.WEF Influence-Mine'!$AS264&\" \",)","v":""},null,null,null,null,null,null,{"$f":"'3.WEF Status-Base'!AH11","v":0},{"$f":"'7.WEF Influence-Mine'!$AV104","v":0},{"$f":"'7.WEF Influence-Mine'!$AV144","v":0},{"$f":"'7.WEF Influence-Mine'!$AV184","v":0},{"$f":"'7.WEF Influence-Mine'!$AV224","v":0},{"$f":"'7.WEF Influence-Mine'!$AV264","v":0},{"$f":"IF(EG12>=$D$7,\"B:\"&'3.WEF Status-Base'!$AI11&\": \",)&IF(EH12<>0,\"1.\"&'7.WEF Influence-Mine'!$AW104&\" \",)&IF(EI12<>0,\"2.\"&'7.WEF Influence-Mine'!$AW144&\" \",)&IF(EJ12<>0,\"3.\"&'7.WEF Influence-Mine'!$AW184&\" \",)&IF(EK12<>0,\"4.\"&'7.WEF Influence-Mine'!$AW224&\" \",)&IF(EL12<>0,\"5.\"&'7.WEF Influence-Mine'!$AW264&\" \",)","v":""},null,null,null,null,null,null,{"$f":"'3.WEF Status-Base'!AK11","v":0},{"$f":"'7.WEF Influence-Mine'!$AZ104","v":0},{"$f":"'7.WEF Influence-Mine'!$AZ144","v":0},{"$f":"'7.WEF Influence-Mine'!$AZ184","v":0},{"$f":"'7.WEF Influence-Mine'!$AZ224","v":0},{"$f":"'7.WEF Influence-Mine'!$AZ264","v":0},{"$f":"IF(ET12>=$D$7,\"B:\"&'3.WEF Status-Base'!$AL11&\": \",)&IF(EU12<>0,\"1.\"&'7.WEF Influence-Mine'!$BA104&\" \",)&IF(EV12<>0,\"2.\"&'7.WEF Influence-Mine'!$BA144&\" \",)&IF(EW12<>0,\"3.\"&'7.WEF Influence-Mine'!$BA184&\" \",)&IF(EX12<>0,\"4.\"&'7.WEF Influence-Mine'!$BA224&\" \",)&IF(EY12<>0,\"5.\"&'7.WEF Influence-Mine'!$BA264&\" \",)","v":""},null,null,null,null,null,null,{"$f":"'3.WEF Status-Base'!AN11","v":0},{"$f":"'7.WEF Influence-Mine'!$BD104","v":0},{"$f":"'7.WEF Influence-Mine'!$BD144","v":0},{"$f":"'7.WEF Influence-Mine'!$BD184","v":0},{"$f":"'7.WEF Influence-Mine'!$BD224","v":0},{"$f":"'7.WEF Influence-Mine'!$BD264","v":0},{"$f":"IF(FG12>=$D$7,\"B:\"&'3.WEF Status-Base'!$AO11&\": \",)&IF(FH12<>0,\"1.\"&'7.WEF Influence-Mine'!$BE104&\" \",)&IF(FI12<>0,\"2.\"&'7.WEF Influence-Mine'!$BE144&\" \",)&IF(FJ12<>0,\"3.\"&'7.WEF Influence-Mine'!$BE184&\" \",)&IF(FK12<>0,\"4.\"&'7.WEF Influence-Mine'!$BE224&\" \",)&IF(FL12<>0,\"5.\"&'7.WEF Influence-Mine'!$BE264&\" \",)","v":""},null,null,null,null,null,null,{"$f":"'3.WEF Status-Base'!AQ11","v":0},{"$f":"'7.WEF Influence-Mine'!$BH104","v":0},{"$f":"'7.WEF Influence-Mine'!$BH144","v":0},{"$f":"'7.WEF Influence-Mine'!$BH184","v":0},{"$f":"'7.WEF Influence-Mine'!$BH224","v":0},{"$f":"'7.WEF Influence-Mine'!$BH264","v":0},{"$f":"IF(FT12>=$D$7,\"B:\"&'3.WEF Status-Base'!$AR11&\": \",)&IF(FU12<>0,\"1.\"&'7.WEF Influence-Mine'!$BI104&\" \",)&IF(FV12<>0,\"2.\"&'7.WEF Influence-Mine'!$BI144&\" \",)&IF(FW12<>0,\"3.\"&'7.WEF Influence-Mine'!$BI184&\" \",)&IF(FX12<>0,\"4.\"&'7.WEF Influence-Mine'!$BI224&\" \",)&IF(FY12<>0,\"5.\"&'7.WEF Influence-Mine'!$BI264&\" \",)","v":""},null,null,null,null,null,null,{"$f":"'3.WEF Status-Base'!AT11","v":0},{"$f":"'7.WEF Influence-Mine'!$BL104","v":0},{"$f":"'7.WEF Influence-Mine'!$BL144","v":0},{"$f":"'7.WEF Influence-Mine'!$BL184","v":0},{"$f":"'7.WEF Influence-Mine'!$BL224","v":0},{"$f":"'7.WEF Influence-Mine'!$BL264","v":0},{"$f":"IF(GG12>=$D$7,\"B:\"&'3.WEF Status-Base'!$AU11&\": \",)&IF(GH12<>0,\"1.\"&'7.WEF Influence-Mine'!$BM104&\" \",)&IF(GI12<>0,\"2.\"&'7.WEF Influence-Mine'!$BM144&\" \",)&IF(GJ12<>0,\"3.\"&'7.WEF Influence-Mine'!$BM184&\" \",)&IF(GK12<>0,\"4.\"&'7.WEF Influence-Mine'!$BM224&\" \",)&IF(GL12<>0,\"5.\"&'7.WEF Influence-Mine'!$BM264&\" \",)","v":""},null,null,null,null,null,null,{"$f":"'3.WEF Status-Base'!AW11","v":0},{"$f":"'7.WEF Influence-Mine'!$BP104","v":0},{"$f":"'7.WEF Influence-Mine'!$BP144","v":0},{"$f":"'7.WEF Influence-Mine'!$BP184","v":0},{"$f":"'7.WEF Influence-Mine'!$BP224","v":0},{"$f":"'7.WEF Influence-Mine'!$BP264","v":0},{"$f":"IF(GT12>=$D$7,\"B:\"&'3.WEF Status-Base'!$AX11&\": \",)&IF(GU12<>0,\"1.\"&'7.WEF Influence-Mine'!$BQ104&\" \",)&IF(GV12<>0,\"2.\"&'7.WEF Influence-Mine'!$BQ144&\" \",)&IF(GW12<>0,\"3.\"&'7.WEF Influence-Mine'!$BQ184&\" \",)&IF(GX12<>0,\"4.\"&'7.WEF Influence-Mine'!$BQ224&\" \",)&IF(GY12<>0,\"5.\"&'7.WEF Influence-Mine'!$BQ264&\" \",)","v":""},null,null,null,null,null,null,{"$f":"'3.WEF Status-Base'!AZ11","v":0},{"$f":"'7.WEF Influence-Mine'!$BT104","v":0},{"$f":"'7.WEF Influence-Mine'!$BT144","v":0},{"$f":"'7.WEF Influence-Mine'!$BT184","v":0},{"$f":"'7.WEF Influence-Mine'!$BT224","v":0},{"$f":"'7.WEF Influence-Mine'!$BT264","v":0},{"$f":"IF(HG12>=$D$7,\"B:\"&'3.WEF Status-Base'!$BA11&\": \",)&IF(HH12<>0,\"1.\"&'7.WEF Influence-Mine'!$BU104&\" \",)&IF(HI12<>0,\"2.\"&'7.WEF Influence-Mine'!$BU144&\" \",)&IF(HJ12<>0,\"3.\"&'7.WEF Influence-Mine'!$BU184&\" \",)&IF(HK12<>0,\"4.\"&'7.WEF Influence-Mine'!$BU224&\" \",)&IF(HL12<>0,\"5.\"&'7.WEF Influence-Mine'!$BU264&\" \",)","v":""},null,null,null,null,null,null,{"$f":"'3.WEF Status-Base'!BC11","v":0},{"$f":"'7.WEF Influence-Mine'!$BX104","v":0},{"$f":"'7.WEF Influence-Mine'!$BX144","v":0},{"$f":"'7.WEF Influence-Mine'!$BX184","v":0},{"$f":"'7.WEF Influence-Mine'!$BX224","v":0},{"$f":"'7.WEF Influence-Mine'!$BX264","v":0},{"$f":"IF(HT12>=$D$7,\"B:\"&'3.WEF Status-Base'!$BD11&\": \",)&IF(HU12<>0,\"1.\"&'7.WEF Influence-Mine'!$BY104&\" \",)&IF(HV12<>0,\"2.\"&'7.WEF Influence-Mine'!$BY144&\" \",)&IF(HW12<>0,\"3.\"&'7.WEF Influence-Mine'!$BY184&\" \",)&IF(HX12<>0,\"4.\"&'7.WEF Influence-Mine'!$BY224&\" \",)&IF(HY12<>0,\"5.\"&'7.WEF Influence-Mine'!$BY264&\" \",)","v":""},null,null,null,null,null,null,{"$f":"'7.WEF Influence-Mine'!BZ104&\" : \"&'7.WEF Influence-Mine'!BZ144&\" : \"&'7.WEF Influence-Mine'!BZ184&\" : \"&'7.WEF Influence-Mine'!BZ224&\" : \"&'7.WEF Influence-Mine'!BZ264","v":"0 : 0 : 0 : 0 : 0"}]
[3,"Timing of delivery (storage)",{"$f":"'3.WEF Status-Base'!B12","v":0},{"$f":"MAX($H13:$L13,$U13:$Y13,$AH13:$AL13,$AU13:$AY13,$BH13:$BL13,$BU13:$BY13,$CH13:$CL13,$CU13:$CY13,$DH13:$DL13,$DU13:$DY13,$EH13:$EL13,$EU13:$EY13,$FH13:$FL13,$FU13:$FY13,$GH13:$GL13,$GU13:$GY13,$HH13:$HL13,$HU13:$HY13)","v":0},{"$f":"MIN($H13:$L13,$U13:$Y13,$AH13:$AL13,$AU13:$AY13,$BH13:$BL13,$BU13:$BY13,$CH13:$CL13,$CU13:$CY13,$DH13:$DL13,$DU13:$DY13,$EH13:$EL13,$EU13:$EY13,$FH13:$FL13,$FU13:$FY13,$GH13:$GL13,$GU13:$GY13,$HH13:$HL13,$HU13:$HY13)","v":0},null,{"$f":"'3.WEF Status-Base'!D12","v":0},{"$f":"'7.WEF Influence-Mine'!$H105","v":0},{"$f":"'7.WEF Influence-Mine'!$H145","v":0},{"$f":"'7.WEF Influence-Mine'!$H185","v":0},{"$f":"'7.WEF Influence-Mine'!$H225","v":0},{"$f":"'7.WEF Influence-Mine'!$H265","v":0},{"$f":"IF(G13>=$D$7,\"B:\"&'3.WEF Status-Base'!$E12&\": \",)&IF(H13<>0,\"1. \"&'7.WEF Influence-Mine'!$I105&\" \",)&IF(I13<>0,\"2. \"&'7.WEF Influence-Mine'!$I145&\" \",)&IF(J13<>0,\"3. \"&'7.WEF Influence-Mine'!$I185&\" \",)&IF(K13<>0,\"4. \"&'7.WEF Influence-Mine'!$I225&\" \",)&IF(L13<>0,\"5. \"&'7.WEF Influence-Mine'!$I265&\" \",)","v":""},null,null,null,null,null,null,{"$f":"'3.WEF Status-Base'!G12","v":0},{"$f":"'7.WEF Influence-Mine'!$L105","v":0},{"$f":"'7.WEF Influence-Mine'!$L145","v":0},{"$f":"'7.WEF Influence-Mine'!$L185","v":0},{"$f":"'7.WEF Influence-Mine'!$L225","v":0},{"$f":"'7.WEF Influence-Mine'!$L265","v":0},{"$f":"IF(T13>=$D$7,\"B:\"&'3.WEF Status-Base'!$H12&\": \",)&IF(U13<>0,\"1.\"&'7.WEF Influence-Mine'!$M105&\" \",)&IF(V13<>0,\"2.\"&'7.WEF Influence-Mine'!$M145&\" \",)&IF(W13<>0,\"3.\"&'7.WEF Influence-Mine'!$M185&\" \",)&IF(X13<>0,\"4.\"&'7.WEF Influence-Mine'!$M225&\" \",)&IF(Y13<>0,\"5.\"&'7.WEF Influence-Mine'!$M265&\" \",)","v":""},null,null,null,null,null,null,{"$f":"'3.WEF Status-Base'!J12","v":0},{"$f":"'7.WEF Influence-Mine'!$P105","v":0},{"$f":"'7.WEF Influence-Mine'!$P145","v":0},{"$f":"'7.WEF Influence-Mine'!$P185","v":0},{"$f":"'7.WEF Influence-Mine'!$P225","v":0},{"$f":"'7.WEF Influence-Mine'!$P265","v":0},null,null,null,null,null,null,null,{"$f":"'3.WEF Status-Base'!M12","v":0},{"$f":"'7.WEF Influence-Mine'!$T105","v":0},{"$f":"'7.WEF Influence-Mine'!$T145","v":0},{"$f":"'7.WEF Influence-Mine'!$T185","v":0},{"$f":"'7.WEF Influence-Mine'!$T225","v":0},{"$f":"'7.WEF Influence-Mine'!$T265","v":0},{"$f":"IF(AT13>=$D$7,\"B:\"&'3.WEF Status-Base'!$N12&\": \",)&IF(AU13<>0,\"1.\"&'7.WEF Influence-Mine'!$U105&\" \",)&IF(AV13<>0,\"2.\"&'7.WEF Influence-Mine'!$U145&\" \",)&IF(AW13<>0,\"3.\"&'7.WEF Influence-Mine'!$U185&\" \",)&IF(AX13<>0,\"4.\"&'7.WEF Influence-Mine'!$U225&\" \",)&IF(AY13<>0,\"5.\"&'7.WEF Influence-Mine'!$U265&\" \",)","v":""},null,null,null,null,null,null,{"$f":"'3.WEF Status-Base'!P12","v":0},{"$f":"'7.WEF Influence-Mine'!$X105","v":0},{"$f":"'7.WEF Influence-Mine'!$X145","v":0},{"$f":"'7.WEF Influence-Mine'!$X185","v":0},{"$f":"'7.WEF Influence-Mine'!$X225","v":0},{"$f":"'7.WEF Influence-Mine'!$X265","v":0},{"$f":"IF(BG13>=$D$7,\"B:\"&'3.WEF Status-Base'!$Q12&\": \",)&IF(BH13<>0,\"1.\"&'7.WEF Influence-Mine'!$Y105&\" \",)&IF(BI13<>0,\"2.\"&'7.WEF Influence-Mine'!$Y145&\" \",)&IF(BJ13<>0,\"3.\"&'7.WEF Influence-Mine'!$Y185&\" \",)&IF(BK13<>0,\"4.\"&'7.WEF Influence-Mine'!$Y225&\" \",)&IF(BL13<>0,\"5.\"&'7.WEF Influence-Mine'!$Y265&\" \",)","v":""},null,null,null,null,null,null,{"$f":"'3.WEF Status-Base'!S12","v":0},{"$f":"'7.WEF Influence-Mine'!$AB105","v":0},{"$f":"'7.WEF Influence-Mine'!$AB145","v":0},{"$f":"'7.WEF Influence-Mine'!$AB185","v":0},{"$f":"'7.WEF Influence-Mine'!$AB225","v":0},{"$f":"'7.WEF Influence-Mine'!$AB265","v":0},{"$f":"IF(BT13>=$D$7,\"B:\"&'3.WEF Status-Base'!$T12&\": \",)&IF(BU13<>0,\"1.\"&'7.WEF Influence-Mine'!$AC105&\" \",)&IF(BV13<>0,\"2.\"&'7.WEF Influence-Mine'!$AC145&\" \",)&IF(BW13<>0,\"3.\"&'7.WEF Influence-Mine'!$AC185&\" \",)&IF(BX13<>0,\"4.\"&'7.WEF Influence-Mine'!$AC225&\" \",)&IF(BY13<>0,\"5.\"&'7.WEF Influence-Mine'!$AC265&\" \",)","v":""},null,null,null,null,null,null,{"$f":"'3.WEF Status-Base'!V12","v":0},{"$f":"'7.WEF Influence-Mine'!$AF105","v":0},{"$f":"'7.WEF Influence-Mine'!$AF145","v":0},{"$f":"'7.WEF Influence-Mine'!$AF185","v":0},{"$f":"'7.WEF Influence-Mine'!$AF225","v":0},{"$f":"'7.WEF Influence-Mine'!$AF265","v":0},{"$f":"IF(CG13>=$D$7,\"B:\"&'3.WEF Status-Base'!$W12&\": \",)&IF(CH13<>0,\"1.\"&'7.WEF Influence-Mine'!$AG105&\" \",)&IF(CI13<>0,\"2.\"&'7.WEF Influence-Mine'!$AG145&\" \",)&IF(CJ13<>0,\"3.\"&'7.WEF Influence-Mine'!$AG185&\" \",)&IF(CK13<>0,\"4.\"&'7.WEF Influence-Mine'!$AG225&\" \",)&IF(CL13<>0,\"5.\"&'7.WEF Influence-Mine'!$AG265&\" \",)","v":""},null,null,null,null,null,null,{"$f":"'3.WEF Status-Base'!Y12","v":0},{"$f":"'7.WEF Influence-Mine'!$AJ105","v":0},{"$f":"'7.WEF Influence-Mine'!$AJ145","v":0},{"$f":"'7.WEF Influence-Mine'!$AJ185","v":0},{"$f":"'7.WEF Influence-Mine'!$AJ225","v":0},{"$f":"'7.WEF Influence-Mine'!$AJ265","v":0},{"$f":"IF(CT13>=$D$7,\"B:\"&'3.WEF Status-Base'!$Z12&\": \",)&IF(CU13<>0,\"1.\"&'7.WEF Influence-Mine'!$AK105&\" \",)&IF(CV13<>0,\"2.\"&'7.WEF Influence-Mine'!$AK145&\" \",)&IF(CW13<>0,\"3.\"&'7.WEF Influence-Mine'!$AK185&\" \",)&IF(CX13<>0,\"4.\"&'7.WEF Influence-Mine'!$AK225&\" \",)&IF(CY13<>0,\"5.\"&'7.WEF Influence-Mine'!$AK265&\" \",)","v":""},null,null,null,null,null,null,{"$f":"'3.WEF Status-Base'!AB12","v":0},{"$f":"'7.WEF Influence-Mine'!$AN105","v":0},{"$f":"'7.WEF Influence-Mine'!$AN145","v":0},{"$f":"'7.WEF Influence-Mine'!$AN185","v":0},{"$f":"'7.WEF Influence-Mine'!$AN225","v":0},{"$f":"'7.WEF Influence-Mine'!$AN265","v":0},{"$f":"IF(DG13>=$D$7,\"B:\"&'3.WEF Status-Base'!$AC12&\": \",)&IF(DH13<>0,\"1.\"&'7.WEF Influence-Mine'!$AO105&\" \",)&IF(DI13<>0,\"2.\"&'7.WEF Influence-Mine'!$AO145&\" \",)&IF(DJ13<>0,\"3.\"&'7.WEF Influence-Mine'!$AO185&\" \",)&IF(DK13<>0,\"4.\"&'7.WEF Influence-Mine'!$AO225&\" \",)&IF(DL13<>0,\"5.\"&'7.WEF Influence-Mine'!$AO265&\" \",)","v":""},null,null,null,null,null,null,{"$f":"'3.WEF Status-Base'!AE12","v":0},{"$f":"'7.WEF Influence-Mine'!$AR105","v":0},{"$f":"'7.WEF Influence-Mine'!$AR145","v":0},{"$f":"'7.WEF Influence-Mine'!$AR185","v":0},{"$f":"'7.WEF Influence-Mine'!$AR225","v":0},{"$f":"'7.WEF Influence-Mine'!$AR265","v":0},{"$f":"IF(DT13>=$D$7,\"B:\"&'3.WEF Status-Base'!$AF12&\": \",)&IF(DU13<>0,\"1.\"&'7.WEF Influence-Mine'!$AS105&\" \",)&IF(DV13<>0,\"2.\"&'7.WEF Influence-Mine'!$AS145&\" \",)&IF(DW13<>0,\"3.\"&'7.WEF Influence-Mine'!$AS185&\" \",)&IF(DX13<>0,\"4.\"&'7.WEF Influence-Mine'!$AS225&\" \",)&IF(DY13<>0,\"5.\"&'7.WEF Influence-Mine'!$AS265&\" \",)","v":""},null,null,null,null,null,null,{"$f":"'3.WEF Status-Base'!AH12","v":0},{"$f":"'7.WEF Influence-Mine'!$AV105","v":0},{"$f":"'7.WEF Influence-Mine'!$AV145","v":0},{"$f":"'7.WEF Influence-Mine'!$AV185","v":0},{"$f":"'7.WEF Influence-Mine'!$AV225","v":0},{"$f":"'7.WEF Influence-Mine'!$AV265","v":0},{"$f":"IF(EG13>=$D$7,\"B:\"&'3.WEF Status-Base'!$AI12&\": \",)&IF(EH13<>0,\"1.\"&'7.WEF Influence-Mine'!$AW105&\" \",)&IF(EI13<>0,\"2.\"&'7.WEF Influence-Mine'!$AW145&\" \",)&IF(EJ13<>0,\"3.\"&'7.WEF Influence-Mine'!$AW185&\" \",)&IF(EK13<>0,\"4.\"&'7.WEF Influence-Mine'!$AW225&\" \",)&IF(EL13<>0,\"5.\"&'7.WEF Influence-Mine'!$AW265&\" \",)","v":""},null,null,null,null,null,null,{"$f":"'3.WEF Status-Base'!AK12","v":0},{"$f":"'7.WEF Influence-Mine'!$AZ105","v":0},{"$f":"'7.WEF Influence-Mine'!$AZ145","v":0},{"$f":"'7.WEF Influence-Mine'!$AZ185","v":0},{"$f":"'7.WEF Influence-Mine'!$AZ225","v":0},{"$f":"'7.WEF Influence-Mine'!$AZ265","v":0},{"$f":"IF(ET13>=$D$7,\"B:\"&'3.WEF Status-Base'!$AL12&\": \",)&IF(EU13<>0,\"1.\"&'7.WEF Influence-Mine'!$BA105&\" \",)&IF(EV13<>0,\"2.\"&'7.WEF Influence-Mine'!$BA145&\" \",)&IF(EW13<>0,\"3.\"&'7.WEF Influence-Mine'!$BA185&\" \",)&IF(EX13<>0,\"4.\"&'7.WEF Influence-Mine'!$BA225&\" \",)&IF(EY13<>0,\"5.\"&'7.WEF Influence-Mine'!$BA265&\" \",)","v":""},null,null,null,null,null,null,{"$f":"'3.WEF Status-Base'!AN12","v":0},{"$f":"'7.WEF Influence-Mine'!$BD105","v":0},{"$f":"'7.WEF Influence-Mine'!$BD145","v":0},{"$f":"'7.WEF Influence-Mine'!$BD185","v":0},{"$f":"'7.WEF Influence-Mine'!$BD225","v":0},{"$f":"'7.WEF Influence-Mine'!$BD265","v":0},{"$f":"IF(FG13>=$D$7,\"B:\"&'3.WEF Status-Base'!$AO12&\": \",)&IF(FH13<>0,\"1.\"&'7.WEF Influence-Mine'!$BE105&\" \",)&IF(FI13<>0,\"2.\"&'7.WEF Influence-Mine'!$BE145&\" \",)&IF(FJ13<>0,\"3.\"&'7.WEF Influence-Mine'!$BE185&\" \",)&IF(FK13<>0,\"4.\"&'7.WEF Influence-Mine'!$BE225&\" \",)&IF(FL13<>0,\"5.\"&'7.WEF Influence-Mine'!$BE265&\" \",)","v":""},null,null,null,null,null,null,{"$f":"'3.WEF Status-Base'!AQ12","v":0},{"$f":"'7.WEF Influence-Mine'!$BH105","v":0},{"$f":"'7.WEF Influence-Mine'!$BH145","v":0},{"$f":"'7.WEF Influence-Mine'!$BH185","v":0},{"$f":"'7.WEF Influence-Mine'!$BH225","v":0},{"$f":"'7.WEF Influence-Mine'!$BH265","v":0},{"$f":"IF(FT13>=$D$7,\"B:\"&'3.WEF Status-Base'!$AR12&\": \",)&IF(FU13<>0,\"1.\"&'7.WEF Influence-Mine'!$BI105&\" \",)&IF(FV13<>0,\"2.\"&'7.WEF Influence-Mine'!$BI145&\" \",)&IF(FW13<>0,\"3.\"&'7.WEF Influence-Mine'!$BI185&\" \",)&IF(FX13<>0,\"4.\"&'7.WEF Influence-Mine'!$BI225&\" \",)&IF(FY13<>0,\"5.\"&'7.WEF Influence-Mine'!$BI265&\" \",)","v":""},null,null,null,null,null,null,{"$f":"'3.WEF Status-Base'!AT12","v":0},{"$f":"'7.WEF Influence-Mine'!$BL105","v":0},{"$f":"'7.WEF Influence-Mine'!$BL145","v":0},{"$f":"'7.WEF Influence-Mine'!$BL185","v":0},{"$f":"'7.WEF Influence-Mine'!$BL225","v":0},{"$f":"'7.WEF Influence-Mine'!$BL265","v":0},{"$f":"IF(GG13>=$D$7,\"B:\"&'3.WEF Status-Base'!$AU12&\": \",)&IF(GH13<>0,\"1.\"&'7.WEF Influence-Mine'!$BM105&\" \",)&IF(GI13<>0,\"2.\"&'7.WEF Influence-Mine'!$BM145&\" \",)&IF(GJ13<>0,\"3.\"&'7.WEF Influence-Mine'!$BM185&\" \",)&IF(GK13<>0,\"4.\"&'7.WEF Influence-Mine'!$BM225&\" \",)&IF(GL13<>0,\"5.\"&'7.WEF Influence-Mine'!$BM265&\" \",)","v":""},null,null,null,null,null,null,{"$f":"'3.WEF Status-Base'!AW12","v":0},{"$f":"'7.WEF Influence-Mine'!$BP105","v":0},{"$f":"'7.WEF Influence-Mine'!$BP145","v":0},{"$f":"'7.WEF Influence-Mine'!$BP185","v":0},{"$f":"'7.WEF Influence-Mine'!$BP225","v":0},{"$f":"'7.WEF Influence-Mine'!$BP265","v":0},{"$f":"IF(GT13>=$D$7,\"B:\"&'3.WEF Status-Base'!$AX12&\": \",)&IF(GU13<>0,\"1.\"&'7.WEF Influence-Mine'!$BQ105&\" \",)&IF(GV13<>0,\"2.\"&'7.WEF Influence-Mine'!$BQ145&\" \",)&IF(GW13<>0,\"3.\"&'7.WEF Influence-Mine'!$BQ185&\" \",)&IF(GX13<>0,\"4.\"&'7.WEF Influence-Mine'!$BQ225&\" \",)&IF(GY13<>0,\"5.\"&'7.WEF Influence-Mine'!$BQ265&\" \",)","v":""},null,null,null,null,null,null,{"$f":"'3.WEF Status-Base'!AZ12","v":0},{"$f":"'7.WEF Influence-Mine'!$BT105","v":0},{"$f":"'7.WEF Influence-Mine'!$BT145","v":0},{"$f":"'7.WEF Influence-Mine'!$BT185","v":0},{"$f":"'7.WEF Influence-Mine'!$BT225","v":0},{"$f":"'7.WEF Influence-Mine'!$BT265","v":0},{"$f":"IF(HG13>=$D$7,\"B:\"&'3.WEF Status-Base'!$BA12&\": \",)&IF(HH13<>0,\"1.\"&'7.WEF Influence-Mine'!$BU105&\" \",)&IF(HI13<>0,\"2.\"&'7.WEF Influence-Mine'!$BU145&\" \",)&IF(HJ13<>0,\"3.\"&'7.WEF Influence-Mine'!$BU185&\" \",)&IF(HK13<>0,\"4.\"&'7.WEF Influence-Mine'!$BU225&\" \",)&IF(HL13<>0,\"5.\"&'7.WEF Influence-Mine'!$BU265&\" \",)","v":""},null,null,null,null,null,null,{"$f":"'3.WEF Status-Base'!BC12","v":0},{"$f":"'7.WEF Influence-Mine'!$BX105","v":0},{"$f":"'7.WEF Influence-Mine'!$BX145","v":0},{"$f":"'7.WEF Influence-Mine'!$BX185","v":0},{"$f":"'7.WEF Influence-Mine'!$BX225","v":0},{"$f":"'7.WEF Influence-Mine'!$BX265","v":0},{"$f":"IF(HT13>=$D$7,\"B:\"&'3.WEF Status-Base'!$BD12&\": \",)&IF(HU13<>0,\"1.\"&'7.WEF Influence-Mine'!$BY105&\" \",)&IF(HV13<>0,\"2.\"&'7.WEF Influence-Mine'!$BY145&\" \",)&IF(HW13<>0,\"3.\"&'7.WEF Influence-Mine'!$BY185&\" \",)&IF(HX13<>0,\"4.\"&'7.WEF Influence-Mine'!$BY225&\" \",)&IF(HY13<>0,\"5.\"&'7.WEF Influence-Mine'!$BY265&\" \",)","v":""},null,null,null,null,null,null,{"$f":"'7.WEF Influence-Mine'!BZ105&\" : \"&'7.WEF Influence-Mine'!BZ145&\" : \"&'7.WEF Influence-Mine'!BZ185&\" : \"&'7.WEF Influence-Mine'!BZ225&\" : \"&'7.WEF Influence-Mine'!BZ265","v":"0 : 0 : 0 : 0 : 0"}]
[4,"Distribution (water towers)",{"$f":"'3.WEF Status-Base'!B13","v":0},{"$f":"MAX($H14:$L14,$U14:$Y14,$AH14:$AL14,$AU14:$AY14,$BH14:$BL14,$BU14:$BY14,$CH14:$CL14,$CU14:$CY14,$DH14:$DL14,$DU14:$DY14,$EH14:$EL14,$EU14:$EY14,$FH14:$FL14,$FU14:$FY14,$GH14:$GL14,$GU14:$GY14,$HH14:$HL14,$HU14:$HY14)","v":0},{"$f":"MIN($H14:$L14,$U14:$Y14,$AH14:$AL14,$AU14:$AY14,$BH14:$BL14,$BU14:$BY14,$CH14:$CL14,$CU14:$CY14,$DH14:$DL14,$DU14:$DY14,$EH14:$EL14,$EU14:$EY14,$FH14:$FL14,$FU14:$FY14,$GH14:$GL14,$GU14:$GY14,$HH14:$HL14,$HU14:$HY14)","v":0},null,{"$f":"'3.WEF Status-Base'!D13","v":0},{"$f":"'7.WEF Influence-Mine'!$H106","v":0},{"$f":"'7.WEF Influence-Mine'!$H146","v":0},{"$f":"'7.WEF Influence-Mine'!$H186","v":0},{"$f":"'7.WEF Influence-Mine'!$H226","v":0},{"$f":"'7.WEF Influence-Mine'!$H266","v":0},{"$f":"IF(G14>=$D$7,\"B:\"&'3.WEF Status-Base'!$E13&\": \",)&IF(H14<>0,\"1. \"&'7.WEF Influence-Mine'!$I106&\" \",)&IF(I14<>0,\"2. \"&'7.WEF Influence-Mine'!$I146&\" \",)&IF(J14<>0,\"3. \"&'7.WEF Influence-Mine'!$I186&\" \",)&IF(K14<>0,\"4. \"&'7.WEF Influence-Mine'!$I226&\" \",)&IF(L14<>0,\"5. \"&'7.WEF Influence-Mine'!$I266&\" \",)","v":""},null,null,null,null,null,null,{"$f":"'3.WEF Status-Base'!G13","v":0},{"$f":"'7.WEF Influence-Mine'!$L106","v":0},{"$f":"'7.WEF Influence-Mine'!$L146","v":0},{"$f":"'7.WEF Influence-Mine'!$L186","v":0},{"$f":"'7.WEF Influence-Mine'!$L226","v":0},{"$f":"'7.WEF Influence-Mine'!$L266","v":0},{"$f":"IF(T14>=$D$7,\"B:\"&'3.WEF Status-Base'!$H13&\": \",)&IF(U14<>0,\"1.\"&'7.WEF Influence-Mine'!$M106&\" \",)&IF(V14<>0,\"2.\"&'7.WEF Influence-Mine'!$M146&\" \",)&IF(W14<>0,\"3.\"&'7.WEF Influence-Mine'!$M186&\" \",)&IF(X14<>0,\"4.\"&'7.WEF Influence-Mine'!$M226&\" \",)&IF(Y14<>0,\"5.\"&'7.WEF Influence-Mine'!$M266&\" \",)","v":""},null,null,null,null,null,null,{"$f":"'3.WEF Status-Base'!J13","v":0},{"$f":"'7.WEF Influence-Mine'!$P106","v":0},{"$f":"'7.WEF Influence-Mine'!$P146","v":0},{"$f":"'7.WEF Influence-Mine'!$P186","v":0},{"$f":"'7.WEF Influence-Mine'!$P226","v":0},{"$f":"'7.WEF Influence-Mine'!$P266","v":0},{"$f":"IF(AG14>=$D$7,\"B:\"&'3.WEF Status-Base'!$K13&\": \",)&IF(AH14<>0,\"1.\"&'7.WEF Influence-Mine'!$Q106&\" \",)&IF(AI14<>0,\"2.\"&'7.WEF Influence-Mine'!$Q146&\" \",)&IF(AJ14<>0,\"3.\"&'7.WEF Influence-Mine'!$Q186&\" \",)&IF(AK14<>0,\"4.\"&'7.WEF Influence-Mine'!$Q226&\" \",)&IF(AL14<>0,\"5.\"&'7.WEF Influence-Mine'!$Q266&\" \",)","v":""},null,null,null,null,null,null,{"$f":"'3.WEF Status-Base'!M13","v":0},{"$f":"'7.WEF Influence-Mine'!$T106","v":0},{"$f":"'7.WEF Influence-Mine'!$T146","v":0},{"$f":"'7.WEF Influence-Mine'!$T186","v":0},{"$f":"'7.WEF Influence-Mine'!$T226","v":0},{"$f":"'7.WEF Influence-Mine'!$T266","v":0},{"$f":"IF(AT14>=$D$7,\"B:\"&'3.WEF Status-Base'!$N13&\": \",)&IF(AU14<>0,\"1.\"&'7.WEF Influence-Mine'!$U106&\" \",)&IF(AV14<>0,\"2.\"&'7.WEF Influence-Mine'!$U146&\" \",)&IF(AW14<>0,\"3.\"&'7.WEF Influence-Mine'!$U186&\" \",)&IF(AX14<>0,\"4.\"&'7.WEF Influence-Mine'!$U226&\" \",)&IF(AY14<>0,\"5.\"&'7.WEF Influence-Mine'!$U266&\" \",)","v":""},null,null,null,null,null,null,{"$f":"'3.WEF Status-Base'!P13","v":0},{"$f":"'7.WEF Influence-Mine'!$X106","v":0},{"$f":"'7.WEF Influence-Mine'!$X146","v":0},{"$f":"'7.WEF Influence-Mine'!$X186","v":0},{"$f":"'7.WEF Influence-Mine'!$X226","v":0},{"$f":"'7.WEF Influence-Mine'!$X266","v":0},{"$f":"IF(BG14>=$D$7,\"B:\"&'3.WEF Status-Base'!$Q13&\": \",)&IF(BH14<>0,\"1.\"&'7.WEF Influence-Mine'!$Y106&\" \",)&IF(BI14<>0,\"2.\"&'7.WEF Influence-Mine'!$Y146&\" \",)&IF(BJ14<>0,\"3.\"&'7.WEF Influence-Mine'!$Y186&\" \",)&IF(BK14<>0,\"4.\"&'7.WEF Influence-Mine'!$Y226&\" \",)&IF(BL14<>0,\"5.\"&'7.WEF Influence-Mine'!$Y266&\" \",)","v":""},null,null,null,null,null,null,{"$f":"'3.WEF Status-Base'!S13","v":0},{"$f":"'7.WEF Influence-Mine'!$AB106","v":0},{"$f":"'7.WEF Influence-Mine'!$AB146","v":0},{"$f":"'7.WEF Influence-Mine'!$AB186","v":0},{"$f":"'7.WEF Influence-Mine'!$AB226","v":0},{"$f":"'7.WEF Influence-Mine'!$AB266","v":0},{"$f":"IF(BT14>=$D$7,\"B:\"&'3.WEF Status-Base'!$T13&\": \",)&IF(BU14<>0,\"1.\"&'7.WEF Influence-Mine'!$AC106&\" \",)&IF(BV14<>0,\"2.\"&'7.WEF Influence-Mine'!$AC146&\" \",)&IF(BW14<>0,\"3.\"&'7.WEF Influence-Mine'!$AC186&\" \",)&IF(BX14<>0,\"4.\"&'7.WEF Influence-Mine'!$AC226&\" \",)&IF(BY14<>0,\"5.\"&'7.WEF Influence-Mine'!$AC266&\" \",)","v":""},null,null,null,null,null,null,{"$f":"'3.WEF Status-Base'!V13","v":0},{"$f":"'7.WEF Influence-Mine'!$AF106","v":0},{"$f":"'7.WEF Influence-Mine'!$AF146","v":0},{"$f":"'7.WEF Influence-Mine'!$AF186","v":0},{"$f":"'7.WEF Influence-Mine'!$AF226","v":0},{"$f":"'7.WEF Influence-Mine'!$AF266","v":0},{"$f":"IF(CG14>=$D$7,\"B:\"&'3.WEF Status-Base'!$W13&\": \",)&IF(CH14<>0,\"1.\"&'7.WEF Influence-Mine'!$AG106&\" \",)&IF(CI14<>0,\"2.\"&'7.WEF Influence-Mine'!$AG146&\" \",)&IF(CJ14<>0,\"3.\"&'7.WEF Influence-Mine'!$AG186&\" \",)&IF(CK14<>0,\"4.\"&'7.WEF Influence-Mine'!$AG226&\" \",)&IF(CL14<>0,\"5.\"&'7.WEF Influence-Mine'!$AG266&\" \",)","v":""},null,null,null,null,null,null,{"$f":"'3.WEF Status-Base'!Y13","v":0},{"$f":"'7.WEF Influence-Mine'!$AJ106","v":0},{"$f":"'7.WEF Influence-Mine'!$AJ146","v":0},{"$f":"'7.WEF Influence-Mine'!$AJ186","v":0},{"$f":"'7.WEF Influence-Mine'!$AJ226","v":0},{"$f":"'7.WEF Influence-Mine'!$AJ266","v":0},{"$f":"IF(CT14>=$D$7,\"B:\"&'3.WEF Status-Base'!$Z13&\": \",)&IF(CU14<>0,\"1.\"&'7.WEF Influence-Mine'!$AK106&\" \",)&IF(CV14<>0,\"2.\"&'7.WEF Influence-Mine'!$AK146&\" \",)&IF(CW14<>0,\"3.\"&'7.WEF Influence-Mine'!$AK186&\" \",)&IF(CX14<>0,\"4.\"&'7.WEF Influence-Mine'!$AK226&\" \",)&IF(CY14<>0,\"5.\"&'7.WEF Influence-Mine'!$AK266&\" \",)","v":""},null,null,null,null,null,null,{"$f":"'3.WEF Status-Base'!AB13","v":0},{"$f":"'7.WEF Influence-Mine'!$AN106","v":0},{"$f":"'7.WEF Influence-Mine'!$AN146","v":0},{"$f":"'7.WEF Influence-Mine'!$AN186","v":0},{"$f":"'7.WEF Influence-Mine'!$AN226","v":0},{"$f":"'7.WEF Influence-Mine'!$AN266","v":0},{"$f":"IF(DG14>=$D$7,\"B:\"&'3.WEF Status-Base'!$AC13&\": \",)&IF(DH14<>0,\"1.\"&'7.WEF Influence-Mine'!$AO106&\" \",)&IF(DI14<>0,\"2.\"&'7.WEF Influence-Mine'!$AO146&\" \",)&IF(DJ14<>0,\"3.\"&'7.WEF Influence-Mine'!$AO186&\" \",)&IF(DK14<>0,\"4.\"&'7.WEF Influence-Mine'!$AO226&\" \",)&IF(DL14<>0,\"5.\"&'7.WEF Influence-Mine'!$AO266&\" \",)","v":""},null,null,null,null,null,null,{"$f":"'3.WEF Status-Base'!AE13","v":0},{"$f":"'7.WEF Influence-Mine'!$AR106","v":0},{"$f":"'7.WEF Influence-Mine'!$AR146","v":0},{"$f":"'7.WEF Influence-Mine'!$AR186","v":0},{"$f":"'7.WEF Influence-Mine'!$AR226","v":0},{"$f":"'7.WEF Influence-Mine'!$AR266","v":0},{"$f":"IF(DT14>=$D$7,\"B:\"&'3.WEF Status-Base'!$AF13&\": \",)&IF(DU14<>0,\"1.\"&'7.WEF Influence-Mine'!$AS106&\" \",)&IF(DV14<>0,\"2.\"&'7.WEF Influence-Mine'!$AS146&\" \",)&IF(DW14<>0,\"3.\"&'7.WEF Influence-Mine'!$AS186&\" \",)&IF(DX14<>0,\"4.\"&'7.WEF Influence-Mine'!$AS226&\" \",)&IF(DY14<>0,\"5.\"&'7.WEF Influence-Mine'!$AS266&\" \",)","v":""},null,null,null,null,null,null,{"$f":"'3.WEF Status-Base'!AH13","v":0},{"$f":"'7.WEF Influence-Mine'!$AV106","v":0},{"$f":"'7.WEF Influence-Mine'!$AV146","v":0},{"$f":"'7.WEF Influence-Mine'!$AV186","v":0},{"$f":"'7.WEF Influence-Mine'!$AV226","v":0},{"$f":"'7.WEF Influence-Mine'!$AV266","v":0},{"$f":"IF(EG14>=$D$7,\"B:\"&'3.WEF Status-Base'!$AI13&\": \",)&IF(EH14<>0,\"1.\"&'7.WEF Influence-Mine'!$AW106&\" \",)&IF(EI14<>0,\"2.\"&'7.WEF Influence-Mine'!$AW146&\" \",)&IF(EJ14<>0,\"3.\"&'7.WEF Influence-Mine'!$AW186&\" \",)&IF(EK14<>0,\"4.\"&'7.WEF Influence-Mine'!$AW226&\" \",)&IF(EL14<>0,\"5.\"&'7.WEF Influence-Mine'!$AW266&\" \",)","v":""},null,null,null,null,null,null,{"$f":"'3.WEF Status-Base'!AK13","v":0},{"$f":"'7.WEF Influence-Mine'!$AZ106","v":0},{"$f":"'7.WEF Influence-Mine'!$AZ146","v":0},{"$f":"'7.WEF Influence-Mine'!$AZ186","v":0},{"$f":"'7.WEF Influence-Mine'!$AZ226","v":0},{"$f":"'7.WEF Influence-Mine'!$AZ266","v":0},{"$f":"IF(ET14>=$D$7,\"B:\"&'3.WEF Status-Base'!$AL13&\": \",)&IF(EU14<>0,\"1.\"&'7.WEF Influence-Mine'!$BA106&\" \",)&IF(EV14<>0,\"2.\"&'7.WEF Influence-Mine'!$BA146&\" \",)&IF(EW14<>0,\"3.\"&'7.WEF Influence-Mine'!$BA186&\" \",)&IF(EX14<>0,\"4.\"&'7.WEF Influence-Mine'!$BA226&\" \",)&IF(EY14<>0,\"5.\"&'7.WEF Influence-Mine'!$BA266&\" \",)","v":""},null,null,null,null,null,null,{"$f":"'3.WEF Status-Base'!AN13","v":0},{"$f":"'7.WEF Influence-Mine'!$BD106","v":0},{"$f":"'7.WEF Influence-Mine'!$BD146","v":0},{"$f":"'7.WEF Influence-Mine'!$BD186","v":0},{"$f":"'7.WEF Influence-Mine'!$BD226","v":0},{"$f":"'7.WEF Influence-Mine'!$BD266","v":0},{"$f":"IF(FG14>=$D$7,\"B:\"&'3.WEF Status-Base'!$AO13&\": \",)&IF(FH14<>0,\"1.\"&'7.WEF Influence-Mine'!$BE106&\" \",)&IF(FI14<>0,\"2.\"&'7.WEF Influence-Mine'!$BE146&\" \",)&IF(FJ14<>0,\"3.\"&'7.WEF Influence-Mine'!$BE186&\" \",)&IF(FK14<>0,\"4.\"&'7.WEF Influence-Mine'!$BE226&\" \",)&IF(FL14<>0,\"5.\"&'7.WEF Influence-Mine'!$BE266&\" \",)","v":""},null,null,null,null,null,null,{"$f":"'3.WEF Status-Base'!AQ13","v":0},{"$f":"'7.WEF Influence-Mine'!$BH106","v":0},{"$f":"'7.WEF Influence-Mine'!$BH146","v":0},{"$f":"'7.WEF Influence-Mine'!$BH186","v":0},{"$f":"'7.WEF Influence-Mine'!$BH226","v":0},{"$f":"'7.WEF Influence-Mine'!$BH266","v":0},{"$f":"IF(FT14>=$D$7,\"B:\"&'3.WEF Status-Base'!$AR13&\": \",)&IF(FU14<>0,\"1.\"&'7.WEF Influence-Mine'!$BI106&\" \",)&IF(FV14<>0,\"2.\"&'7.WEF Influence-Mine'!$BI146&\" \",)&IF(FW14<>0,\"3.\"&'7.WEF Influence-Mine'!$BI186&\" \",)&IF(FX14<>0,\"4.\"&'7.WEF Influence-Mine'!$BI226&\" \",)&IF(FY14<>0,\"5.\"&'7.WEF Influence-Mine'!$BI266&\" \",)","v":""},null,null,null,null,null,null,{"$f":"'3.WEF Status-Base'!AT13","v":0},{"$f":"'7.WEF Influence-Mine'!$BL106","v":0},{"$f":"'7.WEF Influence-Mine'!$BL146","v":0},{"$f":"'7.WEF Influence-Mine'!$BL186","v":0},{"$f":"'7.WEF Influence-Mine'!$BL226","v":0},{"$f":"'7.WEF Influence-Mine'!$BL266","v":0},{"$f":"IF(GG14>=$D$7,\"B:\"&'3.WEF Status-Base'!$AU13&\": \",)&IF(GH14<>0,\"1.\"&'7.WEF Influence-Mine'!$BM106&\" \",)&IF(GI14<>0,\"2.\"&'7.WEF Influence-Mine'!$BM146&\" \",)&IF(GJ14<>0,\"3.\"&'7.WEF Influence-Mine'!$BM186&\" \",)&IF(GK14<>0,\"4.\"&'7.WEF Influence-Mine'!$BM226&\" \",)&IF(GL14<>0,\"5.\"&'7.WEF Influence-Mine'!$BM266&\" \",)","v":""},null,null,null,null,null,null,{"$f":"'3.WEF Status-Base'!AW13","v":0},{"$f":"'7.WEF Influence-Mine'!$BP106","v":0},{"$f":"'7.WEF Influence-Mine'!$BP146","v":0},{"$f":"'7.WEF Influence-Mine'!$BP186","v":0},{"$f":"'7.WEF Influence-Mine'!$BP226","v":0},{"$f":"'7.WEF Influence-Mine'!$BP266","v":0},{"$f":"IF(GT14>=$D$7,\"B:\"&'3.WEF Status-Base'!$AX13&\": \",)&IF(GU14<>0,\"1.\"&'7.WEF Influence-Mine'!$BQ106&\" \",)&IF(GV14<>0,\"2.\"&'7.WEF Influence-Mine'!$BQ146&\" \",)&IF(GW14<>0,\"3.\"&'7.WEF Influence-Mine'!$BQ186&\" \",)&IF(GX14<>0,\"4.\"&'7.WEF Influence-Mine'!$BQ226&\" \",)&IF(GY14<>0,\"5.\"&'7.WEF Influence-Mine'!$BQ266&\" \",)","v":""},null,null,null,null,null,null,{"$f":"'3.WEF Status-Base'!AZ13","v":0},{"$f":"'7.WEF Influence-Mine'!$BT106","v":0},{"$f":"'7.WEF Influence-Mine'!$BT146","v":0},{"$f":"'7.WEF Influence-Mine'!$BT186","v":0},{"$f":"'7.WEF Influence-Mine'!$BT226","v":0},{"$f":"'7.WEF Influence-Mine'!$BT266","v":0},{"$f":"IF(HG14>=$D$7,\"B:\"&'3.WEF Status-Base'!$BA13&\": \",)&IF(HH14<>0,\"1.\"&'7.WEF Influence-Mine'!$BU106&\" \",)&IF(HI14<>0,\"2.\"&'7.WEF Influence-Mine'!$BU146&\" \",)&IF(HJ14<>0,\"3.\"&'7.WEF Influence-Mine'!$BU186&\" \",)&IF(HK14<>0,\"4.\"&'7.WEF Influence-Mine'!$BU226&\" \",)&IF(HL14<>0,\"5.\"&'7.WEF Influence-Mine'!$BU266&\" \",)","v":""},null,null,null,null,null,null,{"$f":"'3.WEF Status-Base'!BC13","v":0},{"$f":"'7.WEF Influence-Mine'!$BX106","v":0},{"$f":"'7.WEF Influence-Mine'!$BX146","v":0},{"$f":"'7.WEF Influence-Mine'!$BX186","v":0},{"$f":"'7.WEF Influence-Mine'!$BX226","v":0},{"$f":"'7.WEF Influence-Mine'!$BX266","v":0},{"$f":"IF(HT14>=$D$7,\"B:\"&'3.WEF Status-Base'!$BD13&\": \",)&IF(HU14<>0,\"1.\"&'7.WEF Influence-Mine'!$BY106&\" \",)&IF(HV14<>0,\"2.\"&'7.WEF Influence-Mine'!$BY146&\" \",)&IF(HW14<>0,\"3.\"&'7.WEF Influence-Mine'!$BY186&\" \",)&IF(HX14<>0,\"4.\"&'7.WEF Influence-Mine'!$BY226&\" \",)&IF(HY14<>0,\"5.\"&'7.WEF Influence-Mine'!$BY266&\" \",)","v":""},null,null,null,null,null,null,{"$f":"'7.WEF Influence-Mine'!BZ106&\" : \"&'7.WEF Influence-Mine'!BZ146&\" : \"&'7.WEF Influence-Mine'!BZ186&\" : \"&'7.WEF Influence-Mine'!BZ226&\" : \"&'7.WEF Influence-Mine'!BZ266","v":"0 : 0 : 0 : 0 : 0"}]
[5,"Retail (market prices)",{"$f":"'3.WEF Status-Base'!B14","v":0},{"$f":"MAX($H15:$L15,$U15:$Y15,$AH15:$AL15,$AU15:$AY15,$BH15:$BL15,$BU15:$BY15,$CH15:$CL15,$CU15:$CY15,$DH15:$DL15,$DU15:$DY15,$EH15:$EL15,$EU15:$EY15,$FH15:$FL15,$FU15:$FY15,$GH15:$GL15,$GU15:$GY15,$HH15:$HL15,$HU15:$HY15)","v":0},{"$f":"MIN($H15:$L15,$U15:$Y15,$AH15:$AL15,$AU15:$AY15,$BH15:$BL15,$BU15:$BY15,$CH15:$CL15,$CU15:$CY15,$DH15:$DL15,$DU15:$DY15,$EH15:$EL15,$EU15:$EY15,$FH15:$FL15,$FU15:$FY15,$GH15:$GL15,$GU15:$GY15,$HH15:$HL15,$HU15:$HY15)","v":0},null,{"$f":"'3.WEF Status-Base'!D14","v":0},{"$f":"'7.WEF Influence-Mine'!$H107","v":0},{"$f":"'7.WEF Influence-Mine'!$H147","v":0},{"$f":"'7.WEF Influence-Mine'!$H187","v":0},{"$f":"'7.WEF Influence-Mine'!$H227","v":0},{"$f":"'7.WEF Influence-Mine'!$H267","v":0},{"$f":"IF(G15>=$D$7,\"B:\"&'3.WEF Status-Base'!$E14&\": \",)&IF(H15<>0,\"1. \"&'7.WEF Influence-Mine'!$I107&\" \",)&IF(I15<>0,\"2. \"&'7.WEF Influence-Mine'!$I147&\" \",)&IF(J15<>0,\"3. \"&'7.WEF Influence-Mine'!$I187&\" \",)&IF(K15<>0,\"4. \"&'7.WEF Influence-Mine'!$I227&\" \",)&IF(L15<>0,\"5. \"&'7.WEF Influence-Mine'!$I267&\" \",)","v":""},null,null,null,null,null,null,{"$f":"'3.WEF Status-Base'!G14","v":0},{"$f":"'7.WEF Influence-Mine'!$L107","v":0},{"$f":"'7.WEF Influence-Mine'!$L147","v":0},{"$f":"'7.WEF Influence-Mine'!$L187","v":0},{"$f":"'7.WEF Influence-Mine'!$L227","v":0},{"$f":"'7.WEF Influence-Mine'!$L267","v":0},{"$f":"IF(T15>=$D$7,\"B:\"&'3.WEF Status-Base'!$H14&\": \",)&IF(U15<>0,\"1.\"&'7.WEF Influence-Mine'!$M107&\" \",)&IF(V15<>0,\"2.\"&'7.WEF Influence-Mine'!$M147&\" \",)&IF(W15<>0,\"3.\"&'7.WEF Influence-Mine'!$M187&\" \",)&IF(X15<>0,\"4.\"&'7.WEF Influence-Mine'!$M227&\" \",)&IF(Y15<>0,\"5.\"&'7.WEF Influence-Mine'!$M267&\" \",)","v":""},null,null,null,null,null,null,{"$f":"'3.WEF Status-Base'!J14","v":0},{"$f":"'7.WEF Influence-Mine'!$P107","v":0},{"$f":"'7.WEF Influence-Mine'!$P147","v":0},{"$f":"'7.WEF Influence-Mine'!$P187","v":0},{"$f":"'7.WEF Influence-Mine'!$P227","v":0},{"$f":"'7.WEF Influence-Mine'!$P267","v":0},{"$f":"IF(AG15>=$D$7,\"B:\"&'3.WEF Status-Base'!$K14&\": \",)&IF(AH15<>0,\"1.\"&'7.WEF Influence-Mine'!$Q107&\" \",)&IF(AI15<>0,\"2.\"&'7.WEF Influence-Mine'!$Q147&\" \",)&IF(AJ15<>0,\"3.\"&'7.WEF Influence-Mine'!$Q187&\" \",)&IF(AK15<>0,\"4.\"&'7.WEF Influence-Mine'!$Q227&\" \",)&IF(AL15<>0,\"5.\"&'7.WEF Influence-Mine'!$Q267&\" \",)","v":""},null,null,null,null,null,null,{"$f":"'3.WEF Status-Base'!M14","v":0},{"$f":"'7.WEF Influence-Mine'!$T107","v":0},{"$f":"'7.WEF Influence-Mine'!$T147","v":0},{"$f":"'7.WEF Influence-Mine'!$T187","v":0},{"$f":"'7.WEF Influence-Mine'!$T227","v":0},{"$f":"'7.WEF Influence-Mine'!$T267","v":0},{"$f":"IF(AT15>=$D$7,\"B:\"&'3.WEF Status-Base'!$N14&\": \",)&IF(AU15<>0,\"1.\"&'7.WEF Influence-Mine'!$U107&\" \",)&IF(AV15<>0,\"2.\"&'7.WEF Influence-Mine'!$U147&\" \",)&IF(AW15<>0,\"3.\"&'7.WEF Influence-Mine'!$U187&\" \",)&IF(AX15<>0,\"4.\"&'7.WEF Influence-Mine'!$U227&\" \",)&IF(AY15<>0,\"5.\"&'7.WEF Influence-Mine'!$U267&\" \",)","v":""},null,null,null,null,null,null,{"$f":"'3.WEF Status-Base'!P14","v":0},{"$f":"'7.WEF Influence-Mine'!$X107","v":0},{"$f":"'7.WEF Influence-Mine'!$X147","v":0},{"$f":"'7.WEF Influence-Mine'!$X187","v":0},{"$f":"'7.WEF Influence-Mine'!$X227","v":0},{"$f":"'7.WEF Influence-Mine'!$X267","v":0},{"$f":"IF(BG15>=$D$7,\"B:\"&'3.WEF Status-Base'!$Q14&\": \",)&IF(BH15<>0,\"1.\"&'7.WEF Influence-Mine'!$Y107&\" \",)&IF(BI15<>0,\"2.\"&'7.WEF Influence-Mine'!$Y147&\" \",)&IF(BJ15<>0,\"3.\"&'7.WEF Influence-Mine'!$Y187&\" \",)&IF(BK15<>0,\"4.\"&'7.WEF Influence-Mine'!$Y227&\" \",)&IF(BL15<>0,\"5.\"&'7.WEF Influence-Mine'!$Y267&\" \",)","v":""},null,null,null,null,null,null,{"$f":"'3.WEF Status-Base'!S14","v":0},{"$f":"'7.WEF Influence-Mine'!$AB107","v":0},{"$f":"'7.WEF Influence-Mine'!$AB147","v":0},{"$f":"'7.WEF Influence-Mine'!$AB187","v":0},{"$f":"'7.WEF Influence-Mine'!$AB227","v":0},{"$f":"'7.WEF Influence-Mine'!$AB267","v":0},{"$f":"IF(BT15>=$D$7,\"B:\"&'3.WEF Status-Base'!$T14&\": \",)&IF(BU15<>0,\"1.\"&'7.WEF Influence-Mine'!$AC107&\" \",)&IF(BV15<>0,\"2.\"&'7.WEF Influence-Mine'!$AC147&\" \",)&IF(BW15<>0,\"3.\"&'7.WEF Influence-Mine'!$AC187&\" \",)&IF(BX15<>0,\"4.\"&'7.WEF Influence-Mine'!$AC227&\" \",)&IF(BY15<>0,\"5.\"&'7.WEF Influence-Mine'!$AC267&\" \",)","v":""},null,null,null,null,null,null,{"$f":"'3.WEF Status-Base'!V14","v":0},{"$f":"'7.WEF Influence-Mine'!$AF107","v":0},{"$f":"'7.WEF Influence-Mine'!$AF147","v":0},{"$f":"'7.WEF Influence-Mine'!$AF187","v":0},{"$f":"'7.WEF Influence-Mine'!$AF227","v":0},{"$f":"'7.WEF Influence-Mine'!$AF267","v":0},{"$f":"IF(CG15>=$D$7,\"B:\"&'3.WEF Status-Base'!$W14&\": \",)&IF(CH15<>0,\"1.\"&'7.WEF Influence-Mine'!$AG107&\" \",)&IF(CI15<>0,\"2.\"&'7.WEF Influence-Mine'!$AG147&\" \",)&IF(CJ15<>0,\"3.\"&'7.WEF Influence-Mine'!$AG187&\" \",)&IF(CK15<>0,\"4.\"&'7.WEF Influence-Mine'!$AG227&\" \",)&IF(CL15<>0,\"5.\"&'7.WEF Influence-Mine'!$AG267&\" \",)","v":""},null,null,null,null,null,null,{"$f":"'3.WEF Status-Base'!Y14","v":0},{"$f":"'7.WEF Influence-Mine'!$AJ107","v":0},{"$f":"'7.WEF Influence-Mine'!$AJ147","v":0},{"$f":"'7.WEF Influence-Mine'!$AJ187","v":0},{"$f":"'7.WEF Influence-Mine'!$AJ227","v":0},{"$f":"'7.WEF Influence-Mine'!$AJ267","v":0},{"$f":"IF(CT15>=$D$7,\"B:\"&'3.WEF Status-Base'!$Z14&\": \",)&IF(CU15<>0,\"1.\"&'7.WEF Influence-Mine'!$AK107&\" \",)&IF(CV15<>0,\"2.\"&'7.WEF Influence-Mine'!$AK147&\" \",)&IF(CW15<>0,\"3.\"&'7.WEF Influence-Mine'!$AK187&\" \",)&IF(CX15<>0,\"4.\"&'7.WEF Influence-Mine'!$AK227&\" \",)&IF(CY15<>0,\"5.\"&'7.WEF Influence-Mine'!$AK267&\" \",)","v":""},null,null,null,null,null,null,{"$f":"'3.WEF Status-Base'!AB14","v":0},{"$f":"'7.WEF Influence-Mine'!$AN107","v":0},{"$f":"'7.WEF Influence-Mine'!$AN147","v":0},{"$f":"'7.WEF Influence-Mine'!$AN187","v":0},{"$f":"'7.WEF Influence-Mine'!$AN227","v":0},{"$f":"'7.WEF Influence-Mine'!$AN267","v":0},{"$f":"IF(DG15>=$D$7,\"B:\"&'3.WEF Status-Base'!$AC14&\": \",)&IF(DH15<>0,\"1.\"&'7.WEF Influence-Mine'!$AO107&\" \",)&IF(DI15<>0,\"2.\"&'7.WEF Influence-Mine'!$AO147&\" \",)&IF(DJ15<>0,\"3.\"&'7.WEF Influence-Mine'!$AO187&\" \",)&IF(DK15<>0,\"4.\"&'7.WEF Influence-Mine'!$AO227&\" \",)&IF(DL15<>0,\"5.\"&'7.WEF Influence-Mine'!$AO267&\" \",)","v":""},null,null,null,null,null,null,{"$f":"'3.WEF Status-Base'!AE14","v":0},{"$f":"'7.WEF Influence-Mine'!$AR107","v":0},{"$f":"'7.WEF Influence-Mine'!$AR147","v":0},{"$f":"'7.WEF Influence-Mine'!$AR187","v":0},{"$f":"'7.WEF Influence-Mine'!$AR227","v":0},{"$f":"'7.WEF Influence-Mine'!$AR267","v":0},{"$f":"IF(DT15>=$D$7,\"B:\"&'3.WEF Status-Base'!$AF14&\": \",)&IF(DU15<>0,\"1.\"&'7.WEF Influence-Mine'!$AS107&\" \",)&IF(DV15<>0,\"2.\"&'7.WEF Influence-Mine'!$AS147&\" \",)&IF(DW15<>0,\"3.\"&'7.WEF Influence-Mine'!$AS187&\" \",)&IF(DX15<>0,\"4.\"&'7.WEF Influence-Mine'!$AS227&\" \",)&IF(DY15<>0,\"5.\"&'7.WEF Influence-Mine'!$AS267&\" \",)","v":""},null,null,null,null,null,null,{"$f":"'3.WEF Status-Base'!AH14","v":0},{"$f":"'7.WEF Influence-Mine'!$AV107","v":0},{"$f":"'7.WEF Influence-Mine'!$AV147","v":0},{"$f":"'7.WEF Influence-Mine'!$AV187","v":0},{"$f":"'7.WEF Influence-Mine'!$AV227","v":0},{"$f":"'7.WEF Influence-Mine'!$AV267","v":0},{"$f":"IF(EG15>=$D$7,\"B:\"&'3.WEF Status-Base'!$AI14&\": \",)&IF(EH15<>0,\"1.\"&'7.WEF Influence-Mine'!$AW107&\" \",)&IF(EI15<>0,\"2.\"&'7.WEF Influence-Mine'!$AW147&\" \",)&IF(EJ15<>0,\"3.\"&'7.WEF Influence-Mine'!$AW187&\" \",)&IF(EK15<>0,\"4.\"&'7.WEF Influence-Mine'!$AW227&\" \",)&IF(EL15<>0,\"5.\"&'7.WEF Influence-Mine'!$AW267&\" \",)","v":""},null,null,null,null,null,null,{"$f":"'3.WEF Status-Base'!AK14","v":0},{"$f":"'7.WEF Influence-Mine'!$AZ107","v":0},{"$f":"'7.WEF Influence-Mine'!$AZ147","v":0},{"$f":"'7.WEF Influence-Mine'!$AZ187","v":0},{"$f":"'7.WEF Influence-Mine'!$AZ227","v":0},{"$f":"'7.WEF Influence-Mine'!$AZ267","v":0},{"$f":"IF(ET15>=$D$7,\"B:\"&'3.WEF Status-Base'!$AL14&\": \",)&IF(EU15<>0,\"1.\"&'7.WEF Influence-Mine'!$BA107&\" \",)&IF(EV15<>0,\"2.\"&'7.WEF Influence-Mine'!$BA147&\" \",)&IF(EW15<>0,\"3.\"&'7.WEF Influence-Mine'!$BA187&\" \",)&IF(EX15<>0,\"4.\"&'7.WEF Influence-Mine'!$BA227&\" \",)&IF(EY15<>0,\"5.\"&'7.WEF Influence-Mine'!$BA267&\" \",)","v":""},null,null,null,null,null,null,{"$f":"'3.WEF Status-Base'!AN14","v":0},{"$f":"'7.WEF Influence-Mine'!$BD107","v":0},{"$f":"'7.WEF Influence-Mine'!$BD147","v":0},{"$f":"'7.WEF Influence-Mine'!$BD187","v":0},{"$f":"'7.WEF Influence-Mine'!$BD227","v":0},{"$f":"'7.WEF Influence-Mine'!$BD267","v":0},{"$f":"IF(FG15>=$D$7,\"B:\"&'3.WEF Status-Base'!$AO14&\": \",)&IF(FH15<>0,\"1.\"&'7.WEF Influence-Mine'!$BE107&\" \",)&IF(FI15<>0,\"2.\"&'7.WEF Influence-Mine'!$BE147&\" \",)&IF(FJ15<>0,\"3.\"&'7.WEF Influence-Mine'!$BE187&\" \",)&IF(FK15<>0,\"4.\"&'7.WEF Influence-Mine'!$BE227&\" \",)&IF(FL15<>0,\"5.\"&'7.WEF Influence-Mine'!$BE267&\" \",)","v":""},null,null,null,null,null,null,{"$f":"'3.WEF Status-Base'!AQ14","v":0},{"$f":"'7.WEF Influence-Mine'!$BH107","v":0},{"$f":"'7.WEF Influence-Mine'!$BH147","v":0},{"$f":"'7.WEF Influence-Mine'!$BH187","v":0},{"$f":"'7.WEF Influence-Mine'!$BH227","v":0},{"$f":"'7.WEF Influence-Mine'!$BH267","v":0},{"$f":"IF(FT15>=$D$7,\"B:\"&'3.WEF Status-Base'!$AR14&\": \",)&IF(FU15<>0,\"1.\"&'7.WEF Influence-Mine'!$BI107&\" \",)&IF(FV15<>0,\"2.\"&'7.WEF Influence-Mine'!$BI147&\" \",)&IF(FW15<>0,\"3.\"&'7.WEF Influence-Mine'!$BI187&\" \",)&IF(FX15<>0,\"4.\"&'7.WEF Influence-Mine'!$BI227&\" \",)&IF(FY15<>0,\"5.\"&'7.WEF Influence-Mine'!$BI267&\" \",)","v":""},null,null,null,null,null,null,{"$f":"'3.WEF Status-Base'!AT14","v":0},{"$f":"'7.WEF Influence-Mine'!$BL107","v":0},{"$f":"'7.WEF Influence-Mine'!$BL147","v":0},{"$f":"'7.WEF Influence-Mine'!$BL187","v":0},{"$f":"'7.WEF Influence-Mine'!$BL227","v":0},{"$f":"'7.WEF Influence-Mine'!$BL267","v":0},{"$f":"IF(GG15>=$D$7,\"B:\"&'3.WEF Status-Base'!$AU14&\": \",)&IF(GH15<>0,\"1.\"&'7.WEF Influence-Mine'!$BM107&\" \",)&IF(GI15<>0,\"2.\"&'7.WEF Influence-Mine'!$BM147&\" \",)&IF(GJ15<>0,\"3.\"&'7.WEF Influence-Mine'!$BM187&\" \",)&IF(GK15<>0,\"4.\"&'7.WEF Influence-Mine'!$BM227&\" \",)&IF(GL15<>0,\"5.\"&'7.WEF Influence-Mine'!$BM267&\" \",)","v":""},null,null,null,null,null,null,{"$f":"'3.WEF Status-Base'!AW14","v":0},{"$f":"'7.WEF Influence-Mine'!$BP107","v":0},{"$f":"'7.WEF Influence-Mine'!$BP147","v":0},{"$f":"'7.WEF Influence-Mine'!$BP187","v":0},{"$f":"'7.WEF Influence-Mine'!$BP227","v":0},{"$f":"'7.WEF Influence-Mine'!$BP267","v":0},{"$f":"IF(GT15>=$D$7,\"B:\"&'3.WEF Status-Base'!$AX14&\": \",)&IF(GU15<>0,\"1.\"&'7.WEF Influence-Mine'!$BQ107&\" \",)&IF(GV15<>0,\"2.\"&'7.WEF Influence-Mine'!$BQ147&\" \",)&IF(GW15<>0,\"3.\"&'7.WEF Influence-Mine'!$BQ187&\" \",)&IF(GX15<>0,\"4.\"&'7.WEF Influence-Mine'!$BQ227&\" \",)&IF(GY15<>0,\"5.\"&'7.WEF Influence-Mine'!$BQ267&\" \",)","v":""},null,null,null,null,null,null,{"$f":"'3.WEF Status-Base'!AZ14","v":0},{"$f":"'7.WEF Influence-Mine'!$BT107","v":0},{"$f":"'7.WEF Influence-Mine'!$BT147","v":0},{"$f":"'7.WEF Influence-Mine'!$BT187","v":0},{"$f":"'7.WEF Influence-Mine'!$BT227","v":0},{"$f":"'7.WEF Influence-Mine'!$BT267","v":0},{"$f":"IF(HG15>=$D$7,\"B:\"&'3.WEF Status-Base'!$BA14&\": \",)&IF(HH15<>0,\"1.\"&'7.WEF Influence-Mine'!$BU107&\" \",)&IF(HI15<>0,\"2.\"&'7.WEF Influence-Mine'!$BU147&\" \",)&IF(HJ15<>0,\"3.\"&'7.WEF Influence-Mine'!$BU187&\" \",)&IF(HK15<>0,\"4.\"&'7.WEF Influence-Mine'!$BU227&\" \",)&IF(HL15<>0,\"5.\"&'7.WEF Influence-Mine'!$BU267&\" \",)","v":""},null,null,null,null,null,null,{"$f":"'3.WEF Status-Base'!BC14","v":0},{"$f":"'7.WEF Influence-Mine'!$BX107","v":0},{"$f":"'7.WEF Influence-Mine'!$BX147","v":0},{"$f":"'7.WEF Influence-Mine'!$BX187","v":0},{"$f":"'7.WEF Influence-Mine'!$BX227","v":0},{"$f":"'7.WEF Influence-Mine'!$BX267","v":0},{"$f":"IF(HT15>=$D$7,\"B:\"&'3.WEF Status-Base'!$BD14&\": \",)&IF(HU15<>0,\"1.\"&'7.WEF Influence-Mine'!$BY107&\" \",)&IF(HV15<>0,\"2.\"&'7.WEF Influence-Mine'!$BY147&\" \",)&IF(HW15<>0,\"3.\"&'7.WEF Influence-Mine'!$BY187&\" \",)&IF(HX15<>0,\"4.\"&'7.WEF Influence-Mine'!$BY227&\" \",)&IF(HY15<>0,\"5.\"&'7.WEF Influence-Mine'!$BY267&\" \",)","v":""},null,null,null,null,null,null,{"$f":"'7.WEF Influence-Mine'!BZ107&\" : \"&'7.WEF Influence-Mine'!BZ147&\" : \"&'7.WEF Influence-Mine'!BZ187&\" : \"&'7.WEF Influence-Mine'!BZ227&\" : \"&'7.WEF Influence-Mine'!BZ267","v":"0 : 0 : 0 : 0 : 0"}]
[6,"Access","X","X","X"]
[7,"Purchasing power (livelihood income, remittances, credit)",{"$f":"'3.WEF Status-Base'!B16","v":0},{"$f":"MAX($H17:$L17,$U17:$Y17,$AH17:$AL17,$AU17:$AY17,$BH17:$BL17,$BU17:$BY17,$CH17:$CL17,$CU17:$CY17,$DH17:$DL17,$DU17:$DY17,$EH17:$EL17,$EU17:$EY17,$FH17:$FL17,$FU17:$FY17,$GH17:$GL17,$GU17:$GY17,$HH17:$HL17,$HU17:$HY17)","v":0},{"$f":"MIN($H17:$L17,$U17:$Y17,$AH17:$AL17,$AU17:$AY17,$BH17:$BL17,$BU17:$BY17,$CH17:$CL17,$CU17:$CY17,$DH17:$DL17,$DU17:$DY17,$EH17:$EL17,$EU17:$EY17,$FH17:$FL17,$FU17:$FY17,$GH17:$GL17,$GU17:$GY17,$HH17:$HL17,$HU17:$HY17)","v":0},null,{"$f":"'3.WEF Status-Base'!D16","v":0},{"$f":"'7.WEF Influence-Mine'!$H109","v":0},{"$f":"'7.WEF Influence-Mine'!$H149","v":0},{"$f":"'7.WEF Influence-Mine'!$H189","v":0},{"$f":"'7.WEF Influence-Mine'!$H229","v":0},{"$f":"'7.WEF Influence-Mine'!$H269","v":0},{"$f":"IF(G17>=$D$7,\"B:\"&'3.WEF Status-Base'!$E16&\": \",)&IF(H17<>0,\"1. \"&'7.WEF Influence-Mine'!$I109&\" \",)&IF(I17<>0,\"2. \"&'7.WEF Influence-Mine'!$I149&\" \",)&IF(J17<>0,\"3. \"&'7.WEF Influence-Mine'!$I189&\" \",)&IF(K17<>0,\"4. \"&'7.WEF Influence-Mine'!$I229&\" \",)&IF(L17<>0,\"5. \"&'7.WEF Influence-Mine'!$I269&\" \",)","v":""},null,null,null,null,null,null,{"$f":"'3.WEF Status-Base'!G16","v":0},{"$f":"'7.WEF Influence-Mine'!$L109","v":0},{"$f":"'7.WEF Influence-Mine'!$L149","v":0},{"$f":"'7.WEF Influence-Mine'!$L189","v":0},{"$f":"'7.WEF Influence-Mine'!$L229","v":0},{"$f":"'7.WEF Influence-Mine'!$L269","v":0},{"$f":"IF(T17>=$D$7,\"B:\"&'3.WEF Status-Base'!$H16&\": \",)&IF(U17<>0,\"1.\"&'7.WEF Influence-Mine'!$M109&\" \",)&IF(V17<>0,\"2.\"&'7.WEF Influence-Mine'!$M149&\" \",)&IF(W17<>0,\"3.\"&'7.WEF Influence-Mine'!$M189&\" \",)&IF(X17<>0,\"4.\"&'7.WEF Influence-Mine'!$M229&\" \",)&IF(Y17<>0,\"5.\"&'7.WEF Influence-Mine'!$M269&\" \",)","v":""},null,null,null,null,null,null,{"$f":"'3.WEF Status-Base'!J16","v":0},{"$f":"'7.WEF Influence-Mine'!$P109","v":0},{"$f":"'7.WEF Influence-Mine'!$P149","v":0},{"$f":"'7.WEF Influence-Mine'!$P189","v":0},{"$f":"'7.WEF Influence-Mine'!$P229","v":0},{"$f":"'7.WEF Influence-Mine'!$P269","v":0},{"$f":"IF(AG17>=$D$7,\"B:\"&'3.WEF Status-Base'!$K16&\": \",)&IF(AH17<>0,\"1.\"&'7.WEF Influence-Mine'!$Q109&\" \",)&IF(AI17<>0,\"2.\"&'7.WEF Influence-Mine'!$Q149&\" \",)&IF(AJ17<>0,\"3.\"&'7.WEF Influence-Mine'!$Q189&\" \",)&IF(AK17<>0,\"4.\"&'7.WEF Influence-Mine'!$Q229&\" \",)&IF(AL17<>0,\"5.\"&'7.WEF Influence-Mine'!$Q269&\" \",)","v":""},null,null,null,null,null,null,{"$f":"'3.WEF Status-Base'!M16","v":0},{"$f":"'7.WEF Influence-Mine'!$T109","v":0},{"$f":"'7.WEF Influence-Mine'!$T149","v":0},{"$f":"'7.WEF Influence-Mine'!$T189","v":0},{"$f":"'7.WEF Influence-Mine'!$T229","v":0},{"$f":"'7.WEF Influence-Mine'!$T269","v":0},{"$f":"IF(AT17>=$D$7,\"B:\"&'3.WEF Status-Base'!$N16&\": \",)&IF(AU17<>0,\"1.\"&'7.WEF Influence-Mine'!$U109&\" \",)&IF(AV17<>0,\"2.\"&'7.WEF Influence-Mine'!$U149&\" \",)&IF(AW17<>0,\"3.\"&'7.WEF Influence-Mine'!$U189&\" \",)&IF(AX17<>0,\"4.\"&'7.WEF Influence-Mine'!$U229&\" \",)&IF(AY17<>0,\"5.\"&'7.WEF Influence-Mine'!$U269&\" \",)","v":""},null,null,null,null,null,null,{"$f":"'3.WEF Status-Base'!P16","v":0},{"$f":"'7.WEF Influence-Mine'!$X109","v":0},{"$f":"'7.WEF Influence-Mine'!$X149","v":0},{"$f":"'7.WEF Influence-Mine'!$X189","v":0},{"$f":"'7.WEF Influence-Mine'!$X229","v":0},{"$f":"'7.WEF Influence-Mine'!$X269","v":0},{"$f":"IF(BG17>=$D$7,\"B:\"&'3.WEF Status-Base'!$Q16&\": \",)&IF(BH17<>0,\"1.\"&'7.WEF Influence-Mine'!$Y109&\" \",)&IF(BI17<>0,\"2.\"&'7.WEF Influence-Mine'!$Y149&\" \",)&IF(BJ17<>0,\"3.\"&'7.WEF Influence-Mine'!$Y189&\" \",)&IF(BK17<>0,\"4.\"&'7.WEF Influence-Mine'!$Y229&\" \",)&IF(BL17<>0,\"5.\"&'7.WEF Influence-Mine'!$Y269&\" \",)","v":""},null,null,null,null,null,null,{"$f":"'3.WEF Status-Base'!S16","v":0},{"$f":"'7.WEF Influence-Mine'!$AB109","v":0},{"$f":"'7.WEF Influence-Mine'!$AB149","v":0},{"$f":"'7.WEF Influence-Mine'!$AB189","v":0},{"$f":"'7.WEF Influence-Mine'!$AB229","v":0},{"$f":"'7.WEF Influence-Mine'!$AB269","v":0},{"$f":"IF(BT17>=$D$7,\"B:\"&'3.WEF Status-Base'!$T16&\": \",)&IF(BU17<>0,\"1.\"&'7.WEF Influence-Mine'!$AC109&\" \",)&IF(BV17<>0,\"2.\"&'7.WEF Influence-Mine'!$AC149&\" \",)&IF(BW17<>0,\"3.\"&'7.WEF Influence-Mine'!$AC189&\" \",)&IF(BX17<>0,\"4.\"&'7.WEF Influence-Mine'!$AC229&\" \",)&IF(BY17<>0,\"5.\"&'7.WEF Influence-Mine'!$AC269&\" \",)","v":""},null,null,null,null,null,null,{"$f":"'3.WEF Status-Base'!V16","v":0},{"$f":"'7.WEF Influence-Mine'!$AF109","v":0},{"$f":"'7.WEF Influence-Mine'!$AF149","v":0},{"$f":"'7.WEF Influence-Mine'!$AF189","v":0},{"$f":"'7.WEF Influence-Mine'!$AF229","v":0},{"$f":"'7.WEF Influence-Mine'!$AF269","v":0},{"$f":"IF(CG17>=$D$7,\"B:\"&'3.WEF Status-Base'!$W16&\": \",)&IF(CH17<>0,\"1.\"&'7.WEF Influence-Mine'!$AG109&\" \",)&IF(CI17<>0,\"2.\"&'7.WEF Influence-Mine'!$AG149&\" \",)&IF(CJ17<>0,\"3.\"&'7.WEF Influence-Mine'!$AG189&\" \",)&IF(CK17<>0,\"4.\"&'7.WEF Influence-Mine'!$AG229&\" \",)&IF(CL17<>0,\"5.\"&'7.WEF Influence-Mine'!$AG269&\" \",)","v":""},null,null,null,null,null,null,{"$f":"'3.WEF Status-Base'!Y16","v":0},{"$f":"'7.WEF Influence-Mine'!$AJ109","v":0},{"$f":"'7.WEF Influence-Mine'!$AJ149","v":0},{"$f":"'7.WEF Influence-Mine'!$AJ189","v":0},{"$f":"'7.WEF Influence-Mine'!$AJ229","v":0},{"$f":"'7.WEF Influence-Mine'!$AJ269","v":0},{"$f":"IF(CT17>=$D$7,\"B:\"&'3.WEF Status-Base'!$Z16&\": \",)&IF(CU17<>0,\"1.\"&'7.WEF Influence-Mine'!$AK109&\" \",)&IF(CV17<>0,\"2.\"&'7.WEF Influence-Mine'!$AK149&\" \",)&IF(CW17<>0,\"3.\"&'7.WEF Influence-Mine'!$AK189&\" \",)&IF(CX17<>0,\"4.\"&'7.WEF Influence-Mine'!$AK229&\" \",)&IF(CY17<>0,\"5.\"&'7.WEF Influence-Mine'!$AK269&\" \",)","v":""},null,null,null,null,null,null,{"$f":"'3.WEF Status-Base'!AB16","v":0},{"$f":"'7.WEF Influence-Mine'!$AN109","v":0},{"$f":"'7.WEF Influence-Mine'!$AN149","v":0},{"$f":"'7.WEF Influence-Mine'!$AN189","v":0},{"$f":"'7.WEF Influence-Mine'!$AN229","v":0},{"$f":"'7.WEF Influence-Mine'!$AN269","v":0},{"$f":"IF(DG17>=$D$7,\"B:\"&'3.WEF Status-Base'!$AC16&\": \",)&IF(DH17<>0,\"1.\"&'7.WEF Influence-Mine'!$AO109&\" \",)&IF(DI17<>0,\"2.\"&'7.WEF Influence-Mine'!$AO149&\" \",)&IF(DJ17<>0,\"3.\"&'7.WEF Influence-Mine'!$AO189&\" \",)&IF(DK17<>0,\"4.\"&'7.WEF Influence-Mine'!$AO229&\" \",)&IF(DL17<>0,\"5.\"&'7.WEF Influence-Mine'!$AO269&\" \",)","v":""},null,null,null,null,null,null,{"$f":"'3.WEF Status-Base'!AE16","v":0},{"$f":"'7.WEF Influence-Mine'!$AR109","v":0},{"$f":"'7.WEF Influence-Mine'!$AR149","v":0},{"$f":"'7.WEF Influence-Mine'!$AR189","v":0},{"$f":"'7.WEF Influence-Mine'!$AR229","v":0},{"$f":"'7.WEF Influence-Mine'!$AR269","v":0},{"$f":"IF(DT17>=$D$7,\"B:\"&'3.WEF Status-Base'!$AF16&\": \",)&IF(DU17<>0,\"1.\"&'7.WEF Influence-Mine'!$AS109&\" \",)&IF(DV17<>0,\"2.\"&'7.WEF Influence-Mine'!$AS149&\" \",)&IF(DW17<>0,\"3.\"&'7.WEF Influence-Mine'!$AS189&\" \",)&IF(DX17<>0,\"4.\"&'7.WEF Influence-Mine'!$AS229&\" \",)&IF(DY17<>0,\"5.\"&'7.WEF Influence-Mine'!$AS269&\" \",)","v":""},null,null,null,null,null,null,{"$f":"'3.WEF Status-Base'!AH16","v":0},{"$f":"'7.WEF Influence-Mine'!$AV109","v":0},{"$f":"'7.WEF Influence-Mine'!$AV149","v":0},{"$f":"'7.WEF Influence-Mine'!$AV189","v":0},{"$f":"'7.WEF Influence-Mine'!$AV229","v":0},{"$f":"'7.WEF Influence-Mine'!$AV269","v":0},{"$f":"IF(EG17>=$D$7,\"B:\"&'3.WEF Status-Base'!$AI16&\": \",)&IF(EH17<>0,\"1.\"&'7.WEF Influence-Mine'!$AW109&\" \",)&IF(EI17<>0,\"2.\"&'7.WEF Influence-Mine'!$AW149&\" \",)&IF(EJ17<>0,\"3.\"&'7.WEF Influence-Mine'!$AW189&\" \",)&IF(EK17<>0,\"4.\"&'7.WEF Influence-Mine'!$AW229&\" \",)&IF(EL17<>0,\"5.\"&'7.WEF Influence-Mine'!$AW269&\" \",)","v":""},null,null,null,null,null,null,{"$f":"'3.WEF Status-Base'!AK16","v":0},{"$f":"'7.WEF Influence-Mine'!$AZ109","v":0},{"$f":"'7.WEF Influence-Mine'!$AZ149","v":0},{"$f":"'7.WEF Influence-Mine'!$AZ189","v":0},{"$f":"'7.WEF Influence-Mine'!$AZ229","v":0},{"$f":"'7.WEF Influence-Mine'!$AZ269","v":0},{"$f":"IF(ET17>=$D$7,\"B:\"&'3.WEF Status-Base'!$AL16&\": \",)&IF(EU17<>0,\"1.\"&'7.WEF Influence-Mine'!$BA109&\" \",)&IF(EV17<>0,\"2.\"&'7.WEF Influence-Mine'!$BA149&\" \",)&IF(EW17<>0,\"3.\"&'7.WEF Influence-Mine'!$BA189&\" \",)&IF(EX17<>0,\"4.\"&'7.WEF Influence-Mine'!$BA229&\" \",)&IF(EY17<>0,\"5.\"&'7.WEF Influence-Mine'!$BA269&\" \",)","v":""},null,null,null,null,null,null,{"$f":"'3.WEF Status-Base'!AN16","v":0},{"$f":"'7.WEF Influence-Mine'!$BD109","v":0},{"$f":"'7.WEF Influence-Mine'!$BD149","v":0},{"$f":"'7.WEF Influence-Mine'!$BD189","v":0},{"$f":"'7.WEF Influence-Mine'!$BD229","v":0},{"$f":"'7.WEF Influence-Mine'!$BD269","v":0},{"$f":"IF(FG17>=$D$7,\"B:\"&'3.WEF Status-Base'!$AO16&\": \",)&IF(FH17<>0,\"1.\"&'7.WEF Influence-Mine'!$BE109&\" \",)&IF(FI17<>0,\"2.\"&'7.WEF Influence-Mine'!$BE149&\" \",)&IF(FJ17<>0,\"3.\"&'7.WEF Influence-Mine'!$BE189&\" \",)&IF(FK17<>0,\"4.\"&'7.WEF Influence-Mine'!$BE229&\" \",)&IF(FL17<>0,\"5.\"&'7.WEF Influence-Mine'!$BE269&\" \",)","v":""},null,null,null,null,null,null,{"$f":"'3.WEF Status-Base'!AQ16","v":0},{"$f":"'7.WEF Influence-Mine'!$BH109","v":0},{"$f":"'7.WEF Influence-Mine'!$BH149","v":0},{"$f":"'7.WEF Influence-Mine'!$BH189","v":0},{"$f":"'7.WEF Influence-Mine'!$BH229","v":0},{"$f":"'7.WEF Influence-Mine'!$BH269","v":0},{"$f":"IF(FT17>=$D$7,\"B:\"&'3.WEF Status-Base'!$AR16&\": \",)&IF(FU17<>0,\"1.\"&'7.WEF Influence-Mine'!$BI109&\" \",)&IF(FV17<>0,\"2.\"&'7.WEF Influence-Mine'!$BI149&\" \",)&IF(FW17<>0,\"3.\"&'7.WEF Influence-Mine'!$BI189&\" \",)&IF(FX17<>0,\"4.\"&'7.WEF Influence-Mine'!$BI229&\" \",)&IF(FY17<>0,\"5.\"&'7.WEF Influence-Mine'!$BI269&\" \",)","v":""},null,null,null,null,null,null,{"$f":"'3.WEF Status-Base'!AT16","v":0},{"$f":"'7.WEF Influence-Mine'!$BL109","v":0},{"$f":"'7.WEF Influence-Mine'!$BL149","v":0},{"$f":"'7.WEF Influence-Mine'!$BL189","v":0},{"$f":"'7.WEF Influence-Mine'!$BL229","v":0},{"$f":"'7.WEF Influence-Mine'!$BL269","v":0},{"$f":"IF(GG17>=$D$7,\"B:\"&'3.WEF Status-Base'!$AU16&\": \",)&IF(GH17<>0,\"1.\"&'7.WEF Influence-Mine'!$BM109&\" \",)&IF(GI17<>0,\"2.\"&'7.WEF Influence-Mine'!$BM149&\" \",)&IF(GJ17<>0,\"3.\"&'7.WEF Influence-Mine'!$BM189&\" \",)&IF(GK17<>0,\"4.\"&'7.WEF Influence-Mine'!$BM229&\" \",)&IF(GL17<>0,\"5.\"&'7.WEF Influence-Mine'!$BM269&\" \",)","v":""},null,null,null,null,null,null,{"$f":"'3.WEF Status-Base'!AW16","v":0},{"$f":"'7.WEF Influence-Mine'!$BP109","v":0},{"$f":"'7.WEF Influence-Mine'!$BP149","v":0},{"$f":"'7.WEF Influence-Mine'!$BP189","v":0},{"$f":"'7.WEF Influence-Mine'!$BP229","v":0},{"$f":"'7.WEF Influence-Mine'!$BP269","v":0},{"$f":"IF(GT17>=$D$7,\"B:\"&'3.WEF Status-Base'!$AX16&\": \",)&IF(GU17<>0,\"1.\"&'7.WEF Influence-Mine'!$BQ109&\" \",)&IF(GV17<>0,\"2.\"&'7.WEF Influence-Mine'!$BQ149&\" \",)&IF(GW17<>0,\"3.\"&'7.WEF Influence-Mine'!$BQ189&\" \",)&IF(GX17<>0,\"4.\"&'7.WEF Influence-Mine'!$BQ229&\" \",)&IF(GY17<>0,\"5.\"&'7.WEF Influence-Mine'!$BQ269&\" \",)","v":""},null,null,null,null,null,null,{"$f":"'3.WEF Status-Base'!AZ16","v":0},{"$f":"'7.WEF Influence-Mine'!$BT109","v":0},{"$f":"'7.WEF Influence-Mine'!$BT149","v":0},{"$f":"'7.WEF Influence-Mine'!$BT189","v":0},{"$f":"'7.WEF Influence-Mine'!$BT229","v":0},{"$f":"'7.WEF Influence-Mine'!$BT269","v":0},{"$f":"IF(HG17>=$D$7,\"B:\"&'3.WEF Status-Base'!$BA16&\": \",)&IF(HH17<>0,\"1.\"&'7.WEF Influence-Mine'!$BU109&\" \",)&IF(HI17<>0,\"2.\"&'7.WEF Influence-Mine'!$BU149&\" \",)&IF(HJ17<>0,\"3.\"&'7.WEF Influence-Mine'!$BU189&\" \",)&IF(HK17<>0,\"4.\"&'7.WEF Influence-Mine'!$BU229&\" \",)&IF(HL17<>0,\"5.\"&'7.WEF Influence-Mine'!$BU269&\" \",)","v":""},null,null,null,null,null,null,{"$f":"'3.WEF Status-Base'!BC16","v":0},{"$f":"'7.WEF Influence-Mine'!$BX109","v":0},{"$f":"'7.WEF Influence-Mine'!$BX149","v":0},{"$f":"'7.WEF Influence-Mine'!$BX189","v":0},{"$f":"'7.WEF Influence-Mine'!$BX229","v":0},{"$f":"'7.WEF Influence-Mine'!$BX269","v":0},{"$f":"IF(HT17>=$D$7,\"B:\"&'3.WEF Status-Base'!$BD16&\": \",)&IF(HU17<>0,\"1.\"&'7.WEF Influence-Mine'!$BY109&\" \",)&IF(HV17<>0,\"2.\"&'7.WEF Influence-Mine'!$BY149&\" \",)&IF(HW17<>0,\"3.\"&'7.WEF Influence-Mine'!$BY189&\" \",)&IF(HX17<>0,\"4.\"&'7.WEF Influence-Mine'!$BY229&\" \",)&IF(HY17<>0,\"5.\"&'7.WEF Influence-Mine'!$BY269&\" \",)","v":""},null,null,null,null,null,null,{"$f":"'7.WEF Influence-Mine'!BZ109&\" : \"&'7.WEF Influence-Mine'!BZ149&\" : \"&'7.WEF Influence-Mine'!BZ189&\" : \"&'7.WEF Influence-Mine'!BZ229&\" : \"&'7.WEF Influence-Mine'!BZ269","v":"0 : 0 : 0 : 0 : 0"}]
[8,"Aid (direct provision, safety nets, subsidies)",{"$f":"'3.WEF Status-Base'!B17","v":0},{"$f":"MAX($H18:$L18,$U18:$Y18,$AH18:$AL18,$AU18:$AY18,$BH18:$BL18,$BU18:$BY18,$CH18:$CL18,$CU18:$CY18,$DH18:$DL18,$DU18:$DY18,$EH18:$EL18,$EU18:$EY18,$FH18:$FL18,$FU18:$FY18,$GH18:$GL18,$GU18:$GY18,$HH18:$HL18,$HU18:$HY18)","v":0},{"$f":"MIN($H18:$L18,$U18:$Y18,$AH18:$AL18,$AU18:$AY18,$BH18:$BL18,$BU18:$BY18,$CH18:$CL18,$CU18:$CY18,$DH18:$DL18,$DU18:$DY18,$EH18:$EL18,$EU18:$EY18,$FH18:$FL18,$FU18:$FY18,$GH18:$GL18,$GU18:$GY18,$HH18:$HL18,$HU18:$HY18)","v":0},null,{"$f":"'3.WEF Status-Base'!D17","v":0},{"$f":"'7.WEF Influence-Mine'!$H110","v":0},{"$f":"'7.WEF Influence-Mine'!$H150","v":0},{"$f":"'7.WEF Influence-Mine'!$H190","v":0},{"$f":"'7.WEF Influence-Mine'!$H230","v":0},{"$f":"'7.WEF Influence-Mine'!$H270","v":0},{"$f":"IF(G18>=$D$7,\"B:\"&'3.WEF Status-Base'!$E17&\": \",)&IF(H18<>0,\"1. \"&'7.WEF Influence-Mine'!$I110&\" \",)&IF(I18<>0,\"2. \"&'7.WEF Influence-Mine'!$I150&\" \",)&IF(J18<>0,\"3. \"&'7.WEF Influence-Mine'!$I190&\" \",)&IF(K18<>0,\"4. \"&'7.WEF Influence-Mine'!$I230&\" \",)&IF(L18<>0,\"5. \"&'7.WEF Influence-Mine'!$I270&\" \",)","v":""},null,null,null,null,null,null,{"$f":"'3.WEF Status-Base'!G17","v":0},{"$f":"'7.WEF Influence-Mine'!$L110","v":0},{"$f":"'7.WEF Influence-Mine'!$L150","v":0},{"$f":"'7.WEF Influence-Mine'!$L190","v":0},{"$f":"'7.WEF Influence-Mine'!$L230","v":0},{"$f":"'7.WEF Influence-Mine'!$L270","v":0},{"$f":"IF(T18>=$D$7,\"B:\"&'3.WEF Status-Base'!$H17&\": \",)&IF(U18<>0,\"1.\"&'7.WEF Influence-Mine'!$M110&\" \",)&IF(V18<>0,\"2.\"&'7.WEF Influence-Mine'!$M150&\" \",)&IF(W18<>0,\"3.\"&'7.WEF Influence-Mine'!$M190&\" \",)&IF(X18<>0,\"4.\"&'7.WEF Influence-Mine'!$M230&\" \",)&IF(Y18<>0,\"5.\"&'7.WEF Influence-Mine'!$M270&\" \",)","v":""},null,null,null,null,null,null,{"$f":"'3.WEF Status-Base'!J17","v":0},{"$f":"'7.WEF Influence-Mine'!$P110","v":0},{"$f":"'7.WEF Influence-Mine'!$P150","v":0},{"$f":"'7.WEF Influence-Mine'!$P190","v":0},{"$f":"'7.WEF Influence-Mine'!$P230","v":0},{"$f":"'7.WEF Influence-Mine'!$P270","v":0},{"$f":"IF(AG18>=$D$7,\"B:\"&'3.WEF Status-Base'!$K17&\": \",)&IF(AH18<>0,\"1.\"&'7.WEF Influence-Mine'!$Q110&\" \",)&IF(AI18<>0,\"2.\"&'7.WEF Influence-Mine'!$Q150&\" \",)&IF(AJ18<>0,\"3.\"&'7.WEF Influence-Mine'!$Q190&\" \",)&IF(AK18<>0,\"4.\"&'7.WEF Influence-Mine'!$Q230&\" \",)&IF(AL18<>0,\"5.\"&'7.WEF Influence-Mine'!$Q270&\" \",)","v":""},null,null,null,null,null,null,{"$f":"'3.WEF Status-Base'!M17","v":0},{"$f":"'7.WEF Influence-Mine'!$T110","v":0},{"$f":"'7.WEF Influence-Mine'!$T150","v":0},{"$f":"'7.WEF Influence-Mine'!$T190","v":0},{"$f":"'7.WEF Influence-Mine'!$T230","v":0},{"$f":"'7.WEF Influence-Mine'!$T270","v":0},{"$f":"IF(AT18>=$D$7,\"B:\"&'3.WEF Status-Base'!$N17&\": \",)&IF(AU18<>0,\"1.\"&'7.WEF Influence-Mine'!$U110&\" \",)&IF(AV18<>0,\"2.\"&'7.WEF Influence-Mine'!$U150&\" \",)&IF(AW18<>0,\"3.\"&'7.WEF Influence-Mine'!$U190&\" \",)&IF(AX18<>0,\"4.\"&'7.WEF Influence-Mine'!$U230&\" \",)&IF(AY18<>0,\"5.\"&'7.WEF Influence-Mine'!$U270&\" \",)","v":""},null,null,null,null,null,null,{"$f":"'3.WEF Status-Base'!P17","v":0},{"$f":"'7.WEF Influence-Mine'!$X110","v":0},{"$f":"'7.WEF Influence-Mine'!$X150","v":0},{"$f":"'7.WEF Influence-Mine'!$X190","v":0},{"$f":"'7.WEF Influence-Mine'!$X230","v":0},{"$f":"'7.WEF Influence-Mine'!$X270","v":0},{"$f":"IF(BG18>=$D$7,\"B:\"&'3.WEF Status-Base'!$Q17&\": \",)&IF(BH18<>0,\"1.\"&'7.WEF Influence-Mine'!$Y110&\" \",)&IF(BI18<>0,\"2.\"&'7.WEF Influence-Mine'!$Y150&\" \",)&IF(BJ18<>0,\"3.\"&'7.WEF Influence-Mine'!$Y190&\" \",)&IF(BK18<>0,\"4.\"&'7.WEF Influence-Mine'!$Y230&\" \",)&IF(BL18<>0,\"5.\"&'7.WEF Influence-Mine'!$Y270&\" \",)","v":""},null,null,null,null,null,null,{"$f":"'3.WEF Status-Base'!S17","v":0},{"$f":"'7.WEF Influence-Mine'!$AB110","v":0},{"$f":"'7.WEF Influence-Mine'!$AB150","v":0},{"$f":"'7.WEF Influence-Mine'!$AB190","v":0},{"$f":"'7.WEF Influence-Mine'!$AB230","v":0},{"$f":"'7.WEF Influence-Mine'!$AB270","v":0},{"$f":"IF(BT18>=$D$7,\"B:\"&'3.WEF Status-Base'!$T17&\": \",)&IF(BU18<>0,\"1.\"&'7.WEF Influence-Mine'!$AC110&\" \",)&IF(BV18<>0,\"2.\"&'7.WEF Influence-Mine'!$AC150&\" \",)&IF(BW18<>0,\"3.\"&'7.WEF Influence-Mine'!$AC190&\" \",)&IF(BX18<>0,\"4.\"&'7.WEF Influence-Mine'!$AC230&\" \",)&IF(BY18<>0,\"5.\"&'7.WEF Influence-Mine'!$AC270&\" \",)","v":""},null,null,null,null,null,null,{"$f":"'3.WEF Status-Base'!V17","v":0},{"$f":"'7.WEF Influence-Mine'!$AF110","v":0},{"$f":"'7.WEF Influence-Mine'!$AF150","v":0},{"$f":"'7.WEF Influence-Mine'!$AF190","v":0},{"$f":"'7.WEF Influence-Mine'!$AF230","v":0},{"$f":"'7.WEF Influence-Mine'!$AF270","v":0},{"$f":"IF(CG18>=$D$7,\"B:\"&'3.WEF Status-Base'!$W17&\": \",)&IF(CH18<>0,\"1.\"&'7.WEF Influence-Mine'!$AG110&\" \",)&IF(CI18<>0,\"2.\"&'7.WEF Influence-Mine'!$AG150&\" \",)&IF(CJ18<>0,\"3.\"&'7.WEF Influence-Mine'!$AG190&\" \",)&IF(CK18<>0,\"4.\"&'7.WEF Influence-Mine'!$AG230&\" \",)&IF(CL18<>0,\"5.\"&'7.WEF Influence-Mine'!$AG270&\" \",)","v":""},null,null,null,null,null,null,{"$f":"'3.WEF Status-Base'!Y17","v":0},{"$f":"'7.WEF Influence-Mine'!$AJ110","v":0},{"$f":"'7.WEF Influence-Mine'!$AJ150","v":0},{"$f":"'7.WEF Influence-Mine'!$AJ190","v":0},{"$f":"'7.WEF Influence-Mine'!$AJ230","v":0},{"$f":"'7.WEF Influence-Mine'!$AJ270","v":0},{"$f":"IF(CT18>=$D$7,\"B:\"&'3.WEF Status-Base'!$Z17&\": \",)&IF(CU18<>0,\"1.\"&'7.WEF Influence-Mine'!$AK110&\" \",)&IF(CV18<>0,\"2.\"&'7.WEF Influence-Mine'!$AK150&\" \",)&IF(CW18<>0,\"3.\"&'7.WEF Influence-Mine'!$AK190&\" \",)&IF(CX18<>0,\"4.\"&'7.WEF Influence-Mine'!$AK230&\" \",)&IF(CY18<>0,\"5.\"&'7.WEF Influence-Mine'!$AK270&\" \",)","v":""},null,null,null,null,null,null,{"$f":"'3.WEF Status-Base'!AB17","v":0},{"$f":"'7.WEF Influence-Mine'!$AN110","v":0},{"$f":"'7.WEF Influence-Mine'!$AN150","v":0},{"$f":"'7.WEF Influence-Mine'!$AN190","v":0},{"$f":"'7.WEF Influence-Mine'!$AN230","v":0},{"$f":"'7.WEF Influence-Mine'!$AN270","v":0},{"$f":"IF(DG18>=$D$7,\"B:\"&'3.WEF Status-Base'!$AC17&\": \",)&IF(DH18<>0,\"1.\"&'7.WEF Influence-Mine'!$AO110&\" \",)&IF(DI18<>0,\"2.\"&'7.WEF Influence-Mine'!$AO150&\" \",)&IF(DJ18<>0,\"3.\"&'7.WEF Influence-Mine'!$AO190&\" \",)&IF(DK18<>0,\"4.\"&'7.WEF Influence-Mine'!$AO230&\" \",)&IF(DL18<>0,\"5.\"&'7.WEF Influence-Mine'!$AO270&\" \",)","v":""},null,null,null,null,null,null,{"$f":"'3.WEF Status-Base'!AE17","v":0},{"$f":"'7.WEF Influence-Mine'!$AR110","v":0},{"$f":"'7.WEF Influence-Mine'!$AR150","v":0},{"$f":"'7.WEF Influence-Mine'!$AR190","v":0},{"$f":"'7.WEF Influence-Mine'!$AR230","v":0},{"$f":"'7.WEF Influence-Mine'!$AR270","v":0},{"$f":"IF(DT18>=$D$7,\"B:\"&'3.WEF Status-Base'!$AF17&\": \",)&IF(DU18<>0,\"1.\"&'7.WEF Influence-Mine'!$AS110&\" \",)&IF(DV18<>0,\"2.\"&'7.WEF Influence-Mine'!$AS150&\" \",)&IF(DW18<>0,\"3.\"&'7.WEF Influence-Mine'!$AS190&\" \",)&IF(DX18<>0,\"4.\"&'7.WEF Influence-Mine'!$AS230&\" \",)&IF(DY18<>0,\"5.\"&'7.WEF Influence-Mine'!$AS270&\" \",)","v":""},null,null,null,null,null,null,{"$f":"'3.WEF Status-Base'!AH17","v":0},{"$f":"'7.WEF Influence-Mine'!$AV110","v":0},{"$f":"'7.WEF Influence-Mine'!$AV150","v":0},{"$f":"'7.WEF Influence-Mine'!$AV190","v":0},{"$f":"'7.WEF Influence-Mine'!$AV230","v":0},{"$f":"'7.WEF Influence-Mine'!$AV270","v":0},{"$f":"IF(EG18>=$D$7,\"B:\"&'3.WEF Status-Base'!$AI17&\": \",)&IF(EH18<>0,\"1.\"&'7.WEF Influence-Mine'!$AW110&\" \",)&IF(EI18<>0,\"2.\"&'7.WEF Influence-Mine'!$AW150&\" \",)&IF(EJ18<>0,\"3.\"&'7.WEF Influence-Mine'!$AW190&\" \",)&IF(EK18<>0,\"4.\"&'7.WEF Influence-Mine'!$AW230&\" \",)&IF(EL18<>0,\"5.\"&'7.WEF Influence-Mine'!$AW270&\" \",)","v":""},null,null,null,null,null,null,{"$f":"'3.WEF Status-Base'!AK17","v":0},{"$f":"'7.WEF Influence-Mine'!$AZ110","v":0},{"$f":"'7.WEF Influence-Mine'!$AZ150","v":0},{"$f":"'7.WEF Influence-Mine'!$AZ190","v":0},{"$f":"'7.WEF Influence-Mine'!$AZ230","v":0},{"$f":"'7.WEF Influence-Mine'!$AZ270","v":0},{"$f":"IF(ET18>=$D$7,\"B:\"&'3.WEF Status-Base'!$AL17&\": \",)&IF(EU18<>0,\"1.\"&'7.WEF Influence-Mine'!$BA110&\" \",)&IF(EV18<>0,\"2.\"&'7.WEF Influence-Mine'!$BA150&\" \",)&IF(EW18<>0,\"3.\"&'7.WEF Influence-Mine'!$BA190&\" \",)&IF(EX18<>0,\"4.\"&'7.WEF Influence-Mine'!$BA230&\" \",)&IF(EY18<>0,\"5.\"&'7.WEF Influence-Mine'!$BA270&\" \",)","v":""},null,null,null,null,null,null,{"$f":"'3.WEF Status-Base'!AN17","v":0},{"$f":"'7.WEF Influence-Mine'!$BD110","v":0},{"$f":"'7.WEF Influence-Mine'!$BD150","v":0},{"$f":"'7.WEF Influence-Mine'!$BD190","v":0},{"$f":"'7.WEF Influence-Mine'!$BD230","v":0},{"$f":"'7.WEF Influence-Mine'!$BD270","v":0},{"$f":"IF(FG18>=$D$7,\"B:\"&'3.WEF Status-Base'!$AO17&\": \",)&IF(FH18<>0,\"1.\"&'7.WEF Influence-Mine'!$BE110&\" \",)&IF(FI18<>0,\"2.\"&'7.WEF Influence-Mine'!$BE150&\" \",)&IF(FJ18<>0,\"3.\"&'7.WEF Influence-Mine'!$BE190&\" \",)&IF(FK18<>0,\"4.\"&'7.WEF Influence-Mine'!$BE230&\" \",)&IF(FL18<>0,\"5.\"&'7.WEF Influence-Mine'!$BE270&\" \",)","v":""},null,null,null,null,null,null,{"$f":"'3.WEF Status-Base'!AQ17","v":0},{"$f":"'7.WEF Influence-Mine'!$BH110","v":0},{"$f":"'7.WEF Influence-Mine'!$BH150","v":0},{"$f":"'7.WEF Influence-Mine'!$BH190","v":0},{"$f":"'7.WEF Influence-Mine'!$BH230","v":0},{"$f":"'7.WEF Influence-Mine'!$BH270","v":0},null,null,null,null,null,null,null,{"$f":"'3.WEF Status-Base'!AT17","v":0},{"$f":"'7.WEF Influence-Mine'!$BL110","v":0},{"$f":"'7.WEF Influence-Mine'!$BL150","v":0},{"$f":"'7.WEF Influence-Mine'!$BL190","v":0},{"$f":"'7.WEF Influence-Mine'!$BL230","v":0},{"$f":"'7.WEF Influence-Mine'!$BL270","v":0},{"$f":"IF(GG18>=$D$7,\"B:\"&'3.WEF Status-Base'!$AU17&\": \",)&IF(GH18<>0,\"1.\"&'7.WEF Influence-Mine'!$BM110&\" \",)&IF(GI18<>0,\"2.\"&'7.WEF Influence-Mine'!$BM150&\" \",)&IF(GJ18<>0,\"3.\"&'7.WEF Influence-Mine'!$BM190&\" \",)&IF(GK18<>0,\"4.\"&'7.WEF Influence-Mine'!$BM230&\" \",)&IF(GL18<>0,\"5.\"&'7.WEF Influence-Mine'!$BM270&\" \",)","v":""},null,null,null,null,null,null,{"$f":"'3.WEF Status-Base'!AW17","v":0},{"$f":"'7.WEF Influence-Mine'!$BP110","v":0},{"$f":"'7.WEF Influence-Mine'!$BP150","v":0},{"$f":"'7.WEF Influence-Mine'!$BP190","v":0},{"$f":"'7.WEF Influence-Mine'!$BP230","v":0},{"$f":"'7.WEF Influence-Mine'!$BP270","v":0},{"$f":"IF(GT18>=$D$7,\"B:\"&'3.WEF Status-Base'!$AX17&\": \",)&IF(GU18<>0,\"1.\"&'7.WEF Influence-Mine'!$BQ110&\" \",)&IF(GV18<>0,\"2.\"&'7.WEF Influence-Mine'!$BQ150&\" \",)&IF(GW18<>0,\"3.\"&'7.WEF Influence-Mine'!$BQ190&\" \",)&IF(GX18<>0,\"4.\"&'7.WEF Influence-Mine'!$BQ230&\" \",)&IF(GY18<>0,\"5.\"&'7.WEF Influence-Mine'!$BQ270&\" \",)","v":""},null,null,null,null,null,null,{"$f":"'3.WEF Status-Base'!AZ17","v":0},{"$f":"'7.WEF Influence-Mine'!$BT110","v":0},{"$f":"'7.WEF Influence-Mine'!$BT150","v":0},{"$f":"'7.WEF Influence-Mine'!$BT190","v":0},{"$f":"'7.WEF Influence-Mine'!$BT230","v":0},{"$f":"'7.WEF Influence-Mine'!$BT270","v":0},{"$f":"IF(HG18>=$D$7,\"B:\"&'3.WEF Status-Base'!$BA17&\": \",)&IF(HH18<>0,\"1.\"&'7.WEF Influence-Mine'!$BU110&\" \",)&IF(HI18<>0,\"2.\"&'7.WEF Influence-Mine'!$BU150&\" \",)&IF(HJ18<>0,\"3.\"&'7.WEF Influence-Mine'!$BU190&\" \",)&IF(HK18<>0,\"4.\"&'7.WEF Influence-Mine'!$BU230&\" \",)&IF(HL18<>0,\"5.\"&'7.WEF Influence-Mine'!$BU270&\" \",)","v":""},null,null,null,null,null,null,{"$f":"'3.WEF Status-Base'!BC17","v":0},{"$f":"'7.WEF Influence-Mine'!$BX110","v":0},{"$f":"'7.WEF Influence-Mine'!$BX150","v":0},{"$f":"'7.WEF Influence-Mine'!$BX190","v":0},{"$f":"'7.WEF Influence-Mine'!$BX230","v":0},{"$f":"'7.WEF Influence-Mine'!$BX270","v":0},{"$f":"IF(HT18>=$D$7,\"B:\"&'3.WEF Status-Base'!$BD17&\": \",)&IF(HU18<>0,\"1.\"&'7.WEF Influence-Mine'!$BY110&\" \",)&IF(HV18<>0,\"2.\"&'7.WEF Influence-Mine'!$BY150&\" \",)&IF(HW18<>0,\"3.\"&'7.WEF Influence-Mine'!$BY190&\" \",)&IF(HX18<>0,\"4.\"&'7.WEF Influence-Mine'!$BY230&\" \",)&IF(HY18<>0,\"5.\"&'7.WEF Influence-Mine'!$BY270&\" \",)","v":""},null,null,null,null,null,null,{"$f":"'7.WEF Influence-Mine'!BZ110&\" : \"&'7.WEF Influence-Mine'!BZ150&\" : \"&'7.WEF Influence-Mine'!BZ190&\" : \"&'7.WEF Influence-Mine'!BZ230&\" : \"&'7.WEF Influence-Mine'!BZ270","v":"0 : 0 : 0 : 0 : 0"}]
[9,"Self-production (water wells, off-grid power, individual/community gardens)",{"$f":"'3.WEF Status-Base'!B18","v":0},{"$f":"MAX($H19:$L19,$U19:$Y19,$AH19:$AL19,$AU19:$AY19,$BH19:$BL19,$BU19:$BY19,$CH19:$CL19,$CU19:$CY19,$DH19:$DL19,$DU19:$DY19,$EH19:$EL19,$EU19:$EY19,$FH19:$FL19,$FU19:$FY19,$GH19:$GL19,$GU19:$GY19,$HH19:$HL19,$HU19:$HY19)","v":0},{"$f":"MIN($H19:$L19,$U19:$Y19,$AH19:$AL19,$AU19:$AY19,$BH19:$BL19,$BU19:$BY19,$CH19:$CL19,$CU19:$CY19,$DH19:$DL19,$DU19:$DY19,$EH19:$EL19,$EU19:$EY19,$FH19:$FL19,$FU19:$FY19,$GH19:$GL19,$GU19:$GY19,$HH19:$HL19,$HU19:$HY19)","v":0},null,{"$f":"'3.WEF Status-Base'!D18","v":0},{"$f":"'7.WEF Influence-Mine'!$H111","v":0},{"$f":"'7.WEF Influence-Mine'!$H151","v":0},{"$f":"'7.WEF Influence-Mine'!$H191","v":0},{"$f":"'7.WEF Influence-Mine'!$H231","v":0},{"$f":"'7.WEF Influence-Mine'!$H271","v":0},{"$f":"IF(G19>=$D$7,\"B:\"&'3.WEF Status-Base'!$E18&\": \",)&IF(H19<>0,\"1. \"&'7.WEF Influence-Mine'!$I111&\" \",)&IF(I19<>0,\"2. \"&'7.WEF Influence-Mine'!$I151&\" \",)&IF(J19<>0,\"3. \"&'7.WEF Influence-Mine'!$I191&\" \",)&IF(K19<>0,\"4. \"&'7.WEF Influence-Mine'!$I231&\" \",)&IF(L19<>0,\"5. \"&'7.WEF Influence-Mine'!$I271&\" \",)","v":""},null,null,null,null,null,null,{"$f":"'3.WEF Status-Base'!G18","v":0},{"$f":"'7.WEF Influence-Mine'!$L111","v":0},{"$f":"'7.WEF Influence-Mine'!$L151","v":0},{"$f":"'7.WEF Influence-Mine'!$L191","v":0},{"$f":"'7.WEF Influence-Mine'!$L231","v":0},{"$f":"'7.WEF Influence-Mine'!$L271","v":0},{"$f":"IF(T19>=$D$7,\"B:\"&'3.WEF Status-Base'!$H18&\": \",)&IF(U19<>0,\"1.\"&'7.WEF Influence-Mine'!$M111&\" \",)&IF(V19<>0,\"2.\"&'7.WEF Influence-Mine'!$M151&\" \",)&IF(W19<>0,\"3.\"&'7.WEF Influence-Mine'!$M191&\" \",)&IF(X19<>0,\"4.\"&'7.WEF Influence-Mine'!$M231&\" \",)&IF(Y19<>0,\"5.\"&'7.WEF Influence-Mine'!$M271&\" \",)","v":""},null,null,null,null,null,null,{"$f":"'3.WEF Status-Base'!J18","v":0},{"$f":"'7.WEF Influence-Mine'!$P111","v":0},{"$f":"'7.WEF Influence-Mine'!$P151","v":0},{"$f":"'7.WEF Influence-Mine'!$P191","v":0},{"$f":"'7.WEF Influence-Mine'!$P231","v":0},{"$f":"'7.WEF Influence-Mine'!$P271","v":0},{"$f":"IF(AG19>=$D$7,\"B:\"&'3.WEF Status-Base'!$K18&\": \",)&IF(AH19<>0,\"1.\"&'7.WEF Influence-Mine'!$Q111&\" \",)&IF(AI19<>0,\"2.\"&'7.WEF Influence-Mine'!$Q151&\" \",)&IF(AJ19<>0,\"3.\"&'7.WEF Influence-Mine'!$Q191&\" \",)&IF(AK19<>0,\"4.\"&'7.WEF Influence-Mine'!$Q231&\" \",)&IF(AL19<>0,\"5.\"&'7.WEF Influence-Mine'!$Q271&\" \",)","v":""},null,null,null,null,null,null,{"$f":"'3.WEF Status-Base'!M18","v":0},{"$f":"'7.WEF Influence-Mine'!$T111","v":0},{"$f":"'7.WEF Influence-Mine'!$T151","v":0},{"$f":"'7.WEF Influence-Mine'!$T191","v":0},{"$f":"'7.WEF Influence-Mine'!$T231","v":0},{"$f":"'7.WEF Influence-Mine'!$T271","v":0},{"$f":"IF(AT19>=$D$7,\"B:\"&'3.WEF Status-Base'!$N18&\": \",)&IF(AU19<>0,\"1.\"&'7.WEF Influence-Mine'!$U111&\" \",)&IF(AV19<>0,\"2.\"&'7.WEF Influence-Mine'!$U151&\" \",)&IF(AW19<>0,\"3.\"&'7.WEF Influence-Mine'!$U191&\" \",)&IF(AX19<>0,\"4.\"&'7.WEF Influence-Mine'!$U231&\" \",)&IF(AY19<>0,\"5.\"&'7.WEF Influence-Mine'!$U271&\" \",)","v":""},null,null,null,null,null,null,{"$f":"'3.WEF Status-Base'!P18","v":0},{"$f":"'7.WEF Influence-Mine'!$X111","v":0},{"$f":"'7.WEF Influence-Mine'!$X151","v":0},{"$f":"'7.WEF Influence-Mine'!$X191","v":0},{"$f":"'7.WEF Influence-Mine'!$X231","v":0},{"$f":"'7.WEF Influence-Mine'!$X271","v":0},{"$f":"IF(BG19>=$D$7,\"B:\"&'3.WEF Status-Base'!$Q18&\": \",)&IF(BH19<>0,\"1.\"&'7.WEF Influence-Mine'!$Y111&\" \",)&IF(BI19<>0,\"2.\"&'7.WEF Influence-Mine'!$Y151&\" \",)&IF(BJ19<>0,\"3.\"&'7.WEF Influence-Mine'!$Y191&\" \",)&IF(BK19<>0,\"4.\"&'7.WEF Influence-Mine'!$Y231&\" \",)&IF(BL19<>0,\"5.\"&'7.WEF Influence-Mine'!$Y271&\" \",)","v":""},null,null,null,null,null,null,{"$f":"'3.WEF Status-Base'!S18","v":0},{"$f":"'7.WEF Influence-Mine'!$AB111","v":0},{"$f":"'7.WEF Influence-Mine'!$AB151","v":0},{"$f":"'7.WEF Influence-Mine'!$AB191","v":0},{"$f":"'7.WEF Influence-Mine'!$AB231","v":0},{"$f":"'7.WEF Influence-Mine'!$AB271","v":0},{"$f":"IF(BT19>=$D$7,\"B:\"&'3.WEF Status-Base'!$T18&\": \",)&IF(BU19<>0,\"1.\"&'7.WEF Influence-Mine'!$AC111&\" \",)&IF(BV19<>0,\"2.\"&'7.WEF Influence-Mine'!$AC151&\" \",)&IF(BW19<>0,\"3.\"&'7.WEF Influence-Mine'!$AC191&\" \",)&IF(BX19<>0,\"4.\"&'7.WEF Influence-Mine'!$AC231&\" \",)&IF(BY19<>0,\"5.\"&'7.WEF Influence-Mine'!$AC271&\" \",)","v":""},null,null,null,null,null,null,{"$f":"'3.WEF Status-Base'!V18","v":0},{"$f":"'7.WEF Influence-Mine'!$AF111","v":0},{"$f":"'7.WEF Influence-Mine'!$AF151","v":0},{"$f":"'7.WEF Influence-Mine'!$AF191","v":0},{"$f":"'7.WEF Influence-Mine'!$AF231","v":0},{"$f":"'7.WEF Influence-Mine'!$AF271","v":0},{"$f":"IF(CG19>=$D$7,\"B:\"&'3.WEF Status-Base'!$W18&\": \",)&IF(CH19<>0,\"1.\"&'7.WEF Influence-Mine'!$AG111&\" \",)&IF(CI19<>0,\"2.\"&'7.WEF Influence-Mine'!$AG151&\" \",)&IF(CJ19<>0,\"3.\"&'7.WEF Influence-Mine'!$AG191&\" \",)&IF(CK19<>0,\"4.\"&'7.WEF Influence-Mine'!$AG231&\" \",)&IF(CL19<>0,\"5.\"&'7.WEF Influence-Mine'!$AG271&\" \",)","v":""},null,null,null,null,null,null,{"$f":"'3.WEF Status-Base'!Y18","v":0},{"$f":"'7.WEF Influence-Mine'!$AJ111","v":0},{"$f":"'7.WEF Influence-Mine'!$AJ151","v":0},{"$f":"'7.WEF Influence-Mine'!$AJ191","v":0},{"$f":"'7.WEF Influence-Mine'!$AJ231","v":0},{"$f":"'7.WEF Influence-Mine'!$AJ271","v":0},{"$f":"IF(CT19>=$D$7,\"B:\"&'3.WEF Status-Base'!$Z18&\": \",)&IF(CU19<>0,\"1.\"&'7.WEF Influence-Mine'!$AK111&\" \",)&IF(CV19<>0,\"2.\"&'7.WEF Influence-Mine'!$AK151&\" \",)&IF(CW19<>0,\"3.\"&'7.WEF Influence-Mine'!$AK191&\" \",)&IF(CX19<>0,\"4.\"&'7.WEF Influence-Mine'!$AK231&\" \",)&IF(CY19<>0,\"5.\"&'7.WEF Influence-Mine'!$AK271&\" \",)","v":""},null,null,null,null,null,null,{"$f":"'3.WEF Status-Base'!AB18","v":0},{"$f":"'7.WEF Influence-Mine'!$AN111","v":0},{"$f":"'7.WEF Influence-Mine'!$AN151","v":0},{"$f":"'7.WEF Influence-Mine'!$AN191","v":0},{"$f":"'7.WEF Influence-Mine'!$AN231","v":0},{"$f":"'7.WEF Influence-Mine'!$AN271","v":0},{"$f":"IF(DG19>=$D$7,\"B:\"&'3.WEF Status-Base'!$AC18&\": \",)&IF(DH19<>0,\"1.\"&'7.WEF Influence-Mine'!$AO111&\" \",)&IF(DI19<>0,\"2.\"&'7.WEF Influence-Mine'!$AO151&\" \",)&IF(DJ19<>0,\"3.\"&'7.WEF Influence-Mine'!$AO191&\" \",)&IF(DK19<>0,\"4.\"&'7.WEF Influence-Mine'!$AO231&\" \",)&IF(DL19<>0,\"5.\"&'7.WEF Influence-Mine'!$AO271&\" \",)","v":""},null,null,null,null,null,null,{"$f":"'3.WEF Status-Base'!AE18","v":0},{"$f":"'7.WEF Influence-Mine'!$AR111","v":0},{"$f":"'7.WEF Influence-Mine'!$AR151","v":0},{"$f":"'7.WEF Influence-Mine'!$AR191","v":0},{"$f":"'7.WEF Influence-Mine'!$AR231","v":0},{"$f":"'7.WEF Influence-Mine'!$AR271","v":0},{"$f":"IF(DT19>=$D$7,\"B:\"&'3.WEF Status-Base'!$AF18&\": \",)&IF(DU19<>0,\"1.\"&'7.WEF Influence-Mine'!$AS111&\" \",)&IF(DV19<>0,\"2.\"&'7.WEF Influence-Mine'!$AS151&\" \",)&IF(DW19<>0,\"3.\"&'7.WEF Influence-Mine'!$AS191&\" \",)&IF(DX19<>0,\"4.\"&'7.WEF Influence-Mine'!$AS231&\" \",)&IF(DY19<>0,\"5.\"&'7.WEF Influence-Mine'!$AS271&\" \",)","v":""},null,null,null,null,null,null,{"$f":"'3.WEF Status-Base'!AH18","v":0},{"$f":"'7.WEF Influence-Mine'!$AV111","v":0},{"$f":"'7.WEF Influence-Mine'!$AV151","v":0},{"$f":"'7.WEF Influence-Mine'!$AV191","v":0},{"$f":"'7.WEF Influence-Mine'!$AV231","v":0},{"$f":"'7.WEF Influence-Mine'!$AV271","v":0},{"$f":"IF(EG19>=$D$7,\"B:\"&'3.WEF Status-Base'!$AI18&\": \",)&IF(EH19<>0,\"1.\"&'7.WEF Influence-Mine'!$AW111&\" \",)&IF(EI19<>0,\"2.\"&'7.WEF Influence-Mine'!$AW151&\" \",)&IF(EJ19<>0,\"3.\"&'7.WEF Influence-Mine'!$AW191&\" \",)&IF(EK19<>0,\"4.\"&'7.WEF Influence-Mine'!$AW231&\" \",)&IF(EL19<>0,\"5.\"&'7.WEF Influence-Mine'!$AW271&\" \",)","v":""},null,null,null,null,null,null,{"$f":"'3.WEF Status-Base'!AK18","v":0},{"$f":"'7.WEF Influence-Mine'!$AZ111","v":0},{"$f":"'7.WEF Influence-Mine'!$AZ151","v":0},{"$f":"'7.WEF Influence-Mine'!$AZ191","v":0},{"$f":"'7.WEF Influence-Mine'!$AZ231","v":0},{"$f":"'7.WEF Influence-Mine'!$AZ271","v":0},{"$f":"IF(ET19>=$D$7,\"B:\"&'3.WEF Status-Base'!$AL18&\": \",)&IF(EU19<>0,\"1.\"&'7.WEF Influence-Mine'!$BA111&\" \",)&IF(EV19<>0,\"2.\"&'7.WEF Influence-Mine'!$BA151&\" \",)&IF(EW19<>0,\"3.\"&'7.WEF Influence-Mine'!$BA191&\" \",)&IF(EX19<>0,\"4.\"&'7.WEF Influence-Mine'!$BA231&\" \",)&IF(EY19<>0,\"5.\"&'7.WEF Influence-Mine'!$BA271&\" \",)","v":""},null,null,null,null,null,null,{"$f":"'3.WEF Status-Base'!AN18","v":0},{"$f":"'7.WEF Influence-Mine'!$BD111","v":0},{"$f":"'7.WEF Influence-Mine'!$BD151","v":0},{"$f":"'7.WEF Influence-Mine'!$BD191","v":0},{"$f":"'7.WEF Influence-Mine'!$BD231","v":0},{"$f":"'7.WEF Influence-Mine'!$BD271","v":0},{"$f":"IF(FG19>=$D$7,\"B:\"&'3.WEF Status-Base'!$AO18&\": \",)&IF(FH19<>0,\"1.\"&'7.WEF Influence-Mine'!$BE111&\" \",)&IF(FI19<>0,\"2.\"&'7.WEF Influence-Mine'!$BE151&\" \",)&IF(FJ19<>0,\"3.\"&'7.WEF Influence-Mine'!$BE191&\" \",)&IF(FK19<>0,\"4.\"&'7.WEF Influence-Mine'!$BE231&\" \",)&IF(FL19<>0,\"5.\"&'7.WEF Influence-Mine'!$BE271&\" \",)","v":""},null,null,null,null,null,null,{"$f":"'3.WEF Status-Base'!AQ18","v":0},{"$f":"'7.WEF Influence-Mine'!$BH111","v":0},{"$f":"'7.WEF Influence-Mine'!$BH151","v":0},{"$f":"'7.WEF Influence-Mine'!$BH191","v":0},{"$f":"'7.WEF Influence-Mine'!$BH231","v":0},{"$f":"'7.WEF Influence-Mine'!$BH271","v":0},{"$f":"IF(FT19>=$D$7,\"B:\"&'3.WEF Status-Base'!$AR18&\": \",)&IF(FU19<>0,\"1.\"&'7.WEF Influence-Mine'!$BI111&\" \",)&IF(FV19<>0,\"2.\"&'7.WEF Influence-Mine'!$BI151&\" \",)&IF(FW19<>0,\"3.\"&'7.WEF Influence-Mine'!$BI191&\" \",)&IF(FX19<>0,\"4.\"&'7.WEF Influence-Mine'!$BI231&\" \",)&IF(FY19<>0,\"5.\"&'7.WEF Influence-Mine'!$BI271&\" \",)","v":""},null,null,null,null,null,null,{"$f":"'3.WEF Status-Base'!AT18","v":0},{"$f":"'7.WEF Influence-Mine'!$BL111","v":0},{"$f":"'7.WEF Influence-Mine'!$BL151","v":0},{"$f":"'7.WEF Influence-Mine'!$BL191","v":0},{"$f":"'7.WEF Influence-Mine'!$BL231","v":0},{"$f":"'7.WEF Influence-Mine'!$BL271","v":0},{"$f":"IF(GG19>=$D$7,\"B:\"&'3.WEF Status-Base'!$AU18&\": \",)&IF(GH19<>0,\"1.\"&'7.WEF Influence-Mine'!$BM111&\" \",)&IF(GI19<>0,\"2.\"&'7.WEF Influence-Mine'!$BM151&\" \",)&IF(GJ19<>0,\"3.\"&'7.WEF Influence-Mine'!$BM191&\" \",)&IF(GK19<>0,\"4.\"&'7.WEF Influence-Mine'!$BM231&\" \",)&IF(GL19<>0,\"5.\"&'7.WEF Influence-Mine'!$BM271&\" \",)","v":""},null,null,null,null,null,null,{"$f":"'3.WEF Status-Base'!AW18","v":0},{"$f":"'7.WEF Influence-Mine'!$BP111","v":0},{"$f":"'7.WEF Influence-Mine'!$BP151","v":0},{"$f":"'7.WEF Influence-Mine'!$BP191","v":0},{"$f":"'7.WEF Influence-Mine'!$BP231","v":0},{"$f":"'7.WEF Influence-Mine'!$BP271","v":0},{"$f":"IF(GT19>=$D$7,\"B:\"&'3.WEF Status-Base'!$AX18&\": \",)&IF(GU19<>0,\"1.\"&'7.WEF Influence-Mine'!$BQ111&\" \",)&IF(GV19<>0,\"2.\"&'7.WEF Influence-Mine'!$BQ151&\" \",)&IF(GW19<>0,\"3.\"&'7.WEF Influence-Mine'!$BQ191&\" \",)&IF(GX19<>0,\"4.\"&'7.WEF Influence-Mine'!$BQ231&\" \",)&IF(GY19<>0,\"5.\"&'7.WEF Influence-Mine'!$BQ271&\" \",)","v":""},null,null,null,null,null,null,{"$f":"'3.WEF Status-Base'!AZ18","v":0},{"$f":"'7.WEF Influence-Mine'!$BT111","v":0},{"$f":"'7.WEF Influence-Mine'!$BT151","v":0},{"$f":"'7.WEF Influence-Mine'!$BT191","v":0},{"$f":"'7.WEF Influence-Mine'!$BT231","v":0},{"$f":"'7.WEF Influence-Mine'!$BT271","v":0},{"$f":"IF(HG19>=$D$7,\"B:\"&'3.WEF Status-Base'!$BA18&\": \",)&IF(HH19<>0,\"1.\"&'7.WEF Influence-Mine'!$BU111&\" \",)&IF(HI19<>0,\"2.\"&'7.WEF Influence-Mine'!$BU151&\" \",)&IF(HJ19<>0,\"3.\"&'7.WEF Influence-Mine'!$BU191&\" \",)&IF(HK19<>0,\"4.\"&'7.WEF Influence-Mine'!$BU231&\" \",)&IF(HL19<>0,\"5.\"&'7.WEF Influence-Mine'!$BU271&\" \",)","v":""},null,null,null,null,null,null,{"$f":"'3.WEF Status-Base'!BC18","v":0},{"$f":"'7.WEF Influence-Mine'!$BX111","v":0},{"$f":"'7.WEF Influence-Mine'!$BX151","v":0},{"$f":"'7.WEF Influence-Mine'!$BX191","v":0},{"$f":"'7.WEF Influence-Mine'!$BX231","v":0},{"$f":"'7.WEF Influence-Mine'!$BX271","v":0},{"$f":"IF(HT19>=$D$7,\"B:\"&'3.WEF Status-Base'!$BD18&\": \",)&IF(HU19<>0,\"1.\"&'7.WEF Influence-Mine'!$BY111&\" \",)&IF(HV19<>0,\"2.\"&'7.WEF Influence-Mine'!$BY151&\" \",)&IF(HW19<>0,\"3.\"&'7.WEF Influence-Mine'!$BY191&\" \",)&IF(HX19<>0,\"4.\"&'7.WEF Influence-Mine'!$BY231&\" \",)&IF(HY19<>0,\"5.\"&'7.WEF Influence-Mine'!$BY271&\" \",)","v":""},null,null,null,null,null,null,{"$f":"'7.WEF Influence-Mine'!BZ111&\" : \"&'7.WEF Influence-Mine'!BZ151&\" : \"&'7.WEF Influence-Mine'!BZ191&\" : \"&'7.WEF Influence-Mine'!BZ231&\" : \"&'7.WEF Influence-Mine'!BZ271","v":"0 : 0 : 0 : 0 : 0"}]
[10,"Barter",{"$f":"'3.WEF Status-Base'!B19","v":0},{"$f":"MAX($H20:$L20,$U20:$Y20,$AH20:$AL20,$AU20:$AY20,$BH20:$BL20,$BU20:$BY20,$CH20:$CL20,$CU20:$CY20,$DH20:$DL20,$DU20:$DY20,$EH20:$EL20,$EU20:$EY20,$FH20:$FL20,$FU20:$FY20,$GH20:$GL20,$GU20:$GY20,$HH20:$HL20,$HU20:$HY20)","v":0},{"$f":"MIN($H20:$L20,$U20:$Y20,$AH20:$AL20,$AU20:$AY20,$BH20:$BL20,$BU20:$BY20,$CH20:$CL20,$CU20:$CY20,$DH20:$DL20,$DU20:$DY20,$EH20:$EL20,$EU20:$EY20,$FH20:$FL20,$FU20:$FY20,$GH20:$GL20,$GU20:$GY20,$HH20:$HL20,$HU20:$HY20)","v":0},null,{"$f":"'3.WEF Status-Base'!D19","v":0},{"$f":"'7.WEF Influence-Mine'!$H112","v":0},{"$f":"'7.WEF Influence-Mine'!$H152","v":0},{"$f":"'7.WEF Influence-Mine'!$H192","v":0},{"$f":"'7.WEF Influence-Mine'!$H232","v":0},{"$f":"'7.WEF Influence-Mine'!$H272","v":0},{"$f":"IF(G20>=$D$7,\"B:\"&'3.WEF Status-Base'!$E19&\": \",)&IF(H20<>0,\"1. \"&'7.WEF Influence-Mine'!$I112&\" \",)&IF(I20<>0,\"2. \"&'7.WEF Influence-Mine'!$I152&\" \",)&IF(J20<>0,\"3. \"&'7.WEF Influence-Mine'!$I192&\" \",)&IF(K20<>0,\"4. \"&'7.WEF Influence-Mine'!$I232&\" \",)&IF(L20<>0,\"5. \"&'7.WEF Influence-Mine'!$I272&\" \",)","v":""},null,null,null,null,null,null,{"$f":"'3.WEF Status-Base'!G19","v":0},{"$f":"'7.WEF Influence-Mine'!$L112","v":0},{"$f":"'7.WEF Influence-Mine'!$L152","v":0},{"$f":"'7.WEF Influence-Mine'!$L192","v":0},{"$f":"'7.WEF Influence-Mine'!$L232","v":0},{"$f":"'7.WEF Influence-Mine'!$L272","v":0},{"$f":"IF(T20>=$D$7,\"B:\"&'3.WEF Status-Base'!$H19&\": \",)&IF(U20<>0,\"1.\"&'7.WEF Influence-Mine'!$M112&\" \",)&IF(V20<>0,\"2.\"&'7.WEF Influence-Mine'!$M152&\" \",)&IF(W20<>0,\"3.\"&'7.WEF Influence-Mine'!$M192&\" \",)&IF(X20<>0,\"4.\"&'7.WEF Influence-Mine'!$M232&\" \",)&IF(Y20<>0,\"5.\"&'7.WEF Influence-Mine'!$M272&\" \",)","v":""},null,null,null,null,null,null,{"$f":"'3.WEF Status-Base'!J19","v":0},{"$f":"'7.WEF Influence-Mine'!$P112","v":0},{"$f":"'7.WEF Influence-Mine'!$P152","v":0},{"$f":"'7.WEF Influence-Mine'!$P192","v":0},{"$f":"'7.WEF Influence-Mine'!$P232","v":0},{"$f":"'7.WEF Influence-Mine'!$P272","v":0},{"$f":"IF(AG20>=$D$7,\"B:\"&'3.WEF Status-Base'!$K19&\": \",)&IF(AH20<>0,\"1.\"&'7.WEF Influence-Mine'!$Q112&\" \",)&IF(AI20<>0,\"2.\"&'7.WEF Influence-Mine'!$Q152&\" \",)&IF(AJ20<>0,\"3.\"&'7.WEF Influence-Mine'!$Q192&\" \",)&IF(AK20<>0,\"4.\"&'7.WEF Influence-Mine'!$Q232&\" \",)&IF(AL20<>0,\"5.\"&'7.WEF Influence-Mine'!$Q272&\" \",)","v":""},null,null,null,null,null,null,{"$f":"'3.WEF Status-Base'!M19","v":0},{"$f":"'7.WEF Influence-Mine'!$T112","v":0},{"$f":"'7.WEF Influence-Mine'!$T152","v":0},{"$f":"'7.WEF Influence-Mine'!$T192","v":0},{"$f":"'7.WEF Influence-Mine'!$T232","v":0},{"$f":"'7.WEF Influence-Mine'!$T272","v":0},{"$f":"IF(AT20>=$D$7,\"B:\"&'3.WEF Status-Base'!$N19&\": \",)&IF(AU20<>0,\"1.\"&'7.WEF Influence-Mine'!$U112&\" \",)&IF(AV20<>0,\"2.\"&'7.WEF Influence-Mine'!$U152&\" \",)&IF(AW20<>0,\"3.\"&'7.WEF Influence-Mine'!$U192&\" \",)&IF(AX20<>0,\"4.\"&'7.WEF Influence-Mine'!$U232&\" \",)&IF(AY20<>0,\"5.\"&'7.WEF Influence-Mine'!$U272&\" \",)","v":""},null,null,null,null,null,null,{"$f":"'3.WEF Status-Base'!P19","v":0},{"$f":"'7.WEF Influence-Mine'!$X112","v":0},{"$f":"'7.WEF Influence-Mine'!$X152","v":0},{"$f":"'7.WEF Influence-Mine'!$X192","v":0},{"$f":"'7.WEF Influence-Mine'!$X232","v":0},{"$f":"'7.WEF Influence-Mine'!$X272","v":0},{"$f":"IF(BG20>=$D$7,\"B:\"&'3.WEF Status-Base'!$Q19&\": \",)&IF(BH20<>0,\"1.\"&'7.WEF Influence-Mine'!$Y112&\" \",)&IF(BI20<>0,\"2.\"&'7.WEF Influence-Mine'!$Y152&\" \",)&IF(BJ20<>0,\"3.\"&'7.WEF Influence-Mine'!$Y192&\" \",)&IF(BK20<>0,\"4.\"&'7.WEF Influence-Mine'!$Y232&\" \",)&IF(BL20<>0,\"5.\"&'7.WEF Influence-Mine'!$Y272&\" \",)","v":""},null,null,null,null,null,null,{"$f":"'3.WEF Status-Base'!S19","v":0},{"$f":"'7.WEF Influence-Mine'!$AB112","v":0},{"$f":"'7.WEF Influence-Mine'!$AB152","v":0},{"$f":"'7.WEF Influence-Mine'!$AB192","v":0},{"$f":"'7.WEF Influence-Mine'!$AB232","v":0},{"$f":"'7.WEF Influence-Mine'!$AB272","v":0},{"$f":"IF(BT20>=$D$7,\"B:\"&'3.WEF Status-Base'!$T19&\": \",)&IF(BU20<>0,\"1.\"&'7.WEF Influence-Mine'!$AC112&\" \",)&IF(BV20<>0,\"2.\"&'7.WEF Influence-Mine'!$AC152&\" \",)&IF(BW20<>0,\"3.\"&'7.WEF Influence-Mine'!$AC192&\" \",)&IF(BX20<>0,\"4.\"&'7.WEF Influence-Mine'!$AC232&\" \",)&IF(BY20<>0,\"5.\"&'7.WEF Influence-Mine'!$AC272&\" \",)","v":""},null,null,null,null,null,null,{"$f":"'3.WEF Status-Base'!V19","v":0},{"$f":"'7.WEF Influence-Mine'!$AF112","v":0},{"$f":"'7.WEF Influence-Mine'!$AF152","v":0},{"$f":"'7.WEF Influence-Mine'!$AF192","v":0},{"$f":"'7.WEF Influence-Mine'!$AF232","v":0},{"$f":"'7.WEF Influence-Mine'!$AF272","v":0},{"$f":"IF(CG20>=$D$7,\"B:\"&'3.WEF Status-Base'!$W19&\": \",)&IF(CH20<>0,\"1.\"&'7.WEF Influence-Mine'!$AG112&\" \",)&IF(CI20<>0,\"2.\"&'7.WEF Influence-Mine'!$AG152&\" \",)&IF(CJ20<>0,\"3.\"&'7.WEF Influence-Mine'!$AG192&\" \",)&IF(CK20<>0,\"4.\"&'7.WEF Influence-Mine'!$AG232&\" \",)&IF(CL20<>0,\"5.\"&'7.WEF Influence-Mine'!$AG272&\" \",)","v":""},null,null,null,null,null,null,{"$f":"'3.WEF Status-Base'!Y19","v":0},{"$f":"'7.WEF Influence-Mine'!$AJ112","v":0},{"$f":"'7.WEF Influence-Mine'!$AJ152","v":0},{"$f":"'7.WEF Influence-Mine'!$AJ192","v":0},{"$f":"'7.WEF Influence-Mine'!$AJ232","v":0},{"$f":"'7.WEF Influence-Mine'!$AJ272","v":0},{"$f":"IF(CT20>=$D$7,\"B:\"&'3.WEF Status-Base'!$Z19&\": \",)&IF(CU20<>0,\"1.\"&'7.WEF Influence-Mine'!$AK112&\" \",)&IF(CV20<>0,\"2.\"&'7.WEF Influence-Mine'!$AK152&\" \",)&IF(CW20<>0,\"3.\"&'7.WEF Influence-Mine'!$AK192&\" \",)&IF(CX20<>0,\"4.\"&'7.WEF Influence-Mine'!$AK232&\" \",)&IF(CY20<>0,\"5.\"&'7.WEF Influence-Mine'!$AK272&\" \",)","v":""},null,null,null,null,null,null,{"$f":"'3.WEF Status-Base'!AB19","v":0},{"$f":"'7.WEF Influence-Mine'!$AN112","v":0},{"$f":"'7.WEF Influence-Mine'!$AN152","v":0},{"$f":"'7.WEF Influence-Mine'!$AN192","v":0},{"$f":"'7.WEF Influence-Mine'!$AN232","v":0},{"$f":"'7.WEF Influence-Mine'!$AN272","v":0},{"$f":"IF(DG20>=$D$7,\"B:\"&'3.WEF Status-Base'!$AC19&\": \",)&IF(DH20<>0,\"1.\"&'7.WEF Influence-Mine'!$AO112&\" \",)&IF(DI20<>0,\"2.\"&'7.WEF Influence-Mine'!$AO152&\" \",)&IF(DJ20<>0,\"3.\"&'7.WEF Influence-Mine'!$AO192&\" \",)&IF(DK20<>0,\"4.\"&'7.WEF Influence-Mine'!$AO232&\" \",)&IF(DL20<>0,\"5.\"&'7.WEF Influence-Mine'!$AO272&\" \",)","v":""},null,null,null,null,null,null,{"$f":"'3.WEF Status-Base'!AE19","v":0},{"$f":"'7.WEF Influence-Mine'!$AR112","v":0},{"$f":"'7.WEF Influence-Mine'!$AR152","v":0},{"$f":"'7.WEF Influence-Mine'!$AR192","v":0},{"$f":"'7.WEF Influence-Mine'!$AR232","v":0},{"$f":"'7.WEF Influence-Mine'!$AR272","v":0},{"$f":"IF(DT20>=$D$7,\"B:\"&'3.WEF Status-Base'!$AF19&\": \",)&IF(DU20<>0,\"1.\"&'7.WEF Influence-Mine'!$AS112&\" \",)&IF(DV20<>0,\"2.\"&'7.WEF Influence-Mine'!$AS152&\" \",)&IF(DW20<>0,\"3.\"&'7.WEF Influence-Mine'!$AS192&\" \",)&IF(DX20<>0,\"4.\"&'7.WEF Influence-Mine'!$AS232&\" \",)&IF(DY20<>0,\"5.\"&'7.WEF Influence-Mine'!$AS272&\" \",)","v":""},null,null,null,null,null,null,{"$f":"'3.WEF Status-Base'!AH19","v":0},{"$f":"'7.WEF Influence-Mine'!$AV112","v":0},{"$f":"'7.WEF Influence-Mine'!$AV152","v":0},{"$f":"'7.WEF Influence-Mine'!$AV192","v":0},{"$f":"'7.WEF Influence-Mine'!$AV232","v":0},{"$f":"'7.WEF Influence-Mine'!$AV272","v":0},{"$f":"IF(EG20>=$D$7,\"B:\"&'3.WEF Status-Base'!$AI19&\": \",)&IF(EH20<>0,\"1.\"&'7.WEF Influence-Mine'!$AW112&\" \",)&IF(EI20<>0,\"2.\"&'7.WEF Influence-Mine'!$AW152&\" \",)&IF(EJ20<>0,\"3.\"&'7.WEF Influence-Mine'!$AW192&\" \",)&IF(EK20<>0,\"4.\"&'7.WEF Influence-Mine'!$AW232&\" \",)&IF(EL20<>0,\"5.\"&'7.WEF Influence-Mine'!$AW272&\" \",)","v":""},null,null,null,null,null,null,{"$f":"'3.WEF Status-Base'!AK19","v":0},{"$f":"'7.WEF Influence-Mine'!$AZ112","v":0},{"$f":"'7.WEF Influence-Mine'!$AZ152","v":0},{"$f":"'7.WEF Influence-Mine'!$AZ192","v":0},{"$f":"'7.WEF Influence-Mine'!$AZ232","v":0},{"$f":"'7.WEF Influence-Mine'!$AZ272","v":0},{"$f":"IF(ET20>=$D$7,\"B:\"&'3.WEF Status-Base'!$AL19&\": \",)&IF(EU20<>0,\"1.\"&'7.WEF Influence-Mine'!$BA112&\" \",)&IF(EV20<>0,\"2.\"&'7.WEF Influence-Mine'!$BA152&\" \",)&IF(EW20<>0,\"3.\"&'7.WEF Influence-Mine'!$BA192&\" \",)&IF(EX20<>0,\"4.\"&'7.WEF Influence-Mine'!$BA232&\" \",)&IF(EY20<>0,\"5.\"&'7.WEF Influence-Mine'!$BA272&\" \",)","v":""},null,null,null,null,null,null,{"$f":"'3.WEF Status-Base'!AN19","v":0},{"$f":"'7.WEF Influence-Mine'!$BD112","v":0},{"$f":"'7.WEF Influence-Mine'!$BD152","v":0},{"$f":"'7.WEF Influence-Mine'!$BD192","v":0},{"$f":"'7.WEF Influence-Mine'!$BD232","v":0},{"$f":"'7.WEF Influence-Mine'!$BD272","v":0},{"$f":"IF(FG20>=$D$7,\"B:\"&'3.WEF Status-Base'!$AO19&\": \",)&IF(FH20<>0,\"1.\"&'7.WEF Influence-Mine'!$BE112&\" \",)&IF(FI20<>0,\"2.\"&'7.WEF Influence-Mine'!$BE152&\" \",)&IF(FJ20<>0,\"3.\"&'7.WEF Influence-Mine'!$BE192&\" \",)&IF(FK20<>0,\"4.\"&'7.WEF Influence-Mine'!$BE232&\" \",)&IF(FL20<>0,\"5.\"&'7.WEF Influence-Mine'!$BE272&\" \",)","v":""},null,null,null,null,null,null,{"$f":"'3.WEF Status-Base'!AQ19","v":0},{"$f":"'7.WEF Influence-Mine'!$BH112","v":0},{"$f":"'7.WEF Influence-Mine'!$BH152","v":0},{"$f":"'7.WEF Influence-Mine'!$BH192","v":0},{"$f":"'7.WEF Influence-Mine'!$BH232","v":0},{"$f":"'7.WEF Influence-Mine'!$BH272","v":0},{"$f":"IF(FT20>=$D$7,\"B:\"&'3.WEF Status-Base'!$AR19&\": \",)&IF(FU20<>0,\"1.\"&'7.WEF Influence-Mine'!$BI112&\" \",)&IF(FV20<>0,\"2.\"&'7.WEF Influence-Mine'!$BI152&\" \",)&IF(FW20<>0,\"3.\"&'7.WEF Influence-Mine'!$BI192&\" \",)&IF(FX20<>0,\"4.\"&'7.WEF Influence-Mine'!$BI232&\" \",)&IF(FY20<>0,\"5.\"&'7.WEF Influence-Mine'!$BI272&\" \",)","v":""},null,null,null,null,null,null,{"$f":"'3.WEF Status-Base'!AT19","v":0},{"$f":"'7.WEF Influence-Mine'!$BL112","v":0},{"$f":"'7.WEF Influence-Mine'!$BL152","v":0},{"$f":"'7.WEF Influence-Mine'!$BL192","v":0},{"$f":"'7.WEF Influence-Mine'!$BL232","v":0},{"$f":"'7.WEF Influence-Mine'!$BL272","v":0},{"$f":"IF(GG20>=$D$7,\"B:\"&'3.WEF Status-Base'!$AU19&\": \",)&IF(GH20<>0,\"1.\"&'7.WEF Influence-Mine'!$BM112&\" \",)&IF(GI20<>0,\"2.\"&'7.WEF Influence-Mine'!$BM152&\" \",)&IF(GJ20<>0,\"3.\"&'7.WEF Influence-Mine'!$BM192&\" \",)&IF(GK20<>0,\"4.\"&'7.WEF Influence-Mine'!$BM232&\" \",)&IF(GL20<>0,\"5.\"&'7.WEF Influence-Mine'!$BM272&\" \",)","v":""},null,null,null,null,null,null,{"$f":"'3.WEF Status-Base'!AW19","v":0},{"$f":"'7.WEF Influence-Mine'!$BP112","v":0},{"$f":"'7.WEF Influence-Mine'!$BP152","v":0},{"$f":"'7.WEF Influence-Mine'!$BP192","v":0},{"$f":"'7.WEF Influence-Mine'!$BP232","v":0},{"$f":"'7.WEF Influence-Mine'!$BP272","v":0},{"$f":"IF(GT20>=$D$7,\"B:\"&'3.WEF Status-Base'!$AX19&\": \",)&IF(GU20<>0,\"1.\"&'7.WEF Influence-Mine'!$BQ112&\" \",)&IF(GV20<>0,\"2.\"&'7.WEF Influence-Mine'!$BQ152&\" \",)&IF(GW20<>0,\"3.\"&'7.WEF Influence-Mine'!$BQ192&\" \",)&IF(GX20<>0,\"4.\"&'7.WEF Influence-Mine'!$BQ232&\" \",)&IF(GY20<>0,\"5.\"&'7.WEF Influence-Mine'!$BQ272&\" \",)","v":""},null,null,null,null,null,null,{"$f":"'3.WEF Status-Base'!AZ19","v":0},{"$f":"'7.WEF Influence-Mine'!$BT112","v":0},{"$f":"'7.WEF Influence-Mine'!$BT152","v":0},{"$f":"'7.WEF Influence-Mine'!$BT192","v":0},{"$f":"'7.WEF Influence-Mine'!$BT232","v":0},{"$f":"'7.WEF Influence-Mine'!$BT272","v":0},{"$f":"IF(HG20>=$D$7,\"B:\"&'3.WEF Status-Base'!$BA19&\": \",)&IF(HH20<>0,\"1.\"&'7.WEF Influence-Mine'!$BU112&\" \",)&IF(HI20<>0,\"2.\"&'7.WEF Influence-Mine'!$BU152&\" \",)&IF(HJ20<>0,\"3.\"&'7.WEF Influence-Mine'!$BU192&\" \",)&IF(HK20<>0,\"4.\"&'7.WEF Influence-Mine'!$BU232&\" \",)&IF(HL20<>0,\"5.\"&'7.WEF Influence-Mine'!$BU272&\" \",)","v":""},null,null,null,null,null,null,{"$f":"'3.WEF Status-Base'!BC19","v":0},{"$f":"'7.WEF Influence-Mine'!$BX112","v":0},{"$f":"'7.WEF Influence-Mine'!$BX152","v":0},{"$f":"'7.WEF Influence-Mine'!$BX192","v":0},{"$f":"'7.WEF Influence-Mine'!$BX232","v":0},{"$f":"'7.WEF Influence-Mine'!$BX272","v":0},{"$f":"IF(HT20>=$D$7,\"B:\"&'3.WEF Status-Base'!$BD19&\": \",)&IF(HU20<>0,\"1.\"&'7.WEF Influence-Mine'!$BY112&\" \",)&IF(HV20<>0,\"2.\"&'7.WEF Influence-Mine'!$BY152&\" \",)&IF(HW20<>0,\"3.\"&'7.WEF Influence-Mine'!$BY192&\" \",)&IF(HX20<>0,\"4.\"&'7.WEF Influence-Mine'!$BY232&\" \",)&IF(HY20<>0,\"5.\"&'7.WEF Influence-Mine'!$BY272&\" \",)","v":""},null,null,null,null,null,null,{"$f":"'7.WEF Influence-Mine'!BZ112&\" : \"&'7.WEF Influence-Mine'!BZ152&\" : \"&'7.WEF Influence-Mine'!BZ192&\" : \"&'7.WEF Influence-Mine'!BZ232&\" : \"&'7.WEF Influence-Mine'!BZ272","v":"0 : 0 : 0 : 0 : 0"}]
[11,"Supporting Infrastructure","X","X","X"]
[12,"Built Infrastructure","x","x","x"]
[13,"     Transportation",{"$f":"'3.WEF Status-Base'!B22","v":0},{"$f":"MAX($H23:$L23,$U23:$Y23,$AH23:$AL23,$AU23:$AY23,$BH23:$BL23,$BU23:$BY23,$CH23:$CL23,$CU23:$CY23,$DH23:$DL23,$DU23:$DY23,$EH23:$EL23,$EU23:$EY23,$FH23:$FL23,$FU23:$FY23,$GH23:$GL23,$GU23:$GY23,$HH23:$HL23,$HU23:$HY23)","v":0},{"$f":"MIN($H23:$L23,$U23:$Y23,$AH23:$AL23,$AU23:$AY23,$BH23:$BL23,$BU23:$BY23,$CH23:$CL23,$CU23:$CY23,$DH23:$DL23,$DU23:$DY23,$EH23:$EL23,$EU23:$EY23,$FH23:$FL23,$FU23:$FY23,$GH23:$GL23,$GU23:$GY23,$HH23:$HL23,$HU23:$HY23)","v":0},null,{"$f":"'3.WEF Status-Base'!D22","v":0},{"$f":"'7.WEF Influence-Mine'!$H115","v":0},{"$f":"'7.WEF Influence-Mine'!$H155","v":0},{"$f":"'7.WEF Influence-Mine'!$H195","v":0},{"$f":"'7.WEF Influence-Mine'!$H235","v":0},{"$f":"'7.WEF Influence-Mine'!$H275","v":0},{"$f":"IF(G23>=$D$7,\"B:\"&'3.WEF Status-Base'!$E22&\": \",)&IF(H23<>0,\"1. \"&'7.WEF Influence-Mine'!$I115&\" \",)&IF(I23<>0,\"2. \"&'7.WEF Influence-Mine'!$I155&\" \",)&IF(J23<>0,\"3. \"&'7.WEF Influence-Mine'!$I195&\" \",)&IF(K23<>0,\"4. \"&'7.WEF Influence-Mine'!$I235&\" \",)&IF(L23<>0,\"5. \"&'7.WEF Influence-Mine'!$I275&\" \",)","v":""},null,null,null,null,null,null,{"$f":"'3.WEF Status-Base'!G22","v":0},{"$f":"'7.WEF Influence-Mine'!$L115","v":0},{"$f":"'7.WEF Influence-Mine'!$L155","v":0},{"$f":"'7.WEF Influence-Mine'!$L195","v":0},{"$f":"'7.WEF Influence-Mine'!$L235","v":0},{"$f":"'7.WEF Influence-Mine'!$L275","v":0},{"$f":"IF(T23>=$D$7,\"B:\"&'3.WEF Status-Base'!$H22&\": \",)&IF(U23<>0,\"1.\"&'7.WEF Influence-Mine'!$M115&\" \",)&IF(V23<>0,\"2.\"&'7.WEF Influence-Mine'!$M155&\" \",)&IF(W23<>0,\"3.\"&'7.WEF Influence-Mine'!$M195&\" \",)&IF(X23<>0,\"4.\"&'7.WEF Influence-Mine'!$M235&\" \",)&IF(Y23<>0,\"5.\"&'7.WEF Influence-Mine'!$M275&\" \",)","v":""},null,null,null,null,null,null,{"$f":"'3.WEF Status-Base'!J22","v":0},{"$f":"'7.WEF Influence-Mine'!$P115","v":0},{"$f":"'7.WEF Influence-Mine'!$P155","v":0},{"$f":"'7.WEF Influence-Mine'!$P195","v":0},{"$f":"'7.WEF Influence-Mine'!$P235","v":0},{"$f":"'7.WEF Influence-Mine'!$P275","v":0},{"$f":"IF(AG23>=$D$7,\"B:\"&'3.WEF Status-Base'!$K22&\": \",)&IF(AH23<>0,\"1.\"&'7.WEF Influence-Mine'!$Q115&\" \",)&IF(AI23<>0,\"2.\"&'7.WEF Influence-Mine'!$Q155&\" \",)&IF(AJ23<>0,\"3.\"&'7.WEF Influence-Mine'!$Q195&\" \",)&IF(AK23<>0,\"4.\"&'7.WEF Influence-Mine'!$Q235&\" \",)&IF(AL23<>0,\"5.\"&'7.WEF Influence-Mine'!$Q275&\" \",)","v":""},null,null,null,null,null,null,{"$f":"'3.WEF Status-Base'!M22","v":0},{"$f":"'7.WEF Influence-Mine'!$T115","v":0},{"$f":"'7.WEF Influence-Mine'!$T155","v":0},{"$f":"'7.WEF Influence-Mine'!$T195","v":0},{"$f":"'7.WEF Influence-Mine'!$T235","v":0},{"$f":"'7.WEF Influence-Mine'!$T275","v":0},{"$f":"IF(AT23>=$D$7,\"B:\"&'3.WEF Status-Base'!$N22&\": \",)&IF(AU23<>0,\"1.\"&'7.WEF Influence-Mine'!$U115&\" \",)&IF(AV23<>0,\"2.\"&'7.WEF Influence-Mine'!$U155&\" \",)&IF(AW23<>0,\"3.\"&'7.WEF Influence-Mine'!$U195&\" \",)&IF(AX23<>0,\"4.\"&'7.WEF Influence-Mine'!$U235&\" \",)&IF(AY23<>0,\"5.\"&'7.WEF Influence-Mine'!$U275&\" \",)","v":""},null,null,null,null,null,null,{"$f":"'3.WEF Status-Base'!P22","v":0},{"$f":"'7.WEF Influence-Mine'!$X115","v":0},{"$f":"'7.WEF Influence-Mine'!$X155","v":0},{"$f":"'7.WEF Influence-Mine'!$X195","v":0},{"$f":"'7.WEF Influence-Mine'!$X235","v":0},{"$f":"'7.WEF Influence-Mine'!$X275","v":0},{"$f":"IF(BG23>=$D$7,\"B:\"&'3.WEF Status-Base'!$Q22&\": \",)&IF(BH23<>0,\"1.\"&'7.WEF Influence-Mine'!$Y115&\" \",)&IF(BI23<>0,\"2.\"&'7.WEF Influence-Mine'!$Y155&\" \",)&IF(BJ23<>0,\"3.\"&'7.WEF Influence-Mine'!$Y195&\" \",)&IF(BK23<>0,\"4.\"&'7.WEF Influence-Mine'!$Y235&\" \",)&IF(BL23<>0,\"5.\"&'7.WEF Influence-Mine'!$Y275&\" \",)","v":""},null,null,null,null,null,null,{"$f":"'3.WEF Status-Base'!S22","v":0},{"$f":"'7.WEF Influence-Mine'!$AB115","v":0},{"$f":"'7.WEF Influence-Mine'!$AB155","v":0},{"$f":"'7.WEF Influence-Mine'!$AB195","v":0},{"$f":"'7.WEF Influence-Mine'!$AB235","v":0},{"$f":"'7.WEF Influence-Mine'!$AB275","v":0},{"$f":"IF(BT23>=$D$7,\"B:\"&'3.WEF Status-Base'!$T22&\": \",)&IF(BU23<>0,\"1.\"&'7.WEF Influence-Mine'!$AC115&\" \",)&IF(BV23<>0,\"2.\"&'7.WEF Influence-Mine'!$AC155&\" \",)&IF(BW23<>0,\"3.\"&'7.WEF Influence-Mine'!$AC195&\" \",)&IF(BX23<>0,\"4.\"&'7.WEF Influence-Mine'!$AC235&\" \",)&IF(BY23<>0,\"5.\"&'7.WEF Influence-Mine'!$AC275&\" \",)","v":""},null,null,null,null,null,null,{"$f":"'3.WEF Status-Base'!V22","v":0},{"$f":"'7.WEF Influence-Mine'!$AF115","v":0},{"$f":"'7.WEF Influence-Mine'!$AF155","v":0},{"$f":"'7.WEF Influence-Mine'!$AF195","v":0},{"$f":"'7.WEF Influence-Mine'!$AF235","v":0},{"$f":"'7.WEF Influence-Mine'!$AF275","v":0},{"$f":"IF(CG23>=$D$7,\"B:\"&'3.WEF Status-Base'!$W22&\": \",)&IF(CH23<>0,\"1.\"&'7.WEF Influence-Mine'!$AG115&\" \",)&IF(CI23<>0,\"2.\"&'7.WEF Influence-Mine'!$AG155&\" \",)&IF(CJ23<>0,\"3.\"&'7.WEF Influence-Mine'!$AG195&\" \",)&IF(CK23<>0,\"4.\"&'7.WEF Influence-Mine'!$AG235&\" \",)&IF(CL23<>0,\"5.\"&'7.WEF Influence-Mine'!$AG275&\" \",)","v":""},null,null,null,null,null,null,{"$f":"'3.WEF Status-Base'!Y22","v":0},{"$f":"'7.WEF Influence-Mine'!$AJ115","v":0},{"$f":"'7.WEF Influence-Mine'!$AJ155","v":0},{"$f":"'7.WEF Influence-Mine'!$AJ195","v":0},{"$f":"'7.WEF Influence-Mine'!$AJ235","v":0},{"$f":"'7.WEF Influence-Mine'!$AJ275","v":0},{"$f":"IF(CT23>=$D$7,\"B:\"&'3.WEF Status-Base'!$Z22&\": \",)&IF(CU23<>0,\"1.\"&'7.WEF Influence-Mine'!$AK115&\" \",)&IF(CV23<>0,\"2.\"&'7.WEF Influence-Mine'!$AK155&\" \",)&IF(CW23<>0,\"3.\"&'7.WEF Influence-Mine'!$AK195&\" \",)&IF(CX23<>0,\"4.\"&'7.WEF Influence-Mine'!$AK235&\" \",)&IF(CY23<>0,\"5.\"&'7.WEF Influence-Mine'!$AK275&\" \",)","v":""},null,null,null,null,null,null,{"$f":"'3.WEF Status-Base'!AB22","v":0},{"$f":"'7.WEF Influence-Mine'!$AN115","v":0},{"$f":"'7.WEF Influence-Mine'!$AN155","v":0},{"$f":"'7.WEF Influence-Mine'!$AN195","v":0},{"$f":"'7.WEF Influence-Mine'!$AN235","v":0},{"$f":"'7.WEF Influence-Mine'!$AN275","v":0},{"$f":"IF(DG23>=$D$7,\"B:\"&'3.WEF Status-Base'!$AC22&\": \",)&IF(DH23<>0,\"1.\"&'7.WEF Influence-Mine'!$AO115&\" \",)&IF(DI23<>0,\"2.\"&'7.WEF Influence-Mine'!$AO155&\" \",)&IF(DJ23<>0,\"3.\"&'7.WEF Influence-Mine'!$AO195&\" \",)&IF(DK23<>0,\"4.\"&'7.WEF Influence-Mine'!$AO235&\" \",)&IF(DL23<>0,\"5.\"&'7.WEF Influence-Mine'!$AO275&\" \",)","v":""},null,null,null,null,null,null,{"$f":"'3.WEF Status-Base'!AE22","v":0},{"$f":"'7.WEF Influence-Mine'!$AR115","v":0},{"$f":"'7.WEF Influence-Mine'!$AR155","v":0},{"$f":"'7.WEF Influence-Mine'!$AR195","v":0},{"$f":"'7.WEF Influence-Mine'!$AR235","v":0},{"$f":"'7.WEF Influence-Mine'!$AR275","v":0},{"$f":"IF(DT23>=$D$7,\"B:\"&'3.WEF Status-Base'!$AF22&\": \",)&IF(DU23<>0,\"1.\"&'7.WEF Influence-Mine'!$AS115&\" \",)&IF(DV23<>0,\"2.\"&'7.WEF Influence-Mine'!$AS155&\" \",)&IF(DW23<>0,\"3.\"&'7.WEF Influence-Mine'!$AS195&\" \",)&IF(DX23<>0,\"4.\"&'7.WEF Influence-Mine'!$AS235&\" \",)&IF(DY23<>0,\"5.\"&'7.WEF Influence-Mine'!$AS275&\" \",)","v":""},null,null,null,null,null,null,{"$f":"'3.WEF Status-Base'!AH22","v":0},{"$f":"'7.WEF Influence-Mine'!$AV115","v":0},{"$f":"'7.WEF Influence-Mine'!$AV155","v":0},{"$f":"'7.WEF Influence-Mine'!$AV195","v":0},{"$f":"'7.WEF Influence-Mine'!$AV235","v":0},{"$f":"'7.WEF Influence-Mine'!$AV275","v":0},{"$f":"IF(EG23>=$D$7,\"B:\"&'3.WEF Status-Base'!$AI22&\": \",)&IF(EH23<>0,\"1.\"&'7.WEF Influence-Mine'!$AW115&\" \",)&IF(EI23<>0,\"2.\"&'7.WEF Influence-Mine'!$AW155&\" \",)&IF(EJ23<>0,\"3.\"&'7.WEF Influence-Mine'!$AW195&\" \",)&IF(EK23<>0,\"4.\"&'7.WEF Influence-Mine'!$AW235&\" \",)&IF(EL23<>0,\"5.\"&'7.WEF Influence-Mine'!$AW275&\" \",)","v":""},null,null,null,null,null,null,{"$f":"'3.WEF Status-Base'!AK22","v":0},{"$f":"'7.WEF Influence-Mine'!$AZ115","v":0},{"$f":"'7.WEF Influence-Mine'!$AZ155","v":0},{"$f":"'7.WEF Influence-Mine'!$AZ195","v":0},{"$f":"'7.WEF Influence-Mine'!$AZ235","v":0},{"$f":"'7.WEF Influence-Mine'!$AZ275","v":0},{"$f":"IF(ET23>=$D$7,\"B:\"&'3.WEF Status-Base'!$AL22&\": \",)&IF(EU23<>0,\"1.\"&'7.WEF Influence-Mine'!$BA115&\" \",)&IF(EV23<>0,\"2.\"&'7.WEF Influence-Mine'!$BA155&\" \",)&IF(EW23<>0,\"3.\"&'7.WEF Influence-Mine'!$BA195&\" \",)&IF(EX23<>0,\"4.\"&'7.WEF Influence-Mine'!$BA235&\" \",)&IF(EY23<>0,\"5.\"&'7.WEF Influence-Mine'!$BA275&\" \",)","v":""},null,null,null,null,null,null,{"$f":"'3.WEF Status-Base'!AN22","v":0},{"$f":"'7.WEF Influence-Mine'!$BD115","v":0},{"$f":"'7.WEF Influence-Mine'!$BD155","v":0},{"$f":"'7.WEF Influence-Mine'!$BD195","v":0},{"$f":"'7.WEF Influence-Mine'!$BD235","v":0},{"$f":"'7.WEF Influence-Mine'!$BD275","v":0},{"$f":"IF(FG23>=$D$7,\"B:\"&'3.WEF Status-Base'!$AO22&\": \",)&IF(FH23<>0,\"1.\"&'7.WEF Influence-Mine'!$BE115&\" \",)&IF(FI23<>0,\"2.\"&'7.WEF Influence-Mine'!$BE155&\" \",)&IF(FJ23<>0,\"3.\"&'7.WEF Influence-Mine'!$BE195&\" \",)&IF(FK23<>0,\"4.\"&'7.WEF Influence-Mine'!$BE235&\" \",)&IF(FL23<>0,\"5.\"&'7.WEF Influence-Mine'!$BE275&\" \",)","v":""},null,null,null,null,null,null,{"$f":"'3.WEF Status-Base'!AQ22","v":0},{"$f":"'7.WEF Influence-Mine'!$BH115","v":0},{"$f":"'7.WEF Influence-Mine'!$BH155","v":0},{"$f":"'7.WEF Influence-Mine'!$BH195","v":0},{"$f":"'7.WEF Influence-Mine'!$BH235","v":0},{"$f":"'7.WEF Influence-Mine'!$BH275","v":0},{"$f":"IF(FT23>=$D$7,\"B:\"&'3.WEF Status-Base'!$AR22&\": \",)&IF(FU23<>0,\"1.\"&'7.WEF Influence-Mine'!$BI115&\" \",)&IF(FV23<>0,\"2.\"&'7.WEF Influence-Mine'!$BI155&\" \",)&IF(FW23<>0,\"3.\"&'7.WEF Influence-Mine'!$BI195&\" \",)&IF(FX23<>0,\"4.\"&'7.WEF Influence-Mine'!$BI235&\" \",)&IF(FY23<>0,\"5.\"&'7.WEF Influence-Mine'!$BI275&\" \",)","v":""},null,null,null,null,null,null,{"$f":"'3.WEF Status-Base'!AT22","v":0},{"$f":"'7.WEF Influence-Mine'!$BL115","v":0},{"$f":"'7.WEF Influence-Mine'!$BL155","v":0},{"$f":"'7.WEF Influence-Mine'!$BL195","v":0},{"$f":"'7.WEF Influence-Mine'!$BL235","v":0},{"$f":"'7.WEF Influence-Mine'!$BL275","v":0},{"$f":"IF(GG23>=$D$7,\"B:\"&'3.WEF Status-Base'!$AU22&\": \",)&IF(GH23<>0,\"1.\"&'7.WEF Influence-Mine'!$BM115&\" \",)&IF(GI23<>0,\"2.\"&'7.WEF Influence-Mine'!$BM155&\" \",)&IF(GJ23<>0,\"3.\"&'7.WEF Influence-Mine'!$BM195&\" \",)&IF(GK23<>0,\"4.\"&'7.WEF Influence-Mine'!$BM235&\" \",)&IF(GL23<>0,\"5.\"&'7.WEF Influence-Mine'!$BM275&\" \",)","v":""},null,null,null,null,null,null,{"$f":"'3.WEF Status-Base'!AW22","v":0},{"$f":"'7.WEF Influence-Mine'!$BP115","v":0},{"$f":"'7.WEF Influence-Mine'!$BP155","v":0},{"$f":"'7.WEF Influence-Mine'!$BP195","v":0},{"$f":"'7.WEF Influence-Mine'!$BP235","v":0},{"$f":"'7.WEF Influence-Mine'!$BP275","v":0},{"$f":"IF(GT23>=$D$7,\"B:\"&'3.WEF Status-Base'!$AX22&\": \",)&IF(GU23<>0,\"1.\"&'7.WEF Influence-Mine'!$BQ115&\" \",)&IF(GV23<>0,\"2.\"&'7.WEF Influence-Mine'!$BQ155&\" \",)&IF(GW23<>0,\"3.\"&'7.WEF Influence-Mine'!$BQ195&\" \",)&IF(GX23<>0,\"4.\"&'7.WEF Influence-Mine'!$BQ235&\" \",)&IF(GY23<>0,\"5.\"&'7.WEF Influence-Mine'!$BQ275&\" \",)","v":""},null,null,null,null,null,null,{"$f":"'3.WEF Status-Base'!AZ22","v":0},{"$f":"'7.WEF Influence-Mine'!$BT115","v":0},{"$f":"'7.WEF Influence-Mine'!$BT155","v":0},{"$f":"'7.WEF Influence-Mine'!$BT195","v":0},{"$f":"'7.WEF Influence-Mine'!$BT235","v":0},{"$f":"'7.WEF Influence-Mine'!$BT275","v":0},{"$f":"IF(HG23>=$D$7,\"B:\"&'3.WEF Status-Base'!$BA22&\": \",)&IF(HH23<>0,\"1.\"&'7.WEF Influence-Mine'!$BU115&\" \",)&IF(HI23<>0,\"2.\"&'7.WEF Influence-Mine'!$BU155&\" \",)&IF(HJ23<>0,\"3.\"&'7.WEF Influence-Mine'!$BU195&\" \",)&IF(HK23<>0,\"4.\"&'7.WEF Influence-Mine'!$BU235&\" \",)&IF(HL23<>0,\"5.\"&'7.WEF Influence-Mine'!$BU275&\" \",)","v":""},null,null,null,null,null,null,{"$f":"'3.WEF Status-Base'!BC22","v":0},{"$f":"'7.WEF Influence-Mine'!$BX115","v":0},{"$f":"'7.WEF Influence-Mine'!$BX155","v":0},{"$f":"'7.WEF Influence-Mine'!$BX195","v":0},{"$f":"'7.WEF Influence-Mine'!$BX235","v":0},{"$f":"'7.WEF Influence-Mine'!$BX275","v":0},{"$f":"IF(HT23>=$D$7,\"B:\"&'3.WEF Status-Base'!$BD22&\": \",)&IF(HU23<>0,\"1.\"&'7.WEF Influence-Mine'!$BY115&\" \",)&IF(HV23<>0,\"2.\"&'7.WEF Influence-Mine'!$BY155&\" \",)&IF(HW23<>0,\"3.\"&'7.WEF Influence-Mine'!$BY195&\" \",)&IF(HX23<>0,\"4.\"&'7.WEF Influence-Mine'!$BY235&\" \",)&IF(HY23<>0,\"5.\"&'7.WEF Influence-Mine'!$BY275&\" \",)","v":""},null,null,null,null,null,null,{"$f":"'7.WEF Influence-Mine'!BZ115&\" : \"&'7.WEF Influence-Mine'!BZ155&\" : \"&'7.WEF Influence-Mine'!BZ195&\" : \"&'7.WEF Influence-Mine'!BZ235&\" : \"&'7.WEF Influence-Mine'!BZ275","v":"0 : 0 : 0 : 0 : 0"}]
[14,"     Communication",{"$f":"'3.WEF Status-Base'!B23","v":0},0,{"$f":"MIN($H24:$L24,$U24:$Y24,$AH24:$AL24,$AU24:$AY24,$BH24:$BL24,$BU24:$BY24,$CH24:$CL24,$CU24:$CY24,$DH24:$DL24,$DU24:$DY24,$EH24:$EL24,$EU24:$EY24,$FH24:$FL24,$FU24:$FY24,$GH24:$GL24,$GU24:$GY24,$HH24:$HL24,$HU24:$HY24)","v":0},null,{"$f":"'3.WEF Status-Base'!D23","v":0},{"$f":"'7.WEF Influence-Mine'!$H116","v":0},{"$f":"'7.WEF Influence-Mine'!$H156","v":0},{"$f":"'7.WEF Influence-Mine'!$H196","v":0},{"$f":"'7.WEF Influence-Mine'!$H236","v":0},{"$f":"'7.WEF Influence-Mine'!$H276","v":0},{"$f":"IF(G24>=$D$7,\"B:\"&'3.WEF Status-Base'!$E23&\": \",)&IF(H24<>0,\"1. \"&'7.WEF Influence-Mine'!$I116&\" \",)&IF(I24<>0,\"2. \"&'7.WEF Influence-Mine'!$I156&\" \",)&IF(J24<>0,\"3. \"&'7.WEF Influence-Mine'!$I196&\" \",)&IF(K24<>0,\"4. \"&'7.WEF Influence-Mine'!$I236&\" \",)&IF(L24<>0,\"5. \"&'7.WEF Influence-Mine'!$I276&\" \",)","v":""},null,null,null,null,null,null,{"$f":"'3.WEF Status-Base'!G23","v":0},{"$f":"'7.WEF Influence-Mine'!$L116","v":0},{"$f":"'7.WEF Influence-Mine'!$L156","v":0},{"$f":"'7.WEF Influence-Mine'!$L196","v":0},{"$f":"'7.WEF Influence-Mine'!$L236","v":0},{"$f":"'7.WEF Influence-Mine'!$L276","v":0},{"$f":"IF(T24>=$D$7,\"B:\"&'3.WEF Status-Base'!$H23&\": \",)&IF(U24<>0,\"1.\"&'7.WEF Influence-Mine'!$M116&\" \",)&IF(V24<>0,\"2.\"&'7.WEF Influence-Mine'!$M156&\" \",)&IF(W24<>0,\"3.\"&'7.WEF Influence-Mine'!$M196&\" \",)&IF(X24<>0,\"4.\"&'7.WEF Influence-Mine'!$M236&\" \",)&IF(Y24<>0,\"5.\"&'7.WEF Influence-Mine'!$M276&\" \",)","v":""},null,null,null,null,null,null,{"$f":"'3.WEF Status-Base'!J23","v":0},{"$f":"'7.WEF Influence-Mine'!$P116","v":0},{"$f":"'7.WEF Influence-Mine'!$P156","v":0},{"$f":"'7.WEF Influence-Mine'!$P196","v":0},{"$f":"'7.WEF Influence-Mine'!$P236","v":0},{"$f":"'7.WEF Influence-Mine'!$P276","v":0},{"$f":"IF(AG24>=$D$7,\"B:\"&'3.WEF Status-Base'!$K23&\": \",)&IF(AH24<>0,\"1.\"&'7.WEF Influence-Mine'!$Q116&\" \",)&IF(AI24<>0,\"2.\"&'7.WEF Influence-Mine'!$Q156&\" \",)&IF(AJ24<>0,\"3.\"&'7.WEF Influence-Mine'!$Q196&\" \",)&IF(AK24<>0,\"4.\"&'7.WEF Influence-Mine'!$Q236&\" \",)&IF(AL24<>0,\"5.\"&'7.WEF Influence-Mine'!$Q276&\" \",)","v":""},null,null,null,null,null,null,{"$f":"'3.WEF Status-Base'!M23","v":0},{"$f":"'7.WEF Influence-Mine'!$T116","v":0},{"$f":"'7.WEF Influence-Mine'!$T156","v":0},{"$f":"'7.WEF Influence-Mine'!$T196","v":0},{"$f":"'7.WEF Influence-Mine'!$T236","v":0},{"$f":"'7.WEF Influence-Mine'!$T276","v":0},{"$f":"IF(AT24>=$D$7,\"B:\"&'3.WEF Status-Base'!$N23&\": \",)&IF(AU24<>0,\"1.\"&'7.WEF Influence-Mine'!$U116&\" \",)&IF(AV24<>0,\"2.\"&'7.WEF Influence-Mine'!$U156&\" \",)&IF(AW24<>0,\"3.\"&'7.WEF Influence-Mine'!$U196&\" \",)&IF(AX24<>0,\"4.\"&'7.WEF Influence-Mine'!$U236&\" \",)&IF(AY24<>0,\"5.\"&'7.WEF Influence-Mine'!$U276&\" \",)","v":""},null,null,null,null,null,null,{"$f":"'3.WEF Status-Base'!P23","v":0},{"$f":"'7.WEF Influence-Mine'!$X116","v":0},{"$f":"'7.WEF Influence-Mine'!$X156","v":0},{"$f":"'7.WEF Influence-Mine'!$X196","v":0},{"$f":"'7.WEF Influence-Mine'!$X236","v":0},{"$f":"'7.WEF Influence-Mine'!$X276","v":0},{"$f":"IF(BG24>=$D$7,\"B:\"&'3.WEF Status-Base'!$Q23&\": \",)&IF(BH24<>0,\"1.\"&'7.WEF Influence-Mine'!$Y116&\" \",)&IF(BI24<>0,\"2.\"&'7.WEF Influence-Mine'!$Y156&\" \",)&IF(BJ24<>0,\"3.\"&'7.WEF Influence-Mine'!$Y196&\" \",)&IF(BK24<>0,\"4.\"&'7.WEF Influence-Mine'!$Y236&\" \",)&IF(BL24<>0,\"5.\"&'7.WEF Influence-Mine'!$Y276&\" \",)","v":""},null,null,null,null,null,null,{"$f":"'3.WEF Status-Base'!S23","v":0},{"$f":"'7.WEF Influence-Mine'!$AB116","v":0},{"$f":"'7.WEF Influence-Mine'!$AB156","v":0},{"$f":"'7.WEF Influence-Mine'!$AB196","v":0},{"$f":"'7.WEF Influence-Mine'!$AB236","v":0},{"$f":"'7.WEF Influence-Mine'!$AB276","v":0},{"$f":"IF(BT24>=$D$7,\"B:\"&'3.WEF Status-Base'!$T23&\": \",)&IF(BU24<>0,\"1.\"&'7.WEF Influence-Mine'!$AC116&\" \",)&IF(BV24<>0,\"2.\"&'7.WEF Influence-Mine'!$AC156&\" \",)&IF(BW24<>0,\"3.\"&'7.WEF Influence-Mine'!$AC196&\" \",)&IF(BX24<>0,\"4.\"&'7.WEF Influence-Mine'!$AC236&\" \",)&IF(BY24<>0,\"5.\"&'7.WEF Influence-Mine'!$AC276&\" \",)","v":""},null,null,null,null,null,null,{"$f":"'3.WEF Status-Base'!V23","v":0},{"$f":"'7.WEF Influence-Mine'!$AF116","v":0},{"$f":"'7.WEF Influence-Mine'!$AF156","v":0},{"$f":"'7.WEF Influence-Mine'!$AF196","v":0},{"$f":"'7.WEF Influence-Mine'!$AF236","v":0},{"$f":"'7.WEF Influence-Mine'!$AF276","v":0},{"$f":"IF(CG24>=$D$7,\"B:\"&'3.WEF Status-Base'!$W23&\": \",)&IF(CH24<>0,\"1.\"&'7.WEF Influence-Mine'!$AG116&\" \",)&IF(CI24<>0,\"2.\"&'7.WEF Influence-Mine'!$AG156&\" \",)&IF(CJ24<>0,\"3.\"&'7.WEF Influence-Mine'!$AG196&\" \",)&IF(CK24<>0,\"4.\"&'7.WEF Influence-Mine'!$AG236&\" \",)&IF(CL24<>0,\"5.\"&'7.WEF Influence-Mine'!$AG276&\" \",)","v":""},null,null,null,null,null,null,{"$f":"'3.WEF Status-Base'!Y23","v":0},{"$f":"'7.WEF Influence-Mine'!$AJ116","v":0},{"$f":"'7.WEF Influence-Mine'!$AJ156","v":0},{"$f":"'7.WEF Influence-Mine'!$AJ196","v":0},{"$f":"'7.WEF Influence-Mine'!$AJ236","v":0},{"$f":"'7.WEF Influence-Mine'!$AJ276","v":0},{"$f":"IF(CT24>=$D$7,\"B:\"&'3.WEF Status-Base'!$Z23&\": \",)&IF(CU24<>0,\"1.\"&'7.WEF Influence-Mine'!$AK116&\" \",)&IF(CV24<>0,\"2.\"&'7.WEF Influence-Mine'!$AK156&\" \",)&IF(CW24<>0,\"3.\"&'7.WEF Influence-Mine'!$AK196&\" \",)&IF(CX24<>0,\"4.\"&'7.WEF Influence-Mine'!$AK236&\" \",)&IF(CY24<>0,\"5.\"&'7.WEF Influence-Mine'!$AK276&\" \",)","v":""},null,null,null,null,null,null,{"$f":"'3.WEF Status-Base'!AB23","v":0},{"$f":"'7.WEF Influence-Mine'!$AN116","v":0},{"$f":"'7.WEF Influence-Mine'!$AN156","v":0},{"$f":"'7.WEF Influence-Mine'!$AN196","v":0},{"$f":"'7.WEF Influence-Mine'!$AN236","v":0},{"$f":"'7.WEF Influence-Mine'!$AN276","v":0},{"$f":"IF(DG24>=$D$7,\"B:\"&'3.WEF Status-Base'!$AC23&\": \",)&IF(DH24<>0,\"1.\"&'7.WEF Influence-Mine'!$AO116&\" \",)&IF(DI24<>0,\"2.\"&'7.WEF Influence-Mine'!$AO156&\" \",)&IF(DJ24<>0,\"3.\"&'7.WEF Influence-Mine'!$AO196&\" \",)&IF(DK24<>0,\"4.\"&'7.WEF Influence-Mine'!$AO236&\" \",)&IF(DL24<>0,\"5.\"&'7.WEF Influence-Mine'!$AO276&\" \",)","v":""},null,null,null,null,null,null,{"$f":"'3.WEF Status-Base'!AE23","v":0},{"$f":"'7.WEF Influence-Mine'!$AR116","v":0},{"$f":"'7.WEF Influence-Mine'!$AR156","v":0},{"$f":"'7.WEF Influence-Mine'!$AR196","v":0},{"$f":"'7.WEF Influence-Mine'!$AR236","v":0},{"$f":"'7.WEF Influence-Mine'!$AR276","v":0},{"$f":"IF(DT24>=$D$7,\"B:\"&'3.WEF Status-Base'!$AF23&\": \",)&IF(DU24<>0,\"1.\"&'7.WEF Influence-Mine'!$AS116&\" \",)&IF(DV24<>0,\"2.\"&'7.WEF Influence-Mine'!$AS156&\" \",)&IF(DW24<>0,\"3.\"&'7.WEF Influence-Mine'!$AS196&\" \",)&IF(DX24<>0,\"4.\"&'7.WEF Influence-Mine'!$AS236&\" \",)&IF(DY24<>0,\"5.\"&'7.WEF Influence-Mine'!$AS276&\" \",)","v":""},null,null,null,null,null,null,{"$f":"'3.WEF Status-Base'!AH23","v":0},{"$f":"'7.WEF Influence-Mine'!$AV116","v":0},{"$f":"'7.WEF Influence-Mine'!$AV156","v":0},{"$f":"'7.WEF Influence-Mine'!$AV196","v":0},{"$f":"'7.WEF Influence-Mine'!$AV236","v":0},{"$f":"'7.WEF Influence-Mine'!$AV276","v":0},{"$f":"IF(EG24>=$D$7,\"B:\"&'3.WEF Status-Base'!$AI23&\": \",)&IF(EH24<>0,\"1.\"&'7.WEF Influence-Mine'!$AW116&\" \",)&IF(EI24<>0,\"2.\"&'7.WEF Influence-Mine'!$AW156&\" \",)&IF(EJ24<>0,\"3.\"&'7.WEF Influence-Mine'!$AW196&\" \",)&IF(EK24<>0,\"4.\"&'7.WEF Influence-Mine'!$AW236&\" \",)&IF(EL24<>0,\"5.\"&'7.WEF Influence-Mine'!$AW276&\" \",)","v":""},null,null,null,null,null,null,{"$f":"'3.WEF Status-Base'!AK23","v":0},{"$f":"'7.WEF Influence-Mine'!$AZ116","v":0},{"$f":"'7.WEF Influence-Mine'!$AZ156","v":0},{"$f":"'7.WEF Influence-Mine'!$AZ196","v":0},{"$f":"'7.WEF Influence-Mine'!$AZ236","v":0},{"$f":"'7.WEF Influence-Mine'!$AZ276","v":0},{"$f":"IF(ET24>=$D$7,\"B:\"&'3.WEF Status-Base'!$AL23&\": \",)&IF(EU24<>0,\"1.\"&'7.WEF Influence-Mine'!$BA116&\" \",)&IF(EV24<>0,\"2.\"&'7.WEF Influence-Mine'!$BA156&\" \",)&IF(EW24<>0,\"3.\"&'7.WEF Influence-Mine'!$BA196&\" \",)&IF(EX24<>0,\"4.\"&'7.WEF Influence-Mine'!$BA236&\" \",)&IF(EY24<>0,\"5.\"&'7.WEF Influence-Mine'!$BA276&\" \",)","v":""},null,null,null,null,null,null,{"$f":"'3.WEF Status-Base'!AN23","v":0},{"$f":"'7.WEF Influence-Mine'!$BD116","v":0},{"$f":"'7.WEF Influence-Mine'!$BD156","v":0},{"$f":"'7.WEF Influence-Mine'!$BD196","v":0},{"$f":"'7.WEF Influence-Mine'!$BD236","v":0},{"$f":"'7.WEF Influence-Mine'!$BD276","v":0},{"$f":"IF(FG24>=$D$7,\"B:\"&'3.WEF Status-Base'!$AO23&\": \",)&IF(FH24<>0,\"1.\"&'7.WEF Influence-Mine'!$BE116&\" \",)&IF(FI24<>0,\"2.\"&'7.WEF Influence-Mine'!$BE156&\" \",)&IF(FJ24<>0,\"3.\"&'7.WEF Influence-Mine'!$BE196&\" \",)&IF(FK24<>0,\"4.\"&'7.WEF Influence-Mine'!$BE236&\" \",)&IF(FL24<>0,\"5.\"&'7.WEF Influence-Mine'!$BE276&\" \",)","v":""},null,null,null,null,null,null,{"$f":"'3.WEF Status-Base'!AQ23","v":0},{"$f":"'7.WEF Influence-Mine'!$BH116","v":0},{"$f":"'7.WEF Influence-Mine'!$BH156","v":0},{"$f":"'7.WEF Influence-Mine'!$BH196","v":0},{"$f":"'7.WEF Influence-Mine'!$BH236","v":0},{"$f":"'7.WEF Influence-Mine'!$BH276","v":0},{"$f":"IF(FT24>=$D$7,\"B:\"&'3.WEF Status-Base'!$AR23&\": \",)&IF(FU24<>0,\"1.\"&'7.WEF Influence-Mine'!$BI116&\" \",)&IF(FV24<>0,\"2.\"&'7.WEF Influence-Mine'!$BI156&\" \",)&IF(FW24<>0,\"3.\"&'7.WEF Influence-Mine'!$BI196&\" \",)&IF(FX24<>0,\"4.\"&'7.WEF Influence-Mine'!$BI236&\" \",)&IF(FY24<>0,\"5.\"&'7.WEF Influence-Mine'!$BI276&\" \",)","v":""},null,null,null,null,null,null,{"$f":"'3.WEF Status-Base'!AT23","v":0},{"$f":"'7.WEF Influence-Mine'!$BL116","v":0},{"$f":"'7.WEF Influence-Mine'!$BL156","v":0},{"$f":"'7.WEF Influence-Mine'!$BL196","v":0},{"$f":"'7.WEF Influence-Mine'!$BL236","v":0},{"$f":"'7.WEF Influence-Mine'!$BL276","v":0},{"$f":"IF(GG24>=$D$7,\"B:\"&'3.WEF Status-Base'!$AU23&\": \",)&IF(GH24<>0,\"1.\"&'7.WEF Influence-Mine'!$BM116&\" \",)&IF(GI24<>0,\"2.\"&'7.WEF Influence-Mine'!$BM156&\" \",)&IF(GJ24<>0,\"3.\"&'7.WEF Influence-Mine'!$BM196&\" \",)&IF(GK24<>0,\"4.\"&'7.WEF Influence-Mine'!$BM236&\" \",)&IF(GL24<>0,\"5.\"&'7.WEF Influence-Mine'!$BM276&\" \",)","v":""},null,null,null,null,null,null,{"$f":"'3.WEF Status-Base'!AW23","v":0},{"$f":"'7.WEF Influence-Mine'!$BP116","v":0},{"$f":"'7.WEF Influence-Mine'!$BP156","v":0},{"$f":"'7.WEF Influence-Mine'!$BP196","v":0},{"$f":"'7.WEF Influence-Mine'!$BP236","v":0},{"$f":"'7.WEF Influence-Mine'!$BP276","v":0},{"$f":"IF(GT24>=$D$7,\"B:\"&'3.WEF Status-Base'!$AX23&\": \",)&IF(GU24<>0,\"1.\"&'7.WEF Influence-Mine'!$BQ116&\" \",)&IF(GV24<>0,\"2.\"&'7.WEF Influence-Mine'!$BQ156&\" \",)&IF(GW24<>0,\"3.\"&'7.WEF Influence-Mine'!$BQ196&\" \",)&IF(GX24<>0,\"4.\"&'7.WEF Influence-Mine'!$BQ236&\" \",)&IF(GY24<>0,\"5.\"&'7.WEF Influence-Mine'!$BQ276&\" \",)","v":""},null,null,null,null,null,null,{"$f":"'3.WEF Status-Base'!AZ23","v":0},{"$f":"'7.WEF Influence-Mine'!$BT116","v":0},{"$f":"'7.WEF Influence-Mine'!$BT156","v":0},{"$f":"'7.WEF Influence-Mine'!$BT196","v":0},{"$f":"'7.WEF Influence-Mine'!$BT236","v":0},{"$f":"'7.WEF Influence-Mine'!$BT276","v":0},{"$f":"IF(HG24>=$D$7,\"B:\"&'3.WEF Status-Base'!$BA23&\": \",)&IF(HH24<>0,\"1.\"&'7.WEF Influence-Mine'!$BU116&\" \",)&IF(HI24<>0,\"2.\"&'7.WEF Influence-Mine'!$BU156&\" \",)&IF(HJ24<>0,\"3.\"&'7.WEF Influence-Mine'!$BU196&\" \",)&IF(HK24<>0,\"4.\"&'7.WEF Influence-Mine'!$BU236&\" \",)&IF(HL24<>0,\"5.\"&'7.WEF Influence-Mine'!$BU276&\" \",)","v":""},null,null,null,null,null,null,{"$f":"'3.WEF Status-Base'!BC23","v":0},{"$f":"'7.WEF Influence-Mine'!$BX116","v":0},{"$f":"'7.WEF Influence-Mine'!$BX156","v":0},{"$f":"'7.WEF Influence-Mine'!$BX196","v":0},{"$f":"'7.WEF Influence-Mine'!$BX236","v":0},{"$f":"'7.WEF Influence-Mine'!$BX276","v":0},{"$f":"IF(HT24>=$D$7,\"B:\"&'3.WEF Status-Base'!$BD23&\": \",)&IF(HU24<>0,\"1.\"&'7.WEF Influence-Mine'!$BY116&\" \",)&IF(HV24<>0,\"2.\"&'7.WEF Influence-Mine'!$BY156&\" \",)&IF(HW24<>0,\"3.\"&'7.WEF Influence-Mine'!$BY196&\" \",)&IF(HX24<>0,\"4.\"&'7.WEF Influence-Mine'!$BY236&\" \",)&IF(HY24<>0,\"5.\"&'7.WEF Influence-Mine'!$BY276&\" \",)","v":""},null,null,null,null,null,null,{"$f":"'7.WEF Influence-Mine'!BZ116&\" : \"&'7.WEF Influence-Mine'!BZ156&\" : \"&'7.WEF Influence-Mine'!BZ196&\" : \"&'7.WEF Influence-Mine'!BZ236&\" : \"&'7.WEF Influence-Mine'!BZ276","v":"0 : 0 : 0 : 0 : 0"}]
[15,"     Waste removal/disposal",{"$f":"'3.WEF Status-Base'!B24","v":0},0,{"$f":"MIN($H25:$L25,$U25:$Y25,$AH25:$AL25,$AU25:$AY25,$BH25:$BL25,$BU25:$BY25,$CH25:$CL25,$CU25:$CY25,$DH25:$DL25,$DU25:$DY25,$EH25:$EL25,$EU25:$EY25,$FH25:$FL25,$FU25:$FY25,$GH25:$GL25,$GU25:$GY25,$HH25:$HL25,$HU25:$HY25)","v":0},null,{"$f":"'3.WEF Status-Base'!D24","v":0},{"$f":"'7.WEF Influence-Mine'!$H117","v":0},{"$f":"'7.WEF Influence-Mine'!$H157","v":0},{"$f":"'7.WEF Influence-Mine'!$H197","v":0},{"$f":"'7.WEF Influence-Mine'!$H237","v":0},{"$f":"'7.WEF Influence-Mine'!$H277","v":0},{"$f":"IF(G25>=$D$7,\"B:\"&'3.WEF Status-Base'!$E24&\": \",)&IF(H25<>0,\"1. \"&'7.WEF Influence-Mine'!$I117&\" \",)&IF(I25<>0,\"2. \"&'7.WEF Influence-Mine'!$I157&\" \",)&IF(J25<>0,\"3. \"&'7.WEF Influence-Mine'!$I197&\" \",)&IF(K25<>0,\"4. \"&'7.WEF Influence-Mine'!$I237&\" \",)&IF(L25<>0,\"5. \"&'7.WEF Influence-Mine'!$I277&\" \",)","v":""},null,null,null,null,null,null,{"$f":"'3.WEF Status-Base'!G24","v":0},{"$f":"'7.WEF Influence-Mine'!$L117","v":0},{"$f":"'7.WEF Influence-Mine'!$L157","v":0},{"$f":"'7.WEF Influence-Mine'!$L197","v":0},{"$f":"'7.WEF Influence-Mine'!$L237","v":0},{"$f":"'7.WEF Influence-Mine'!$L277","v":0},{"$f":"IF(T25>=$D$7,\"B:\"&'3.WEF Status-Base'!$H24&\": \",)&IF(U25<>0,\"1.\"&'7.WEF Influence-Mine'!$M117&\" \",)&IF(V25<>0,\"2.\"&'7.WEF Influence-Mine'!$M157&\" \",)&IF(W25<>0,\"3.\"&'7.WEF Influence-Mine'!$M197&\" \",)&IF(X25<>0,\"4.\"&'7.WEF Influence-Mine'!$M237&\" \",)&IF(Y25<>0,\"5.\"&'7.WEF Influence-Mine'!$M277&\" \",)","v":""},null,null,null,null,null,null,{"$f":"'3.WEF Status-Base'!J24","v":0},{"$f":"'7.WEF Influence-Mine'!$P117","v":0},{"$f":"'7.WEF Influence-Mine'!$P157","v":0},{"$f":"'7.WEF Influence-Mine'!$P197","v":0},{"$f":"'7.WEF Influence-Mine'!$P237","v":0},{"$f":"'7.WEF Influence-Mine'!$P277","v":0},{"$f":"IF(AG25>=$D$7,\"B:\"&'3.WEF Status-Base'!$K24&\": \",)&IF(AH25<>0,\"1.\"&'7.WEF Influence-Mine'!$Q117&\" \",)&IF(AI25<>0,\"2.\"&'7.WEF Influence-Mine'!$Q157&\" \",)&IF(AJ25<>0,\"3.\"&'7.WEF Influence-Mine'!$Q197&\" \",)&IF(AK25<>0,\"4.\"&'7.WEF Influence-Mine'!$Q237&\" \",)&IF(AL25<>0,\"5.\"&'7.WEF Influence-Mine'!$Q277&\" \",)","v":""},null,null,null,null,null,null,{"$f":"'3.WEF Status-Base'!M24","v":0},{"$f":"'7.WEF Influence-Mine'!$T117","v":0},{"$f":"'7.WEF Influence-Mine'!$T157","v":0},{"$f":"'7.WEF Influence-Mine'!$T197","v":0},{"$f":"'7.WEF Influence-Mine'!$T237","v":0},{"$f":"'7.WEF Influence-Mine'!$T277","v":0},{"$f":"IF(AT25>=$D$7,\"B:\"&'3.WEF Status-Base'!$N24&\": \",)&IF(AU25<>0,\"1.\"&'7.WEF Influence-Mine'!$U117&\" \",)&IF(AV25<>0,\"2.\"&'7.WEF Influence-Mine'!$U157&\" \",)&IF(AW25<>0,\"3.\"&'7.WEF Influence-Mine'!$U197&\" \",)&IF(AX25<>0,\"4.\"&'7.WEF Influence-Mine'!$U237&\" \",)&IF(AY25<>0,\"5.\"&'7.WEF Influence-Mine'!$U277&\" \",)","v":""},null,null,null,null,null,null,{"$f":"'3.WEF Status-Base'!P24","v":0},{"$f":"'7.WEF Influence-Mine'!$X117","v":0},{"$f":"'7.WEF Influence-Mine'!$X157","v":0},{"$f":"'7.WEF Influence-Mine'!$X197","v":0},{"$f":"'7.WEF Influence-Mine'!$X237","v":0},{"$f":"'7.WEF Influence-Mine'!$X277","v":0},{"$f":"IF(BG25>=$D$7,\"B:\"&'3.WEF Status-Base'!$Q24&\": \",)&IF(BH25<>0,\"1.\"&'7.WEF Influence-Mine'!$Y117&\" \",)&IF(BI25<>0,\"2.\"&'7.WEF Influence-Mine'!$Y157&\" \",)&IF(BJ25<>0,\"3.\"&'7.WEF Influence-Mine'!$Y197&\" \",)&IF(BK25<>0,\"4.\"&'7.WEF Influence-Mine'!$Y237&\" \",)&IF(BL25<>0,\"5.\"&'7.WEF Influence-Mine'!$Y277&\" \",)","v":""},null,null,null,null,null,null,{"$f":"'3.WEF Status-Base'!S24","v":0},{"$f":"'7.WEF Influence-Mine'!$AB117","v":0},{"$f":"'7.WEF Influence-Mine'!$AB157","v":0},{"$f":"'7.WEF Influence-Mine'!$AB197","v":0},{"$f":"'7.WEF Influence-Mine'!$AB237","v":0},{"$f":"'7.WEF Influence-Mine'!$AB277","v":0},{"$f":"IF(BT25>=$D$7,\"B:\"&'3.WEF Status-Base'!$T24&\": \",)&IF(BU25<>0,\"1.\"&'7.WEF Influence-Mine'!$AC117&\" \",)&IF(BV25<>0,\"2.\"&'7.WEF Influence-Mine'!$AC157&\" \",)&IF(BW25<>0,\"3.\"&'7.WEF Influence-Mine'!$AC197&\" \",)&IF(BX25<>0,\"4.\"&'7.WEF Influence-Mine'!$AC237&\" \",)&IF(BY25<>0,\"5.\"&'7.WEF Influence-Mine'!$AC277&\" \",)","v":""},null,null,null,null,null,null,{"$f":"'3.WEF Status-Base'!V24","v":0},{"$f":"'7.WEF Influence-Mine'!$AF117","v":0},{"$f":"'7.WEF Influence-Mine'!$AF157","v":0},{"$f":"'7.WEF Influence-Mine'!$AF197","v":0},{"$f":"'7.WEF Influence-Mine'!$AF237","v":0},{"$f":"'7.WEF Influence-Mine'!$AF277","v":0},{"$f":"IF(CG25>=$D$7,\"B:\"&'3.WEF Status-Base'!$W24&\": \",)&IF(CH25<>0,\"1.\"&'7.WEF Influence-Mine'!$AG117&\" \",)&IF(CI25<>0,\"2.\"&'7.WEF Influence-Mine'!$AG157&\" \",)&IF(CJ25<>0,\"3.\"&'7.WEF Influence-Mine'!$AG197&\" \",)&IF(CK25<>0,\"4.\"&'7.WEF Influence-Mine'!$AG237&\" \",)&IF(CL25<>0,\"5.\"&'7.WEF Influence-Mine'!$AG277&\" \",)","v":""},null,null,null,null,null,null,{"$f":"'3.WEF Status-Base'!Y24","v":0},{"$f":"'7.WEF Influence-Mine'!$AJ117","v":0},{"$f":"'7.WEF Influence-Mine'!$AJ157","v":0},{"$f":"'7.WEF Influence-Mine'!$AJ197","v":0},{"$f":"'7.WEF Influence-Mine'!$AJ237","v":0},{"$f":"'7.WEF Influence-Mine'!$AJ277","v":0},{"$f":"IF(CT25>=$D$7,\"B:\"&'3.WEF Status-Base'!$Z24&\": \",)&IF(CU25<>0,\"1.\"&'7.WEF Influence-Mine'!$AK117&\" \",)&IF(CV25<>0,\"2.\"&'7.WEF Influence-Mine'!$AK157&\" \",)&IF(CW25<>0,\"3.\"&'7.WEF Influence-Mine'!$AK197&\" \",)&IF(CX25<>0,\"4.\"&'7.WEF Influence-Mine'!$AK237&\" \",)&IF(CY25<>0,\"5.\"&'7.WEF Influence-Mine'!$AK277&\" \",)","v":""},null,null,null,null,null,null,{"$f":"'3.WEF Status-Base'!AB24","v":0},{"$f":"'7.WEF Influence-Mine'!$AN117","v":0},{"$f":"'7.WEF Influence-Mine'!$AN157","v":0},{"$f":"'7.WEF Influence-Mine'!$AN197","v":0},{"$f":"'7.WEF Influence-Mine'!$AN237","v":0},{"$f":"'7.WEF Influence-Mine'!$AN277","v":0},{"$f":"IF(DG25>=$D$7,\"B:\"&'3.WEF Status-Base'!$AC24&\": \",)&IF(DH25<>0,\"1.\"&'7.WEF Influence-Mine'!$AO117&\" \",)&IF(DI25<>0,\"2.\"&'7.WEF Influence-Mine'!$AO157&\" \",)&IF(DJ25<>0,\"3.\"&'7.WEF Influence-Mine'!$AO197&\" \",)&IF(DK25<>0,\"4.\"&'7.WEF Influence-Mine'!$AO237&\" \",)&IF(DL25<>0,\"5.\"&'7.WEF Influence-Mine'!$AO277&\" \",)","v":""},null,null,null,null,null,null,{"$f":"'3.WEF Status-Base'!AE24","v":0},{"$f":"'7.WEF Influence-Mine'!$AR117","v":0},{"$f":"'7.WEF Influence-Mine'!$AR157","v":0},{"$f":"'7.WEF Influence-Mine'!$AR197","v":0},{"$f":"'7.WEF Influence-Mine'!$AR237","v":0},{"$f":"'7.WEF Influence-Mine'!$AR277","v":0},{"$f":"IF(DT25>=$D$7,\"B:\"&'3.WEF Status-Base'!$AF24&\": \",)&IF(DU25<>0,\"1.\"&'7.WEF Influence-Mine'!$AS117&\" \",)&IF(DV25<>0,\"2.\"&'7.WEF Influence-Mine'!$AS157&\" \",)&IF(DW25<>0,\"3.\"&'7.WEF Influence-Mine'!$AS197&\" \",)&IF(DX25<>0,\"4.\"&'7.WEF Influence-Mine'!$AS237&\" \",)&IF(DY25<>0,\"5.\"&'7.WEF Influence-Mine'!$AS277&\" \",)","v":""},null,null,null,null,null,null,{"$f":"'3.WEF Status-Base'!AH24","v":0},{"$f":"'7.WEF Influence-Mine'!$AV117","v":0},{"$f":"'7.WEF Influence-Mine'!$AV157","v":0},{"$f":"'7.WEF Influence-Mine'!$AV197","v":0},{"$f":"'7.WEF Influence-Mine'!$AV237","v":0},{"$f":"'7.WEF Influence-Mine'!$AV277","v":0},{"$f":"IF(EG25>=$D$7,\"B:\"&'3.WEF Status-Base'!$AI24&\": \",)&IF(EH25<>0,\"1.\"&'7.WEF Influence-Mine'!$AW117&\" \",)&IF(EI25<>0,\"2.\"&'7.WEF Influence-Mine'!$AW157&\" \",)&IF(EJ25<>0,\"3.\"&'7.WEF Influence-Mine'!$AW197&\" \",)&IF(EK25<>0,\"4.\"&'7.WEF Influence-Mine'!$AW237&\" \",)&IF(EL25<>0,\"5.\"&'7.WEF Influence-Mine'!$AW277&\" \",)","v":""},null,null,null,null,null,null,{"$f":"'3.WEF Status-Base'!AK24","v":0},{"$f":"'7.WEF Influence-Mine'!$AZ117","v":0},{"$f":"'7.WEF Influence-Mine'!$AZ157","v":0},{"$f":"'7.WEF Influence-Mine'!$AZ197","v":0},{"$f":"'7.WEF Influence-Mine'!$AZ237","v":0},{"$f":"'7.WEF Influence-Mine'!$AZ277","v":0},{"$f":"IF(ET25>=$D$7,\"B:\"&'3.WEF Status-Base'!$AL24&\": \",)&IF(EU25<>0,\"1.\"&'7.WEF Influence-Mine'!$BA117&\" \",)&IF(EV25<>0,\"2.\"&'7.WEF Influence-Mine'!$BA157&\" \",)&IF(EW25<>0,\"3.\"&'7.WEF Influence-Mine'!$BA197&\" \",)&IF(EX25<>0,\"4.\"&'7.WEF Influence-Mine'!$BA237&\" \",)&IF(EY25<>0,\"5.\"&'7.WEF Influence-Mine'!$BA277&\" \",)","v":""},null,null,null,null,null,null,{"$f":"'3.WEF Status-Base'!AN24","v":0},{"$f":"'7.WEF Influence-Mine'!$BD117","v":0},{"$f":"'7.WEF Influence-Mine'!$BD157","v":0},{"$f":"'7.WEF Influence-Mine'!$BD197","v":0},{"$f":"'7.WEF Influence-Mine'!$BD237","v":0},{"$f":"'7.WEF Influence-Mine'!$BD277","v":0},{"$f":"IF(FG25>=$D$7,\"B:\"&'3.WEF Status-Base'!$AO24&\": \",)&IF(FH25<>0,\"1.\"&'7.WEF Influence-Mine'!$BE117&\" \",)&IF(FI25<>0,\"2.\"&'7.WEF Influence-Mine'!$BE157&\" \",)&IF(FJ25<>0,\"3.\"&'7.WEF Influence-Mine'!$BE197&\" \",)&IF(FK25<>0,\"4.\"&'7.WEF Influence-Mine'!$BE237&\" \",)&IF(FL25<>0,\"5.\"&'7.WEF Influence-Mine'!$BE277&\" \",)","v":""},null,null,null,null,null,null,{"$f":"'3.WEF Status-Base'!AQ24","v":0},{"$f":"'7.WEF Influence-Mine'!$BH117","v":0},{"$f":"'7.WEF Influence-Mine'!$BH157","v":0},{"$f":"'7.WEF Influence-Mine'!$BH197","v":0},{"$f":"'7.WEF Influence-Mine'!$BH237","v":0},{"$f":"'7.WEF Influence-Mine'!$BH277","v":0},{"$f":"IF(FT25>=$D$7,\"B:\"&'3.WEF Status-Base'!$AR24&\": \",)&IF(FU25<>0,\"1.\"&'7.WEF Influence-Mine'!$BI117&\" \",)&IF(FV25<>0,\"2.\"&'7.WEF Influence-Mine'!$BI157&\" \",)&IF(FW25<>0,\"3.\"&'7.WEF Influence-Mine'!$BI197&\" \",)&IF(FX25<>0,\"4.\"&'7.WEF Influence-Mine'!$BI237&\" \",)&IF(FY25<>0,\"5.\"&'7.WEF Influence-Mine'!$BI277&\" \",)","v":""},null,null,null,null,null,null,{"$f":"'3.WEF Status-Base'!AT24","v":0},{"$f":"'7.WEF Influence-Mine'!$BL117","v":0},{"$f":"'7.WEF Influence-Mine'!$BL157","v":0},{"$f":"'7.WEF Influence-Mine'!$BL197","v":0},{"$f":"'7.WEF Influence-Mine'!$BL237","v":0},{"$f":"'7.WEF Influence-Mine'!$BL277","v":0},{"$f":"IF(GG25>=$D$7,\"B:\"&'3.WEF Status-Base'!$AU24&\": \",)&IF(GH25<>0,\"1.\"&'7.WEF Influence-Mine'!$BM117&\" \",)&IF(GI25<>0,\"2.\"&'7.WEF Influence-Mine'!$BM157&\" \",)&IF(GJ25<>0,\"3.\"&'7.WEF Influence-Mine'!$BM197&\" \",)&IF(GK25<>0,\"4.\"&'7.WEF Influence-Mine'!$BM237&\" \",)&IF(GL25<>0,\"5.\"&'7.WEF Influence-Mine'!$BM277&\" \",)","v":""},null,null,null,null,null,null,{"$f":"'3.WEF Status-Base'!AW24","v":0},{"$f":"'7.WEF Influence-Mine'!$BP117","v":0},{"$f":"'7.WEF Influence-Mine'!$BP157","v":0},{"$f":"'7.WEF Influence-Mine'!$BP197","v":0},{"$f":"'7.WEF Influence-Mine'!$BP237","v":0},{"$f":"'7.WEF Influence-Mine'!$BP277","v":0},{"$f":"IF(GT25>=$D$7,\"B:\"&'3.WEF Status-Base'!$AX24&\": \",)&IF(GU25<>0,\"1.\"&'7.WEF Influence-Mine'!$BQ117&\" \",)&IF(GV25<>0,\"2.\"&'7.WEF Influence-Mine'!$BQ157&\" \",)&IF(GW25<>0,\"3.\"&'7.WEF Influence-Mine'!$BQ197&\" \",)&IF(GX25<>0,\"4.\"&'7.WEF Influence-Mine'!$BQ237&\" \",)&IF(GY25<>0,\"5.\"&'7.WEF Influence-Mine'!$BQ277&\" \",)","v":""},null,null,null,null,null,null,{"$f":"'3.WEF Status-Base'!AZ24","v":0},{"$f":"'7.WEF Influence-Mine'!$BT117","v":0},{"$f":"'7.WEF Influence-Mine'!$BT157","v":0},{"$f":"'7.WEF Influence-Mine'!$BT197","v":0},{"$f":"'7.WEF Influence-Mine'!$BT237","v":0},{"$f":"'7.WEF Influence-Mine'!$BT277","v":0},{"$f":"IF(HG25>=$D$7,\"B:\"&'3.WEF Status-Base'!$BA24&\": \",)&IF(HH25<>0,\"1.\"&'7.WEF Influence-Mine'!$BU117&\" \",)&IF(HI25<>0,\"2.\"&'7.WEF Influence-Mine'!$BU157&\" \",)&IF(HJ25<>0,\"3.\"&'7.WEF Influence-Mine'!$BU197&\" \",)&IF(HK25<>0,\"4.\"&'7.WEF Influence-Mine'!$BU237&\" \",)&IF(HL25<>0,\"5.\"&'7.WEF Influence-Mine'!$BU277&\" \",)","v":""},null,null,null,null,null,null,{"$f":"'3.WEF Status-Base'!BC24","v":0},{"$f":"'7.WEF Influence-Mine'!$BX117","v":0},{"$f":"'7.WEF Influence-Mine'!$BX157","v":0},{"$f":"'7.WEF Influence-Mine'!$BX197","v":0},{"$f":"'7.WEF Influence-Mine'!$BX237","v":0},{"$f":"'7.WEF Influence-Mine'!$BX277","v":0},{"$f":"IF(HT25>=$D$7,\"B:\"&'3.WEF Status-Base'!$BD24&\": \",)&IF(HU25<>0,\"1.\"&'7.WEF Influence-Mine'!$BY117&\" \",)&IF(HV25<>0,\"2.\"&'7.WEF Influence-Mine'!$BY157&\" \",)&IF(HW25<>0,\"3.\"&'7.WEF Influence-Mine'!$BY197&\" \",)&IF(HX25<>0,\"4.\"&'7.WEF Influence-Mine'!$BY237&\" \",)&IF(HY25<>0,\"5.\"&'7.WEF Influence-Mine'!$BY277&\" \",)","v":""},null,null,null,null,null,null,{"$f":"'7.WEF Influence-Mine'!BZ117&\" : \"&'7.WEF Influence-Mine'!BZ157&\" : \"&'7.WEF Influence-Mine'!BZ197&\" : \"&'7.WEF Influence-Mine'!BZ237&\" : \"&'7.WEF Influence-Mine'!BZ277","v":"0 : 0 : 0 : 0 : 0"}]
[16,"Natural Infrastructure","x","x","x"]
[17,"     Air quality maintenance",{"$f":"'3.WEF Status-Base'!B26","v":0},0,{"$f":"MIN($H27:$L27,$U27:$Y27,$AH27:$AL27,$AU27:$AY27,$BH27:$BL27,$BU27:$BY27,$CH27:$CL27,$CU27:$CY27,$DH27:$DL27,$DU27:$DY27,$EH27:$EL27,$EU27:$EY27,$FH27:$FL27,$FU27:$FY27,$GH27:$GL27,$GU27:$GY27,$HH27:$HL27,$HU27:$HY27)","v":0},null,{"$f":"'3.WEF Status-Base'!D26","v":0},{"$f":"'7.WEF Influence-Mine'!$H119","v":0},{"$f":"'7.WEF Influence-Mine'!$H159","v":0},{"$f":"'7.WEF Influence-Mine'!$H199","v":0},{"$f":"'7.WEF Influence-Mine'!$H239","v":0},{"$f":"'7.WEF Influence-Mine'!$H279","v":0},{"$f":"IF(G27>=$D$7,\"B:\"&'3.WEF Status-Base'!$E26&\": \",)&IF(H27<>0,\"1. \"&'7.WEF Influence-Mine'!$I119&\" \",)&IF(I27<>0,\"2. \"&'7.WEF Influence-Mine'!$I159&\" \",)&IF(J27<>0,\"3. \"&'7.WEF Influence-Mine'!$I199&\" \",)&IF(K27<>0,\"4. \"&'7.WEF Influence-Mine'!$I239&\" \",)&IF(L27<>0,\"5. \"&'7.WEF Influence-Mine'!$I279&\" \",)","v":""},null,null,null,null,null,null,{"$f":"'3.WEF Status-Base'!G26","v":0},{"$f":"'7.WEF Influence-Mine'!$L119","v":0},{"$f":"'7.WEF Influence-Mine'!$L159","v":0},{"$f":"'7.WEF Influence-Mine'!$L199","v":0},{"$f":"'7.WEF Influence-Mine'!$L239","v":0},{"$f":"'7.WEF Influence-Mine'!$L279","v":0},{"$f":"IF(T27>=$D$7,\"B:\"&'3.WEF Status-Base'!$H26&\": \",)&IF(U27<>0,\"1.\"&'7.WEF Influence-Mine'!$M119&\" \",)&IF(V27<>0,\"2.\"&'7.WEF Influence-Mine'!$M159&\" \",)&IF(W27<>0,\"3.\"&'7.WEF Influence-Mine'!$M199&\" \",)&IF(X27<>0,\"4.\"&'7.WEF Influence-Mine'!$M239&\" \",)&IF(Y27<>0,\"5.\"&'7.WEF Influence-Mine'!$M279&\" \",)","v":""},null,null,null,null,null,null,{"$f":"'3.WEF Status-Base'!J26","v":0},{"$f":"'7.WEF Influence-Mine'!$P119","v":0},{"$f":"'7.WEF Influence-Mine'!$P159","v":0},{"$f":"'7.WEF Influence-Mine'!$P199","v":0},{"$f":"'7.WEF Influence-Mine'!$P239","v":0},{"$f":"'7.WEF Influence-Mine'!$P279","v":0},{"$f":"IF(AG27>=$D$7,\"B:\"&'3.WEF Status-Base'!$K26&\": \",)&IF(AH27<>0,\"1.\"&'7.WEF Influence-Mine'!$Q119&\" \",)&IF(AI27<>0,\"2.\"&'7.WEF Influence-Mine'!$Q159&\" \",)&IF(AJ27<>0,\"3.\"&'7.WEF Influence-Mine'!$Q199&\" \",)&IF(AK27<>0,\"4.\"&'7.WEF Influence-Mine'!$Q239&\" \",)&IF(AL27<>0,\"5.\"&'7.WEF Influence-Mine'!$Q279&\" \",)","v":""},null,null,null,null,null,null,{"$f":"'3.WEF Status-Base'!M26","v":0},{"$f":"'7.WEF Influence-Mine'!$T119","v":0},{"$f":"'7.WEF Influence-Mine'!$T159","v":0},{"$f":"'7.WEF Influence-Mine'!$T199","v":0},{"$f":"'7.WEF Influence-Mine'!$T239","v":0},{"$f":"'7.WEF Influence-Mine'!$T279","v":0},{"$f":"IF(AT27>=$D$7,\"B:\"&'3.WEF Status-Base'!$N26&\": \",)&IF(AU27<>0,\"1.\"&'7.WEF Influence-Mine'!$U119&\" \",)&IF(AV27<>0,\"2.\"&'7.WEF Influence-Mine'!$U159&\" \",)&IF(AW27<>0,\"3.\"&'7.WEF Influence-Mine'!$U199&\" \",)&IF(AX27<>0,\"4.\"&'7.WEF Influence-Mine'!$U239&\" \",)&IF(AY27<>0,\"5.\"&'7.WEF Influence-Mine'!$U279&\" \",)","v":""},null,null,null,null,null,null,{"$f":"'3.WEF Status-Base'!P26","v":0},{"$f":"'7.WEF Influence-Mine'!$X119","v":0},{"$f":"'7.WEF Influence-Mine'!$X159","v":0},{"$f":"'7.WEF Influence-Mine'!$X199","v":0},{"$f":"'7.WEF Influence-Mine'!$X239","v":0},{"$f":"'7.WEF Influence-Mine'!$X279","v":0},{"$f":"IF(BG27>=$D$7,\"B:\"&'3.WEF Status-Base'!$Q26&\": \",)&IF(BH27<>0,\"1.\"&'7.WEF Influence-Mine'!$Y119&\" \",)&IF(BI27<>0,\"2.\"&'7.WEF Influence-Mine'!$Y159&\" \",)&IF(BJ27<>0,\"3.\"&'7.WEF Influence-Mine'!$Y199&\" \",)&IF(BK27<>0,\"4.\"&'7.WEF Influence-Mine'!$Y239&\" \",)&IF(BL27<>0,\"5.\"&'7.WEF Influence-Mine'!$Y279&\" \",)","v":""},null,null,null,null,null,null,{"$f":"'3.WEF Status-Base'!S26","v":0},{"$f":"'7.WEF Influence-Mine'!$AB119","v":0},{"$f":"'7.WEF Influence-Mine'!$AB159","v":0},{"$f":"'7.WEF Influence-Mine'!$AB199","v":0},{"$f":"'7.WEF Influence-Mine'!$AB239","v":0},{"$f":"'7.WEF Influence-Mine'!$AB279","v":0},{"$f":"IF(BT27>=$D$7,\"B:\"&'3.WEF Status-Base'!$T26&\": \",)&IF(BU27<>0,\"1.\"&'7.WEF Influence-Mine'!$AC119&\" \",)&IF(BV27<>0,\"2.\"&'7.WEF Influence-Mine'!$AC159&\" \",)&IF(BW27<>0,\"3.\"&'7.WEF Influence-Mine'!$AC199&\" \",)&IF(BX27<>0,\"4.\"&'7.WEF Influence-Mine'!$AC239&\" \",)&IF(BY27<>0,\"5.\"&'7.WEF Influence-Mine'!$AC279&\" \",)","v":""},null,null,null,null,null,null,{"$f":"'3.WEF Status-Base'!V26","v":0},{"$f":"'7.WEF Influence-Mine'!$AF119","v":0},{"$f":"'7.WEF Influence-Mine'!$AF159","v":0},{"$f":"'7.WEF Influence-Mine'!$AF199","v":0},{"$f":"'7.WEF Influence-Mine'!$AF239","v":0},{"$f":"'7.WEF Influence-Mine'!$AF279","v":0},{"$f":"IF(CG27>=$D$7,\"B:\"&'3.WEF Status-Base'!$W26&\": \",)&IF(CH27<>0,\"1.\"&'7.WEF Influence-Mine'!$AG119&\" \",)&IF(CI27<>0,\"2.\"&'7.WEF Influence-Mine'!$AG159&\" \",)&IF(CJ27<>0,\"3.\"&'7.WEF Influence-Mine'!$AG199&\" \",)&IF(CK27<>0,\"4.\"&'7.WEF Influence-Mine'!$AG239&\" \",)&IF(CL27<>0,\"5.\"&'7.WEF Influence-Mine'!$AG279&\" \",)","v":""},null,null,null,null,null,null,{"$f":"'3.WEF Status-Base'!Y26","v":0},{"$f":"'7.WEF Influence-Mine'!$AJ119","v":0},{"$f":"'7.WEF Influence-Mine'!$AJ159","v":0},{"$f":"'7.WEF Influence-Mine'!$AJ199","v":0},{"$f":"'7.WEF Influence-Mine'!$AJ239","v":0},{"$f":"'7.WEF Influence-Mine'!$AJ279","v":0},{"$f":"IF(CT27>=$D$7,\"B:\"&'3.WEF Status-Base'!$Z26&\": \",)&IF(CU27<>0,\"1.\"&'7.WEF Influence-Mine'!$AK119&\" \",)&IF(CV27<>0,\"2.\"&'7.WEF Influence-Mine'!$AK159&\" \",)&IF(CW27<>0,\"3.\"&'7.WEF Influence-Mine'!$AK199&\" \",)&IF(CX27<>0,\"4.\"&'7.WEF Influence-Mine'!$AK239&\" \",)&IF(CY27<>0,\"5.\"&'7.WEF Influence-Mine'!$AK279&\" \",)","v":""},null,null,null,null,null,null,{"$f":"'3.WEF Status-Base'!AB26","v":0},{"$f":"'7.WEF Influence-Mine'!$AN119","v":0},{"$f":"'7.WEF Influence-Mine'!$AN159","v":0},{"$f":"'7.WEF Influence-Mine'!$AN199","v":0},{"$f":"'7.WEF Influence-Mine'!$AN239","v":0},{"$f":"'7.WEF Influence-Mine'!$AN279","v":0},{"$f":"IF(DG27>=$D$7,\"B:\"&'3.WEF Status-Base'!$AC26&\": \",)&IF(DH27<>0,\"1.\"&'7.WEF Influence-Mine'!$AO119&\" \",)&IF(DI27<>0,\"2.\"&'7.WEF Influence-Mine'!$AO159&\" \",)&IF(DJ27<>0,\"3.\"&'7.WEF Influence-Mine'!$AO199&\" \",)&IF(DK27<>0,\"4.\"&'7.WEF Influence-Mine'!$AO239&\" \",)&IF(DL27<>0,\"5.\"&'7.WEF Influence-Mine'!$AO279&\" \",)","v":""},null,null,null,null,null,null,{"$f":"'3.WEF Status-Base'!AE26","v":0},{"$f":"'7.WEF Influence-Mine'!$AR119","v":0},{"$f":"'7.WEF Influence-Mine'!$AR159","v":0},{"$f":"'7.WEF Influence-Mine'!$AR199","v":0},{"$f":"'7.WEF Influence-Mine'!$AR239","v":0},{"$f":"'7.WEF Influence-Mine'!$AR279","v":0},{"$f":"IF(DT27>=$D$7,\"B:\"&'3.WEF Status-Base'!$AF26&\": \",)&IF(DU27<>0,\"1.\"&'7.WEF Influence-Mine'!$AS119&\" \",)&IF(DV27<>0,\"2.\"&'7.WEF Influence-Mine'!$AS159&\" \",)&IF(DW27<>0,\"3.\"&'7.WEF Influence-Mine'!$AS199&\" \",)&IF(DX27<>0,\"4.\"&'7.WEF Influence-Mine'!$AS239&\" \",)&IF(DY27<>0,\"5.\"&'7.WEF Influence-Mine'!$AS279&\" \",)","v":""},null,null,null,null,null,null,{"$f":"'3.WEF Status-Base'!AH26","v":0},{"$f":"'7.WEF Influence-Mine'!$AV119","v":0},{"$f":"'7.WEF Influence-Mine'!$AV159","v":0},{"$f":"'7.WEF Influence-Mine'!$AV199","v":0},{"$f":"'7.WEF Influence-Mine'!$AV239","v":0},{"$f":"'7.WEF Influence-Mine'!$AV279","v":0},{"$f":"IF(EG27>=$D$7,\"B:\"&'3.WEF Status-Base'!$AI26&\": \",)&IF(EH27<>0,\"1.\"&'7.WEF Influence-Mine'!$AW119&\" \",)&IF(EI27<>0,\"2.\"&'7.WEF Influence-Mine'!$AW159&\" \",)&IF(EJ27<>0,\"3.\"&'7.WEF Influence-Mine'!$AW199&\" \",)&IF(EK27<>0,\"4.\"&'7.WEF Influence-Mine'!$AW239&\" \",)&IF(EL27<>0,\"5.\"&'7.WEF Influence-Mine'!$AW279&\" \",)","v":""},null,null,null,null,null,null,{"$f":"'3.WEF Status-Base'!AK26","v":0},{"$f":"'7.WEF Influence-Mine'!$AZ119","v":0},{"$f":"'7.WEF Influence-Mine'!$AZ159","v":0},{"$f":"'7.WEF Influence-Mine'!$AZ199","v":0},{"$f":"'7.WEF Influence-Mine'!$AZ239","v":0},{"$f":"'7.WEF Influence-Mine'!$AZ279","v":0},{"$f":"IF(ET27>=$D$7,\"B:\"&'3.WEF Status-Base'!$AL26&\": \",)&IF(EU27<>0,\"1.\"&'7.WEF Influence-Mine'!$BA119&\" \",)&IF(EV27<>0,\"2.\"&'7.WEF Influence-Mine'!$BA159&\" \",)&IF(EW27<>0,\"3.\"&'7.WEF Influence-Mine'!$BA199&\" \",)&IF(EX27<>0,\"4.\"&'7.WEF Influence-Mine'!$BA239&\" \",)&IF(EY27<>0,\"5.\"&'7.WEF Influence-Mine'!$BA279&\" \",)","v":""},null,null,null,null,null,null,{"$f":"'3.WEF Status-Base'!AN26","v":0},{"$f":"'7.WEF Influence-Mine'!$BD119","v":0},{"$f":"'7.WEF Influence-Mine'!$BD159","v":0},{"$f":"'7.WEF Influence-Mine'!$BD199","v":0},{"$f":"'7.WEF Influence-Mine'!$BD239","v":0},{"$f":"'7.WEF Influence-Mine'!$BD279","v":0},{"$f":"IF(FG27>=$D$7,\"B:\"&'3.WEF Status-Base'!$AO26&\": \",)&IF(FH27<>0,\"1.\"&'7.WEF Influence-Mine'!$BE119&\" \",)&IF(FI27<>0,\"2.\"&'7.WEF Influence-Mine'!$BE159&\" \",)&IF(FJ27<>0,\"3.\"&'7.WEF Influence-Mine'!$BE199&\" \",)&IF(FK27<>0,\"4.\"&'7.WEF Influence-Mine'!$BE239&\" \",)&IF(FL27<>0,\"5.\"&'7.WEF Influence-Mine'!$BE279&\" \",)","v":""},null,null,null,null,null,null,{"$f":"'3.WEF Status-Base'!AQ26","v":0},{"$f":"'7.WEF Influence-Mine'!$BH119","v":0},{"$f":"'7.WEF Influence-Mine'!$BH159","v":0},{"$f":"'7.WEF Influence-Mine'!$BH199","v":0},{"$f":"'7.WEF Influence-Mine'!$BH239","v":0},{"$f":"'7.WEF Influence-Mine'!$BH279","v":0},{"$f":"IF(FT27>=$D$7,\"B:\"&'3.WEF Status-Base'!$AR26&\": \",)&IF(FU27<>0,\"1.\"&'7.WEF Influence-Mine'!$BI119&\" \",)&IF(FV27<>0,\"2.\"&'7.WEF Influence-Mine'!$BI159&\" \",)&IF(FW27<>0,\"3.\"&'7.WEF Influence-Mine'!$BI199&\" \",)&IF(FX27<>0,\"4.\"&'7.WEF Influence-Mine'!$BI239&\" \",)&IF(FY27<>0,\"5.\"&'7.WEF Influence-Mine'!$BI279&\" \",)","v":""},null,null,null,null,null,null,{"$f":"'3.WEF Status-Base'!AT26","v":0},{"$f":"'7.WEF Influence-Mine'!$BL119","v":0},{"$f":"'7.WEF Influence-Mine'!$BL159","v":0},{"$f":"'7.WEF Influence-Mine'!$BL199","v":0},{"$f":"'7.WEF Influence-Mine'!$BL239","v":0},{"$f":"'7.WEF Influence-Mine'!$BL279","v":0},{"$f":"IF(GG27>=$D$7,\"B:\"&'3.WEF Status-Base'!$AU26&\": \",)&IF(GH27<>0,\"1.\"&'7.WEF Influence-Mine'!$BM119&\" \",)&IF(GI27<>0,\"2.\"&'7.WEF Influence-Mine'!$BM159&\" \",)&IF(GJ27<>0,\"3.\"&'7.WEF Influence-Mine'!$BM199&\" \",)&IF(GK27<>0,\"4.\"&'7.WEF Influence-Mine'!$BM239&\" \",)&IF(GL27<>0,\"5.\"&'7.WEF Influence-Mine'!$BM279&\" \",)","v":""},null,null,null,null,null,null,{"$f":"'3.WEF Status-Base'!AW26","v":0},{"$f":"'7.WEF Influence-Mine'!$BP119","v":0},{"$f":"'7.WEF Influence-Mine'!$BP159","v":0},{"$f":"'7.WEF Influence-Mine'!$BP199","v":0},{"$f":"'7.WEF Influence-Mine'!$BP239","v":0},{"$f":"'7.WEF Influence-Mine'!$BP279","v":0},{"$f":"IF(GT27>=$D$7,\"B:\"&'3.WEF Status-Base'!$AX26&\": \",)&IF(GU27<>0,\"1.\"&'7.WEF Influence-Mine'!$BQ119&\" \",)&IF(GV27<>0,\"2.\"&'7.WEF Influence-Mine'!$BQ159&\" \",)&IF(GW27<>0,\"3.\"&'7.WEF Influence-Mine'!$BQ199&\" \",)&IF(GX27<>0,\"4.\"&'7.WEF Influence-Mine'!$BQ239&\" \",)&IF(GY27<>0,\"5.\"&'7.WEF Influence-Mine'!$BQ279&\" \",)","v":""},null,null,null,null,null,null,{"$f":"'3.WEF Status-Base'!AZ26","v":0},{"$f":"'7.WEF Influence-Mine'!$BT119","v":0},{"$f":"'7.WEF Influence-Mine'!$BT159","v":0},{"$f":"'7.WEF Influence-Mine'!$BT199","v":0},{"$f":"'7.WEF Influence-Mine'!$BT239","v":0},{"$f":"'7.WEF Influence-Mine'!$BT279","v":0},{"$f":"IF(HG27>=$D$7,\"B:\"&'3.WEF Status-Base'!$BA26&\": \",)&IF(HH27<>0,\"1.\"&'7.WEF Influence-Mine'!$BU119&\" \",)&IF(HI27<>0,\"2.\"&'7.WEF Influence-Mine'!$BU159&\" \",)&IF(HJ27<>0,\"3.\"&'7.WEF Influence-Mine'!$BU199&\" \",)&IF(HK27<>0,\"4.\"&'7.WEF Influence-Mine'!$BU239&\" \",)&IF(HL27<>0,\"5.\"&'7.WEF Influence-Mine'!$BU279&\" \",)","v":""},null,null,null,null,null,null,{"$f":"'3.WEF Status-Base'!BC26","v":0},{"$f":"'7.WEF Influence-Mine'!$BX119","v":0},{"$f":"'7.WEF Influence-Mine'!$BX159","v":0},{"$f":"'7.WEF Influence-Mine'!$BX199","v":0},{"$f":"'7.WEF Influence-Mine'!$BX239","v":0},{"$f":"'7.WEF Influence-Mine'!$BX279","v":0},{"$f":"IF(HT27>=$D$7,\"B:\"&'3.WEF Status-Base'!$BD26&\": \",)&IF(HU27<>0,\"1.\"&'7.WEF Influence-Mine'!$BY119&\" \",)&IF(HV27<>0,\"2.\"&'7.WEF Influence-Mine'!$BY159&\" \",)&IF(HW27<>0,\"3.\"&'7.WEF Influence-Mine'!$BY199&\" \",)&IF(HX27<>0,\"4.\"&'7.WEF Influence-Mine'!$BY239&\" \",)&IF(HY27<>0,\"5.\"&'7.WEF Influence-Mine'!$BY279&\" \",)","v":""},null,null,null,null,null,null,{"$f":"'7.WEF Influence-Mine'!BZ119&\" : \"&'7.WEF Influence-Mine'!BZ159&\" : \"&'7.WEF Influence-Mine'!BZ199&\" : \"&'7.WEF Influence-Mine'!BZ239&\" : \"&'7.WEF Influence-Mine'!BZ279","v":"0 : 0 : 0 : 0 : 0"}]
[18,"     Erosion control",{"$f":"'3.WEF Status-Base'!B27","v":0},0,0,null,{"$f":"'3.WEF Status-Base'!D27","v":0},{"$f":"'7.WEF Influence-Mine'!$H120","v":0},{"$f":"'7.WEF Influence-Mine'!$H160","v":0},{"$f":"'7.WEF Influence-Mine'!$H200","v":0},{"$f":"'7.WEF Influence-Mine'!$H240","v":0},{"$f":"'7.WEF Influence-Mine'!$H280","v":0},{"$f":"IF(G28>=$D$7,\"B:\"&'3.WEF Status-Base'!$E27&\": \",)&IF(H28<>0,\"1. \"&'7.WEF Influence-Mine'!$I120&\" \",)&IF(I28<>0,\"2. \"&'7.WEF Influence-Mine'!$I160&\" \",)&IF(J28<>0,\"3. \"&'7.WEF Influence-Mine'!$I200&\" \",)&IF(K28<>0,\"4. \"&'7.WEF Influence-Mine'!$I240&\" \",)&IF(L28<>0,\"5. \"&'7.WEF Influence-Mine'!$I280&\" \",)","v":""},null,null,null,null,null,null,{"$f":"'3.WEF Status-Base'!G27","v":0},{"$f":"'7.WEF Influence-Mine'!$L120","v":0},{"$f":"'7.WEF Influence-Mine'!$L160","v":0},{"$f":"'7.WEF Influence-Mine'!$L200","v":0},{"$f":"'7.WEF Influence-Mine'!$L240","v":0},{"$f":"'7.WEF Influence-Mine'!$L280","v":0},{"$f":"IF(T28>=$D$7,\"B:\"&'3.WEF Status-Base'!$H27&\": \",)&IF(U28<>0,\"1.\"&'7.WEF Influence-Mine'!$M120&\" \",)&IF(V28<>0,\"2.\"&'7.WEF Influence-Mine'!$M160&\" \",)&IF(W28<>0,\"3.\"&'7.WEF Influence-Mine'!$M200&\" \",)&IF(X28<>0,\"4.\"&'7.WEF Influence-Mine'!$M240&\" \",)&IF(Y28<>0,\"5.\"&'7.WEF Influence-Mine'!$M280&\" \",)","v":""},null,null,null,null,null,null,{"$f":"'3.WEF Status-Base'!J27","v":0},{"$f":"'7.WEF Influence-Mine'!$P120","v":0},{"$f":"'7.WEF Influence-Mine'!$P160","v":0},{"$f":"'7.WEF Influence-Mine'!$P200","v":0},{"$f":"'7.WEF Influence-Mine'!$P240","v":0},{"$f":"'7.WEF Influence-Mine'!$P280","v":0},{"$f":"IF(AG28>=$D$7,\"B:\"&'3.WEF Status-Base'!$K27&\": \",)&IF(AH28<>0,\"1.\"&'7.WEF Influence-Mine'!$Q120&\" \",)&IF(AI28<>0,\"2.\"&'7.WEF Influence-Mine'!$Q160&\" \",)&IF(AJ28<>0,\"3.\"&'7.WEF Influence-Mine'!$Q200&\" \",)&IF(AK28<>0,\"4.\"&'7.WEF Influence-Mine'!$Q240&\" \",)&IF(AL28<>0,\"5.\"&'7.WEF Influence-Mine'!$Q280&\" \",)","v":""},null,null,null,null,null,null,{"$f":"'3.WEF Status-Base'!M27","v":0},{"$f":"'7.WEF Influence-Mine'!$T120","v":0},{"$f":"'7.WEF Influence-Mine'!$T160","v":0},{"$f":"'7.WEF Influence-Mine'!$T200","v":0},{"$f":"'7.WEF Influence-Mine'!$T240","v":0},{"$f":"'7.WEF Influence-Mine'!$T280","v":0},{"$f":"IF(AT28>=$D$7,\"B:\"&'3.WEF Status-Base'!$N27&\": \",)&IF(AU28<>0,\"1.\"&'7.WEF Influence-Mine'!$U120&\" \",)&IF(AV28<>0,\"2.\"&'7.WEF Influence-Mine'!$U160&\" \",)&IF(AW28<>0,\"3.\"&'7.WEF Influence-Mine'!$U200&\" \",)&IF(AX28<>0,\"4.\"&'7.WEF Influence-Mine'!$U240&\" \",)&IF(AY28<>0,\"5.\"&'7.WEF Influence-Mine'!$U280&\" \",)","v":""},null,null,null,null,null,null,{"$f":"'3.WEF Status-Base'!P27","v":0},{"$f":"'7.WEF Influence-Mine'!$X120","v":0},{"$f":"'7.WEF Influence-Mine'!$X160","v":0},{"$f":"'7.WEF Influence-Mine'!$X200","v":0},{"$f":"'7.WEF Influence-Mine'!$X240","v":0},{"$f":"'7.WEF Influence-Mine'!$X280","v":0},{"$f":"IF(BG28>=$D$7,\"B:\"&'3.WEF Status-Base'!$Q27&\": \",)&IF(BH28<>0,\"1.\"&'7.WEF Influence-Mine'!$Y120&\" \",)&IF(BI28<>0,\"2.\"&'7.WEF Influence-Mine'!$Y160&\" \",)&IF(BJ28<>0,\"3.\"&'7.WEF Influence-Mine'!$Y200&\" \",)&IF(BK28<>0,\"4.\"&'7.WEF Influence-Mine'!$Y240&\" \",)&IF(BL28<>0,\"5.\"&'7.WEF Influence-Mine'!$Y280&\" \",)","v":""},null,null,null,null,null,null,{"$f":"'3.WEF Status-Base'!S27","v":0},{"$f":"'7.WEF Influence-Mine'!$AB120","v":0},{"$f":"'7.WEF Influence-Mine'!$AB160","v":0},{"$f":"'7.WEF Influence-Mine'!$AB200","v":0},{"$f":"'7.WEF Influence-Mine'!$AB240","v":0},{"$f":"'7.WEF Influence-Mine'!$AB280","v":0},{"$f":"IF(BT28>=$D$7,\"B:\"&'3.WEF Status-Base'!$T27&\": \",)&IF(BU28<>0,\"1.\"&'7.WEF Influence-Mine'!$AC120&\" \",)&IF(BV28<>0,\"2.\"&'7.WEF Influence-Mine'!$AC160&\" \",)&IF(BW28<>0,\"3.\"&'7.WEF Influence-Mine'!$AC200&\" \",)&IF(BX28<>0,\"4.\"&'7.WEF Influence-Mine'!$AC240&\" \",)&IF(BY28<>0,\"5.\"&'7.WEF Influence-Mine'!$AC280&\" \",)","v":""},null,null,null,null,null,null,{"$f":"'3.WEF Status-Base'!V27","v":0},{"$f":"'7.WEF Influence-Mine'!$AF120","v":0},{"$f":"'7.WEF Influence-Mine'!$AF160","v":0},{"$f":"'7.WEF Influence-Mine'!$AF200","v":0},{"$f":"'7.WEF Influence-Mine'!$AF240","v":0},{"$f":"'7.WEF Influence-Mine'!$AF280","v":0},{"$f":"IF(CG28>=$D$7,\"B:\"&'3.WEF Status-Base'!$W27&\": \",)&IF(CH28<>0,\"1.\"&'7.WEF Influence-Mine'!$AG120&\" \",)&IF(CI28<>0,\"2.\"&'7.WEF Influence-Mine'!$AG160&\" \",)&IF(CJ28<>0,\"3.\"&'7.WEF Influence-Mine'!$AG200&\" \",)&IF(CK28<>0,\"4.\"&'7.WEF Influence-Mine'!$AG240&\" \",)&IF(CL28<>0,\"5.\"&'7.WEF Influence-Mine'!$AG280&\" \",)","v":""},null,null,null,null,null,null,{"$f":"'3.WEF Status-Base'!Y27","v":0},{"$f":"'7.WEF Influence-Mine'!$AJ120","v":0},{"$f":"'7.WEF Influence-Mine'!$AJ160","v":0},{"$f":"'7.WEF Influence-Mine'!$AJ200","v":0},{"$f":"'7.WEF Influence-Mine'!$AJ240","v":0},{"$f":"'7.WEF Influence-Mine'!$AJ280","v":0},{"$f":"IF(CT28>=$D$7,\"B:\"&'3.WEF Status-Base'!$Z27&\": \",)&IF(CU28<>0,\"1.\"&'7.WEF Influence-Mine'!$AK120&\" \",)&IF(CV28<>0,\"2.\"&'7.WEF Influence-Mine'!$AK160&\" \",)&IF(CW28<>0,\"3.\"&'7.WEF Influence-Mine'!$AK200&\" \",)&IF(CX28<>0,\"4.\"&'7.WEF Influence-Mine'!$AK240&\" \",)&IF(CY28<>0,\"5.\"&'7.WEF Influence-Mine'!$AK280&\" \",)","v":""},null,null,null,null,null,null,{"$f":"'3.WEF Status-Base'!AB27","v":0},{"$f":"'7.WEF Influence-Mine'!$AN120","v":0},{"$f":"'7.WEF Influence-Mine'!$AN160","v":0},{"$f":"'7.WEF Influence-Mine'!$AN200","v":0},{"$f":"'7.WEF Influence-Mine'!$AN240","v":0},{"$f":"'7.WEF Influence-Mine'!$AN280","v":0},{"$f":"IF(DG28>=$D$7,\"B:\"&'3.WEF Status-Base'!$AC27&\": \",)&IF(DH28<>0,\"1.\"&'7.WEF Influence-Mine'!$AO120&\" \",)&IF(DI28<>0,\"2.\"&'7.WEF Influence-Mine'!$AO160&\" \",)&IF(DJ28<>0,\"3.\"&'7.WEF Influence-Mine'!$AO200&\" \",)&IF(DK28<>0,\"4.\"&'7.WEF Influence-Mine'!$AO240&\" \",)&IF(DL28<>0,\"5.\"&'7.WEF Influence-Mine'!$AO280&\" \",)","v":""},null,null,null,null,null,null,{"$f":"'3.WEF Status-Base'!AE27","v":0},{"$f":"'7.WEF Influence-Mine'!$AR120","v":0},{"$f":"'7.WEF Influence-Mine'!$AR160","v":0},{"$f":"'7.WEF Influence-Mine'!$AR200","v":0},{"$f":"'7.WEF Influence-Mine'!$AR240","v":0},{"$f":"'7.WEF Influence-Mine'!$AR280","v":0},{"$f":"IF(DT28>=$D$7,\"B:\"&'3.WEF Status-Base'!$AF27&\": \",)&IF(DU28<>0,\"1.\"&'7.WEF Influence-Mine'!$AS120&\" \",)&IF(DV28<>0,\"2.\"&'7.WEF Influence-Mine'!$AS160&\" \",)&IF(DW28<>0,\"3.\"&'7.WEF Influence-Mine'!$AS200&\" \",)&IF(DX28<>0,\"4.\"&'7.WEF Influence-Mine'!$AS240&\" \",)&IF(DY28<>0,\"5.\"&'7.WEF Influence-Mine'!$AS280&\" \",)","v":""},null,null,null,null,null,null,{"$f":"'3.WEF Status-Base'!AH27","v":0},{"$f":"'7.WEF Influence-Mine'!$AV120","v":0},{"$f":"'7.WEF Influence-Mine'!$AV160","v":0},{"$f":"'7.WEF Influence-Mine'!$AV200","v":0},{"$f":"'7.WEF Influence-Mine'!$AV240","v":0},{"$f":"'7.WEF Influence-Mine'!$AV280","v":0},{"$f":"IF(EG28>=$D$7,\"B:\"&'3.WEF Status-Base'!$AI27&\": \",)&IF(EH28<>0,\"1.\"&'7.WEF Influence-Mine'!$AW120&\" \",)&IF(EI28<>0,\"2.\"&'7.WEF Influence-Mine'!$AW160&\" \",)&IF(EJ28<>0,\"3.\"&'7.WEF Influence-Mine'!$AW200&\" \",)&IF(EK28<>0,\"4.\"&'7.WEF Influence-Mine'!$AW240&\" \",)&IF(EL28<>0,\"5.\"&'7.WEF Influence-Mine'!$AW280&\" \",)","v":""},null,null,null,null,null,null,{"$f":"'3.WEF Status-Base'!AK27","v":0},{"$f":"'7.WEF Influence-Mine'!$AZ120","v":0},{"$f":"'7.WEF Influence-Mine'!$AZ160","v":0},{"$f":"'7.WEF Influence-Mine'!$AZ200","v":0},{"$f":"'7.WEF Influence-Mine'!$AZ240","v":0},{"$f":"'7.WEF Influence-Mine'!$AZ280","v":0},{"$f":"IF(ET28>=$D$7,\"B:\"&'3.WEF Status-Base'!$AL27&\": \",)&IF(EU28<>0,\"1.\"&'7.WEF Influence-Mine'!$BA120&\" \",)&IF(EV28<>0,\"2.\"&'7.WEF Influence-Mine'!$BA160&\" \",)&IF(EW28<>0,\"3.\"&'7.WEF Influence-Mine'!$BA200&\" \",)&IF(EX28<>0,\"4.\"&'7.WEF Influence-Mine'!$BA240&\" \",)&IF(EY28<>0,\"5.\"&'7.WEF Influence-Mine'!$BA280&\" \",)","v":""},null,null,null,null,null,null,{"$f":"'3.WEF Status-Base'!AN27","v":0},{"$f":"'7.WEF Influence-Mine'!$BD120","v":0},{"$f":"'7.WEF Influence-Mine'!$BD160","v":0},{"$f":"'7.WEF Influence-Mine'!$BD200","v":0},{"$f":"'7.WEF Influence-Mine'!$BD240","v":0},{"$f":"'7.WEF Influence-Mine'!$BD280","v":0},{"$f":"IF(FG28>=$D$7,\"B:\"&'3.WEF Status-Base'!$AO27&\": \",)&IF(FH28<>0,\"1.\"&'7.WEF Influence-Mine'!$BE120&\" \",)&IF(FI28<>0,\"2.\"&'7.WEF Influence-Mine'!$BE160&\" \",)&IF(FJ28<>0,\"3.\"&'7.WEF Influence-Mine'!$BE200&\" \",)&IF(FK28<>0,\"4.\"&'7.WEF Influence-Mine'!$BE240&\" \",)&IF(FL28<>0,\"5.\"&'7.WEF Influence-Mine'!$BE280&\" \",)","v":""},null,null,null,null,null,null,{"$f":"'3.WEF Status-Base'!AQ27","v":0},{"$f":"'7.WEF Influence-Mine'!$BH120","v":0},{"$f":"'7.WEF Influence-Mine'!$BH160","v":0},{"$f":"'7.WEF Influence-Mine'!$BH200","v":0},{"$f":"'7.WEF Influence-Mine'!$BH240","v":0},{"$f":"'7.WEF Influence-Mine'!$BH280","v":0},{"$f":"IF(FT28>=$D$7,\"B:\"&'3.WEF Status-Base'!$AR27&\": \",)&IF(FU28<>0,\"1.\"&'7.WEF Influence-Mine'!$BI120&\" \",)&IF(FV28<>0,\"2.\"&'7.WEF Influence-Mine'!$BI160&\" \",)&IF(FW28<>0,\"3.\"&'7.WEF Influence-Mine'!$BI200&\" \",)&IF(FX28<>0,\"4.\"&'7.WEF Influence-Mine'!$BI240&\" \",)&IF(FY28<>0,\"5.\"&'7.WEF Influence-Mine'!$BI280&\" \",)","v":""},null,null,null,null,null,null,{"$f":"'3.WEF Status-Base'!AT27","v":0},{"$f":"'7.WEF Influence-Mine'!$BL120","v":0},{"$f":"'7.WEF Influence-Mine'!$BL160","v":0},{"$f":"'7.WEF Influence-Mine'!$BL200","v":0},{"$f":"'7.WEF Influence-Mine'!$BL240","v":0},{"$f":"'7.WEF Influence-Mine'!$BL280","v":0},{"$f":"IF(GG28>=$D$7,\"B:\"&'3.WEF Status-Base'!$AU27&\": \",)&IF(GH28<>0,\"1.\"&'7.WEF Influence-Mine'!$BM120&\" \",)&IF(GI28<>0,\"2.\"&'7.WEF Influence-Mine'!$BM160&\" \",)&IF(GJ28<>0,\"3.\"&'7.WEF Influence-Mine'!$BM200&\" \",)&IF(GK28<>0,\"4.\"&'7.WEF Influence-Mine'!$BM240&\" \",)&IF(GL28<>0,\"5.\"&'7.WEF Influence-Mine'!$BM280&\" \",)","v":""},null,null,null,null,null,null,{"$f":"'3.WEF Status-Base'!AW27","v":0},{"$f":"'7.WEF Influence-Mine'!$BP120","v":0},{"$f":"'7.WEF Influence-Mine'!$BP160","v":0},{"$f":"'7.WEF Influence-Mine'!$BP200","v":0},{"$f":"'7.WEF Influence-Mine'!$BP240","v":0},{"$f":"'7.WEF Influence-Mine'!$BP280","v":0},{"$f":"IF(GT28>=$D$7,\"B:\"&'3.WEF Status-Base'!$AX27&\": \",)&IF(GU28<>0,\"1.\"&'7.WEF Influence-Mine'!$BQ120&\" \",)&IF(GV28<>0,\"2.\"&'7.WEF Influence-Mine'!$BQ160&\" \",)&IF(GW28<>0,\"3.\"&'7.WEF Influence-Mine'!$BQ200&\" \",)&IF(GX28<>0,\"4.\"&'7.WEF Influence-Mine'!$BQ240&\" \",)&IF(GY28<>0,\"5.\"&'7.WEF Influence-Mine'!$BQ280&\" \",)","v":""},null,null,null,null,null,null,{"$f":"'3.WEF Status-Base'!AZ27","v":0},{"$f":"'7.WEF Influence-Mine'!$BT120","v":0},{"$f":"'7.WEF Influence-Mine'!$BT160","v":0},{"$f":"'7.WEF Influence-Mine'!$BT200","v":0},{"$f":"'7.WEF Influence-Mine'!$BT240","v":0},{"$f":"'7.WEF Influence-Mine'!$BT280","v":0},{"$f":"IF(HG28>=$D$7,\"B:\"&'3.WEF Status-Base'!$BA27&\": \",)&IF(HH28<>0,\"1.\"&'7.WEF Influence-Mine'!$BU120&\" \",)&IF(HI28<>0,\"2.\"&'7.WEF Influence-Mine'!$BU160&\" \",)&IF(HJ28<>0,\"3.\"&'7.WEF Influence-Mine'!$BU200&\" \",)&IF(HK28<>0,\"4.\"&'7.WEF Influence-Mine'!$BU240&\" \",)&IF(HL28<>0,\"5.\"&'7.WEF Influence-Mine'!$BU280&\" \",)","v":""},null,null,null,null,null,null,{"$f":"'3.WEF Status-Base'!BC27","v":0},{"$f":"'7.WEF Influence-Mine'!$BX120","v":0},{"$f":"'7.WEF Influence-Mine'!$BX160","v":0},{"$f":"'7.WEF Influence-Mine'!$BX200","v":0},{"$f":"'7.WEF Influence-Mine'!$BX240","v":0},{"$f":"'7.WEF Influence-Mine'!$BX280","v":0},{"$f":"IF(HT28>=$D$7,\"B:\"&'3.WEF Status-Base'!$BD27&\": \",)&IF(HU28<>0,\"1.\"&'7.WEF Influence-Mine'!$BY120&\" \",)&IF(HV28<>0,\"2.\"&'7.WEF Influence-Mine'!$BY160&\" \",)&IF(HW28<>0,\"3.\"&'7.WEF Influence-Mine'!$BY200&\" \",)&IF(HX28<>0,\"4.\"&'7.WEF Influence-Mine'!$BY240&\" \",)&IF(HY28<>0,\"5.\"&'7.WEF Influence-Mine'!$BY280&\" \",)","v":""},null,null,null,null,null,null,{"$f":"'7.WEF Influence-Mine'!BZ120&\" : \"&'7.WEF Influence-Mine'!BZ160&\" : \"&'7.WEF Influence-Mine'!BZ200&\" : \"&'7.WEF Influence-Mine'!BZ240&\" : \"&'7.WEF Influence-Mine'!BZ280","v":"0 : 0 : 0 : 0 : 0"}]
[19,"     Water purification and treatment",{"$f":"'3.WEF Status-Base'!B28","v":0},0,0,null,{"$f":"'3.WEF Status-Base'!D28","v":0},{"$f":"'7.WEF Influence-Mine'!$H121","v":0},{"$f":"'7.WEF Influence-Mine'!$H161","v":0},{"$f":"'7.WEF Influence-Mine'!$H201","v":0},{"$f":"'7.WEF Influence-Mine'!$H241","v":0},{"$f":"'7.WEF Influence-Mine'!$H281","v":0},{"$f":"IF(G29>=$D$7,\"B:\"&'3.WEF Status-Base'!$E28&\": \",)&IF(H29<>0,\"1. \"&'7.WEF Influence-Mine'!$I121&\" \",)&IF(I29<>0,\"2. \"&'7.WEF Influence-Mine'!$I161&\" \",)&IF(J29<>0,\"3. \"&'7.WEF Influence-Mine'!$I201&\" \",)&IF(K29<>0,\"4. \"&'7.WEF Influence-Mine'!$I241&\" \",)&IF(L29<>0,\"5. \"&'7.WEF Influence-Mine'!$I281&\" \",)","v":""},null,null,null,null,null,null,{"$f":"'3.WEF Status-Base'!G28","v":0},{"$f":"'7.WEF Influence-Mine'!$L121","v":0},{"$f":"'7.WEF Influence-Mine'!$L161","v":0},{"$f":"'7.WEF Influence-Mine'!$L201","v":0},{"$f":"'7.WEF Influence-Mine'!$L241","v":0},{"$f":"'7.WEF Influence-Mine'!$L281","v":0},{"$f":"IF(T29>=$D$7,\"B:\"&'3.WEF Status-Base'!$H28&\": \",)&IF(U29<>0,\"1.\"&'7.WEF Influence-Mine'!$M121&\" \",)&IF(V29<>0,\"2.\"&'7.WEF Influence-Mine'!$M161&\" \",)&IF(W29<>0,\"3.\"&'7.WEF Influence-Mine'!$M201&\" \",)&IF(X29<>0,\"4.\"&'7.WEF Influence-Mine'!$M241&\" \",)&IF(Y29<>0,\"5.\"&'7.WEF Influence-Mine'!$M281&\" \",)","v":""},null,null,null,null,null,null,{"$f":"'3.WEF Status-Base'!J28","v":0},{"$f":"'7.WEF Influence-Mine'!$P121","v":0},{"$f":"'7.WEF Influence-Mine'!$P161","v":0},{"$f":"'7.WEF Influence-Mine'!$P201","v":0},{"$f":"'7.WEF Influence-Mine'!$P241","v":0},{"$f":"'7.WEF Influence-Mine'!$P281","v":0},{"$f":"IF(AG29>=$D$7,\"B:\"&'3.WEF Status-Base'!$K28&\": \",)&IF(AH29<>0,\"1.\"&'7.WEF Influence-Mine'!$Q121&\" \",)&IF(AI29<>0,\"2.\"&'7.WEF Influence-Mine'!$Q161&\" \",)&IF(AJ29<>0,\"3.\"&'7.WEF Influence-Mine'!$Q201&\" \",)&IF(AK29<>0,\"4.\"&'7.WEF Influence-Mine'!$Q241&\" \",)&IF(AL29<>0,\"5.\"&'7.WEF Influence-Mine'!$Q281&\" \",)","v":""},null,null,null,null,null,null,{"$f":"'3.WEF Status-Base'!M28","v":0},{"$f":"'7.WEF Influence-Mine'!$T121","v":0},{"$f":"'7.WEF Influence-Mine'!$T161","v":0},{"$f":"'7.WEF Influence-Mine'!$T201","v":0},{"$f":"'7.WEF Influence-Mine'!$T241","v":0},{"$f":"'7.WEF Influence-Mine'!$T281","v":0},{"$f":"IF(AT29>=$D$7,\"B:\"&'3.WEF Status-Base'!$N28&\": \",)&IF(AU29<>0,\"1.\"&'7.WEF Influence-Mine'!$U121&\" \",)&IF(AV29<>0,\"2.\"&'7.WEF Influence-Mine'!$U161&\" \",)&IF(AW29<>0,\"3.\"&'7.WEF Influence-Mine'!$U201&\" \",)&IF(AX29<>0,\"4.\"&'7.WEF Influence-Mine'!$U241&\" \",)&IF(AY29<>0,\"5.\"&'7.WEF Influence-Mine'!$U281&\" \",)","v":""},null,null,null,null,null,null,{"$f":"'3.WEF Status-Base'!P28","v":0},{"$f":"'7.WEF Influence-Mine'!$X121","v":0},{"$f":"'7.WEF Influence-Mine'!$X161","v":0},{"$f":"'7.WEF Influence-Mine'!$X201","v":0},{"$f":"'7.WEF Influence-Mine'!$X241","v":0},{"$f":"'7.WEF Influence-Mine'!$X281","v":0},{"$f":"IF(BG29>=$D$7,\"B:\"&'3.WEF Status-Base'!$Q28&\": \",)&IF(BH29<>0,\"1.\"&'7.WEF Influence-Mine'!$Y121&\" \",)&IF(BI29<>0,\"2.\"&'7.WEF Influence-Mine'!$Y161&\" \",)&IF(BJ29<>0,\"3.\"&'7.WEF Influence-Mine'!$Y201&\" \",)&IF(BK29<>0,\"4.\"&'7.WEF Influence-Mine'!$Y241&\" \",)&IF(BL29<>0,\"5.\"&'7.WEF Influence-Mine'!$Y281&\" \",)","v":""},null,null,null,null,null,null,{"$f":"'3.WEF Status-Base'!S28","v":0},{"$f":"'7.WEF Influence-Mine'!$AB121","v":0},{"$f":"'7.WEF Influence-Mine'!$AB161","v":0},{"$f":"'7.WEF Influence-Mine'!$AB201","v":0},{"$f":"'7.WEF Influence-Mine'!$AB241","v":0},{"$f":"'7.WEF Influence-Mine'!$AB281","v":0},{"$f":"IF(BT29>=$D$7,\"B:\"&'3.WEF Status-Base'!$T28&\": \",)&IF(BU29<>0,\"1.\"&'7.WEF Influence-Mine'!$AC121&\" \",)&IF(BV29<>0,\"2.\"&'7.WEF Influence-Mine'!$AC161&\" \",)&IF(BW29<>0,\"3.\"&'7.WEF Influence-Mine'!$AC201&\" \",)&IF(BX29<>0,\"4.\"&'7.WEF Influence-Mine'!$AC241&\" \",)&IF(BY29<>0,\"5.\"&'7.WEF Influence-Mine'!$AC281&\" \",)","v":""},null,null,null,null,null,null,{"$f":"'3.WEF Status-Base'!V28","v":0},{"$f":"'7.WEF Influence-Mine'!$AF121","v":0},{"$f":"'7.WEF Influence-Mine'!$AF161","v":0},{"$f":"'7.WEF Influence-Mine'!$AF201","v":0},{"$f":"'7.WEF Influence-Mine'!$AF241","v":0},{"$f":"'7.WEF Influence-Mine'!$AF281","v":0},{"$f":"IF(CG29>=$D$7,\"B:\"&'3.WEF Status-Base'!$W28&\": \",)&IF(CH29<>0,\"1.\"&'7.WEF Influence-Mine'!$AG121&\" \",)&IF(CI29<>0,\"2.\"&'7.WEF Influence-Mine'!$AG161&\" \",)&IF(CJ29<>0,\"3.\"&'7.WEF Influence-Mine'!$AG201&\" \",)&IF(CK29<>0,\"4.\"&'7.WEF Influence-Mine'!$AG241&\" \",)&IF(CL29<>0,\"5.\"&'7.WEF Influence-Mine'!$AG281&\" \",)","v":""},null,null,null,null,null,null,{"$f":"'3.WEF Status-Base'!Y28","v":0},{"$f":"'7.WEF Influence-Mine'!$AJ121","v":0},{"$f":"'7.WEF Influence-Mine'!$AJ161","v":0},{"$f":"'7.WEF Influence-Mine'!$AJ201","v":0},{"$f":"'7.WEF Influence-Mine'!$AJ241","v":0},{"$f":"'7.WEF Influence-Mine'!$AJ281","v":0},{"$f":"IF(CT29>=$D$7,\"B:\"&'3.WEF Status-Base'!$Z28&\": \",)&IF(CU29<>0,\"1.\"&'7.WEF Influence-Mine'!$AK121&\" \",)&IF(CV29<>0,\"2.\"&'7.WEF Influence-Mine'!$AK161&\" \",)&IF(CW29<>0,\"3.\"&'7.WEF Influence-Mine'!$AK201&\" \",)&IF(CX29<>0,\"4.\"&'7.WEF Influence-Mine'!$AK241&\" \",)&IF(CY29<>0,\"5.\"&'7.WEF Influence-Mine'!$AK281&\" \",)","v":""},null,null,null,null,null,null,{"$f":"'3.WEF Status-Base'!AB28","v":0},{"$f":"'7.WEF Influence-Mine'!$AN121","v":0},{"$f":"'7.WEF Influence-Mine'!$AN161","v":0},{"$f":"'7.WEF Influence-Mine'!$AN201","v":0},{"$f":"'7.WEF Influence-Mine'!$AN241","v":0},{"$f":"'7.WEF Influence-Mine'!$AN281","v":0},{"$f":"IF(DG29>=$D$7,\"B:\"&'3.WEF Status-Base'!$AC28&\": \",)&IF(DH29<>0,\"1.\"&'7.WEF Influence-Mine'!$AO121&\" \",)&IF(DI29<>0,\"2.\"&'7.WEF Influence-Mine'!$AO161&\" \",)&IF(DJ29<>0,\"3.\"&'7.WEF Influence-Mine'!$AO201&\" \",)&IF(DK29<>0,\"4.\"&'7.WEF Influence-Mine'!$AO241&\" \",)&IF(DL29<>0,\"5.\"&'7.WEF Influence-Mine'!$AO281&\" \",)","v":""},null,null,null,null,null,null,{"$f":"'3.WEF Status-Base'!AE28","v":0},{"$f":"'7.WEF Influence-Mine'!$AR121","v":0},{"$f":"'7.WEF Influence-Mine'!$AR161","v":0},{"$f":"'7.WEF Influence-Mine'!$AR201","v":0},{"$f":"'7.WEF Influence-Mine'!$AR241","v":0},{"$f":"'7.WEF Influence-Mine'!$AR281","v":0},{"$f":"IF(DT29>=$D$7,\"B:\"&'3.WEF Status-Base'!$AF28&\": \",)&IF(DU29<>0,\"1.\"&'7.WEF Influence-Mine'!$AS121&\" \",)&IF(DV29<>0,\"2.\"&'7.WEF Influence-Mine'!$AS161&\" \",)&IF(DW29<>0,\"3.\"&'7.WEF Influence-Mine'!$AS201&\" \",)&IF(DX29<>0,\"4.\"&'7.WEF Influence-Mine'!$AS241&\" \",)&IF(DY29<>0,\"5.\"&'7.WEF Influence-Mine'!$AS281&\" \",)","v":""},null,null,null,null,null,null,{"$f":"'3.WEF Status-Base'!AH28","v":0},{"$f":"'7.WEF Influence-Mine'!$AV121","v":0},{"$f":"'7.WEF Influence-Mine'!$AV161","v":0},{"$f":"'7.WEF Influence-Mine'!$AV201","v":0},{"$f":"'7.WEF Influence-Mine'!$AV241","v":0},{"$f":"'7.WEF Influence-Mine'!$AV281","v":0},{"$f":"IF(EG29>=$D$7,\"B:\"&'3.WEF Status-Base'!$AI28&\": \",)&IF(EH29<>0,\"1.\"&'7.WEF Influence-Mine'!$AW121&\" \",)&IF(EI29<>0,\"2.\"&'7.WEF Influence-Mine'!$AW161&\" \",)&IF(EJ29<>0,\"3.\"&'7.WEF Influence-Mine'!$AW201&\" \",)&IF(EK29<>0,\"4.\"&'7.WEF Influence-Mine'!$AW241&\" \",)&IF(EL29<>0,\"5.\"&'7.WEF Influence-Mine'!$AW281&\" \",)","v":""},null,null,null,null,null,null,{"$f":"'3.WEF Status-Base'!AK28","v":0},{"$f":"'7.WEF Influence-Mine'!$AZ121","v":0},{"$f":"'7.WEF Influence-Mine'!$AZ161","v":0},{"$f":"'7.WEF Influence-Mine'!$AZ201","v":0},{"$f":"'7.WEF Influence-Mine'!$AZ241","v":0},{"$f":"'7.WEF Influence-Mine'!$AZ281","v":0},{"$f":"IF(ET29>=$D$7,\"B:\"&'3.WEF Status-Base'!$AL28&\": \",)&IF(EU29<>0,\"1.\"&'7.WEF Influence-Mine'!$BA121&\" \",)&IF(EV29<>0,\"2.\"&'7.WEF Influence-Mine'!$BA161&\" \",)&IF(EW29<>0,\"3.\"&'7.WEF Influence-Mine'!$BA201&\" \",)&IF(EX29<>0,\"4.\"&'7.WEF Influence-Mine'!$BA241&\" \",)&IF(EY29<>0,\"5.\"&'7.WEF Influence-Mine'!$BA281&\" \",)","v":""},null,null,null,null,null,null,{"$f":"'3.WEF Status-Base'!AN28","v":0},{"$f":"'7.WEF Influence-Mine'!$BD121","v":0},{"$f":"'7.WEF Influence-Mine'!$BD161","v":0},{"$f":"'7.WEF Influence-Mine'!$BD201","v":0},{"$f":"'7.WEF Influence-Mine'!$BD241","v":0},{"$f":"'7.WEF Influence-Mine'!$BD281","v":0},{"$f":"IF(FG29>=$D$7,\"B:\"&'3.WEF Status-Base'!$AO28&\": \",)&IF(FH29<>0,\"1.\"&'7.WEF Influence-Mine'!$BE121&\" \",)&IF(FI29<>0,\"2.\"&'7.WEF Influence-Mine'!$BE161&\" \",)&IF(FJ29<>0,\"3.\"&'7.WEF Influence-Mine'!$BE201&\" \",)&IF(FK29<>0,\"4.\"&'7.WEF Influence-Mine'!$BE241&\" \",)&IF(FL29<>0,\"5.\"&'7.WEF Influence-Mine'!$BE281&\" \",)","v":""},null,null,null,null,null,null,{"$f":"'3.WEF Status-Base'!AQ28","v":0},{"$f":"'7.WEF Influence-Mine'!$BH121","v":0},{"$f":"'7.WEF Influence-Mine'!$BH161","v":0},{"$f":"'7.WEF Influence-Mine'!$BH201","v":0},{"$f":"'7.WEF Influence-Mine'!$BH241","v":0},{"$f":"'7.WEF Influence-Mine'!$BH281","v":0},{"$f":"IF(FT29>=$D$7,\"B:\"&'3.WEF Status-Base'!$AR28&\": \",)&IF(FU29<>0,\"1.\"&'7.WEF Influence-Mine'!$BI121&\" \",)&IF(FV29<>0,\"2.\"&'7.WEF Influence-Mine'!$BI161&\" \",)&IF(FW29<>0,\"3.\"&'7.WEF Influence-Mine'!$BI201&\" \",)&IF(FX29<>0,\"4.\"&'7.WEF Influence-Mine'!$BI241&\" \",)&IF(FY29<>0,\"5.\"&'7.WEF Influence-Mine'!$BI281&\" \",)","v":""},null,null,null,null,null,null,{"$f":"'3.WEF Status-Base'!AT28","v":0},{"$f":"'7.WEF Influence-Mine'!$BL121","v":0},{"$f":"'7.WEF Influence-Mine'!$BL161","v":0},{"$f":"'7.WEF Influence-Mine'!$BL201","v":0},{"$f":"'7.WEF Influence-Mine'!$BL241","v":0},{"$f":"'7.WEF Influence-Mine'!$BL281","v":0},{"$f":"IF(GG29>=$D$7,\"B:\"&'3.WEF Status-Base'!$AU28&\": \",)&IF(GH29<>0,\"1.\"&'7.WEF Influence-Mine'!$BM121&\" \",)&IF(GI29<>0,\"2.\"&'7.WEF Influence-Mine'!$BM161&\" \",)&IF(GJ29<>0,\"3.\"&'7.WEF Influence-Mine'!$BM201&\" \",)&IF(GK29<>0,\"4.\"&'7.WEF Influence-Mine'!$BM241&\" \",)&IF(GL29<>0,\"5.\"&'7.WEF Influence-Mine'!$BM281&\" \",)","v":""},null,null,null,null,null,null,{"$f":"'3.WEF Status-Base'!AW28","v":0},{"$f":"'7.WEF Influence-Mine'!$BP121","v":0},{"$f":"'7.WEF Influence-Mine'!$BP161","v":0},{"$f":"'7.WEF Influence-Mine'!$BP201","v":0},{"$f":"'7.WEF Influence-Mine'!$BP241","v":0},{"$f":"'7.WEF Influence-Mine'!$BP281","v":0},{"$f":"IF(GT29>=$D$7,\"B:\"&'3.WEF Status-Base'!$AX28&\": \",)&IF(GU29<>0,\"1.\"&'7.WEF Influence-Mine'!$BQ121&\" \",)&IF(GV29<>0,\"2.\"&'7.WEF Influence-Mine'!$BQ161&\" \",)&IF(GW29<>0,\"3.\"&'7.WEF Influence-Mine'!$BQ201&\" \",)&IF(GX29<>0,\"4.\"&'7.WEF Influence-Mine'!$BQ241&\" \",)&IF(GY29<>0,\"5.\"&'7.WEF Influence-Mine'!$BQ281&\" \",)","v":""},null,null,null,null,null,null,{"$f":"'3.WEF Status-Base'!AZ28","v":0},{"$f":"'7.WEF Influence-Mine'!$BT121","v":0},{"$f":"'7.WEF Influence-Mine'!$BT161","v":0},{"$f":"'7.WEF Influence-Mine'!$BT201","v":0},{"$f":"'7.WEF Influence-Mine'!$BT241","v":0},{"$f":"'7.WEF Influence-Mine'!$BT281","v":0},{"$f":"IF(HG29>=$D$7,\"B:\"&'3.WEF Status-Base'!$BA28&\": \",)&IF(HH29<>0,\"1.\"&'7.WEF Influence-Mine'!$BU121&\" \",)&IF(HI29<>0,\"2.\"&'7.WEF Influence-Mine'!$BU161&\" \",)&IF(HJ29<>0,\"3.\"&'7.WEF Influence-Mine'!$BU201&\" \",)&IF(HK29<>0,\"4.\"&'7.WEF Influence-Mine'!$BU241&\" \",)&IF(HL29<>0,\"5.\"&'7.WEF Influence-Mine'!$BU281&\" \",)","v":""},null,null,null,null,null,null,{"$f":"'3.WEF Status-Base'!BC28","v":0},{"$f":"'7.WEF Influence-Mine'!$BX121","v":0},{"$f":"'7.WEF Influence-Mine'!$BX161","v":0},{"$f":"'7.WEF Influence-Mine'!$BX201","v":0},{"$f":"'7.WEF Influence-Mine'!$BX241","v":0},{"$f":"'7.WEF Influence-Mine'!$BX281","v":0},{"$f":"IF(HT29>=$D$7,\"B:\"&'3.WEF Status-Base'!$BD28&\": \",)&IF(HU29<>0,\"1.\"&'7.WEF Influence-Mine'!$BY121&\" \",)&IF(HV29<>0,\"2.\"&'7.WEF Influence-Mine'!$BY161&\" \",)&IF(HW29<>0,\"3.\"&'7.WEF Influence-Mine'!$BY201&\" \",)&IF(HX29<>0,\"4.\"&'7.WEF Influence-Mine'!$BY241&\" \",)&IF(HY29<>0,\"5.\"&'7.WEF Influence-Mine'!$BY281&\" \",)","v":""},null,null,null,null,null,null,{"$f":"'7.WEF Influence-Mine'!BZ121&\" : \"&'7.WEF Influence-Mine'!BZ161&\" : \"&'7.WEF Influence-Mine'!BZ201&\" : \"&'7.WEF Influence-Mine'!BZ241&\" : \"&'7.WEF Influence-Mine'!BZ281","v":"0 : 0 : 0 : 0 : 0"}]
[20,"     Biological control",{"$f":"'3.WEF Status-Base'!B29","v":0},0,0,null,{"$f":"'3.WEF Status-Base'!D29","v":0},{"$f":"'7.WEF Influence-Mine'!$H122","v":0},{"$f":"'7.WEF Influence-Mine'!$H162","v":0},{"$f":"'7.WEF Influence-Mine'!$H202","v":0},{"$f":"'7.WEF Influence-Mine'!$H242","v":0},{"$f":"'7.WEF Influence-Mine'!$H282","v":0},{"$f":"IF(G30>=$D$7,\"B:\"&'3.WEF Status-Base'!$E29&\": \",)&IF(H30<>0,\"1. \"&'7.WEF Influence-Mine'!$I122&\" \",)&IF(I30<>0,\"2. \"&'7.WEF Influence-Mine'!$I162&\" \",)&IF(J30<>0,\"3. \"&'7.WEF Influence-Mine'!$I202&\" \",)&IF(K30<>0,\"4. \"&'7.WEF Influence-Mine'!$I242&\" \",)&IF(L30<>0,\"5. \"&'7.WEF Influence-Mine'!$I282&\" \",)","v":""},null,null,null,null,null,null,{"$f":"'3.WEF Status-Base'!G29","v":0},{"$f":"'7.WEF Influence-Mine'!$L122","v":0},{"$f":"'7.WEF Influence-Mine'!$L162","v":0},{"$f":"'7.WEF Influence-Mine'!$L202","v":0},{"$f":"'7.WEF Influence-Mine'!$L242","v":0},{"$f":"'7.WEF Influence-Mine'!$L282","v":0},{"$f":"IF(T30>=$D$7,\"B:\"&'3.WEF Status-Base'!$H29&\": \",)&IF(U30<>0,\"1.\"&'7.WEF Influence-Mine'!$M122&\" \",)&IF(V30<>0,\"2.\"&'7.WEF Influence-Mine'!$M162&\" \",)&IF(W30<>0,\"3.\"&'7.WEF Influence-Mine'!$M202&\" \",)&IF(X30<>0,\"4.\"&'7.WEF Influence-Mine'!$M242&\" \",)&IF(Y30<>0,\"5.\"&'7.WEF Influence-Mine'!$M282&\" \",)","v":""},null,null,null,null,null,null,{"$f":"'3.WEF Status-Base'!J29","v":0},{"$f":"'7.WEF Influence-Mine'!$P122","v":0},{"$f":"'7.WEF Influence-Mine'!$P162","v":0},{"$f":"'7.WEF Influence-Mine'!$P202","v":0},{"$f":"'7.WEF Influence-Mine'!$P242","v":0},{"$f":"'7.WEF Influence-Mine'!$P282","v":0},{"$f":"IF(AG30>=$D$7,\"B:\"&'3.WEF Status-Base'!$K29&\": \",)&IF(AH30<>0,\"1.\"&'7.WEF Influence-Mine'!$Q122&\" \",)&IF(AI30<>0,\"2.\"&'7.WEF Influence-Mine'!$Q162&\" \",)&IF(AJ30<>0,\"3.\"&'7.WEF Influence-Mine'!$Q202&\" \",)&IF(AK30<>0,\"4.\"&'7.WEF Influence-Mine'!$Q242&\" \",)&IF(AL30<>0,\"5.\"&'7.WEF Influence-Mine'!$Q282&\" \",)","v":""},null,null,null,null,null,null,{"$f":"'3.WEF Status-Base'!M29","v":0},{"$f":"'7.WEF Influence-Mine'!$T122","v":0},{"$f":"'7.WEF Influence-Mine'!$T162","v":0},{"$f":"'7.WEF Influence-Mine'!$T202","v":0},{"$f":"'7.WEF Influence-Mine'!$T242","v":0},{"$f":"'7.WEF Influence-Mine'!$T282","v":0},{"$f":"IF(AT30>=$D$7,\"B:\"&'3.WEF Status-Base'!$N29&\": \",)&IF(AU30<>0,\"1.\"&'7.WEF Influence-Mine'!$U122&\" \",)&IF(AV30<>0,\"2.\"&'7.WEF Influence-Mine'!$U162&\" \",)&IF(AW30<>0,\"3.\"&'7.WEF Influence-Mine'!$U202&\" \",)&IF(AX30<>0,\"4.\"&'7.WEF Influence-Mine'!$U242&\" \",)&IF(AY30<>0,\"5.\"&'7.WEF Influence-Mine'!$U282&\" \",)","v":""},null,null,null,null,null,null,{"$f":"'3.WEF Status-Base'!P29","v":0},{"$f":"'7.WEF Influence-Mine'!$X122","v":0},{"$f":"'7.WEF Influence-Mine'!$X162","v":0},{"$f":"'7.WEF Influence-Mine'!$X202","v":0},{"$f":"'7.WEF Influence-Mine'!$X242","v":0},{"$f":"'7.WEF Influence-Mine'!$X282","v":0},{"$f":"IF(BG30>=$D$7,\"B:\"&'3.WEF Status-Base'!$Q29&\": \",)&IF(BH30<>0,\"1.\"&'7.WEF Influence-Mine'!$Y122&\" \",)&IF(BI30<>0,\"2.\"&'7.WEF Influence-Mine'!$Y162&\" \",)&IF(BJ30<>0,\"3.\"&'7.WEF Influence-Mine'!$Y202&\" \",)&IF(BK30<>0,\"4.\"&'7.WEF Influence-Mine'!$Y242&\" \",)&IF(BL30<>0,\"5.\"&'7.WEF Influence-Mine'!$Y282&\" \",)","v":""},null,null,null,null,null,null,{"$f":"'3.WEF Status-Base'!S29","v":0},{"$f":"'7.WEF Influence-Mine'!$AB122","v":0},{"$f":"'7.WEF Influence-Mine'!$AB162","v":0},{"$f":"'7.WEF Influence-Mine'!$AB202","v":0},{"$f":"'7.WEF Influence-Mine'!$AB242","v":0},{"$f":"'7.WEF Influence-Mine'!$AB282","v":0},{"$f":"IF(BT30>=$D$7,\"B:\"&'3.WEF Status-Base'!$T29&\": \",)&IF(BU30<>0,\"1.\"&'7.WEF Influence-Mine'!$AC122&\" \",)&IF(BV30<>0,\"2.\"&'7.WEF Influence-Mine'!$AC162&\" \",)&IF(BW30<>0,\"3.\"&'7.WEF Influence-Mine'!$AC202&\" \",)&IF(BX30<>0,\"4.\"&'7.WEF Influence-Mine'!$AC242&\" \",)&IF(BY30<>0,\"5.\"&'7.WEF Influence-Mine'!$AC282&\" \",)","v":""},null,null,null,null,null,null,{"$f":"'3.WEF Status-Base'!V29","v":0},{"$f":"'7.WEF Influence-Mine'!$AF122","v":0},{"$f":"'7.WEF Influence-Mine'!$AF162","v":0},{"$f":"'7.WEF Influence-Mine'!$AF202","v":0},{"$f":"'7.WEF Influence-Mine'!$AF242","v":0},{"$f":"'7.WEF Influence-Mine'!$AF282","v":0},{"$f":"IF(CG30>=$D$7,\"B:\"&'3.WEF Status-Base'!$W29&\": \",)&IF(CH30<>0,\"1.\"&'7.WEF Influence-Mine'!$AG122&\" \",)&IF(CI30<>0,\"2.\"&'7.WEF Influence-Mine'!$AG162&\" \",)&IF(CJ30<>0,\"3.\"&'7.WEF Influence-Mine'!$AG202&\" \",)&IF(CK30<>0,\"4.\"&'7.WEF Influence-Mine'!$AG242&\" \",)&IF(CL30<>0,\"5.\"&'7.WEF Influence-Mine'!$AG282&\" \",)","v":""},null,null,null,null,null,null,{"$f":"'3.WEF Status-Base'!Y29","v":0},{"$f":"'7.WEF Influence-Mine'!$AJ122","v":0},{"$f":"'7.WEF Influence-Mine'!$AJ162","v":0},{"$f":"'7.WEF Influence-Mine'!$AJ202","v":0},{"$f":"'7.WEF Influence-Mine'!$AJ242","v":0},{"$f":"'7.WEF Influence-Mine'!$AJ282","v":0},{"$f":"IF(CT30>=$D$7,\"B:\"&'3.WEF Status-Base'!$Z29&\": \",)&IF(CU30<>0,\"1.\"&'7.WEF Influence-Mine'!$AK122&\" \",)&IF(CV30<>0,\"2.\"&'7.WEF Influence-Mine'!$AK162&\" \",)&IF(CW30<>0,\"3.\"&'7.WEF Influence-Mine'!$AK202&\" \",)&IF(CX30<>0,\"4.\"&'7.WEF Influence-Mine'!$AK242&\" \",)&IF(CY30<>0,\"5.\"&'7.WEF Influence-Mine'!$AK282&\" \",)","v":""},null,null,null,null,null,null,{"$f":"'3.WEF Status-Base'!AB29","v":0},{"$f":"'7.WEF Influence-Mine'!$AN122","v":0},{"$f":"'7.WEF Influence-Mine'!$AN162","v":0},{"$f":"'7.WEF Influence-Mine'!$AN202","v":0},{"$f":"'7.WEF Influence-Mine'!$AN242","v":0},{"$f":"'7.WEF Influence-Mine'!$AN282","v":0},{"$f":"IF(DG30>=$D$7,\"B:\"&'3.WEF Status-Base'!$AC29&\": \",)&IF(DH30<>0,\"1.\"&'7.WEF Influence-Mine'!$AO122&\" \",)&IF(DI30<>0,\"2.\"&'7.WEF Influence-Mine'!$AO162&\" \",)&IF(DJ30<>0,\"3.\"&'7.WEF Influence-Mine'!$AO202&\" \",)&IF(DK30<>0,\"4.\"&'7.WEF Influence-Mine'!$AO242&\" \",)&IF(DL30<>0,\"5.\"&'7.WEF Influence-Mine'!$AO282&\" \",)","v":""},null,null,null,null,null,null,{"$f":"'3.WEF Status-Base'!AE29","v":0},{"$f":"'7.WEF Influence-Mine'!$AR122","v":0},{"$f":"'7.WEF Influence-Mine'!$AR162","v":0},{"$f":"'7.WEF Influence-Mine'!$AR202","v":0},{"$f":"'7.WEF Influence-Mine'!$AR242","v":0},{"$f":"'7.WEF Influence-Mine'!$AR282","v":0},{"$f":"IF(DT30>=$D$7,\"B:\"&'3.WEF Status-Base'!$AF29&\": \",)&IF(DU30<>0,\"1.\"&'7.WEF Influence-Mine'!$AS122&\" \",)&IF(DV30<>0,\"2.\"&'7.WEF Influence-Mine'!$AS162&\" \",)&IF(DW30<>0,\"3.\"&'7.WEF Influence-Mine'!$AS202&\" \",)&IF(DX30<>0,\"4.\"&'7.WEF Influence-Mine'!$AS242&\" \",)&IF(DY30<>0,\"5.\"&'7.WEF Influence-Mine'!$AS282&\" \",)","v":""},null,null,null,null,null,null,{"$f":"'3.WEF Status-Base'!AH29","v":0},{"$f":"'7.WEF Influence-Mine'!$AV122","v":0},{"$f":"'7.WEF Influence-Mine'!$AV162","v":0},{"$f":"'7.WEF Influence-Mine'!$AV202","v":0},{"$f":"'7.WEF Influence-Mine'!$AV242","v":0},{"$f":"'7.WEF Influence-Mine'!$AV282","v":0},{"$f":"IF(EG30>=$D$7,\"B:\"&'3.WEF Status-Base'!$AI29&\": \",)&IF(EH30<>0,\"1.\"&'7.WEF Influence-Mine'!$AW122&\" \",)&IF(EI30<>0,\"2.\"&'7.WEF Influence-Mine'!$AW162&\" \",)&IF(EJ30<>0,\"3.\"&'7.WEF Influence-Mine'!$AW202&\" \",)&IF(EK30<>0,\"4.\"&'7.WEF Influence-Mine'!$AW242&\" \",)&IF(EL30<>0,\"5.\"&'7.WEF Influence-Mine'!$AW282&\" \",)","v":""},null,null,null,null,null,null,{"$f":"'3.WEF Status-Base'!AK29","v":0},{"$f":"'7.WEF Influence-Mine'!$AZ122","v":0},{"$f":"'7.WEF Influence-Mine'!$AZ162","v":0},{"$f":"'7.WEF Influence-Mine'!$AZ202","v":0},{"$f":"'7.WEF Influence-Mine'!$AZ242","v":0},{"$f":"'7.WEF Influence-Mine'!$AZ282","v":0},{"$f":"IF(ET30>=$D$7,\"B:\"&'3.WEF Status-Base'!$AL29&\": \",)&IF(EU30<>0,\"1.\"&'7.WEF Influence-Mine'!$BA122&\" \",)&IF(EV30<>0,\"2.\"&'7.WEF Influence-Mine'!$BA162&\" \",)&IF(EW30<>0,\"3.\"&'7.WEF Influence-Mine'!$BA202&\" \",)&IF(EX30<>0,\"4.\"&'7.WEF Influence-Mine'!$BA242&\" \",)&IF(EY30<>0,\"5.\"&'7.WEF Influence-Mine'!$BA282&\" \",)","v":""},null,null,null,null,null,null,{"$f":"'3.WEF Status-Base'!AN29","v":0},{"$f":"'7.WEF Influence-Mine'!$BD122","v":0},{"$f":"'7.WEF Influence-Mine'!$BD162","v":0},{"$f":"'7.WEF Influence-Mine'!$BD202","v":0},{"$f":"'7.WEF Influence-Mine'!$BD242","v":0},{"$f":"'7.WEF Influence-Mine'!$BD282","v":0},{"$f":"IF(FG30>=$D$7,\"B:\"&'3.WEF Status-Base'!$AO29&\": \",)&IF(FH30<>0,\"1.\"&'7.WEF Influence-Mine'!$BE122&\" \",)&IF(FI30<>0,\"2.\"&'7.WEF Influence-Mine'!$BE162&\" \",)&IF(FJ30<>0,\"3.\"&'7.WEF Influence-Mine'!$BE202&\" \",)&IF(FK30<>0,\"4.\"&'7.WEF Influence-Mine'!$BE242&\" \",)&IF(FL30<>0,\"5.\"&'7.WEF Influence-Mine'!$BE282&\" \",)","v":""},null,null,null,null,null,null,{"$f":"'3.WEF Status-Base'!AQ29","v":0},{"$f":"'7.WEF Influence-Mine'!$BH122","v":0},{"$f":"'7.WEF Influence-Mine'!$BH162","v":0},{"$f":"'7.WEF Influence-Mine'!$BH202","v":0},{"$f":"'7.WEF Influence-Mine'!$BH242","v":0},{"$f":"'7.WEF Influence-Mine'!$BH282","v":0},{"$f":"IF(FT30>=$D$7,\"B:\"&'3.WEF Status-Base'!$AR29&\": \",)&IF(FU30<>0,\"1.\"&'7.WEF Influence-Mine'!$BI122&\" \",)&IF(FV30<>0,\"2.\"&'7.WEF Influence-Mine'!$BI162&\" \",)&IF(FW30<>0,\"3.\"&'7.WEF Influence-Mine'!$BI202&\" \",)&IF(FX30<>0,\"4.\"&'7.WEF Influence-Mine'!$BI242&\" \",)&IF(FY30<>0,\"5.\"&'7.WEF Influence-Mine'!$BI282&\" \",)","v":""},null,null,null,null,null,null,{"$f":"'3.WEF Status-Base'!AT29","v":0},{"$f":"'7.WEF Influence-Mine'!$BL122","v":0},{"$f":"'7.WEF Influence-Mine'!$BL162","v":0},{"$f":"'7.WEF Influence-Mine'!$BL202","v":0},{"$f":"'7.WEF Influence-Mine'!$BL242","v":0},{"$f":"'7.WEF Influence-Mine'!$BL282","v":0},{"$f":"IF(GG30>=$D$7,\"B:\"&'3.WEF Status-Base'!$AU29&\": \",)&IF(GH30<>0,\"1.\"&'7.WEF Influence-Mine'!$BM122&\" \",)&IF(GI30<>0,\"2.\"&'7.WEF Influence-Mine'!$BM162&\" \",)&IF(GJ30<>0,\"3.\"&'7.WEF Influence-Mine'!$BM202&\" \",)&IF(GK30<>0,\"4.\"&'7.WEF Influence-Mine'!$BM242&\" \",)&IF(GL30<>0,\"5.\"&'7.WEF Influence-Mine'!$BM282&\" \",)","v":""},null,null,null,null,null,null,{"$f":"'3.WEF Status-Base'!AW29","v":0},{"$f":"'7.WEF Influence-Mine'!$BP122","v":0},{"$f":"'7.WEF Influence-Mine'!$BP162","v":0},{"$f":"'7.WEF Influence-Mine'!$BP202","v":0},{"$f":"'7.WEF Influence-Mine'!$BP242","v":0},{"$f":"'7.WEF Influence-Mine'!$BP282","v":0},{"$f":"IF(GT30>=$D$7,\"B:\"&'3.WEF Status-Base'!$AX29&\": \",)&IF(GU30<>0,\"1.\"&'7.WEF Influence-Mine'!$BQ122&\" \",)&IF(GV30<>0,\"2.\"&'7.WEF Influence-Mine'!$BQ162&\" \",)&IF(GW30<>0,\"3.\"&'7.WEF Influence-Mine'!$BQ202&\" \",)&IF(GX30<>0,\"4.\"&'7.WEF Influence-Mine'!$BQ242&\" \",)&IF(GY30<>0,\"5.\"&'7.WEF Influence-Mine'!$BQ282&\" \",)","v":""},null,null,null,null,null,null,{"$f":"'3.WEF Status-Base'!AZ29","v":0},{"$f":"'7.WEF Influence-Mine'!$BT122","v":0},{"$f":"'7.WEF Influence-Mine'!$BT162","v":0},{"$f":"'7.WEF Influence-Mine'!$BT202","v":0},{"$f":"'7.WEF Influence-Mine'!$BT242","v":0},{"$f":"'7.WEF Influence-Mine'!$BT282","v":0},{"$f":"IF(HG30>=$D$7,\"B:\"&'3.WEF Status-Base'!$BA29&\": \",)&IF(HH30<>0,\"1.\"&'7.WEF Influence-Mine'!$BU122&\" \",)&IF(HI30<>0,\"2.\"&'7.WEF Influence-Mine'!$BU162&\" \",)&IF(HJ30<>0,\"3.\"&'7.WEF Influence-Mine'!$BU202&\" \",)&IF(HK30<>0,\"4.\"&'7.WEF Influence-Mine'!$BU242&\" \",)&IF(HL30<>0,\"5.\"&'7.WEF Influence-Mine'!$BU282&\" \",)","v":""},null,null,null,null,null,null,{"$f":"'3.WEF Status-Base'!BC29","v":0},{"$f":"'7.WEF Influence-Mine'!$BX122","v":0},{"$f":"'7.WEF Influence-Mine'!$BX162","v":0},{"$f":"'7.WEF Influence-Mine'!$BX202","v":0},{"$f":"'7.WEF Influence-Mine'!$BX242","v":0},{"$f":"'7.WEF Influence-Mine'!$BX282","v":0},{"$f":"IF(HT30>=$D$7,\"B:\"&'3.WEF Status-Base'!$BD29&\": \",)&IF(HU30<>0,\"1.\"&'7.WEF Influence-Mine'!$BY122&\" \",)&IF(HV30<>0,\"2.\"&'7.WEF Influence-Mine'!$BY162&\" \",)&IF(HW30<>0,\"3.\"&'7.WEF Influence-Mine'!$BY202&\" \",)&IF(HX30<>0,\"4.\"&'7.WEF Influence-Mine'!$BY242&\" \",)&IF(HY30<>0,\"5.\"&'7.WEF Influence-Mine'!$BY282&\" \",)","v":""},null,null,null,null,null,null,{"$f":"'7.WEF Influence-Mine'!BZ122&\" : \"&'7.WEF Influence-Mine'!BZ162&\" : \"&'7.WEF Influence-Mine'!BZ202&\" : \"&'7.WEF Influence-Mine'!BZ242&\" : \"&'7.WEF Influence-Mine'!BZ282","v":"0 : 0 : 0 : 0 : 0"}]
[21,"     Pollination",{"$f":"'3.WEF Status-Base'!B30","v":0},0,0,null,{"$f":"'3.WEF Status-Base'!D30","v":0},{"$f":"'7.WEF Influence-Mine'!$H123","v":0},{"$f":"'7.WEF Influence-Mine'!$H163","v":0},{"$f":"'7.WEF Influence-Mine'!$H203","v":0},{"$f":"'7.WEF Influence-Mine'!$H243","v":0},{"$f":"'7.WEF Influence-Mine'!$H283","v":0},{"$f":"IF(G31>=$D$7,\"B:\"&'3.WEF Status-Base'!$E30&\": \",)&IF(H31<>0,\"1. \"&'7.WEF Influence-Mine'!$I123&\" \",)&IF(I31<>0,\"2. \"&'7.WEF Influence-Mine'!$I163&\" \",)&IF(J31<>0,\"3. \"&'7.WEF Influence-Mine'!$I203&\" \",)&IF(K31<>0,\"4. \"&'7.WEF Influence-Mine'!$I243&\" \",)&IF(L31<>0,\"5. \"&'7.WEF Influence-Mine'!$I283&\" \",)","v":""},null,null,null,null,null,null,{"$f":"'3.WEF Status-Base'!G30","v":0},{"$f":"'7.WEF Influence-Mine'!$L123","v":0},{"$f":"'7.WEF Influence-Mine'!$L163","v":0},{"$f":"'7.WEF Influence-Mine'!$L203","v":0},{"$f":"'7.WEF Influence-Mine'!$L243","v":0},{"$f":"'7.WEF Influence-Mine'!$L283","v":0},{"$f":"IF(T31>=$D$7,\"B:\"&'3.WEF Status-Base'!$H30&\": \",)&IF(U31<>0,\"1.\"&'7.WEF Influence-Mine'!$M123&\" \",)&IF(V31<>0,\"2.\"&'7.WEF Influence-Mine'!$M163&\" \",)&IF(W31<>0,\"3.\"&'7.WEF Influence-Mine'!$M203&\" \",)&IF(X31<>0,\"4.\"&'7.WEF Influence-Mine'!$M243&\" \",)&IF(Y31<>0,\"5.\"&'7.WEF Influence-Mine'!$M283&\" \",)","v":""},null,null,null,null,null,null,{"$f":"'3.WEF Status-Base'!J30","v":0},{"$f":"'7.WEF Influence-Mine'!$P123","v":0},{"$f":"'7.WEF Influence-Mine'!$P163","v":0},{"$f":"'7.WEF Influence-Mine'!$P203","v":0},{"$f":"'7.WEF Influence-Mine'!$P243","v":0},{"$f":"'7.WEF Influence-Mine'!$P283","v":0},{"$f":"IF(AG31>=$D$7,\"B:\"&'3.WEF Status-Base'!$K30&\": \",)&IF(AH31<>0,\"1.\"&'7.WEF Influence-Mine'!$Q123&\" \",)&IF(AI31<>0,\"2.\"&'7.WEF Influence-Mine'!$Q163&\" \",)&IF(AJ31<>0,\"3.\"&'7.WEF Influence-Mine'!$Q203&\" \",)&IF(AK31<>0,\"4.\"&'7.WEF Influence-Mine'!$Q243&\" \",)&IF(AL31<>0,\"5.\"&'7.WEF Influence-Mine'!$Q283&\" \",)","v":""},null,null,null,null,null,null,{"$f":"'3.WEF Status-Base'!M30","v":0},{"$f":"'7.WEF Influence-Mine'!$T123","v":0},{"$f":"'7.WEF Influence-Mine'!$T163","v":0},{"$f":"'7.WEF Influence-Mine'!$T203","v":0},{"$f":"'7.WEF Influence-Mine'!$T243","v":0},{"$f":"'7.WEF Influence-Mine'!$T283","v":0},{"$f":"IF(AT31>=$D$7,\"B:\"&'3.WEF Status-Base'!$N30&\": \",)&IF(AU31<>0,\"1.\"&'7.WEF Influence-Mine'!$U123&\" \",)&IF(AV31<>0,\"2.\"&'7.WEF Influence-Mine'!$U163&\" \",)&IF(AW31<>0,\"3.\"&'7.WEF Influence-Mine'!$U203&\" \",)&IF(AX31<>0,\"4.\"&'7.WEF Influence-Mine'!$U243&\" \",)&IF(AY31<>0,\"5.\"&'7.WEF Influence-Mine'!$U283&\" \",)","v":""},null,null,null,null,null,null,{"$f":"'3.WEF Status-Base'!P30","v":0},{"$f":"'7.WEF Influence-Mine'!$X123","v":0},{"$f":"'7.WEF Influence-Mine'!$X163","v":0},{"$f":"'7.WEF Influence-Mine'!$X203","v":0},{"$f":"'7.WEF Influence-Mine'!$X243","v":0},{"$f":"'7.WEF Influence-Mine'!$X283","v":0},{"$f":"IF(BG31>=$D$7,\"B:\"&'3.WEF Status-Base'!$Q30&\": \",)&IF(BH31<>0,\"1.\"&'7.WEF Influence-Mine'!$Y123&\" \",)&IF(BI31<>0,\"2.\"&'7.WEF Influence-Mine'!$Y163&\" \",)&IF(BJ31<>0,\"3.\"&'7.WEF Influence-Mine'!$Y203&\" \",)&IF(BK31<>0,\"4.\"&'7.WEF Influence-Mine'!$Y243&\" \",)&IF(BL31<>0,\"5.\"&'7.WEF Influence-Mine'!$Y283&\" \",)","v":""},null,null,null,null,null,null,{"$f":"'3.WEF Status-Base'!S30","v":0},{"$f":"'7.WEF Influence-Mine'!$AB123","v":0},{"$f":"'7.WEF Influence-Mine'!$AB163","v":0},{"$f":"'7.WEF Influence-Mine'!$AB203","v":0},{"$f":"'7.WEF Influence-Mine'!$AB243","v":0},{"$f":"'7.WEF Influence-Mine'!$AB283","v":0},{"$f":"IF(BT31>=$D$7,\"B:\"&'3.WEF Status-Base'!$T30&\": \",)&IF(BU31<>0,\"1.\"&'7.WEF Influence-Mine'!$AC123&\" \",)&IF(BV31<>0,\"2.\"&'7.WEF Influence-Mine'!$AC163&\" \",)&IF(BW31<>0,\"3.\"&'7.WEF Influence-Mine'!$AC203&\" \",)&IF(BX31<>0,\"4.\"&'7.WEF Influence-Mine'!$AC243&\" \",)&IF(BY31<>0,\"5.\"&'7.WEF Influence-Mine'!$AC283&\" \",)","v":""},null,null,null,null,null,null,{"$f":"'3.WEF Status-Base'!V30","v":0},{"$f":"'7.WEF Influence-Mine'!$AF123","v":0},{"$f":"'7.WEF Influence-Mine'!$AF163","v":0},{"$f":"'7.WEF Influence-Mine'!$AF203","v":0},{"$f":"'7.WEF Influence-Mine'!$AF243","v":0},{"$f":"'7.WEF Influence-Mine'!$AF283","v":0},{"$f":"IF(CG31>=$D$7,\"B:\"&'3.WEF Status-Base'!$W30&\": \",)&IF(CH31<>0,\"1.\"&'7.WEF Influence-Mine'!$AG123&\" \",)&IF(CI31<>0,\"2.\"&'7.WEF Influence-Mine'!$AG163&\" \",)&IF(CJ31<>0,\"3.\"&'7.WEF Influence-Mine'!$AG203&\" \",)&IF(CK31<>0,\"4.\"&'7.WEF Influence-Mine'!$AG243&\" \",)&IF(CL31<>0,\"5.\"&'7.WEF Influence-Mine'!$AG283&\" \",)","v":""},null,null,null,null,null,null,{"$f":"'3.WEF Status-Base'!Y30","v":0},{"$f":"'7.WEF Influence-Mine'!$AJ123","v":0},{"$f":"'7.WEF Influence-Mine'!$AJ163","v":0},{"$f":"'7.WEF Influence-Mine'!$AJ203","v":0},{"$f":"'7.WEF Influence-Mine'!$AJ243","v":0},{"$f":"'7.WEF Influence-Mine'!$AJ283","v":0},{"$f":"IF(CT31>=$D$7,\"B:\"&'3.WEF Status-Base'!$Z30&\": \",)&IF(CU31<>0,\"1.\"&'7.WEF Influence-Mine'!$AK123&\" \",)&IF(CV31<>0,\"2.\"&'7.WEF Influence-Mine'!$AK163&\" \",)&IF(CW31<>0,\"3.\"&'7.WEF Influence-Mine'!$AK203&\" \",)&IF(CX31<>0,\"4.\"&'7.WEF Influence-Mine'!$AK243&\" \",)&IF(CY31<>0,\"5.\"&'7.WEF Influence-Mine'!$AK283&\" \",)","v":""},null,null,null,null,null,null,{"$f":"'3.WEF Status-Base'!AB30","v":0},{"$f":"'7.WEF Influence-Mine'!$AN123","v":0},{"$f":"'7.WEF Influence-Mine'!$AN163","v":0},{"$f":"'7.WEF Influence-Mine'!$AN203","v":0},{"$f":"'7.WEF Influence-Mine'!$AN243","v":0},{"$f":"'7.WEF Influence-Mine'!$AN283","v":0},{"$f":"IF(DG31>=$D$7,\"B:\"&'3.WEF Status-Base'!$AC30&\": \",)&IF(DH31<>0,\"1.\"&'7.WEF Influence-Mine'!$AO123&\" \",)&IF(DI31<>0,\"2.\"&'7.WEF Influence-Mine'!$AO163&\" \",)&IF(DJ31<>0,\"3.\"&'7.WEF Influence-Mine'!$AO203&\" \",)&IF(DK31<>0,\"4.\"&'7.WEF Influence-Mine'!$AO243&\" \",)&IF(DL31<>0,\"5.\"&'7.WEF Influence-Mine'!$AO283&\" \",)","v":""},null,null,null,null,null,null,{"$f":"'3.WEF Status-Base'!AE30","v":0},{"$f":"'7.WEF Influence-Mine'!$AR123","v":0},{"$f":"'7.WEF Influence-Mine'!$AR163","v":0},{"$f":"'7.WEF Influence-Mine'!$AR203","v":0},{"$f":"'7.WEF Influence-Mine'!$AR243","v":0},{"$f":"'7.WEF Influence-Mine'!$AR283","v":0},{"$f":"IF(DT31>=$D$7,\"B:\"&'3.WEF Status-Base'!$AF30&\": \",)&IF(DU31<>0,\"1.\"&'7.WEF Influence-Mine'!$AS123&\" \",)&IF(DV31<>0,\"2.\"&'7.WEF Influence-Mine'!$AS163&\" \",)&IF(DW31<>0,\"3.\"&'7.WEF Influence-Mine'!$AS203&\" \",)&IF(DX31<>0,\"4.\"&'7.WEF Influence-Mine'!$AS243&\" \",)&IF(DY31<>0,\"5.\"&'7.WEF Influence-Mine'!$AS283&\" \",)","v":""},null,null,null,null,null,null,{"$f":"'3.WEF Status-Base'!AH30","v":0},{"$f":"'7.WEF Influence-Mine'!$AV123","v":0},{"$f":"'7.WEF Influence-Mine'!$AV163","v":0},{"$f":"'7.WEF Influence-Mine'!$AV203","v":0},{"$f":"'7.WEF Influence-Mine'!$AV243","v":0},{"$f":"'7.WEF Influence-Mine'!$AV283","v":0},{"$f":"IF(EG31>=$D$7,\"B:\"&'3.WEF Status-Base'!$AI30&\": \",)&IF(EH31<>0,\"1.\"&'7.WEF Influence-Mine'!$AW123&\" \",)&IF(EI31<>0,\"2.\"&'7.WEF Influence-Mine'!$AW163&\" \",)&IF(EJ31<>0,\"3.\"&'7.WEF Influence-Mine'!$AW203&\" \",)&IF(EK31<>0,\"4.\"&'7.WEF Influence-Mine'!$AW243&\" \",)&IF(EL31<>0,\"5.\"&'7.WEF Influence-Mine'!$AW283&\" \",)","v":""},null,null,null,null,null,null,{"$f":"'3.WEF Status-Base'!AK30","v":0},{"$f":"'7.WEF Influence-Mine'!$AZ123","v":0},{"$f":"'7.WEF Influence-Mine'!$AZ163","v":0},{"$f":"'7.WEF Influence-Mine'!$AZ203","v":0},{"$f":"'7.WEF Influence-Mine'!$AZ243","v":0},{"$f":"'7.WEF Influence-Mine'!$AZ283","v":0},{"$f":"IF(ET31>=$D$7,\"B:\"&'3.WEF Status-Base'!$AL30&\": \",)&IF(EU31<>0,\"1.\"&'7.WEF Influence-Mine'!$BA123&\" \",)&IF(EV31<>0,\"2.\"&'7.WEF Influence-Mine'!$BA163&\" \",)&IF(EW31<>0,\"3.\"&'7.WEF Influence-Mine'!$BA203&\" \",)&IF(EX31<>0,\"4.\"&'7.WEF Influence-Mine'!$BA243&\" \",)&IF(EY31<>0,\"5.\"&'7.WEF Influence-Mine'!$BA283&\" \",)","v":""},null,null,null,null,null,null,{"$f":"'3.WEF Status-Base'!AN30","v":0},{"$f":"'7.WEF Influence-Mine'!$BD123","v":0},{"$f":"'7.WEF Influence-Mine'!$BD163","v":0},{"$f":"'7.WEF Influence-Mine'!$BD203","v":0},{"$f":"'7.WEF Influence-Mine'!$BD243","v":0},{"$f":"'7.WEF Influence-Mine'!$BD283","v":0},{"$f":"IF(FG31>=$D$7,\"B:\"&'3.WEF Status-Base'!$AO30&\": \",)&IF(FH31<>0,\"1.\"&'7.WEF Influence-Mine'!$BE123&\" \",)&IF(FI31<>0,\"2.\"&'7.WEF Influence-Mine'!$BE163&\" \",)&IF(FJ31<>0,\"3.\"&'7.WEF Influence-Mine'!$BE203&\" \",)&IF(FK31<>0,\"4.\"&'7.WEF Influence-Mine'!$BE243&\" \",)&IF(FL31<>0,\"5.\"&'7.WEF Influence-Mine'!$BE283&\" \",)","v":""},null,null,null,null,null,null,{"$f":"'3.WEF Status-Base'!AQ30","v":0},{"$f":"'7.WEF Influence-Mine'!$BH123","v":0},{"$f":"'7.WEF Influence-Mine'!$BH163","v":0},{"$f":"'7.WEF Influence-Mine'!$BH203","v":0},{"$f":"'7.WEF Influence-Mine'!$BH243","v":0},{"$f":"'7.WEF Influence-Mine'!$BH283","v":0},{"$f":"IF(FT31>=$D$7,\"B:\"&'3.WEF Status-Base'!$AR30&\": \",)&IF(FU31<>0,\"1.\"&'7.WEF Influence-Mine'!$BI123&\" \",)&IF(FV31<>0,\"2.\"&'7.WEF Influence-Mine'!$BI163&\" \",)&IF(FW31<>0,\"3.\"&'7.WEF Influence-Mine'!$BI203&\" \",)&IF(FX31<>0,\"4.\"&'7.WEF Influence-Mine'!$BI243&\" \",)&IF(FY31<>0,\"5.\"&'7.WEF Influence-Mine'!$BI283&\" \",)","v":""},null,null,null,null,null,null,{"$f":"'3.WEF Status-Base'!AT30","v":0},{"$f":"'7.WEF Influence-Mine'!$BL123","v":0},{"$f":"'7.WEF Influence-Mine'!$BL163","v":0},{"$f":"'7.WEF Influence-Mine'!$BL203","v":0},{"$f":"'7.WEF Influence-Mine'!$BL243","v":0},{"$f":"'7.WEF Influence-Mine'!$BL283","v":0},{"$f":"IF(GG31>=$D$7,\"B:\"&'3.WEF Status-Base'!$AU30&\": \",)&IF(GH31<>0,\"1.\"&'7.WEF Influence-Mine'!$BM123&\" \",)&IF(GI31<>0,\"2.\"&'7.WEF Influence-Mine'!$BM163&\" \",)&IF(GJ31<>0,\"3.\"&'7.WEF Influence-Mine'!$BM203&\" \",)&IF(GK31<>0,\"4.\"&'7.WEF Influence-Mine'!$BM243&\" \",)&IF(GL31<>0,\"5.\"&'7.WEF Influence-Mine'!$BM283&\" \",)","v":""},null,null,null,null,null,null,{"$f":"'3.WEF Status-Base'!AW30","v":0},{"$f":"'7.WEF Influence-Mine'!$BP123","v":0},{"$f":"'7.WEF Influence-Mine'!$BP163","v":0},{"$f":"'7.WEF Influence-Mine'!$BP203","v":0},{"$f":"'7.WEF Influence-Mine'!$BP243","v":0},{"$f":"'7.WEF Influence-Mine'!$BP283","v":0},{"$f":"IF(GT31>=$D$7,\"B:\"&'3.WEF Status-Base'!$AX30&\": \",)&IF(GU31<>0,\"1.\"&'7.WEF Influence-Mine'!$BQ123&\" \",)&IF(GV31<>0,\"2.\"&'7.WEF Influence-Mine'!$BQ163&\" \",)&IF(GW31<>0,\"3.\"&'7.WEF Influence-Mine'!$BQ203&\" \",)&IF(GX31<>0,\"4.\"&'7.WEF Influence-Mine'!$BQ243&\" \",)&IF(GY31<>0,\"5.\"&'7.WEF Influence-Mine'!$BQ283&\" \",)","v":""},null,null,null,null,null,null,{"$f":"'3.WEF Status-Base'!AZ30","v":0},{"$f":"'7.WEF Influence-Mine'!$BT123","v":0},{"$f":"'7.WEF Influence-Mine'!$BT163","v":0},{"$f":"'7.WEF Influence-Mine'!$BT203","v":0},{"$f":"'7.WEF Influence-Mine'!$BT243","v":0},{"$f":"'7.WEF Influence-Mine'!$BT283","v":0},{"$f":"IF(HG31>=$D$7,\"B:\"&'3.WEF Status-Base'!$BA30&\": \",)&IF(HH31<>0,\"1.\"&'7.WEF Influence-Mine'!$BU123&\" \",)&IF(HI31<>0,\"2.\"&'7.WEF Influence-Mine'!$BU163&\" \",)&IF(HJ31<>0,\"3.\"&'7.WEF Influence-Mine'!$BU203&\" \",)&IF(HK31<>0,\"4.\"&'7.WEF Influence-Mine'!$BU243&\" \",)&IF(HL31<>0,\"5.\"&'7.WEF Influence-Mine'!$BU283&\" \",)","v":""},null,null,null,null,null,null,{"$f":"'3.WEF Status-Base'!BC30","v":0},{"$f":"'7.WEF Influence-Mine'!$BX123","v":0},{"$f":"'7.WEF Influence-Mine'!$BX163","v":0},{"$f":"'7.WEF Influence-Mine'!$BX203","v":0},{"$f":"'7.WEF Influence-Mine'!$BX243","v":0},{"$f":"'7.WEF Influence-Mine'!$BX283","v":0},{"$f":"IF(HT31>=$D$7,\"B:\"&'3.WEF Status-Base'!$BD30&\": \",)&IF(HU31<>0,\"1.\"&'7.WEF Influence-Mine'!$BY123&\" \",)&IF(HV31<>0,\"2.\"&'7.WEF Influence-Mine'!$BY163&\" \",)&IF(HW31<>0,\"3.\"&'7.WEF Influence-Mine'!$BY203&\" \",)&IF(HX31<>0,\"4.\"&'7.WEF Influence-Mine'!$BY243&\" \",)&IF(HY31<>0,\"5.\"&'7.WEF Influence-Mine'!$BY283&\" \",)","v":""},null,null,null,null,null,null,{"$f":"'7.WEF Influence-Mine'!BZ123&\" : \"&'7.WEF Influence-Mine'!BZ163&\" : \"&'7.WEF Influence-Mine'!BZ203&\" : \"&'7.WEF Influence-Mine'!BZ243&\" : \"&'7.WEF Influence-Mine'!BZ283","v":"0 : 0 : 0 : 0 : 0"}]
[22,"     Storm protection",{"$f":"'3.WEF Status-Base'!B31","v":0},0,0,null,{"$f":"'3.WEF Status-Base'!D31","v":0},{"$f":"'7.WEF Influence-Mine'!$H124","v":0},{"$f":"'7.WEF Influence-Mine'!$H164","v":0},{"$f":"'7.WEF Influence-Mine'!$H204","v":0},{"$f":"'7.WEF Influence-Mine'!$H244","v":0},{"$f":"'7.WEF Influence-Mine'!$H284","v":0},{"$f":"IF(G32>=$D$7,\"B:\"&'3.WEF Status-Base'!$E31&\": \",)&IF(H32<>0,\"1. \"&'7.WEF Influence-Mine'!$I124&\" \",)&IF(I32<>0,\"2. \"&'7.WEF Influence-Mine'!$I164&\" \",)&IF(J32<>0,\"3. \"&'7.WEF Influence-Mine'!$I204&\" \",)&IF(K32<>0,\"4. \"&'7.WEF Influence-Mine'!$I244&\" \",)&IF(L32<>0,\"5. \"&'7.WEF Influence-Mine'!$I284&\" \",)","v":""},null,null,null,null,null,null,{"$f":"'3.WEF Status-Base'!G31","v":0},{"$f":"'7.WEF Influence-Mine'!$L124","v":0},{"$f":"'7.WEF Influence-Mine'!$L164","v":0},{"$f":"'7.WEF Influence-Mine'!$L204","v":0},{"$f":"'7.WEF Influence-Mine'!$L244","v":0},{"$f":"'7.WEF Influence-Mine'!$L284","v":0},{"$f":"IF(T32>=$D$7,\"B:\"&'3.WEF Status-Base'!$H31&\": \",)&IF(U32<>0,\"1.\"&'7.WEF Influence-Mine'!$M124&\" \",)&IF(V32<>0,\"2.\"&'7.WEF Influence-Mine'!$M164&\" \",)&IF(W32<>0,\"3.\"&'7.WEF Influence-Mine'!$M204&\" \",)&IF(X32<>0,\"4.\"&'7.WEF Influence-Mine'!$M244&\" \",)&IF(Y32<>0,\"5.\"&'7.WEF Influence-Mine'!$M284&\" \",)","v":""},null,null,null,null,null,null,{"$f":"'3.WEF Status-Base'!J31","v":0},{"$f":"'7.WEF Influence-Mine'!$P124","v":0},{"$f":"'7.WEF Influence-Mine'!$P164","v":0},{"$f":"'7.WEF Influence-Mine'!$P204","v":0},{"$f":"'7.WEF Influence-Mine'!$P244","v":0},{"$f":"'7.WEF Influence-Mine'!$P284","v":0},{"$f":"IF(AG32>=$D$7,\"B:\"&'3.WEF Status-Base'!$K31&\": \",)&IF(AH32<>0,\"1.\"&'7.WEF Influence-Mine'!$Q124&\" \",)&IF(AI32<>0,\"2.\"&'7.WEF Influence-Mine'!$Q164&\" \",)&IF(AJ32<>0,\"3.\"&'7.WEF Influence-Mine'!$Q204&\" \",)&IF(AK32<>0,\"4.\"&'7.WEF Influence-Mine'!$Q244&\" \",)&IF(AL32<>0,\"5.\"&'7.WEF Influence-Mine'!$Q284&\" \",)","v":""},null,null,null,null,null,null,{"$f":"'3.WEF Status-Base'!M31","v":0},{"$f":"'7.WEF Influence-Mine'!$T124","v":0},{"$f":"'7.WEF Influence-Mine'!$T164","v":0},{"$f":"'7.WEF Influence-Mine'!$T204","v":0},{"$f":"'7.WEF Influence-Mine'!$T244","v":0},{"$f":"'7.WEF Influence-Mine'!$T284","v":0},{"$f":"IF(AT32>=$D$7,\"B:\"&'3.WEF Status-Base'!$N31&\": \",)&IF(AU32<>0,\"1.\"&'7.WEF Influence-Mine'!$U124&\" \",)&IF(AV32<>0,\"2.\"&'7.WEF Influence-Mine'!$U164&\" \",)&IF(AW32<>0,\"3.\"&'7.WEF Influence-Mine'!$U204&\" \",)&IF(AX32<>0,\"4.\"&'7.WEF Influence-Mine'!$U244&\" \",)&IF(AY32<>0,\"5.\"&'7.WEF Influence-Mine'!$U284&\" \",)","v":""},null,null,null,null,null,null,{"$f":"'3.WEF Status-Base'!P31","v":0},{"$f":"'7.WEF Influence-Mine'!$X124","v":0},{"$f":"'7.WEF Influence-Mine'!$X164","v":0},{"$f":"'7.WEF Influence-Mine'!$X204","v":0},{"$f":"'7.WEF Influence-Mine'!$X244","v":0},{"$f":"'7.WEF Influence-Mine'!$X284","v":0},{"$f":"IF(BG32>=$D$7,\"B:\"&'3.WEF Status-Base'!$Q31&\": \",)&IF(BH32<>0,\"1.\"&'7.WEF Influence-Mine'!$Y124&\" \",)&IF(BI32<>0,\"2.\"&'7.WEF Influence-Mine'!$Y164&\" \",)&IF(BJ32<>0,\"3.\"&'7.WEF Influence-Mine'!$Y204&\" \",)&IF(BK32<>0,\"4.\"&'7.WEF Influence-Mine'!$Y244&\" \",)&IF(BL32<>0,\"5.\"&'7.WEF Influence-Mine'!$Y284&\" \",)","v":""},null,null,null,null,null,null,{"$f":"'3.WEF Status-Base'!S31","v":0},{"$f":"'7.WEF Influence-Mine'!$AB124","v":0},{"$f":"'7.WEF Influence-Mine'!$AB164","v":0},{"$f":"'7.WEF Influence-Mine'!$AB204","v":0},{"$f":"'7.WEF Influence-Mine'!$AB244","v":0},{"$f":"'7.WEF Influence-Mine'!$AB284","v":0},{"$f":"IF(BT32>=$D$7,\"B:\"&'3.WEF Status-Base'!$T31&\": \",)&IF(BU32<>0,\"1.\"&'7.WEF Influence-Mine'!$AC124&\" \",)&IF(BV32<>0,\"2.\"&'7.WEF Influence-Mine'!$AC164&\" \",)&IF(BW32<>0,\"3.\"&'7.WEF Influence-Mine'!$AC204&\" \",)&IF(BX32<>0,\"4.\"&'7.WEF Influence-Mine'!$AC244&\" \",)&IF(BY32<>0,\"5.\"&'7.WEF Influence-Mine'!$AC284&\" \",)","v":""},null,null,null,null,null,null,{"$f":"'3.WEF Status-Base'!V31","v":0},{"$f":"'7.WEF Influence-Mine'!$AF124","v":0},{"$f":"'7.WEF Influence-Mine'!$AF164","v":0},{"$f":"'7.WEF Influence-Mine'!$AF204","v":0},{"$f":"'7.WEF Influence-Mine'!$AF244","v":0},{"$f":"'7.WEF Influence-Mine'!$AF284","v":0},{"$f":"IF(CG32>=$D$7,\"B:\"&'3.WEF Status-Base'!$W31&\": \",)&IF(CH32<>0,\"1.\"&'7.WEF Influence-Mine'!$AG124&\" \",)&IF(CI32<>0,\"2.\"&'7.WEF Influence-Mine'!$AG164&\" \",)&IF(CJ32<>0,\"3.\"&'7.WEF Influence-Mine'!$AG204&\" \",)&IF(CK32<>0,\"4.\"&'7.WEF Influence-Mine'!$AG244&\" \",)&IF(CL32<>0,\"5.\"&'7.WEF Influence-Mine'!$AG284&\" \",)","v":""},null,null,null,null,null,null,{"$f":"'3.WEF Status-Base'!Y31","v":0},{"$f":"'7.WEF Influence-Mine'!$AJ124","v":0},{"$f":"'7.WEF Influence-Mine'!$AJ164","v":0},{"$f":"'7.WEF Influence-Mine'!$AJ204","v":0},{"$f":"'7.WEF Influence-Mine'!$AJ244","v":0},{"$f":"'7.WEF Influence-Mine'!$AJ284","v":0},{"$f":"IF(CT32>=$D$7,\"B:\"&'3.WEF Status-Base'!$Z31&\": \",)&IF(CU32<>0,\"1.\"&'7.WEF Influence-Mine'!$AK124&\" \",)&IF(CV32<>0,\"2.\"&'7.WEF Influence-Mine'!$AK164&\" \",)&IF(CW32<>0,\"3.\"&'7.WEF Influence-Mine'!$AK204&\" \",)&IF(CX32<>0,\"4.\"&'7.WEF Influence-Mine'!$AK244&\" \",)&IF(CY32<>0,\"5.\"&'7.WEF Influence-Mine'!$AK284&\" \",)","v":""},null,null,null,null,null,null,{"$f":"'3.WEF Status-Base'!AB31","v":0},{"$f":"'7.WEF Influence-Mine'!$AN124","v":0},{"$f":"'7.WEF Influence-Mine'!$AN164","v":0},{"$f":"'7.WEF Influence-Mine'!$AN204","v":0},{"$f":"'7.WEF Influence-Mine'!$AN244","v":0},{"$f":"'7.WEF Influence-Mine'!$AN284","v":0},{"$f":"IF(DG32>=$D$7,\"B:\"&'3.WEF Status-Base'!$AC31&\": \",)&IF(DH32<>0,\"1.\"&'7.WEF Influence-Mine'!$AO124&\" \",)&IF(DI32<>0,\"2.\"&'7.WEF Influence-Mine'!$AO164&\" \",)&IF(DJ32<>0,\"3.\"&'7.WEF Influence-Mine'!$AO204&\" \",)&IF(DK32<>0,\"4.\"&'7.WEF Influence-Mine'!$AO244&\" \",)&IF(DL32<>0,\"5.\"&'7.WEF Influence-Mine'!$AO284&\" \",)","v":""},null,null,null,null,null,null,{"$f":"'3.WEF Status-Base'!AE31","v":0},{"$f":"'7.WEF Influence-Mine'!$AR124","v":0},{"$f":"'7.WEF Influence-Mine'!$AR164","v":0},{"$f":"'7.WEF Influence-Mine'!$AR204","v":0},{"$f":"'7.WEF Influence-Mine'!$AR244","v":0},{"$f":"'7.WEF Influence-Mine'!$AR284","v":0},{"$f":"IF(DT32>=$D$7,\"B:\"&'3.WEF Status-Base'!$AF31&\": \",)&IF(DU32<>0,\"1.\"&'7.WEF Influence-Mine'!$AS124&\" \",)&IF(DV32<>0,\"2.\"&'7.WEF Influence-Mine'!$AS164&\" \",)&IF(DW32<>0,\"3.\"&'7.WEF Influence-Mine'!$AS204&\" \",)&IF(DX32<>0,\"4.\"&'7.WEF Influence-Mine'!$AS244&\" \",)&IF(DY32<>0,\"5.\"&'7.WEF Influence-Mine'!$AS284&\" \",)","v":""},null,null,null,null,null,null,{"$f":"'3.WEF Status-Base'!AH31","v":0},{"$f":"'7.WEF Influence-Mine'!$AV124","v":0},{"$f":"'7.WEF Influence-Mine'!$AV164","v":0},{"$f":"'7.WEF Influence-Mine'!$AV204","v":0},{"$f":"'7.WEF Influence-Mine'!$AV244","v":0},{"$f":"'7.WEF Influence-Mine'!$AV284","v":0},{"$f":"IF(EG32>=$D$7,\"B:\"&'3.WEF Status-Base'!$AI31&\": \",)&IF(EH32<>0,\"1.\"&'7.WEF Influence-Mine'!$AW124&\" \",)&IF(EI32<>0,\"2.\"&'7.WEF Influence-Mine'!$AW164&\" \",)&IF(EJ32<>0,\"3.\"&'7.WEF Influence-Mine'!$AW204&\" \",)&IF(EK32<>0,\"4.\"&'7.WEF Influence-Mine'!$AW244&\" \",)&IF(EL32<>0,\"5.\"&'7.WEF Influence-Mine'!$AW284&\" \",)","v":""},null,null,null,null,null,null,{"$f":"'3.WEF Status-Base'!AK31","v":0},{"$f":"'7.WEF Influence-Mine'!$AZ124","v":0},{"$f":"'7.WEF Influence-Mine'!$AZ164","v":0},{"$f":"'7.WEF Influence-Mine'!$AZ204","v":0},{"$f":"'7.WEF Influence-Mine'!$AZ244","v":0},{"$f":"'7.WEF Influence-Mine'!$AZ284","v":0},{"$f":"IF(ET32>=$D$7,\"B:\"&'3.WEF Status-Base'!$AL31&\": \",)&IF(EU32<>0,\"1.\"&'7.WEF Influence-Mine'!$BA124&\" \",)&IF(EV32<>0,\"2.\"&'7.WEF Influence-Mine'!$BA164&\" \",)&IF(EW32<>0,\"3.\"&'7.WEF Influence-Mine'!$BA204&\" \",)&IF(EX32<>0,\"4.\"&'7.WEF Influence-Mine'!$BA244&\" \",)&IF(EY32<>0,\"5.\"&'7.WEF Influence-Mine'!$BA284&\" \",)","v":""},null,null,null,null,null,null,{"$f":"'3.WEF Status-Base'!AN31","v":0},{"$f":"'7.WEF Influence-Mine'!$BD124","v":0},{"$f":"'7.WEF Influence-Mine'!$BD164","v":0},{"$f":"'7.WEF Influence-Mine'!$BD204","v":0},{"$f":"'7.WEF Influence-Mine'!$BD244","v":0},{"$f":"'7.WEF Influence-Mine'!$BD284","v":0},{"$f":"IF(FG32>=$D$7,\"B:\"&'3.WEF Status-Base'!$AO31&\": \",)&IF(FH32<>0,\"1.\"&'7.WEF Influence-Mine'!$BE124&\" \",)&IF(FI32<>0,\"2.\"&'7.WEF Influence-Mine'!$BE164&\" \",)&IF(FJ32<>0,\"3.\"&'7.WEF Influence-Mine'!$BE204&\" \",)&IF(FK32<>0,\"4.\"&'7.WEF Influence-Mine'!$BE244&\" \",)&IF(FL32<>0,\"5.\"&'7.WEF Influence-Mine'!$BE284&\" \",)","v":""},null,null,null,null,null,null,{"$f":"'3.WEF Status-Base'!AQ31","v":0},{"$f":"'7.WEF Influence-Mine'!$BH124","v":0},{"$f":"'7.WEF Influence-Mine'!$BH164","v":0},{"$f":"'7.WEF Influence-Mine'!$BH204","v":0},{"$f":"'7.WEF Influence-Mine'!$BH244","v":0},{"$f":"'7.WEF Influence-Mine'!$BH284","v":0},{"$f":"IF(FT32>=$D$7,\"B:\"&'3.WEF Status-Base'!$AR31&\": \",)&IF(FU32<>0,\"1.\"&'7.WEF Influence-Mine'!$BI124&\" \",)&IF(FV32<>0,\"2.\"&'7.WEF Influence-Mine'!$BI164&\" \",)&IF(FW32<>0,\"3.\"&'7.WEF Influence-Mine'!$BI204&\" \",)&IF(FX32<>0,\"4.\"&'7.WEF Influence-Mine'!$BI244&\" \",)&IF(FY32<>0,\"5.\"&'7.WEF Influence-Mine'!$BI284&\" \",)","v":""},null,null,null,null,null,null,{"$f":"'3.WEF Status-Base'!AT31","v":0},{"$f":"'7.WEF Influence-Mine'!$BL124","v":0},{"$f":"'7.WEF Influence-Mine'!$BL164","v":0},{"$f":"'7.WEF Influence-Mine'!$BL204","v":0},{"$f":"'7.WEF Influence-Mine'!$BL244","v":0},{"$f":"'7.WEF Influence-Mine'!$BL284","v":0},{"$f":"IF(GG32>=$D$7,\"B:\"&'3.WEF Status-Base'!$AU31&\": \",)&IF(GH32<>0,\"1.\"&'7.WEF Influence-Mine'!$BM124&\" \",)&IF(GI32<>0,\"2.\"&'7.WEF Influence-Mine'!$BM164&\" \",)&IF(GJ32<>0,\"3.\"&'7.WEF Influence-Mine'!$BM204&\" \",)&IF(GK32<>0,\"4.\"&'7.WEF Influence-Mine'!$BM244&\" \",)&IF(GL32<>0,\"5.\"&'7.WEF Influence-Mine'!$BM284&\" \",)","v":""},null,null,null,null,null,null,{"$f":"'3.WEF Status-Base'!AW31","v":0},{"$f":"'7.WEF Influence-Mine'!$BP124","v":0},{"$f":"'7.WEF Influence-Mine'!$BP164","v":0},{"$f":"'7.WEF Influence-Mine'!$BP204","v":0},{"$f":"'7.WEF Influence-Mine'!$BP244","v":0},{"$f":"'7.WEF Influence-Mine'!$BP284","v":0},{"$f":"IF(GT32>=$D$7,\"B:\"&'3.WEF Status-Base'!$AX31&\": \",)&IF(GU32<>0,\"1.\"&'7.WEF Influence-Mine'!$BQ124&\" \",)&IF(GV32<>0,\"2.\"&'7.WEF Influence-Mine'!$BQ164&\" \",)&IF(GW32<>0,\"3.\"&'7.WEF Influence-Mine'!$BQ204&\" \",)&IF(GX32<>0,\"4.\"&'7.WEF Influence-Mine'!$BQ244&\" \",)&IF(GY32<>0,\"5.\"&'7.WEF Influence-Mine'!$BQ284&\" \",)","v":""},null,null,null,null,null,null,{"$f":"'3.WEF Status-Base'!AZ31","v":0},{"$f":"'7.WEF Influence-Mine'!$BT124","v":0},{"$f":"'7.WEF Influence-Mine'!$BT164","v":0},{"$f":"'7.WEF Influence-Mine'!$BT204","v":0},{"$f":"'7.WEF Influence-Mine'!$BT244","v":0},{"$f":"'7.WEF Influence-Mine'!$BT284","v":0},{"$f":"IF(HG32>=$D$7,\"B:\"&'3.WEF Status-Base'!$BA31&\": \",)&IF(HH32<>0,\"1.\"&'7.WEF Influence-Mine'!$BU124&\" \",)&IF(HI32<>0,\"2.\"&'7.WEF Influence-Mine'!$BU164&\" \",)&IF(HJ32<>0,\"3.\"&'7.WEF Influence-Mine'!$BU204&\" \",)&IF(HK32<>0,\"4.\"&'7.WEF Influence-Mine'!$BU244&\" \",)&IF(HL32<>0,\"5.\"&'7.WEF Influence-Mine'!$BU284&\" \",)","v":""},null,null,null,null,null,null,{"$f":"'3.WEF Status-Base'!BC31","v":0},{"$f":"'7.WEF Influence-Mine'!$BX124","v":0},{"$f":"'7.WEF Influence-Mine'!$BX164","v":0},{"$f":"'7.WEF Influence-Mine'!$BX204","v":0},{"$f":"'7.WEF Influence-Mine'!$BX244","v":0},{"$f":"'7.WEF Influence-Mine'!$BX284","v":0},{"$f":"IF(HT32>=$D$7,\"B:\"&'3.WEF Status-Base'!$BD31&\": \",)&IF(HU32<>0,\"1.\"&'7.WEF Influence-Mine'!$BY124&\" \",)&IF(HV32<>0,\"2.\"&'7.WEF Influence-Mine'!$BY164&\" \",)&IF(HW32<>0,\"3.\"&'7.WEF Influence-Mine'!$BY204&\" \",)&IF(HX32<>0,\"4.\"&'7.WEF Influence-Mine'!$BY244&\" \",)&IF(HY32<>0,\"5.\"&'7.WEF Influence-Mine'!$BY284&\" \",)","v":""},null,null,null,null,null,null,{"$f":"'7.WEF Influence-Mine'!BZ124&\" : \"&'7.WEF Influence-Mine'!BZ164&\" : \"&'7.WEF Influence-Mine'!BZ204&\" : \"&'7.WEF Influence-Mine'!BZ244&\" : \"&'7.WEF Influence-Mine'!BZ284","v":"0 : 0 : 0 : 0 : 0"}]
[23,"Supporting Institutions and Policies","X","X","X"]
[24,"Institutions","x","x","x"]
[25,"     Utility boards",{"$f":"'3.WEF Status-Base'!B34","v":0},{"$f":"MAX($H35:$L35,$U35:$Y35,$AH35:$AL35,$AU35:$AY35,$BH35:$BL35,$BU35:$BY35,$CH35:$CL35,$CU35:$CY35,$DH35:$DL35,$DU35:$DY35,$EH35:$EL35,$EU35:$EY35,$FH35:$FL35,$FU35:$FY35,$GH35:$GL35,$GU35:$GY35,$HH35:$HL35,$HU35:$HY35)","v":0},{"$f":"MIN($H35:$L35,$U35:$Y35,$AH35:$AL35,$AU35:$AY35,$BH35:$BL35,$BU35:$BY35,$CH35:$CL35,$CU35:$CY35,$DH35:$DL35,$DU35:$DY35,$EH35:$EL35,$EU35:$EY35,$FH35:$FL35,$FU35:$FY35,$GH35:$GL35,$GU35:$GY35,$HH35:$HL35,$HU35:$HY35)","v":0},null,{"$f":"'3.WEF Status-Base'!D34","v":0},{"$f":"'7.WEF Influence-Mine'!$H127","v":0},{"$f":"'7.WEF Influence-Mine'!$H167","v":0},{"$f":"'7.WEF Influence-Mine'!$H207","v":0},{"$f":"'7.WEF Influence-Mine'!$H247","v":0},{"$f":"'7.WEF Influence-Mine'!$H287","v":0},{"$f":"IF(G35>=$D$7,\"B:\"&'3.WEF Status-Base'!$E34&\": \",)&IF(H35<>0,\"1. \"&'7.WEF Influence-Mine'!$I127&\" \",)&IF(I35<>0,\"2. \"&'7.WEF Influence-Mine'!$I167&\" \",)&IF(J35<>0,\"3. \"&'7.WEF Influence-Mine'!$I207&\" \",)&IF(K35<>0,\"4. \"&'7.WEF Influence-Mine'!$I247&\" \",)&IF(L35<>0,\"5. \"&'7.WEF Influence-Mine'!$I287&\" \",)","v":""},null,null,null,null,null,null,{"$f":"'3.WEF Status-Base'!G34","v":0},{"$f":"'7.WEF Influence-Mine'!$L127","v":0},{"$f":"'7.WEF Influence-Mine'!$L167","v":0},{"$f":"'7.WEF Influence-Mine'!$L207","v":0},{"$f":"'7.WEF Influence-Mine'!$L247","v":0},{"$f":"'7.WEF Influence-Mine'!$L287","v":0},{"$f":"IF(T35>=$D$7,\"B:\"&'3.WEF Status-Base'!$H34&\": \",)&IF(U35<>0,\"1.\"&'7.WEF Influence-Mine'!$M127&\" \",)&IF(V35<>0,\"2.\"&'7.WEF Influence-Mine'!$M167&\" \",)&IF(W35<>0,\"3.\"&'7.WEF Influence-Mine'!$M207&\" \",)&IF(X35<>0,\"4.\"&'7.WEF Influence-Mine'!$M247&\" \",)&IF(Y35<>0,\"5.\"&'7.WEF Influence-Mine'!$M287&\" \",)","v":""},null,null,null,null,null,null,{"$f":"'3.WEF Status-Base'!J34","v":0},{"$f":"'7.WEF Influence-Mine'!$P127","v":0},{"$f":"'7.WEF Influence-Mine'!$P167","v":0},{"$f":"'7.WEF Influence-Mine'!$P207","v":0},{"$f":"'7.WEF Influence-Mine'!$P247","v":0},{"$f":"'7.WEF Influence-Mine'!$P287","v":0},{"$f":"IF(AG35>=$D$7,\"B:\"&'3.WEF Status-Base'!$K34&\": \",)&IF(AH35<>0,\"1.\"&'7.WEF Influence-Mine'!$Q127&\" \",)&IF(AI35<>0,\"2.\"&'7.WEF Influence-Mine'!$Q167&\" \",)&IF(AJ35<>0,\"3.\"&'7.WEF Influence-Mine'!$Q207&\" \",)&IF(AK35<>0,\"4.\"&'7.WEF Influence-Mine'!$Q247&\" \",)&IF(AL35<>0,\"5.\"&'7.WEF Influence-Mine'!$Q287&\" \",)","v":""},null,null,null,null,null,null,{"$f":"'3.WEF Status-Base'!M34","v":0},{"$f":"'7.WEF Influence-Mine'!$T127","v":0},{"$f":"'7.WEF Influence-Mine'!$T167","v":0},{"$f":"'7.WEF Influence-Mine'!$T207","v":0},{"$f":"'7.WEF Influence-Mine'!$T247","v":0},{"$f":"'7.WEF Influence-Mine'!$T287","v":0},{"$f":"IF(AT35>=$D$7,\"B:\"&'3.WEF Status-Base'!$N34&\": \",)&IF(AU35<>0,\"1.\"&'7.WEF Influence-Mine'!$U127&\" \",)&IF(AV35<>0,\"2.\"&'7.WEF Influence-Mine'!$U167&\" \",)&IF(AW35<>0,\"3.\"&'7.WEF Influence-Mine'!$U207&\" \",)&IF(AX35<>0,\"4.\"&'7.WEF Influence-Mine'!$U247&\" \",)&IF(AY35<>0,\"5.\"&'7.WEF Influence-Mine'!$U287&\" \",)","v":""},null,null,null,null,null,null,{"$f":"'3.WEF Status-Base'!P34","v":0},{"$f":"'7.WEF Influence-Mine'!$X127","v":0},{"$f":"'7.WEF Influence-Mine'!$X167","v":0},{"$f":"'7.WEF Influence-Mine'!$X207","v":0},{"$f":"'7.WEF Influence-Mine'!$X247","v":0},{"$f":"'7.WEF Influence-Mine'!$X287","v":0},{"$f":"IF(BG35>=$D$7,\"B:\"&'3.WEF Status-Base'!$Q34&\": \",)&IF(BH35<>0,\"1.\"&'7.WEF Influence-Mine'!$Y127&\" \",)&IF(BI35<>0,\"2.\"&'7.WEF Influence-Mine'!$Y167&\" \",)&IF(BJ35<>0,\"3.\"&'7.WEF Influence-Mine'!$Y207&\" \",)&IF(BK35<>0,\"4.\"&'7.WEF Influence-Mine'!$Y247&\" \",)&IF(BL35<>0,\"5.\"&'7.WEF Influence-Mine'!$Y287&\" \",)","v":""},null,null,null,null,null,null,{"$f":"'3.WEF Status-Base'!S34","v":0},{"$f":"'7.WEF Influence-Mine'!$AB127","v":0},{"$f":"'7.WEF Influence-Mine'!$AB167","v":0},{"$f":"'7.WEF Influence-Mine'!$AB207","v":0},{"$f":"'7.WEF Influence-Mine'!$AB247","v":0},{"$f":"'7.WEF Influence-Mine'!$AB287","v":0},{"$f":"IF(BT35>=$D$7,\"B:\"&'3.WEF Status-Base'!$T34&\": \",)&IF(BU35<>0,\"1.\"&'7.WEF Influence-Mine'!$AC127&\" \",)&IF(BV35<>0,\"2.\"&'7.WEF Influence-Mine'!$AC167&\" \",)&IF(BW35<>0,\"3.\"&'7.WEF Influence-Mine'!$AC207&\" \",)&IF(BX35<>0,\"4.\"&'7.WEF Influence-Mine'!$AC247&\" \",)&IF(BY35<>0,\"5.\"&'7.WEF Influence-Mine'!$AC287&\" \",)","v":""},null,null,null,null,null,null,{"$f":"'3.WEF Status-Base'!V34","v":0},{"$f":"'7.WEF Influence-Mine'!$AF127","v":0},{"$f":"'7.WEF Influence-Mine'!$AF167","v":0},{"$f":"'7.WEF Influence-Mine'!$AF207","v":0},{"$f":"'7.WEF Influence-Mine'!$AF247","v":0},{"$f":"'7.WEF Influence-Mine'!$AF287","v":0},{"$f":"IF(CG35>=$D$7,\"B:\"&'3.WEF Status-Base'!$W34&\": \",)&IF(CH35<>0,\"1.\"&'7.WEF Influence-Mine'!$AG127&\" \",)&IF(CI35<>0,\"2.\"&'7.WEF Influence-Mine'!$AG167&\" \",)&IF(CJ35<>0,\"3.\"&'7.WEF Influence-Mine'!$AG207&\" \",)&IF(CK35<>0,\"4.\"&'7.WEF Influence-Mine'!$AG247&\" \",)&IF(CL35<>0,\"5.\"&'7.WEF Influence-Mine'!$AG287&\" \",)","v":""},null,null,null,null,null,null,{"$f":"'3.WEF Status-Base'!Y34","v":0},{"$f":"'7.WEF Influence-Mine'!$AJ127","v":0},{"$f":"'7.WEF Influence-Mine'!$AJ167","v":0},{"$f":"'7.WEF Influence-Mine'!$AJ207","v":0},{"$f":"'7.WEF Influence-Mine'!$AJ247","v":0},{"$f":"'7.WEF Influence-Mine'!$AJ287","v":0},{"$f":"IF(CT35>=$D$7,\"B:\"&'3.WEF Status-Base'!$Z34&\": \",)&IF(CU35<>0,\"1.\"&'7.WEF Influence-Mine'!$AK127&\" \",)&IF(CV35<>0,\"2.\"&'7.WEF Influence-Mine'!$AK167&\" \",)&IF(CW35<>0,\"3.\"&'7.WEF Influence-Mine'!$AK207&\" \",)&IF(CX35<>0,\"4.\"&'7.WEF Influence-Mine'!$AK247&\" \",)&IF(CY35<>0,\"5.\"&'7.WEF Influence-Mine'!$AK287&\" \",)","v":""},null,null,null,null,null,null,{"$f":"'3.WEF Status-Base'!AB34","v":0},{"$f":"'7.WEF Influence-Mine'!$AN127","v":0},{"$f":"'7.WEF Influence-Mine'!$AN167","v":0},{"$f":"'7.WEF Influence-Mine'!$AN207","v":0},{"$f":"'7.WEF Influence-Mine'!$AN247","v":0},{"$f":"'7.WEF Influence-Mine'!$AN287","v":0},{"$f":"IF(DG35>=$D$7,\"B:\"&'3.WEF Status-Base'!$AC34&\": \",)&IF(DH35<>0,\"1.\"&'7.WEF Influence-Mine'!$AO127&\" \",)&IF(DI35<>0,\"2.\"&'7.WEF Influence-Mine'!$AO167&\" \",)&IF(DJ35<>0,\"3.\"&'7.WEF Influence-Mine'!$AO207&\" \",)&IF(DK35<>0,\"4.\"&'7.WEF Influence-Mine'!$AO247&\" \",)&IF(DL35<>0,\"5.\"&'7.WEF Influence-Mine'!$AO287&\" \",)","v":""},null,null,null,null,null,null,{"$f":"'3.WEF Status-Base'!AE34","v":0},{"$f":"'7.WEF Influence-Mine'!$AR127","v":0},{"$f":"'7.WEF Influence-Mine'!$AR167","v":0},{"$f":"'7.WEF Influence-Mine'!$AR207","v":0},{"$f":"'7.WEF Influence-Mine'!$AR247","v":0},{"$f":"'7.WEF Influence-Mine'!$AR287","v":0},{"$f":"IF(DT35>=$D$7,\"B:\"&'3.WEF Status-Base'!$AF34&\": \",)&IF(DU35<>0,\"1.\"&'7.WEF Influence-Mine'!$AS127&\" \",)&IF(DV35<>0,\"2.\"&'7.WEF Influence-Mine'!$AS167&\" \",)&IF(DW35<>0,\"3.\"&'7.WEF Influence-Mine'!$AS207&\" \",)&IF(DX35<>0,\"4.\"&'7.WEF Influence-Mine'!$AS247&\" \",)&IF(DY35<>0,\"5.\"&'7.WEF Influence-Mine'!$AS287&\" \",)","v":""},null,null,null,null,null,null,{"$f":"'3.WEF Status-Base'!AH34","v":0},{"$f":"'7.WEF Influence-Mine'!$AV127","v":0},{"$f":"'7.WEF Influence-Mine'!$AV167","v":0},{"$f":"'7.WEF Influence-Mine'!$AV207","v":0},{"$f":"'7.WEF Influence-Mine'!$AV247","v":0},{"$f":"'7.WEF Influence-Mine'!$AV287","v":0},{"$f":"IF(EG35>=$D$7,\"B:\"&'3.WEF Status-Base'!$AI34&\": \",)&IF(EH35<>0,\"1.\"&'7.WEF Influence-Mine'!$AW127&\" \",)&IF(EI35<>0,\"2.\"&'7.WEF Influence-Mine'!$AW167&\" \",)&IF(EJ35<>0,\"3.\"&'7.WEF Influence-Mine'!$AW207&\" \",)&IF(EK35<>0,\"4.\"&'7.WEF Influence-Mine'!$AW247&\" \",)&IF(EL35<>0,\"5.\"&'7.WEF Influence-Mine'!$AW287&\" \",)","v":""},null,null,null,null,null,null,{"$f":"'3.WEF Status-Base'!AK34","v":0},{"$f":"'7.WEF Influence-Mine'!$AZ127","v":0},{"$f":"'7.WEF Influence-Mine'!$AZ167","v":0},{"$f":"'7.WEF Influence-Mine'!$AZ207","v":0},{"$f":"'7.WEF Influence-Mine'!$AZ247","v":0},{"$f":"'7.WEF Influence-Mine'!$AZ287","v":0},{"$f":"IF(ET35>=$D$7,\"B:\"&'3.WEF Status-Base'!$AL34&\": \",)&IF(EU35<>0,\"1.\"&'7.WEF Influence-Mine'!$BA127&\" \",)&IF(EV35<>0,\"2.\"&'7.WEF Influence-Mine'!$BA167&\" \",)&IF(EW35<>0,\"3.\"&'7.WEF Influence-Mine'!$BA207&\" \",)&IF(EX35<>0,\"4.\"&'7.WEF Influence-Mine'!$BA247&\" \",)&IF(EY35<>0,\"5.\"&'7.WEF Influence-Mine'!$BA287&\" \",)","v":""},null,null,null,null,null,null,{"$f":"'3.WEF Status-Base'!AN34","v":0},{"$f":"'7.WEF Influence-Mine'!$BD127","v":0},{"$f":"'7.WEF Influence-Mine'!$BD167","v":0},{"$f":"'7.WEF Influence-Mine'!$BD207","v":0},{"$f":"'7.WEF Influence-Mine'!$BD247","v":0},{"$f":"'7.WEF Influence-Mine'!$BD287","v":0},{"$f":"IF(FG35>=$D$7,\"B:\"&'3.WEF Status-Base'!$AO34&\": \",)&IF(FH35<>0,\"1.\"&'7.WEF Influence-Mine'!$BE127&\" \",)&IF(FI35<>0,\"2.\"&'7.WEF Influence-Mine'!$BE167&\" \",)&IF(FJ35<>0,\"3.\"&'7.WEF Influence-Mine'!$BE207&\" \",)&IF(FK35<>0,\"4.\"&'7.WEF Influence-Mine'!$BE247&\" \",)&IF(FL35<>0,\"5.\"&'7.WEF Influence-Mine'!$BE287&\" \",)","v":""},null,null,null,null,null,null,{"$f":"'3.WEF Status-Base'!AQ34","v":0},{"$f":"'7.WEF Influence-Mine'!$BH127","v":0},{"$f":"'7.WEF Influence-Mine'!$BH167","v":0},{"$f":"'7.WEF Influence-Mine'!$BH207","v":0},{"$f":"'7.WEF Influence-Mine'!$BH247","v":0},{"$f":"'7.WEF Influence-Mine'!$BH287","v":0},{"$f":"IF(FT35>=$D$7,\"B:\"&'3.WEF Status-Base'!$AR34&\": \",)&IF(FU35<>0,\"1.\"&'7.WEF Influence-Mine'!$BI127&\" \",)&IF(FV35<>0,\"2.\"&'7.WEF Influence-Mine'!$BI167&\" \",)&IF(FW35<>0,\"3.\"&'7.WEF Influence-Mine'!$BI207&\" \",)&IF(FX35<>0,\"4.\"&'7.WEF Influence-Mine'!$BI247&\" \",)&IF(FY35<>0,\"5.\"&'7.WEF Influence-Mine'!$BI287&\" \",)","v":""},null,null,null,null,null,null,{"$f":"'3.WEF Status-Base'!AT34","v":0},{"$f":"'7.WEF Influence-Mine'!$BL127","v":0},{"$f":"'7.WEF Influence-Mine'!$BL167","v":0},{"$f":"'7.WEF Influence-Mine'!$BL207","v":0},{"$f":"'7.WEF Influence-Mine'!$BL247","v":0},{"$f":"'7.WEF Influence-Mine'!$BL287","v":0},{"$f":"IF(GG35>=$D$7,\"B:\"&'3.WEF Status-Base'!$AU34&\": \",)&IF(GH35<>0,\"1.\"&'7.WEF Influence-Mine'!$BM127&\" \",)&IF(GI35<>0,\"2.\"&'7.WEF Influence-Mine'!$BM167&\" \",)&IF(GJ35<>0,\"3.\"&'7.WEF Influence-Mine'!$BM207&\" \",)&IF(GK35<>0,\"4.\"&'7.WEF Influence-Mine'!$BM247&\" \",)&IF(GL35<>0,\"5.\"&'7.WEF Influence-Mine'!$BM287&\" \",)","v":""},null,null,null,null,null,null,{"$f":"'3.WEF Status-Base'!AW34","v":0},{"$f":"'7.WEF Influence-Mine'!$BP127","v":0},{"$f":"'7.WEF Influence-Mine'!$BP167","v":0},{"$f":"'7.WEF Influence-Mine'!$BP207","v":0},{"$f":"'7.WEF Influence-Mine'!$BP247","v":0},{"$f":"'7.WEF Influence-Mine'!$BP287","v":0},{"$f":"IF(GT35>=$D$7,\"B:\"&'3.WEF Status-Base'!$AX34&\": \",)&IF(GU35<>0,\"1.\"&'7.WEF Influence-Mine'!$BQ127&\" \",)&IF(GV35<>0,\"2.\"&'7.WEF Influence-Mine'!$BQ167&\" \",)&IF(GW35<>0,\"3.\"&'7.WEF Influence-Mine'!$BQ207&\" \",)&IF(GX35<>0,\"4.\"&'7.WEF Influence-Mine'!$BQ247&\" \",)&IF(GY35<>0,\"5.\"&'7.WEF Influence-Mine'!$BQ287&\" \",)","v":""},null,null,null,null,null,null,{"$f":"'3.WEF Status-Base'!AZ34","v":0},{"$f":"'7.WEF Influence-Mine'!$BT127","v":0},{"$f":"'7.WEF Influence-Mine'!$BT167","v":0},{"$f":"'7.WEF Influence-Mine'!$BT207","v":0},{"$f":"'7.WEF Influence-Mine'!$BT247","v":0},{"$f":"'7.WEF Influence-Mine'!$BT287","v":0},{"$f":"IF(HG35>=$D$7,\"B:\"&'3.WEF Status-Base'!$BA34&\": \",)&IF(HH35<>0,\"1.\"&'7.WEF Influence-Mine'!$BU127&\" \",)&IF(HI35<>0,\"2.\"&'7.WEF Influence-Mine'!$BU167&\" \",)&IF(HJ35<>0,\"3.\"&'7.WEF Influence-Mine'!$BU207&\" \",)&IF(HK35<>0,\"4.\"&'7.WEF Influence-Mine'!$BU247&\" \",)&IF(HL35<>0,\"5.\"&'7.WEF Influence-Mine'!$BU287&\" \",)","v":""},null,null,null,null,null,null,{"$f":"'3.WEF Status-Base'!BC34","v":0},{"$f":"'7.WEF Influence-Mine'!$BX127","v":0},{"$f":"'7.WEF Influence-Mine'!$BX167","v":0},{"$f":"'7.WEF Influence-Mine'!$BX207","v":0},{"$f":"'7.WEF Influence-Mine'!$BX247","v":0},{"$f":"'7.WEF Influence-Mine'!$BX287","v":0},{"$f":"IF(HT35>=$D$7,\"B:\"&'3.WEF Status-Base'!$BD34&\": \",)&IF(HU35<>0,\"1.\"&'7.WEF Influence-Mine'!$BY127&\" \",)&IF(HV35<>0,\"2.\"&'7.WEF Influence-Mine'!$BY167&\" \",)&IF(HW35<>0,\"3.\"&'7.WEF Influence-Mine'!$BY207&\" \",)&IF(HX35<>0,\"4.\"&'7.WEF Influence-Mine'!$BY247&\" \",)&IF(HY35<>0,\"5.\"&'7.WEF Influence-Mine'!$BY287&\" \",)","v":""},null,null,null,null,null,null,{"$f":"'7.WEF Influence-Mine'!BZ127&\" : \"&'7.WEF Influence-Mine'!BZ167&\" : \"&'7.WEF Influence-Mine'!BZ207&\" : \"&'7.WEF Influence-Mine'!BZ247&\" : \"&'7.WEF Influence-Mine'!BZ287","v":"0 : 0 : 0 : 0 : 0"}]
[26,"     Resource Coops",{"$f":"'3.WEF Status-Base'!B35","v":0},0,{"$f":"MIN($H36:$L36,$U36:$Y36,$AH36:$AL36,$AU36:$AY36,$BH36:$BL36,$BU36:$BY36,$CH36:$CL36,$CU36:$CY36,$DH36:$DL36,$DU36:$DY36,$EH36:$EL36,$EU36:$EY36,$FH36:$FL36,$FU36:$FY36,$GH36:$GL36,$GU36:$GY36,$HH36:$HL36,$HU36:$HY36)","v":0},null,{"$f":"'3.WEF Status-Base'!D35","v":0},{"$f":"'7.WEF Influence-Mine'!$H128","v":0},{"$f":"'7.WEF Influence-Mine'!$H168","v":0},{"$f":"'7.WEF Influence-Mine'!$H208","v":0},{"$f":"'7.WEF Influence-Mine'!$H248","v":0},{"$f":"'7.WEF Influence-Mine'!$H288","v":0},{"$f":"IF(G36>=$D$7,\"B:\"&'3.WEF Status-Base'!$E35&\": \",)&IF(H36<>0,\"1. \"&'7.WEF Influence-Mine'!$I128&\" \",)&IF(I36<>0,\"2. \"&'7.WEF Influence-Mine'!$I168&\" \",)&IF(J36<>0,\"3. \"&'7.WEF Influence-Mine'!$I208&\" \",)&IF(K36<>0,\"4. \"&'7.WEF Influence-Mine'!$I248&\" \",)&IF(L36<>0,\"5. \"&'7.WEF Influence-Mine'!$I288&\" \",)","v":""},null,null,null,null,null,null,{"$f":"'3.WEF Status-Base'!G35","v":0},{"$f":"'7.WEF Influence-Mine'!$L128","v":0},{"$f":"'7.WEF Influence-Mine'!$L168","v":0},{"$f":"'7.WEF Influence-Mine'!$L208","v":0},{"$f":"'7.WEF Influence-Mine'!$L248","v":0},{"$f":"'7.WEF Influence-Mine'!$L288","v":0},{"$f":"IF(T36>=$D$7,\"B:\"&'3.WEF Status-Base'!$H35&\": \",)&IF(U36<>0,\"1.\"&'7.WEF Influence-Mine'!$M128&\" \",)&IF(V36<>0,\"2.\"&'7.WEF Influence-Mine'!$M168&\" \",)&IF(W36<>0,\"3.\"&'7.WEF Influence-Mine'!$M208&\" \",)&IF(X36<>0,\"4.\"&'7.WEF Influence-Mine'!$M248&\" \",)&IF(Y36<>0,\"5.\"&'7.WEF Influence-Mine'!$M288&\" \",)","v":""},null,null,null,null,null,null,{"$f":"'3.WEF Status-Base'!J35","v":0},{"$f":"'7.WEF Influence-Mine'!$P128","v":0},{"$f":"'7.WEF Influence-Mine'!$P168","v":0},{"$f":"'7.WEF Influence-Mine'!$P208","v":0},{"$f":"'7.WEF Influence-Mine'!$P248","v":0},{"$f":"'7.WEF Influence-Mine'!$P288","v":0},{"$f":"IF(AG36>=$D$7,\"B:\"&'3.WEF Status-Base'!$K35&\": \",)&IF(AH36<>0,\"1.\"&'7.WEF Influence-Mine'!$Q128&\" \",)&IF(AI36<>0,\"2.\"&'7.WEF Influence-Mine'!$Q168&\" \",)&IF(AJ36<>0,\"3.\"&'7.WEF Influence-Mine'!$Q208&\" \",)&IF(AK36<>0,\"4.\"&'7.WEF Influence-Mine'!$Q248&\" \",)&IF(AL36<>0,\"5.\"&'7.WEF Influence-Mine'!$Q288&\" \",)","v":""},null,null,null,null,null,null,{"$f":"'3.WEF Status-Base'!M35","v":0},{"$f":"'7.WEF Influence-Mine'!$T128","v":0},{"$f":"'7.WEF Influence-Mine'!$T168","v":0},{"$f":"'7.WEF Influence-Mine'!$T208","v":0},{"$f":"'7.WEF Influence-Mine'!$T248","v":0},{"$f":"'7.WEF Influence-Mine'!$T288","v":0},{"$f":"IF(AT36>=$D$7,\"B:\"&'3.WEF Status-Base'!$N35&\": \",)&IF(AU36<>0,\"1.\"&'7.WEF Influence-Mine'!$U128&\" \",)&IF(AV36<>0,\"2.\"&'7.WEF Influence-Mine'!$U168&\" \",)&IF(AW36<>0,\"3.\"&'7.WEF Influence-Mine'!$U208&\" \",)&IF(AX36<>0,\"4.\"&'7.WEF Influence-Mine'!$U248&\" \",)&IF(AY36<>0,\"5.\"&'7.WEF Influence-Mine'!$U288&\" \",)","v":""},null,null,null,null,null,null,{"$f":"'3.WEF Status-Base'!P35","v":0},{"$f":"'7.WEF Influence-Mine'!$X128","v":0},{"$f":"'7.WEF Influence-Mine'!$X168","v":0},{"$f":"'7.WEF Influence-Mine'!$X208","v":0},{"$f":"'7.WEF Influence-Mine'!$X248","v":0},{"$f":"'7.WEF Influence-Mine'!$X288","v":0},{"$f":"IF(BG36>=$D$7,\"B:\"&'3.WEF Status-Base'!$Q35&\": \",)&IF(BH36<>0,\"1.\"&'7.WEF Influence-Mine'!$Y128&\" \",)&IF(BI36<>0,\"2.\"&'7.WEF Influence-Mine'!$Y168&\" \",)&IF(BJ36<>0,\"3.\"&'7.WEF Influence-Mine'!$Y208&\" \",)&IF(BK36<>0,\"4.\"&'7.WEF Influence-Mine'!$Y248&\" \",)&IF(BL36<>0,\"5.\"&'7.WEF Influence-Mine'!$Y288&\" \",)","v":""},null,null,null,null,null,null,{"$f":"'3.WEF Status-Base'!S35","v":0},{"$f":"'7.WEF Influence-Mine'!$AB128","v":0},{"$f":"'7.WEF Influence-Mine'!$AB168","v":0},{"$f":"'7.WEF Influence-Mine'!$AB208","v":0},{"$f":"'7.WEF Influence-Mine'!$AB248","v":0},{"$f":"'7.WEF Influence-Mine'!$AB288","v":0},{"$f":"IF(BT36>=$D$7,\"B:\"&'3.WEF Status-Base'!$T35&\": \",)&IF(BU36<>0,\"1.\"&'7.WEF Influence-Mine'!$AC128&\" \",)&IF(BV36<>0,\"2.\"&'7.WEF Influence-Mine'!$AC168&\" \",)&IF(BW36<>0,\"3.\"&'7.WEF Influence-Mine'!$AC208&\" \",)&IF(BX36<>0,\"4.\"&'7.WEF Influence-Mine'!$AC248&\" \",)&IF(BY36<>0,\"5.\"&'7.WEF Influence-Mine'!$AC288&\" \",)","v":""},null,null,null,null,null,null,{"$f":"'3.WEF Status-Base'!V35","v":0},{"$f":"'7.WEF Influence-Mine'!$AF128","v":0},{"$f":"'7.WEF Influence-Mine'!$AF168","v":0},{"$f":"'7.WEF Influence-Mine'!$AF208","v":0},{"$f":"'7.WEF Influence-Mine'!$AF248","v":0},{"$f":"'7.WEF Influence-Mine'!$AF288","v":0},{"$f":"IF(CG36>=$D$7,\"B:\"&'3.WEF Status-Base'!$W35&\": \",)&IF(CH36<>0,\"1.\"&'7.WEF Influence-Mine'!$AG128&\" \",)&IF(CI36<>0,\"2.\"&'7.WEF Influence-Mine'!$AG168&\" \",)&IF(CJ36<>0,\"3.\"&'7.WEF Influence-Mine'!$AG208&\" \",)&IF(CK36<>0,\"4.\"&'7.WEF Influence-Mine'!$AG248&\" \",)&IF(CL36<>0,\"5.\"&'7.WEF Influence-Mine'!$AG288&\" \",)","v":""},null,null,null,null,null,null,{"$f":"'3.WEF Status-Base'!Y35","v":0},{"$f":"'7.WEF Influence-Mine'!$AJ128","v":0},{"$f":"'7.WEF Influence-Mine'!$AJ168","v":0},{"$f":"'7.WEF Influence-Mine'!$AJ208","v":0},{"$f":"'7.WEF Influence-Mine'!$AJ248","v":0},{"$f":"'7.WEF Influence-Mine'!$AJ288","v":0},{"$f":"IF(CT36>=$D$7,\"B:\"&'3.WEF Status-Base'!$Z35&\": \",)&IF(CU36<>0,\"1.\"&'7.WEF Influence-Mine'!$AK128&\" \",)&IF(CV36<>0,\"2.\"&'7.WEF Influence-Mine'!$AK168&\" \",)&IF(CW36<>0,\"3.\"&'7.WEF Influence-Mine'!$AK208&\" \",)&IF(CX36<>0,\"4.\"&'7.WEF Influence-Mine'!$AK248&\" \",)&IF(CY36<>0,\"5.\"&'7.WEF Influence-Mine'!$AK288&\" \",)","v":""},null,null,null,null,null,null,{"$f":"'3.WEF Status-Base'!AB35","v":0},{"$f":"'7.WEF Influence-Mine'!$AN128","v":0},{"$f":"'7.WEF Influence-Mine'!$AN168","v":0},{"$f":"'7.WEF Influence-Mine'!$AN208","v":0},{"$f":"'7.WEF Influence-Mine'!$AN248","v":0},{"$f":"'7.WEF Influence-Mine'!$AN288","v":0},{"$f":"IF(DG36>=$D$7,\"B:\"&'3.WEF Status-Base'!$AC35&\": \",)&IF(DH36<>0,\"1.\"&'7.WEF Influence-Mine'!$AO128&\" \",)&IF(DI36<>0,\"2.\"&'7.WEF Influence-Mine'!$AO168&\" \",)&IF(DJ36<>0,\"3.\"&'7.WEF Influence-Mine'!$AO208&\" \",)&IF(DK36<>0,\"4.\"&'7.WEF Influence-Mine'!$AO248&\" \",)&IF(DL36<>0,\"5.\"&'7.WEF Influence-Mine'!$AO288&\" \",)","v":""},null,null,null,null,null,null,{"$f":"'3.WEF Status-Base'!AE35","v":0},{"$f":"'7.WEF Influence-Mine'!$AR128","v":0},{"$f":"'7.WEF Influence-Mine'!$AR168","v":0},{"$f":"'7.WEF Influence-Mine'!$AR208","v":0},{"$f":"'7.WEF Influence-Mine'!$AR248","v":0},{"$f":"'7.WEF Influence-Mine'!$AR288","v":0},{"$f":"IF(DT36>=$D$7,\"B:\"&'3.WEF Status-Base'!$AF35&\": \",)&IF(DU36<>0,\"1.\"&'7.WEF Influence-Mine'!$AS128&\" \",)&IF(DV36<>0,\"2.\"&'7.WEF Influence-Mine'!$AS168&\" \",)&IF(DW36<>0,\"3.\"&'7.WEF Influence-Mine'!$AS208&\" \",)&IF(DX36<>0,\"4.\"&'7.WEF Influence-Mine'!$AS248&\" \",)&IF(DY36<>0,\"5.\"&'7.WEF Influence-Mine'!$AS288&\" \",)","v":""},null,null,null,null,null,null,{"$f":"'3.WEF Status-Base'!AH35","v":0},{"$f":"'7.WEF Influence-Mine'!$AV128","v":0},{"$f":"'7.WEF Influence-Mine'!$AV168","v":0},{"$f":"'7.WEF Influence-Mine'!$AV208","v":0},{"$f":"'7.WEF Influence-Mine'!$AV248","v":0},{"$f":"'7.WEF Influence-Mine'!$AV288","v":0},{"$f":"IF(EG36>=$D$7,\"B:\"&'3.WEF Status-Base'!$AI35&\": \",)&IF(EH36<>0,\"1.\"&'7.WEF Influence-Mine'!$AW128&\" \",)&IF(EI36<>0,\"2.\"&'7.WEF Influence-Mine'!$AW168&\" \",)&IF(EJ36<>0,\"3.\"&'7.WEF Influence-Mine'!$AW208&\" \",)&IF(EK36<>0,\"4.\"&'7.WEF Influence-Mine'!$AW248&\" \",)&IF(EL36<>0,\"5.\"&'7.WEF Influence-Mine'!$AW288&\" \",)","v":""},null,null,null,null,null,null,{"$f":"'3.WEF Status-Base'!AK35","v":0},{"$f":"'7.WEF Influence-Mine'!$AZ128","v":0},{"$f":"'7.WEF Influence-Mine'!$AZ168","v":0},{"$f":"'7.WEF Influence-Mine'!$AZ208","v":0},{"$f":"'7.WEF Influence-Mine'!$AZ248","v":0},{"$f":"'7.WEF Influence-Mine'!$AZ288","v":0},{"$f":"IF(ET36>=$D$7,\"B:\"&'3.WEF Status-Base'!$AL35&\": \",)&IF(EU36<>0,\"1.\"&'7.WEF Influence-Mine'!$BA128&\" \",)&IF(EV36<>0,\"2.\"&'7.WEF Influence-Mine'!$BA168&\" \",)&IF(EW36<>0,\"3.\"&'7.WEF Influence-Mine'!$BA208&\" \",)&IF(EX36<>0,\"4.\"&'7.WEF Influence-Mine'!$BA248&\" \",)&IF(EY36<>0,\"5.\"&'7.WEF Influence-Mine'!$BA288&\" \",)","v":""},null,null,null,null,null,null,{"$f":"'3.WEF Status-Base'!AN35","v":0},{"$f":"'7.WEF Influence-Mine'!$BD128","v":0},{"$f":"'7.WEF Influence-Mine'!$BD168","v":0},{"$f":"'7.WEF Influence-Mine'!$BD208","v":0},{"$f":"'7.WEF Influence-Mine'!$BD248","v":0},{"$f":"'7.WEF Influence-Mine'!$BD288","v":0},{"$f":"IF(FG36>=$D$7,\"B:\"&'3.WEF Status-Base'!$AO35&\": \",)&IF(FH36<>0,\"1.\"&'7.WEF Influence-Mine'!$BE128&\" \",)&IF(FI36<>0,\"2.\"&'7.WEF Influence-Mine'!$BE168&\" \",)&IF(FJ36<>0,\"3.\"&'7.WEF Influence-Mine'!$BE208&\" \",)&IF(FK36<>0,\"4.\"&'7.WEF Influence-Mine'!$BE248&\" \",)&IF(FL36<>0,\"5.\"&'7.WEF Influence-Mine'!$BE288&\" \",)","v":""},null,null,null,null,null,null,{"$f":"'3.WEF Status-Base'!AQ35","v":0},{"$f":"'7.WEF Influence-Mine'!$BH128","v":0},{"$f":"'7.WEF Influence-Mine'!$BH168","v":0},{"$f":"'7.WEF Influence-Mine'!$BH208","v":0},{"$f":"'7.WEF Influence-Mine'!$BH248","v":0},{"$f":"'7.WEF Influence-Mine'!$BH288","v":0},{"$f":"IF(FT36>=$D$7,\"B:\"&'3.WEF Status-Base'!$AR35&\": \",)&IF(FU36<>0,\"1.\"&'7.WEF Influence-Mine'!$BI128&\" \",)&IF(FV36<>0,\"2.\"&'7.WEF Influence-Mine'!$BI168&\" \",)&IF(FW36<>0,\"3.\"&'7.WEF Influence-Mine'!$BI208&\" \",)&IF(FX36<>0,\"4.\"&'7.WEF Influence-Mine'!$BI248&\" \",)&IF(FY36<>0,\"5.\"&'7.WEF Influence-Mine'!$BI288&\" \",)","v":""},null,null,null,null,null,null,{"$f":"'3.WEF Status-Base'!AT35","v":0},{"$f":"'7.WEF Influence-Mine'!$BL128","v":0},{"$f":"'7.WEF Influence-Mine'!$BL168","v":0},{"$f":"'7.WEF Influence-Mine'!$BL208","v":0},{"$f":"'7.WEF Influence-Mine'!$BL248","v":0},{"$f":"'7.WEF Influence-Mine'!$BL288","v":0},{"$f":"IF(GG36>=$D$7,\"B:\"&'3.WEF Status-Base'!$AU35&\": \",)&IF(GH36<>0,\"1.\"&'7.WEF Influence-Mine'!$BM128&\" \",)&IF(GI36<>0,\"2.\"&'7.WEF Influence-Mine'!$BM168&\" \",)&IF(GJ36<>0,\"3.\"&'7.WEF Influence-Mine'!$BM208&\" \",)&IF(GK36<>0,\"4.\"&'7.WEF Influence-Mine'!$BM248&\" \",)&IF(GL36<>0,\"5.\"&'7.WEF Influence-Mine'!$BM288&\" \",)","v":""},null,null,null,null,null,null,{"$f":"'3.WEF Status-Base'!AW35","v":0},{"$f":"'7.WEF Influence-Mine'!$BP128","v":0},{"$f":"'7.WEF Influence-Mine'!$BP168","v":0},{"$f":"'7.WEF Influence-Mine'!$BP208","v":0},{"$f":"'7.WEF Influence-Mine'!$BP248","v":0},{"$f":"'7.WEF Influence-Mine'!$BP288","v":0},{"$f":"IF(GT36>=$D$7,\"B:\"&'3.WEF Status-Base'!$AX35&\": \",)&IF(GU36<>0,\"1.\"&'7.WEF Influence-Mine'!$BQ128&\" \",)&IF(GV36<>0,\"2.\"&'7.WEF Influence-Mine'!$BQ168&\" \",)&IF(GW36<>0,\"3.\"&'7.WEF Influence-Mine'!$BQ208&\" \",)&IF(GX36<>0,\"4.\"&'7.WEF Influence-Mine'!$BQ248&\" \",)&IF(GY36<>0,\"5.\"&'7.WEF Influence-Mine'!$BQ288&\" \",)","v":""},null,null,null,null,null,null,{"$f":"'3.WEF Status-Base'!AZ35","v":0},{"$f":"'7.WEF Influence-Mine'!$BT128","v":0},{"$f":"'7.WEF Influence-Mine'!$BT168","v":0},{"$f":"'7.WEF Influence-Mine'!$BT208","v":0},{"$f":"'7.WEF Influence-Mine'!$BT248","v":0},{"$f":"'7.WEF Influence-Mine'!$BT288","v":0},{"$f":"IF(HG36>=$D$7,\"B:\"&'3.WEF Status-Base'!$BA35&\": \",)&IF(HH36<>0,\"1.\"&'7.WEF Influence-Mine'!$BU128&\" \",)&IF(HI36<>0,\"2.\"&'7.WEF Influence-Mine'!$BU168&\" \",)&IF(HJ36<>0,\"3.\"&'7.WEF Influence-Mine'!$BU208&\" \",)&IF(HK36<>0,\"4.\"&'7.WEF Influence-Mine'!$BU248&\" \",)&IF(HL36<>0,\"5.\"&'7.WEF Influence-Mine'!$BU288&\" \",)","v":""},null,null,null,null,null,null,{"$f":"'3.WEF Status-Base'!BC35","v":0},{"$f":"'7.WEF Influence-Mine'!$BX128","v":0},{"$f":"'7.WEF Influence-Mine'!$BX168","v":0},{"$f":"'7.WEF Influence-Mine'!$BX208","v":0},{"$f":"'7.WEF Influence-Mine'!$BX248","v":0},{"$f":"'7.WEF Influence-Mine'!$BX288","v":0},{"$f":"IF(HT36>=$D$7,\"B:\"&'3.WEF Status-Base'!$BD35&\": \",)&IF(HU36<>0,\"1.\"&'7.WEF Influence-Mine'!$BY128&\" \",)&IF(HV36<>0,\"2.\"&'7.WEF Influence-Mine'!$BY168&\" \",)&IF(HW36<>0,\"3.\"&'7.WEF Influence-Mine'!$BY208&\" \",)&IF(HX36<>0,\"4.\"&'7.WEF Influence-Mine'!$BY248&\" \",)&IF(HY36<>0,\"5.\"&'7.WEF Influence-Mine'!$BY288&\" \",)","v":""},null,null,null,null,null,null,{"$f":"'7.WEF Influence-Mine'!BZ128&\" : \"&'7.WEF Influence-Mine'!BZ168&\" : \"&'7.WEF Influence-Mine'!BZ208&\" : \"&'7.WEF Influence-Mine'!BZ248&\" : \"&'7.WEF Influence-Mine'!BZ288","v":"0 : 0 : 0 : 0 : 0"}]
[27,"     Safety oversight agencies",{"$f":"'3.WEF Status-Base'!B36","v":0},0,{"$f":"MIN($H37:$L37,$U37:$Y37,$AH37:$AL37,$AU37:$AY37,$BH37:$BL37,$BU37:$BY37,$CH37:$CL37,$CU37:$CY37,$DH37:$DL37,$DU37:$DY37,$EH37:$EL37,$EU37:$EY37,$FH37:$FL37,$FU37:$FY37,$GH37:$GL37,$GU37:$GY37,$HH37:$HL37,$HU37:$HY37)","v":0},null,{"$f":"'3.WEF Status-Base'!D36","v":0},{"$f":"'7.WEF Influence-Mine'!$H129","v":0},{"$f":"'7.WEF Influence-Mine'!$H169","v":0},{"$f":"'7.WEF Influence-Mine'!$H209","v":0},{"$f":"'7.WEF Influence-Mine'!$H249","v":0},{"$f":"'7.WEF Influence-Mine'!$H289","v":0},{"$f":"IF(G37>=$D$7,\"B:\"&'3.WEF Status-Base'!$E36&\": \",)&IF(H37<>0,\"1. \"&'7.WEF Influence-Mine'!$I129&\" \",)&IF(I37<>0,\"2. \"&'7.WEF Influence-Mine'!$I169&\" \",)&IF(J37<>0,\"3. \"&'7.WEF Influence-Mine'!$I209&\" \",)&IF(K37<>0,\"4. \"&'7.WEF Influence-Mine'!$I249&\" \",)&IF(L37<>0,\"5. \"&'7.WEF Influence-Mine'!$I289&\" \",)","v":""},null,null,null,null,null,null,{"$f":"'3.WEF Status-Base'!G36","v":0},{"$f":"'7.WEF Influence-Mine'!$L129","v":0},{"$f":"'7.WEF Influence-Mine'!$L169","v":0},{"$f":"'7.WEF Influence-Mine'!$L209","v":0},{"$f":"'7.WEF Influence-Mine'!$L249","v":0},{"$f":"'7.WEF Influence-Mine'!$L289","v":0},{"$f":"IF(T37>=$D$7,\"B:\"&'3.WEF Status-Base'!$H36&\": \",)&IF(U37<>0,\"1.\"&'7.WEF Influence-Mine'!$M129&\" \",)&IF(V37<>0,\"2.\"&'7.WEF Influence-Mine'!$M169&\" \",)&IF(W37<>0,\"3.\"&'7.WEF Influence-Mine'!$M209&\" \",)&IF(X37<>0,\"4.\"&'7.WEF Influence-Mine'!$M249&\" \",)&IF(Y37<>0,\"5.\"&'7.WEF Influence-Mine'!$M289&\" \",)","v":""},null,null,null,null,null,null,{"$f":"'3.WEF Status-Base'!J36","v":0},{"$f":"'7.WEF Influence-Mine'!$P129","v":0},{"$f":"'7.WEF Influence-Mine'!$P169","v":0},{"$f":"'7.WEF Influence-Mine'!$P209","v":0},{"$f":"'7.WEF Influence-Mine'!$P249","v":0},{"$f":"'7.WEF Influence-Mine'!$P289","v":0},{"$f":"IF(AG37>=$D$7,\"B:\"&'3.WEF Status-Base'!$K36&\": \",)&IF(AH37<>0,\"1.\"&'7.WEF Influence-Mine'!$Q129&\" \",)&IF(AI37<>0,\"2.\"&'7.WEF Influence-Mine'!$Q169&\" \",)&IF(AJ37<>0,\"3.\"&'7.WEF Influence-Mine'!$Q209&\" \",)&IF(AK37<>0,\"4.\"&'7.WEF Influence-Mine'!$Q249&\" \",)&IF(AL37<>0,\"5.\"&'7.WEF Influence-Mine'!$Q289&\" \",)","v":""},null,null,null,null,null,null,{"$f":"'3.WEF Status-Base'!M36","v":0},{"$f":"'7.WEF Influence-Mine'!$T129","v":0},{"$f":"'7.WEF Influence-Mine'!$T169","v":0},{"$f":"'7.WEF Influence-Mine'!$T209","v":0},{"$f":"'7.WEF Influence-Mine'!$T249","v":0},{"$f":"'7.WEF Influence-Mine'!$T289","v":0},{"$f":"IF(AT37>=$D$7,\"B:\"&'3.WEF Status-Base'!$N36&\": \",)&IF(AU37<>0,\"1.\"&'7.WEF Influence-Mine'!$U129&\" \",)&IF(AV37<>0,\"2.\"&'7.WEF Influence-Mine'!$U169&\" \",)&IF(AW37<>0,\"3.\"&'7.WEF Influence-Mine'!$U209&\" \",)&IF(AX37<>0,\"4.\"&'7.WEF Influence-Mine'!$U249&\" \",)&IF(AY37<>0,\"5.\"&'7.WEF Influence-Mine'!$U289&\" \",)","v":""},null,null,null,null,null,null,{"$f":"'3.WEF Status-Base'!P36","v":0},{"$f":"'7.WEF Influence-Mine'!$X129","v":0},{"$f":"'7.WEF Influence-Mine'!$X169","v":0},{"$f":"'7.WEF Influence-Mine'!$X209","v":0},{"$f":"'7.WEF Influence-Mine'!$X249","v":0},{"$f":"'7.WEF Influence-Mine'!$X289","v":0},{"$f":"IF(BG37>=$D$7,\"B:\"&'3.WEF Status-Base'!$Q36&\": \",)&IF(BH37<>0,\"1.\"&'7.WEF Influence-Mine'!$Y129&\" \",)&IF(BI37<>0,\"2.\"&'7.WEF Influence-Mine'!$Y169&\" \",)&IF(BJ37<>0,\"3.\"&'7.WEF Influence-Mine'!$Y209&\" \",)&IF(BK37<>0,\"4.\"&'7.WEF Influence-Mine'!$Y249&\" \",)&IF(BL37<>0,\"5.\"&'7.WEF Influence-Mine'!$Y289&\" \",)","v":""},null,null,null,null,null,null,{"$f":"'3.WEF Status-Base'!S36","v":0},{"$f":"'7.WEF Influence-Mine'!$AB129","v":0},{"$f":"'7.WEF Influence-Mine'!$AB169","v":0},{"$f":"'7.WEF Influence-Mine'!$AB209","v":0},{"$f":"'7.WEF Influence-Mine'!$AB249","v":0},{"$f":"'7.WEF Influence-Mine'!$AB289","v":0},{"$f":"IF(BT37>=$D$7,\"B:\"&'3.WEF Status-Base'!$T36&\": \",)&IF(BU37<>0,\"1.\"&'7.WEF Influence-Mine'!$AC129&\" \",)&IF(BV37<>0,\"2.\"&'7.WEF Influence-Mine'!$AC169&\" \",)&IF(BW37<>0,\"3.\"&'7.WEF Influence-Mine'!$AC209&\" \",)&IF(BX37<>0,\"4.\"&'7.WEF Influence-Mine'!$AC249&\" \",)&IF(BY37<>0,\"5.\"&'7.WEF Influence-Mine'!$AC289&\" \",)","v":""},null,null,null,null,null,null,{"$f":"'3.WEF Status-Base'!V36","v":0},{"$f":"'7.WEF Influence-Mine'!$AF129","v":0},{"$f":"'7.WEF Influence-Mine'!$AF169","v":0},{"$f":"'7.WEF Influence-Mine'!$AF209","v":0},{"$f":"'7.WEF Influence-Mine'!$AF249","v":0},{"$f":"'7.WEF Influence-Mine'!$AF289","v":0},{"$f":"IF(CG37>=$D$7,\"B:\"&'3.WEF Status-Base'!$W36&\": \",)&IF(CH37<>0,\"1.\"&'7.WEF Influence-Mine'!$AG129&\" \",)&IF(CI37<>0,\"2.\"&'7.WEF Influence-Mine'!$AG169&\" \",)&IF(CJ37<>0,\"3.\"&'7.WEF Influence-Mine'!$AG209&\" \",)&IF(CK37<>0,\"4.\"&'7.WEF Influence-Mine'!$AG249&\" \",)&IF(CL37<>0,\"5.\"&'7.WEF Influence-Mine'!$AG289&\" \",)","v":""},null,null,null,null,null,null,{"$f":"'3.WEF Status-Base'!Y36","v":0},{"$f":"'7.WEF Influence-Mine'!$AJ129","v":0},{"$f":"'7.WEF Influence-Mine'!$AJ169","v":0},{"$f":"'7.WEF Influence-Mine'!$AJ209","v":0},{"$f":"'7.WEF Influence-Mine'!$AJ249","v":0},{"$f":"'7.WEF Influence-Mine'!$AJ289","v":0},{"$f":"IF(CT37>=$D$7,\"B:\"&'3.WEF Status-Base'!$Z36&\": \",)&IF(CU37<>0,\"1.\"&'7.WEF Influence-Mine'!$AK129&\" \",)&IF(CV37<>0,\"2.\"&'7.WEF Influence-Mine'!$AK169&\" \",)&IF(CW37<>0,\"3.\"&'7.WEF Influence-Mine'!$AK209&\" \",)&IF(CX37<>0,\"4.\"&'7.WEF Influence-Mine'!$AK249&\" \",)&IF(CY37<>0,\"5.\"&'7.WEF Influence-Mine'!$AK289&\" \",)","v":""},null,null,null,null,null,null,{"$f":"'3.WEF Status-Base'!AB36","v":0},{"$f":"'7.WEF Influence-Mine'!$AN129","v":0},{"$f":"'7.WEF Influence-Mine'!$AN169","v":0},{"$f":"'7.WEF Influence-Mine'!$AN209","v":0},{"$f":"'7.WEF Influence-Mine'!$AN249","v":0},{"$f":"'7.WEF Influence-Mine'!$AN289","v":0},{"$f":"IF(DG37>=$D$7,\"B:\"&'3.WEF Status-Base'!$AC36&\": \",)&IF(DH37<>0,\"1.\"&'7.WEF Influence-Mine'!$AO129&\" \",)&IF(DI37<>0,\"2.\"&'7.WEF Influence-Mine'!$AO169&\" \",)&IF(DJ37<>0,\"3.\"&'7.WEF Influence-Mine'!$AO209&\" \",)&IF(DK37<>0,\"4.\"&'7.WEF Influence-Mine'!$AO249&\" \",)&IF(DL37<>0,\"5.\"&'7.WEF Influence-Mine'!$AO289&\" \",)","v":""},null,null,null,null,null,null,{"$f":"'3.WEF Status-Base'!AE36","v":0},{"$f":"'7.WEF Influence-Mine'!$AR129","v":0},{"$f":"'7.WEF Influence-Mine'!$AR169","v":0},{"$f":"'7.WEF Influence-Mine'!$AR209","v":0},{"$f":"'7.WEF Influence-Mine'!$AR249","v":0},{"$f":"'7.WEF Influence-Mine'!$AR289","v":0},{"$f":"IF(DT37>=$D$7,\"B:\"&'3.WEF Status-Base'!$AF36&\": \",)&IF(DU37<>0,\"1.\"&'7.WEF Influence-Mine'!$AS129&\" \",)&IF(DV37<>0,\"2.\"&'7.WEF Influence-Mine'!$AS169&\" \",)&IF(DW37<>0,\"3.\"&'7.WEF Influence-Mine'!$AS209&\" \",)&IF(DX37<>0,\"4.\"&'7.WEF Influence-Mine'!$AS249&\" \",)&IF(DY37<>0,\"5.\"&'7.WEF Influence-Mine'!$AS289&\" \",)","v":""},null,null,null,null,null,null,{"$f":"'3.WEF Status-Base'!AH36","v":0},{"$f":"'7.WEF Influence-Mine'!$AV129","v":0},{"$f":"'7.WEF Influence-Mine'!$AV169","v":0},{"$f":"'7.WEF Influence-Mine'!$AV209","v":0},{"$f":"'7.WEF Influence-Mine'!$AV249","v":0},{"$f":"'7.WEF Influence-Mine'!$AV289","v":0},{"$f":"IF(EG37>=$D$7,\"B:\"&'3.WEF Status-Base'!$AI36&\": \",)&IF(EH37<>0,\"1.\"&'7.WEF Influence-Mine'!$AW129&\" \",)&IF(EI37<>0,\"2.\"&'7.WEF Influence-Mine'!$AW169&\" \",)&IF(EJ37<>0,\"3.\"&'7.WEF Influence-Mine'!$AW209&\" \",)&IF(EK37<>0,\"4.\"&'7.WEF Influence-Mine'!$AW249&\" \",)&IF(EL37<>0,\"5.\"&'7.WEF Influence-Mine'!$AW289&\" \",)","v":""},null,null,null,null,null,null,{"$f":"'3.WEF Status-Base'!AK36","v":0},{"$f":"'7.WEF Influence-Mine'!$AZ129","v":0},{"$f":"'7.WEF Influence-Mine'!$AZ169","v":0},{"$f":"'7.WEF Influence-Mine'!$AZ209","v":0},{"$f":"'7.WEF Influence-Mine'!$AZ249","v":0},{"$f":"'7.WEF Influence-Mine'!$AZ289","v":0},{"$f":"IF(ET37>=$D$7,\"B:\"&'3.WEF Status-Base'!$AL36&\": \",)&IF(EU37<>0,\"1.\"&'7.WEF Influence-Mine'!$BA129&\" \",)&IF(EV37<>0,\"2.\"&'7.WEF Influence-Mine'!$BA169&\" \",)&IF(EW37<>0,\"3.\"&'7.WEF Influence-Mine'!$BA209&\" \",)&IF(EX37<>0,\"4.\"&'7.WEF Influence-Mine'!$BA249&\" \",)&IF(EY37<>0,\"5.\"&'7.WEF Influence-Mine'!$BA289&\" \",)","v":""},null,null,null,null,null,null,{"$f":"'3.WEF Status-Base'!AN36","v":0},{"$f":"'7.WEF Influence-Mine'!$BD129","v":0},{"$f":"'7.WEF Influence-Mine'!$BD169","v":0},{"$f":"'7.WEF Influence-Mine'!$BD209","v":0},{"$f":"'7.WEF Influence-Mine'!$BD249","v":0},{"$f":"'7.WEF Influence-Mine'!$BD289","v":0},{"$f":"IF(FG37>=$D$7,\"B:\"&'3.WEF Status-Base'!$AO36&\": \",)&IF(FH37<>0,\"1.\"&'7.WEF Influence-Mine'!$BE129&\" \",)&IF(FI37<>0,\"2.\"&'7.WEF Influence-Mine'!$BE169&\" \",)&IF(FJ37<>0,\"3.\"&'7.WEF Influence-Mine'!$BE209&\" \",)&IF(FK37<>0,\"4.\"&'7.WEF Influence-Mine'!$BE249&\" \",)&IF(FL37<>0,\"5.\"&'7.WEF Influence-Mine'!$BE289&\" \",)","v":""},null,null,null,null,null,null,{"$f":"'3.WEF Status-Base'!AQ36","v":0},{"$f":"'7.WEF Influence-Mine'!$BH129","v":0},{"$f":"'7.WEF Influence-Mine'!$BH169","v":0},{"$f":"'7.WEF Influence-Mine'!$BH209","v":0},{"$f":"'7.WEF Influence-Mine'!$BH249","v":0},{"$f":"'7.WEF Influence-Mine'!$BH289","v":0},{"$f":"IF(FT37>=$D$7,\"B:\"&'3.WEF Status-Base'!$AR36&\": \",)&IF(FU37<>0,\"1.\"&'7.WEF Influence-Mine'!$BI129&\" \",)&IF(FV37<>0,\"2.\"&'7.WEF Influence-Mine'!$BI169&\" \",)&IF(FW37<>0,\"3.\"&'7.WEF Influence-Mine'!$BI209&\" \",)&IF(FX37<>0,\"4.\"&'7.WEF Influence-Mine'!$BI249&\" \",)&IF(FY37<>0,\"5.\"&'7.WEF Influence-Mine'!$BI289&\" \",)","v":""},null,null,null,null,null,null,{"$f":"'3.WEF Status-Base'!AT36","v":0},{"$f":"'7.WEF Influence-Mine'!$BL129","v":0},{"$f":"'7.WEF Influence-Mine'!$BL169","v":0},{"$f":"'7.WEF Influence-Mine'!$BL209","v":0},{"$f":"'7.WEF Influence-Mine'!$BL249","v":0},{"$f":"'7.WEF Influence-Mine'!$BL289","v":0},{"$f":"IF(GG37>=$D$7,\"B:\"&'3.WEF Status-Base'!$AU36&\": \",)&IF(GH37<>0,\"1.\"&'7.WEF Influence-Mine'!$BM129&\" \",)&IF(GI37<>0,\"2.\"&'7.WEF Influence-Mine'!$BM169&\" \",)&IF(GJ37<>0,\"3.\"&'7.WEF Influence-Mine'!$BM209&\" \",)&IF(GK37<>0,\"4.\"&'7.WEF Influence-Mine'!$BM249&\" \",)&IF(GL37<>0,\"5.\"&'7.WEF Influence-Mine'!$BM289&\" \",)","v":""},null,null,null,null,null,null,{"$f":"'3.WEF Status-Base'!AW36","v":0},{"$f":"'7.WEF Influence-Mine'!$BP129","v":0},{"$f":"'7.WEF Influence-Mine'!$BP169","v":0},{"$f":"'7.WEF Influence-Mine'!$BP209","v":0},{"$f":"'7.WEF Influence-Mine'!$BP249","v":0},{"$f":"'7.WEF Influence-Mine'!$BP289","v":0},{"$f":"IF(GT37>=$D$7,\"B:\"&'3.WEF Status-Base'!$AX36&\": \",)&IF(GU37<>0,\"1.\"&'7.WEF Influence-Mine'!$BQ129&\" \",)&IF(GV37<>0,\"2.\"&'7.WEF Influence-Mine'!$BQ169&\" \",)&IF(GW37<>0,\"3.\"&'7.WEF Influence-Mine'!$BQ209&\" \",)&IF(GX37<>0,\"4.\"&'7.WEF Influence-Mine'!$BQ249&\" \",)&IF(GY37<>0,\"5.\"&'7.WEF Influence-Mine'!$BQ289&\" \",)","v":""},null,null,null,null,null,null,{"$f":"'3.WEF Status-Base'!AZ36","v":0},{"$f":"'7.WEF Influence-Mine'!$BT129","v":0},{"$f":"'7.WEF Influence-Mine'!$BT169","v":0},{"$f":"'7.WEF Influence-Mine'!$BT209","v":0},{"$f":"'7.WEF Influence-Mine'!$BT249","v":0},{"$f":"'7.WEF Influence-Mine'!$BT289","v":0},{"$f":"IF(HG37>=$D$7,\"B:\"&'3.WEF Status-Base'!$BA36&\": \",)&IF(HH37<>0,\"1.\"&'7.WEF Influence-Mine'!$BU129&\" \",)&IF(HI37<>0,\"2.\"&'7.WEF Influence-Mine'!$BU169&\" \",)&IF(HJ37<>0,\"3.\"&'7.WEF Influence-Mine'!$BU209&\" \",)&IF(HK37<>0,\"4.\"&'7.WEF Influence-Mine'!$BU249&\" \",)&IF(HL37<>0,\"5.\"&'7.WEF Influence-Mine'!$BU289&\" \",)","v":""},null,null,null,null,null,null,{"$f":"'3.WEF Status-Base'!BC36","v":0},{"$f":"'7.WEF Influence-Mine'!$BX129","v":0},{"$f":"'7.WEF Influence-Mine'!$BX169","v":0},{"$f":"'7.WEF Influence-Mine'!$BX209","v":0},{"$f":"'7.WEF Influence-Mine'!$BX249","v":0},{"$f":"'7.WEF Influence-Mine'!$BX289","v":0},{"$f":"IF(HT37>=$D$7,\"B:\"&'3.WEF Status-Base'!$BD36&\": \",)&IF(HU37<>0,\"1.\"&'7.WEF Influence-Mine'!$BY129&\" \",)&IF(HV37<>0,\"2.\"&'7.WEF Influence-Mine'!$BY169&\" \",)&IF(HW37<>0,\"3.\"&'7.WEF Influence-Mine'!$BY209&\" \",)&IF(HX37<>0,\"4.\"&'7.WEF Influence-Mine'!$BY249&\" \",)&IF(HY37<>0,\"5.\"&'7.WEF Influence-Mine'!$BY289&\" \",)","v":""},null,null,null,null,null,null,{"$f":"'7.WEF Influence-Mine'!BZ129&\" : \"&'7.WEF Influence-Mine'!BZ169&\" : \"&'7.WEF Influence-Mine'!BZ209&\" : \"&'7.WEF Influence-Mine'!BZ249&\" : \"&'7.WEF Influence-Mine'!BZ289","v":"0 : 0 : 0 : 0 : 0"}]
[28,"     Education and training",{"$f":"'3.WEF Status-Base'!B37","v":0},0,{"$f":"MIN($H38:$L38,$U38:$Y38,$AH38:$AL38,$AU38:$AY38,$BH38:$BL38,$BU38:$BY38,$CH38:$CL38,$CU38:$CY38,$DH38:$DL38,$DU38:$DY38,$EH38:$EL38,$EU38:$EY38,$FH38:$FL38,$FU38:$FY38,$GH38:$GL38,$GU38:$GY38,$HH38:$HL38,$HU38:$HY38)","v":0},null,{"$f":"'3.WEF Status-Base'!D37","v":0},{"$f":"'7.WEF Influence-Mine'!$H130","v":0},{"$f":"'7.WEF Influence-Mine'!$H170","v":0},{"$f":"'7.WEF Influence-Mine'!$H210","v":0},{"$f":"'7.WEF Influence-Mine'!$H250","v":0},{"$f":"'7.WEF Influence-Mine'!$H290","v":0},{"$f":"IF(G38>=$D$7,\"B:\"&'3.WEF Status-Base'!$E37&\": \",)&IF(H38<>0,\"1. \"&'7.WEF Influence-Mine'!$I130&\" \",)&IF(I38<>0,\"2. \"&'7.WEF Influence-Mine'!$I170&\" \",)&IF(J38<>0,\"3. \"&'7.WEF Influence-Mine'!$I210&\" \",)&IF(K38<>0,\"4. \"&'7.WEF Influence-Mine'!$I250&\" \",)&IF(L38<>0,\"5. \"&'7.WEF Influence-Mine'!$I290&\" \",)","v":""},null,null,null,null,null,null,{"$f":"'3.WEF Status-Base'!G37","v":0},{"$f":"'7.WEF Influence-Mine'!$L130","v":0},{"$f":"'7.WEF Influence-Mine'!$L170","v":0},{"$f":"'7.WEF Influence-Mine'!$L210","v":0},{"$f":"'7.WEF Influence-Mine'!$L250","v":0},{"$f":"'7.WEF Influence-Mine'!$L290","v":0},{"$f":"IF(T38>=$D$7,\"B:\"&'3.WEF Status-Base'!$H37&\": \",)&IF(U38<>0,\"1.\"&'7.WEF Influence-Mine'!$M130&\" \",)&IF(V38<>0,\"2.\"&'7.WEF Influence-Mine'!$M170&\" \",)&IF(W38<>0,\"3.\"&'7.WEF Influence-Mine'!$M210&\" \",)&IF(X38<>0,\"4.\"&'7.WEF Influence-Mine'!$M250&\" \",)&IF(Y38<>0,\"5.\"&'7.WEF Influence-Mine'!$M290&\" \",)","v":""},null,null,null,null,null,null,{"$f":"'3.WEF Status-Base'!J37","v":0},{"$f":"'7.WEF Influence-Mine'!$P130","v":0},{"$f":"'7.WEF Influence-Mine'!$P170","v":0},{"$f":"'7.WEF Influence-Mine'!$P210","v":0},{"$f":"'7.WEF Influence-Mine'!$P250","v":0},{"$f":"'7.WEF Influence-Mine'!$P290","v":0},{"$f":"IF(AG38>=$D$7,\"B:\"&'3.WEF Status-Base'!$K37&\": \",)&IF(AH38<>0,\"1.\"&'7.WEF Influence-Mine'!$Q130&\" \",)&IF(AI38<>0,\"2.\"&'7.WEF Influence-Mine'!$Q170&\" \",)&IF(AJ38<>0,\"3.\"&'7.WEF Influence-Mine'!$Q210&\" \",)&IF(AK38<>0,\"4.\"&'7.WEF Influence-Mine'!$Q250&\" \",)&IF(AL38<>0,\"5.\"&'7.WEF Influence-Mine'!$Q290&\" \",)","v":""},null,null,null,null,null,null,{"$f":"'3.WEF Status-Base'!M37","v":0},{"$f":"'7.WEF Influence-Mine'!$T130","v":0},{"$f":"'7.WEF Influence-Mine'!$T170","v":0},{"$f":"'7.WEF Influence-Mine'!$T210","v":0},{"$f":"'7.WEF Influence-Mine'!$T250","v":0},{"$f":"'7.WEF Influence-Mine'!$T290","v":0},{"$f":"IF(AT38>=$D$7,\"B:\"&'3.WEF Status-Base'!$N37&\": \",)&IF(AU38<>0,\"1.\"&'7.WEF Influence-Mine'!$U130&\" \",)&IF(AV38<>0,\"2.\"&'7.WEF Influence-Mine'!$U170&\" \",)&IF(AW38<>0,\"3.\"&'7.WEF Influence-Mine'!$U210&\" \",)&IF(AX38<>0,\"4.\"&'7.WEF Influence-Mine'!$U250&\" \",)&IF(AY38<>0,\"5.\"&'7.WEF Influence-Mine'!$U290&\" \",)","v":""},null,null,null,null,null,null,{"$f":"'3.WEF Status-Base'!P37","v":0},{"$f":"'7.WEF Influence-Mine'!$X130","v":0},{"$f":"'7.WEF Influence-Mine'!$X170","v":0},{"$f":"'7.WEF Influence-Mine'!$X210","v":0},{"$f":"'7.WEF Influence-Mine'!$X250","v":0},{"$f":"'7.WEF Influence-Mine'!$X290","v":0},{"$f":"IF(BG38>=$D$7,\"B:\"&'3.WEF Status-Base'!$Q37&\": \",)&IF(BH38<>0,\"1.\"&'7.WEF Influence-Mine'!$Y130&\" \",)&IF(BI38<>0,\"2.\"&'7.WEF Influence-Mine'!$Y170&\" \",)&IF(BJ38<>0,\"3.\"&'7.WEF Influence-Mine'!$Y210&\" \",)&IF(BK38<>0,\"4.\"&'7.WEF Influence-Mine'!$Y250&\" \",)&IF(BL38<>0,\"5.\"&'7.WEF Influence-Mine'!$Y290&\" \",)","v":""},null,null,null,null,null,null,{"$f":"'3.WEF Status-Base'!S37","v":0},{"$f":"'7.WEF Influence-Mine'!$AB130","v":0},{"$f":"'7.WEF Influence-Mine'!$AB170","v":0},{"$f":"'7.WEF Influence-Mine'!$AB210","v":0},{"$f":"'7.WEF Influence-Mine'!$AB250","v":0},{"$f":"'7.WEF Influence-Mine'!$AB290","v":0},{"$f":"IF(BT38>=$D$7,\"B:\"&'3.WEF Status-Base'!$T37&\": \",)&IF(BU38<>0,\"1.\"&'7.WEF Influence-Mine'!$AC130&\" \",)&IF(BV38<>0,\"2.\"&'7.WEF Influence-Mine'!$AC170&\" \",)&IF(BW38<>0,\"3.\"&'7.WEF Influence-Mine'!$AC210&\" \",)&IF(BX38<>0,\"4.\"&'7.WEF Influence-Mine'!$AC250&\" \",)&IF(BY38<>0,\"5.\"&'7.WEF Influence-Mine'!$AC290&\" \",)","v":""},null,null,null,null,null,null,{"$f":"'3.WEF Status-Base'!V37","v":0},{"$f":"'7.WEF Influence-Mine'!$AF130","v":0},{"$f":"'7.WEF Influence-Mine'!$AF170","v":0},{"$f":"'7.WEF Influence-Mine'!$AF210","v":0},{"$f":"'7.WEF Influence-Mine'!$AF250","v":0},{"$f":"'7.WEF Influence-Mine'!$AF290","v":0},{"$f":"IF(CG38>=$D$7,\"B:\"&'3.WEF Status-Base'!$W37&\": \",)&IF(CH38<>0,\"1.\"&'7.WEF Influence-Mine'!$AG130&\" \",)&IF(CI38<>0,\"2.\"&'7.WEF Influence-Mine'!$AG170&\" \",)&IF(CJ38<>0,\"3.\"&'7.WEF Influence-Mine'!$AG210&\" \",)&IF(CK38<>0,\"4.\"&'7.WEF Influence-Mine'!$AG250&\" \",)&IF(CL38<>0,\"5.\"&'7.WEF Influence-Mine'!$AG290&\" \",)","v":""},null,null,null,null,null,null,{"$f":"'3.WEF Status-Base'!Y37","v":0},{"$f":"'7.WEF Influence-Mine'!$AJ130","v":0},{"$f":"'7.WEF Influence-Mine'!$AJ170","v":0},{"$f":"'7.WEF Influence-Mine'!$AJ210","v":0},{"$f":"'7.WEF Influence-Mine'!$AJ250","v":0},{"$f":"'7.WEF Influence-Mine'!$AJ290","v":0},{"$f":"IF(CT38>=$D$7,\"B:\"&'3.WEF Status-Base'!$Z37&\": \",)&IF(CU38<>0,\"1.\"&'7.WEF Influence-Mine'!$AK130&\" \",)&IF(CV38<>0,\"2.\"&'7.WEF Influence-Mine'!$AK170&\" \",)&IF(CW38<>0,\"3.\"&'7.WEF Influence-Mine'!$AK210&\" \",)&IF(CX38<>0,\"4.\"&'7.WEF Influence-Mine'!$AK250&\" \",)&IF(CY38<>0,\"5.\"&'7.WEF Influence-Mine'!$AK290&\" \",)","v":""},null,null,null,null,null,null,{"$f":"'3.WEF Status-Base'!AB37","v":0},{"$f":"'7.WEF Influence-Mine'!$AN130","v":0},{"$f":"'7.WEF Influence-Mine'!$AN170","v":0},{"$f":"'7.WEF Influence-Mine'!$AN210","v":0},{"$f":"'7.WEF Influence-Mine'!$AN250","v":0},{"$f":"'7.WEF Influence-Mine'!$AN290","v":0},{"$f":"IF(DG38>=$D$7,\"B:\"&'3.WEF Status-Base'!$AC37&\": \",)&IF(DH38<>0,\"1.\"&'7.WEF Influence-Mine'!$AO130&\" \",)&IF(DI38<>0,\"2.\"&'7.WEF Influence-Mine'!$AO170&\" \",)&IF(DJ38<>0,\"3.\"&'7.WEF Influence-Mine'!$AO210&\" \",)&IF(DK38<>0,\"4.\"&'7.WEF Influence-Mine'!$AO250&\" \",)&IF(DL38<>0,\"5.\"&'7.WEF Influence-Mine'!$AO290&\" \",)","v":""},null,null,null,null,null,null,{"$f":"'3.WEF Status-Base'!AE37","v":0},{"$f":"'7.WEF Influence-Mine'!$AR130","v":0},{"$f":"'7.WEF Influence-Mine'!$AR170","v":0},{"$f":"'7.WEF Influence-Mine'!$AR210","v":0},{"$f":"'7.WEF Influence-Mine'!$AR250","v":0},{"$f":"'7.WEF Influence-Mine'!$AR290","v":0},{"$f":"IF(DT38>=$D$7,\"B:\"&'3.WEF Status-Base'!$AF37&\": \",)&IF(DU38<>0,\"1.\"&'7.WEF Influence-Mine'!$AS130&\" \",)&IF(DV38<>0,\"2.\"&'7.WEF Influence-Mine'!$AS170&\" \",)&IF(DW38<>0,\"3.\"&'7.WEF Influence-Mine'!$AS210&\" \",)&IF(DX38<>0,\"4.\"&'7.WEF Influence-Mine'!$AS250&\" \",)&IF(DY38<>0,\"5.\"&'7.WEF Influence-Mine'!$AS290&\" \",)","v":""},null,null,null,null,null,null,{"$f":"'3.WEF Status-Base'!AH37","v":0},{"$f":"'7.WEF Influence-Mine'!$AV130","v":0},{"$f":"'7.WEF Influence-Mine'!$AV170","v":0},{"$f":"'7.WEF Influence-Mine'!$AV210","v":0},{"$f":"'7.WEF Influence-Mine'!$AV250","v":0},{"$f":"'7.WEF Influence-Mine'!$AV290","v":0},{"$f":"IF(EG38>=$D$7,\"B:\"&'3.WEF Status-Base'!$AI37&\": \",)&IF(EH38<>0,\"1.\"&'7.WEF Influence-Mine'!$AW130&\" \",)&IF(EI38<>0,\"2.\"&'7.WEF Influence-Mine'!$AW170&\" \",)&IF(EJ38<>0,\"3.\"&'7.WEF Influence-Mine'!$AW210&\" \",)&IF(EK38<>0,\"4.\"&'7.WEF Influence-Mine'!$AW250&\" \",)&IF(EL38<>0,\"5.\"&'7.WEF Influence-Mine'!$AW290&\" \",)","v":""},null,null,null,null,null,null,{"$f":"'3.WEF Status-Base'!AK37","v":0},{"$f":"'7.WEF Influence-Mine'!$AZ130","v":0},{"$f":"'7.WEF Influence-Mine'!$AZ170","v":0},{"$f":"'7.WEF Influence-Mine'!$AZ210","v":0},{"$f":"'7.WEF Influence-Mine'!$AZ250","v":0},{"$f":"'7.WEF Influence-Mine'!$AZ290","v":0},{"$f":"IF(ET38>=$D$7,\"B:\"&'3.WEF Status-Base'!$AL37&\": \",)&IF(EU38<>0,\"1.\"&'7.WEF Influence-Mine'!$BA130&\" \",)&IF(EV38<>0,\"2.\"&'7.WEF Influence-Mine'!$BA170&\" \",)&IF(EW38<>0,\"3.\"&'7.WEF Influence-Mine'!$BA210&\" \",)&IF(EX38<>0,\"4.\"&'7.WEF Influence-Mine'!$BA250&\" \",)&IF(EY38<>0,\"5.\"&'7.WEF Influence-Mine'!$BA290&\" \",)","v":""},null,null,null,null,null,null,{"$f":"'3.WEF Status-Base'!AN37","v":0},{"$f":"'7.WEF Influence-Mine'!$BD130","v":0},{"$f":"'7.WEF Influence-Mine'!$BD170","v":0},{"$f":"'7.WEF Influence-Mine'!$BD210","v":0},{"$f":"'7.WEF Influence-Mine'!$BD250","v":0},{"$f":"'7.WEF Influence-Mine'!$BD290","v":0},{"$f":"IF(FG38>=$D$7,\"B:\"&'3.WEF Status-Base'!$AO37&\": \",)&IF(FH38<>0,\"1.\"&'7.WEF Influence-Mine'!$BE130&\" \",)&IF(FI38<>0,\"2.\"&'7.WEF Influence-Mine'!$BE170&\" \",)&IF(FJ38<>0,\"3.\"&'7.WEF Influence-Mine'!$BE210&\" \",)&IF(FK38<>0,\"4.\"&'7.WEF Influence-Mine'!$BE250&\" \",)&IF(FL38<>0,\"5.\"&'7.WEF Influence-Mine'!$BE290&\" \",)","v":""},null,null,null,null,null,null,{"$f":"'3.WEF Status-Base'!AQ37","v":0},{"$f":"'7.WEF Influence-Mine'!$BH130","v":0},{"$f":"'7.WEF Influence-Mine'!$BH170","v":0},{"$f":"'7.WEF Influence-Mine'!$BH210","v":0},{"$f":"'7.WEF Influence-Mine'!$BH250","v":0},{"$f":"'7.WEF Influence-Mine'!$BH290","v":0},{"$f":"IF(FT38>=$D$7,\"B:\"&'3.WEF Status-Base'!$AR37&\": \",)&IF(FU38<>0,\"1.\"&'7.WEF Influence-Mine'!$BI130&\" \",)&IF(FV38<>0,\"2.\"&'7.WEF Influence-Mine'!$BI170&\" \",)&IF(FW38<>0,\"3.\"&'7.WEF Influence-Mine'!$BI210&\" \",)&IF(FX38<>0,\"4.\"&'7.WEF Influence-Mine'!$BI250&\" \",)&IF(FY38<>0,\"5.\"&'7.WEF Influence-Mine'!$BI290&\" \",)","v":""},null,null,null,null,null,null,{"$f":"'3.WEF Status-Base'!AT37","v":0},{"$f":"'7.WEF Influence-Mine'!$BL130","v":0},{"$f":"'7.WEF Influence-Mine'!$BL170","v":0},{"$f":"'7.WEF Influence-Mine'!$BL210","v":0},{"$f":"'7.WEF Influence-Mine'!$BL250","v":0},{"$f":"'7.WEF Influence-Mine'!$BL290","v":0},{"$f":"IF(GG38>=$D$7,\"B:\"&'3.WEF Status-Base'!$AU37&\": \",)&IF(GH38<>0,\"1.\"&'7.WEF Influence-Mine'!$BM130&\" \",)&IF(GI38<>0,\"2.\"&'7.WEF Influence-Mine'!$BM170&\" \",)&IF(GJ38<>0,\"3.\"&'7.WEF Influence-Mine'!$BM210&\" \",)&IF(GK38<>0,\"4.\"&'7.WEF Influence-Mine'!$BM250&\" \",)&IF(GL38<>0,\"5.\"&'7.WEF Influence-Mine'!$BM290&\" \",)","v":""},null,null,null,null,null,null,{"$f":"'3.WEF Status-Base'!AW37","v":0},{"$f":"'7.WEF Influence-Mine'!$BP130","v":0},{"$f":"'7.WEF Influence-Mine'!$BP170","v":0},{"$f":"'7.WEF Influence-Mine'!$BP210","v":0},{"$f":"'7.WEF Influence-Mine'!$BP250","v":0},{"$f":"'7.WEF Influence-Mine'!$BP290","v":0},{"$f":"IF(GT38>=$D$7,\"B:\"&'3.WEF Status-Base'!$AX37&\": \",)&IF(GU38<>0,\"1.\"&'7.WEF Influence-Mine'!$BQ130&\" \",)&IF(GV38<>0,\"2.\"&'7.WEF Influence-Mine'!$BQ170&\" \",)&IF(GW38<>0,\"3.\"&'7.WEF Influence-Mine'!$BQ210&\" \",)&IF(GX38<>0,\"4.\"&'7.WEF Influence-Mine'!$BQ250&\" \",)&IF(GY38<>0,\"5.\"&'7.WEF Influence-Mine'!$BQ290&\" \",)","v":""},null,null,null,null,null,null,{"$f":"'3.WEF Status-Base'!AZ37","v":0},{"$f":"'7.WEF Influence-Mine'!$BT130","v":0},{"$f":"'7.WEF Influence-Mine'!$BT170","v":0},{"$f":"'7.WEF Influence-Mine'!$BT210","v":0},{"$f":"'7.WEF Influence-Mine'!$BT250","v":0},{"$f":"'7.WEF Influence-Mine'!$BT290","v":0},{"$f":"IF(HG38>=$D$7,\"B:\"&'3.WEF Status-Base'!$BA37&\": \",)&IF(HH38<>0,\"1.\"&'7.WEF Influence-Mine'!$BU130&\" \",)&IF(HI38<>0,\"2.\"&'7.WEF Influence-Mine'!$BU170&\" \",)&IF(HJ38<>0,\"3.\"&'7.WEF Influence-Mine'!$BU210&\" \",)&IF(HK38<>0,\"4.\"&'7.WEF Influence-Mine'!$BU250&\" \",)&IF(HL38<>0,\"5.\"&'7.WEF Influence-Mine'!$BU290&\" \",)","v":""},null,null,null,null,null,null,{"$f":"'3.WEF Status-Base'!BC37","v":0},{"$f":"'7.WEF Influence-Mine'!$BX130","v":0},{"$f":"'7.WEF Influence-Mine'!$BX170","v":0},{"$f":"'7.WEF Influence-Mine'!$BX210","v":0},{"$f":"'7.WEF Influence-Mine'!$BX250","v":0},{"$f":"'7.WEF Influence-Mine'!$BX290","v":0},{"$f":"IF(HT38>=$D$7,\"B:\"&'3.WEF Status-Base'!$BD37&\": \",)&IF(HU38<>0,\"1.\"&'7.WEF Influence-Mine'!$BY130&\" \",)&IF(HV38<>0,\"2.\"&'7.WEF Influence-Mine'!$BY170&\" \",)&IF(HW38<>0,\"3.\"&'7.WEF Influence-Mine'!$BY210&\" \",)&IF(HX38<>0,\"4.\"&'7.WEF Influence-Mine'!$BY250&\" \",)&IF(HY38<>0,\"5.\"&'7.WEF Influence-Mine'!$BY290&\" \",)","v":""},null,null,null,null,null,null,{"$f":"'7.WEF Influence-Mine'!BZ130&\" : \"&'7.WEF Influence-Mine'!BZ170&\" : \"&'7.WEF Influence-Mine'!BZ210&\" : \"&'7.WEF Influence-Mine'!BZ250&\" : \"&'7.WEF Influence-Mine'!BZ290","v":"0 : 0 : 0 : 0 : 0"}]
[29,"     Law enforcement",{"$f":"'3.WEF Status-Base'!B38","v":0},0,{"$f":"MIN($H39:$L39,$U39:$Y39,$AH39:$AL39,$AU39:$AY39,$BH39:$BL39,$BU39:$BY39,$CH39:$CL39,$CU39:$CY39,$DH39:$DL39,$DU39:$DY39,$EH39:$EL39,$EU39:$EY39,$FH39:$FL39,$FU39:$FY39,$GH39:$GL39,$GU39:$GY39,$HH39:$HL39,$HU39:$HY39)","v":0},null,{"$f":"'3.WEF Status-Base'!D38","v":0},{"$f":"'7.WEF Influence-Mine'!$H131","v":0},{"$f":"'7.WEF Influence-Mine'!$H171","v":0},{"$f":"'7.WEF Influence-Mine'!$H211","v":0},{"$f":"'7.WEF Influence-Mine'!$H251","v":0},{"$f":"'7.WEF Influence-Mine'!$H291","v":0},{"$f":"IF(G39>=$D$7,\"B:\"&'3.WEF Status-Base'!$E38&\": \",)&IF(H39<>0,\"1. \"&'7.WEF Influence-Mine'!$I131&\" \",)&IF(I39<>0,\"2. \"&'7.WEF Influence-Mine'!$I171&\" \",)&IF(J39<>0,\"3. \"&'7.WEF Influence-Mine'!$I211&\" \",)&IF(K39<>0,\"4. \"&'7.WEF Influence-Mine'!$I251&\" \",)&IF(L39<>0,\"5. \"&'7.WEF Influence-Mine'!$I291&\" \",)","v":""},null,null,null,null,null,null,{"$f":"'3.WEF Status-Base'!G38","v":0},{"$f":"'7.WEF Influence-Mine'!$L131","v":0},{"$f":"'7.WEF Influence-Mine'!$L171","v":0},{"$f":"'7.WEF Influence-Mine'!$L211","v":0},{"$f":"'7.WEF Influence-Mine'!$L251","v":0},{"$f":"'7.WEF Influence-Mine'!$L291","v":0},{"$f":"IF(T39>=$D$7,\"B:\"&'3.WEF Status-Base'!$H38&\": \",)&IF(U39<>0,\"1.\"&'7.WEF Influence-Mine'!$M131&\" \",)&IF(V39<>0,\"2.\"&'7.WEF Influence-Mine'!$M171&\" \",)&IF(W39<>0,\"3.\"&'7.WEF Influence-Mine'!$M211&\" \",)&IF(X39<>0,\"4.\"&'7.WEF Influence-Mine'!$M251&\" \",)&IF(Y39<>0,\"5.\"&'7.WEF Influence-Mine'!$M291&\" \",)","v":""},null,null,null,null,null,null,{"$f":"'3.WEF Status-Base'!J38","v":0},{"$f":"'7.WEF Influence-Mine'!$P131","v":0},{"$f":"'7.WEF Influence-Mine'!$P171","v":0},{"$f":"'7.WEF Influence-Mine'!$P211","v":0},{"$f":"'7.WEF Influence-Mine'!$P251","v":0},{"$f":"'7.WEF Influence-Mine'!$P291","v":0},{"$f":"IF(AG39>=$D$7,\"B:\"&'3.WEF Status-Base'!$K38&\": \",)&IF(AH39<>0,\"1.\"&'7.WEF Influence-Mine'!$Q131&\" \",)&IF(AI39<>0,\"2.\"&'7.WEF Influence-Mine'!$Q171&\" \",)&IF(AJ39<>0,\"3.\"&'7.WEF Influence-Mine'!$Q211&\" \",)&IF(AK39<>0,\"4.\"&'7.WEF Influence-Mine'!$Q251&\" \",)&IF(AL39<>0,\"5.\"&'7.WEF Influence-Mine'!$Q291&\" \",)","v":""},null,null,null,null,null,null,{"$f":"'3.WEF Status-Base'!M38","v":0},{"$f":"'7.WEF Influence-Mine'!$T131","v":0},{"$f":"'7.WEF Influence-Mine'!$T171","v":0},{"$f":"'7.WEF Influence-Mine'!$T211","v":0},{"$f":"'7.WEF Influence-Mine'!$T251","v":0},{"$f":"'7.WEF Influence-Mine'!$T291","v":0},{"$f":"IF(AT39>=$D$7,\"B:\"&'3.WEF Status-Base'!$N38&\": \",)&IF(AU39<>0,\"1.\"&'7.WEF Influence-Mine'!$U131&\" \",)&IF(AV39<>0,\"2.\"&'7.WEF Influence-Mine'!$U171&\" \",)&IF(AW39<>0,\"3.\"&'7.WEF Influence-Mine'!$U211&\" \",)&IF(AX39<>0,\"4.\"&'7.WEF Influence-Mine'!$U251&\" \",)&IF(AY39<>0,\"5.\"&'7.WEF Influence-Mine'!$U291&\" \",)","v":""},null,null,null,null,null,null,{"$f":"'3.WEF Status-Base'!P38","v":0},{"$f":"'7.WEF Influence-Mine'!$X131","v":0},{"$f":"'7.WEF Influence-Mine'!$X171","v":0},{"$f":"'7.WEF Influence-Mine'!$X211","v":0},{"$f":"'7.WEF Influence-Mine'!$X251","v":0},{"$f":"'7.WEF Influence-Mine'!$X291","v":0},{"$f":"IF(BG39>=$D$7,\"B:\"&'3.WEF Status-Base'!$Q38&\": \",)&IF(BH39<>0,\"1.\"&'7.WEF Influence-Mine'!$Y131&\" \",)&IF(BI39<>0,\"2.\"&'7.WEF Influence-Mine'!$Y171&\" \",)&IF(BJ39<>0,\"3.\"&'7.WEF Influence-Mine'!$Y211&\" \",)&IF(BK39<>0,\"4.\"&'7.WEF Influence-Mine'!$Y251&\" \",)&IF(BL39<>0,\"5.\"&'7.WEF Influence-Mine'!$Y291&\" \",)","v":""},null,null,null,null,null,null,{"$f":"'3.WEF Status-Base'!S38","v":0},{"$f":"'7.WEF Influence-Mine'!$AB131","v":0},{"$f":"'7.WEF Influence-Mine'!$AB171","v":0},{"$f":"'7.WEF Influence-Mine'!$AB211","v":0},{"$f":"'7.WEF Influence-Mine'!$AB251","v":0},{"$f":"'7.WEF Influence-Mine'!$AB291","v":0},{"$f":"IF(BT39>=$D$7,\"B:\"&'3.WEF Status-Base'!$T38&\": \",)&IF(BU39<>0,\"1.\"&'7.WEF Influence-Mine'!$AC131&\" \",)&IF(BV39<>0,\"2.\"&'7.WEF Influence-Mine'!$AC171&\" \",)&IF(BW39<>0,\"3.\"&'7.WEF Influence-Mine'!$AC211&\" \",)&IF(BX39<>0,\"4.\"&'7.WEF Influence-Mine'!$AC251&\" \",)&IF(BY39<>0,\"5.\"&'7.WEF Influence-Mine'!$AC291&\" \",)","v":""},null,null,null,null,null,null,{"$f":"'3.WEF Status-Base'!V38","v":0},{"$f":"'7.WEF Influence-Mine'!$AF131","v":0},{"$f":"'7.WEF Influence-Mine'!$AF171","v":0},{"$f":"'7.WEF Influence-Mine'!$AF211","v":0},{"$f":"'7.WEF Influence-Mine'!$AF251","v":0},{"$f":"'7.WEF Influence-Mine'!$AF291","v":0},{"$f":"IF(CG39>=$D$7,\"B:\"&'3.WEF Status-Base'!$W38&\": \",)&IF(CH39<>0,\"1.\"&'7.WEF Influence-Mine'!$AG131&\" \",)&IF(CI39<>0,\"2.\"&'7.WEF Influence-Mine'!$AG171&\" \",)&IF(CJ39<>0,\"3.\"&'7.WEF Influence-Mine'!$AG211&\" \",)&IF(CK39<>0,\"4.\"&'7.WEF Influence-Mine'!$AG251&\" \",)&IF(CL39<>0,\"5.\"&'7.WEF Influence-Mine'!$AG291&\" \",)","v":""},null,null,null,null,null,null,{"$f":"'3.WEF Status-Base'!Y38","v":0},{"$f":"'7.WEF Influence-Mine'!$AJ131","v":0},{"$f":"'7.WEF Influence-Mine'!$AJ171","v":0},{"$f":"'7.WEF Influence-Mine'!$AJ211","v":0},{"$f":"'7.WEF Influence-Mine'!$AJ251","v":0},{"$f":"'7.WEF Influence-Mine'!$AJ291","v":0},{"$f":"IF(CT39>=$D$7,\"B:\"&'3.WEF Status-Base'!$Z38&\": \",)&IF(CU39<>0,\"1.\"&'7.WEF Influence-Mine'!$AK131&\" \",)&IF(CV39<>0,\"2.\"&'7.WEF Influence-Mine'!$AK171&\" \",)&IF(CW39<>0,\"3.\"&'7.WEF Influence-Mine'!$AK211&\" \",)&IF(CX39<>0,\"4.\"&'7.WEF Influence-Mine'!$AK251&\" \",)&IF(CY39<>0,\"5.\"&'7.WEF Influence-Mine'!$AK291&\" \",)","v":""},null,null,null,null,null,null,{"$f":"'3.WEF Status-Base'!AB38","v":0},{"$f":"'7.WEF Influence-Mine'!$AN131","v":0},{"$f":"'7.WEF Influence-Mine'!$AN171","v":0},{"$f":"'7.WEF Influence-Mine'!$AN211","v":0},{"$f":"'7.WEF Influence-Mine'!$AN251","v":0},{"$f":"'7.WEF Influence-Mine'!$AN291","v":0},{"$f":"IF(DG39>=$D$7,\"B:\"&'3.WEF Status-Base'!$AC38&\": \",)&IF(DH39<>0,\"1.\"&'7.WEF Influence-Mine'!$AO131&\" \",)&IF(DI39<>0,\"2.\"&'7.WEF Influence-Mine'!$AO171&\" \",)&IF(DJ39<>0,\"3.\"&'7.WEF Influence-Mine'!$AO211&\" \",)&IF(DK39<>0,\"4.\"&'7.WEF Influence-Mine'!$AO251&\" \",)&IF(DL39<>0,\"5.\"&'7.WEF Influence-Mine'!$AO291&\" \",)","v":""},null,null,null,null,null,null,{"$f":"'3.WEF Status-Base'!AE38","v":0},{"$f":"'7.WEF Influence-Mine'!$AR131","v":0},{"$f":"'7.WEF Influence-Mine'!$AR171","v":0},{"$f":"'7.WEF Influence-Mine'!$AR211","v":0},{"$f":"'7.WEF Influence-Mine'!$AR251","v":0},{"$f":"'7.WEF Influence-Mine'!$AR291","v":0},{"$f":"IF(DT39>=$D$7,\"B:\"&'3.WEF Status-Base'!$AF38&\": \",)&IF(DU39<>0,\"1.\"&'7.WEF Influence-Mine'!$AS131&\" \",)&IF(DV39<>0,\"2.\"&'7.WEF Influence-Mine'!$AS171&\" \",)&IF(DW39<>0,\"3.\"&'7.WEF Influence-Mine'!$AS211&\" \",)&IF(DX39<>0,\"4.\"&'7.WEF Influence-Mine'!$AS251&\" \",)&IF(DY39<>0,\"5.\"&'7.WEF Influence-Mine'!$AS291&\" \",)","v":""},null,null,null,null,null,null,{"$f":"'3.WEF Status-Base'!AH38","v":0},{"$f":"'7.WEF Influence-Mine'!$AV131","v":0},{"$f":"'7.WEF Influence-Mine'!$AV171","v":0},{"$f":"'7.WEF Influence-Mine'!$AV211","v":0},{"$f":"'7.WEF Influence-Mine'!$AV251","v":0},{"$f":"'7.WEF Influence-Mine'!$AV291","v":0},{"$f":"IF(EG39>=$D$7,\"B:\"&'3.WEF Status-Base'!$AI38&\": \",)&IF(EH39<>0,\"1.\"&'7.WEF Influence-Mine'!$AW131&\" \",)&IF(EI39<>0,\"2.\"&'7.WEF Influence-Mine'!$AW171&\" \",)&IF(EJ39<>0,\"3.\"&'7.WEF Influence-Mine'!$AW211&\" \",)&IF(EK39<>0,\"4.\"&'7.WEF Influence-Mine'!$AW251&\" \",)&IF(EL39<>0,\"5.\"&'7.WEF Influence-Mine'!$AW291&\" \",)","v":""},null,null,null,null,null,null,{"$f":"'3.WEF Status-Base'!AK38","v":0},{"$f":"'7.WEF Influence-Mine'!$AZ131","v":0},{"$f":"'7.WEF Influence-Mine'!$AZ171","v":0},{"$f":"'7.WEF Influence-Mine'!$AZ211","v":0},{"$f":"'7.WEF Influence-Mine'!$AZ251","v":0},{"$f":"'7.WEF Influence-Mine'!$AZ291","v":0},{"$f":"IF(ET39>=$D$7,\"B:\"&'3.WEF Status-Base'!$AL38&\": \",)&IF(EU39<>0,\"1.\"&'7.WEF Influence-Mine'!$BA131&\" \",)&IF(EV39<>0,\"2.\"&'7.WEF Influence-Mine'!$BA171&\" \",)&IF(EW39<>0,\"3.\"&'7.WEF Influence-Mine'!$BA211&\" \",)&IF(EX39<>0,\"4.\"&'7.WEF Influence-Mine'!$BA251&\" \",)&IF(EY39<>0,\"5.\"&'7.WEF Influence-Mine'!$BA291&\" \",)","v":""},null,null,null,null,null,null,{"$f":"'3.WEF Status-Base'!AN38","v":0},{"$f":"'7.WEF Influence-Mine'!$BD131","v":0},{"$f":"'7.WEF Influence-Mine'!$BD171","v":0},{"$f":"'7.WEF Influence-Mine'!$BD211","v":0},{"$f":"'7.WEF Influence-Mine'!$BD251","v":0},{"$f":"'7.WEF Influence-Mine'!$BD291","v":0},{"$f":"IF(FG39>=$D$7,\"B:\"&'3.WEF Status-Base'!$AO38&\": \",)&IF(FH39<>0,\"1.\"&'7.WEF Influence-Mine'!$BE131&\" \",)&IF(FI39<>0,\"2.\"&'7.WEF Influence-Mine'!$BE171&\" \",)&IF(FJ39<>0,\"3.\"&'7.WEF Influence-Mine'!$BE211&\" \",)&IF(FK39<>0,\"4.\"&'7.WEF Influence-Mine'!$BE251&\" \",)&IF(FL39<>0,\"5.\"&'7.WEF Influence-Mine'!$BE291&\" \",)","v":""},null,null,null,null,null,null,{"$f":"'3.WEF Status-Base'!AQ38","v":0},{"$f":"'7.WEF Influence-Mine'!$BH131","v":0},{"$f":"'7.WEF Influence-Mine'!$BH171","v":0},{"$f":"'7.WEF Influence-Mine'!$BH211","v":0},{"$f":"'7.WEF Influence-Mine'!$BH251","v":0},{"$f":"'7.WEF Influence-Mine'!$BH291","v":0},{"$f":"IF(FT39>=$D$7,\"B:\"&'3.WEF Status-Base'!$AR38&\": \",)&IF(FU39<>0,\"1.\"&'7.WEF Influence-Mine'!$BI131&\" \",)&IF(FV39<>0,\"2.\"&'7.WEF Influence-Mine'!$BI171&\" \",)&IF(FW39<>0,\"3.\"&'7.WEF Influence-Mine'!$BI211&\" \",)&IF(FX39<>0,\"4.\"&'7.WEF Influence-Mine'!$BI251&\" \",)&IF(FY39<>0,\"5.\"&'7.WEF Influence-Mine'!$BI291&\" \",)","v":""},null,null,null,null,null,null,{"$f":"'3.WEF Status-Base'!AT38","v":0},{"$f":"'7.WEF Influence-Mine'!$BL131","v":0},{"$f":"'7.WEF Influence-Mine'!$BL171","v":0},{"$f":"'7.WEF Influence-Mine'!$BL211","v":0},{"$f":"'7.WEF Influence-Mine'!$BL251","v":0},{"$f":"'7.WEF Influence-Mine'!$BL291","v":0},{"$f":"IF(GG39>=$D$7,\"B:\"&'3.WEF Status-Base'!$AU38&\": \",)&IF(GH39<>0,\"1.\"&'7.WEF Influence-Mine'!$BM131&\" \",)&IF(GI39<>0,\"2.\"&'7.WEF Influence-Mine'!$BM171&\" \",)&IF(GJ39<>0,\"3.\"&'7.WEF Influence-Mine'!$BM211&\" \",)&IF(GK39<>0,\"4.\"&'7.WEF Influence-Mine'!$BM251&\" \",)&IF(GL39<>0,\"5.\"&'7.WEF Influence-Mine'!$BM291&\" \",)","v":""},null,null,null,null,null,null,{"$f":"'3.WEF Status-Base'!AW38","v":0},{"$f":"'7.WEF Influence-Mine'!$BP131","v":0},{"$f":"'7.WEF Influence-Mine'!$BP171","v":0},{"$f":"'7.WEF Influence-Mine'!$BP211","v":0},{"$f":"'7.WEF Influence-Mine'!$BP251","v":0},{"$f":"'7.WEF Influence-Mine'!$BP291","v":0},{"$f":"IF(GT39>=$D$7,\"B:\"&'3.WEF Status-Base'!$AX38&\": \",)&IF(GU39<>0,\"1.\"&'7.WEF Influence-Mine'!$BQ131&\" \",)&IF(GV39<>0,\"2.\"&'7.WEF Influence-Mine'!$BQ171&\" \",)&IF(GW39<>0,\"3.\"&'7.WEF Influence-Mine'!$BQ211&\" \",)&IF(GX39<>0,\"4.\"&'7.WEF Influence-Mine'!$BQ251&\" \",)&IF(GY39<>0,\"5.\"&'7.WEF Influence-Mine'!$BQ291&\" \",)","v":""},null,null,null,null,null,null,{"$f":"'3.WEF Status-Base'!AZ38","v":0},{"$f":"'7.WEF Influence-Mine'!$BT131","v":0},{"$f":"'7.WEF Influence-Mine'!$BT171","v":0},{"$f":"'7.WEF Influence-Mine'!$BT211","v":0},{"$f":"'7.WEF Influence-Mine'!$BT251","v":0},{"$f":"'7.WEF Influence-Mine'!$BT291","v":0},{"$f":"IF(HG39>=$D$7,\"B:\"&'3.WEF Status-Base'!$BA38&\": \",)&IF(HH39<>0,\"1.\"&'7.WEF Influence-Mine'!$BU131&\" \",)&IF(HI39<>0,\"2.\"&'7.WEF Influence-Mine'!$BU171&\" \",)&IF(HJ39<>0,\"3.\"&'7.WEF Influence-Mine'!$BU211&\" \",)&IF(HK39<>0,\"4.\"&'7.WEF Influence-Mine'!$BU251&\" \",)&IF(HL39<>0,\"5.\"&'7.WEF Influence-Mine'!$BU291&\" \",)","v":""},null,null,null,null,null,null,{"$f":"'3.WEF Status-Base'!BC38","v":0},{"$f":"'7.WEF Influence-Mine'!$BX131","v":0},{"$f":"'7.WEF Influence-Mine'!$BX171","v":0},{"$f":"'7.WEF Influence-Mine'!$BX211","v":0},{"$f":"'7.WEF Influence-Mine'!$BX251","v":0},{"$f":"'7.WEF Influence-Mine'!$BX291","v":0},{"$f":"IF(HT39>=$D$7,\"B:\"&'3.WEF Status-Base'!$BD38&\": \",)&IF(HU39<>0,\"1.\"&'7.WEF Influence-Mine'!$BY131&\" \",)&IF(HV39<>0,\"2.\"&'7.WEF Influence-Mine'!$BY171&\" \",)&IF(HW39<>0,\"3.\"&'7.WEF Influence-Mine'!$BY211&\" \",)&IF(HX39<>0,\"4.\"&'7.WEF Influence-Mine'!$BY251&\" \",)&IF(HY39<>0,\"5.\"&'7.WEF Influence-Mine'!$BY291&\" \",)","v":""},null,null,null,null,null,null,{"$f":"'7.WEF Influence-Mine'!BZ131&\" : \"&'7.WEF Influence-Mine'!BZ171&\" : \"&'7.WEF Influence-Mine'!BZ211&\" : \"&'7.WEF Influence-Mine'!BZ251&\" : \"&'7.WEF Influence-Mine'!BZ291","v":"0 : 0 : 0 : 0 : 0"}]
[30,"Policies and Plans","x","x","x"]
[31,"     Resource use",{"$f":"'3.WEF Status-Base'!B40","v":0},0,{"$f":"MIN($H41:$L41,$U41:$Y41,$AH41:$AL41,$AU41:$AY41,$BH41:$BL41,$BU41:$BY41,$CH41:$CL41,$CU41:$CY41,$DH41:$DL41,$DU41:$DY41,$EH41:$EL41,$EU41:$EY41,$FH41:$FL41,$FU41:$FY41,$GH41:$GL41,$GU41:$GY41,$HH41:$HL41,$HU41:$HY41)","v":0},null,{"$f":"'3.WEF Status-Base'!D40","v":0},{"$f":"'7.WEF Influence-Mine'!$H133","v":0},{"$f":"'7.WEF Influence-Mine'!$H173","v":0},{"$f":"'7.WEF Influence-Mine'!$H213","v":0},{"$f":"'7.WEF Influence-Mine'!$H253","v":0},{"$f":"'7.WEF Influence-Mine'!$H293","v":0},{"$f":"IF(G41>=$D$7,\"B:\"&'3.WEF Status-Base'!$E40&\": \",)&IF(H41<>0,\"1. \"&'7.WEF Influence-Mine'!$I133&\" \",)&IF(I41<>0,\"2. \"&'7.WEF Influence-Mine'!$I173&\" \",)&IF(J41<>0,\"3. \"&'7.WEF Influence-Mine'!$I213&\" \",)&IF(K41<>0,\"4. \"&'7.WEF Influence-Mine'!$I253&\" \",)&IF(L41<>0,\"5. \"&'7.WEF Influence-Mine'!$I293&\" \",)","v":""},null,null,null,null,null,null,{"$f":"'3.WEF Status-Base'!G40","v":0},{"$f":"'7.WEF Influence-Mine'!$L133","v":0},{"$f":"'7.WEF Influence-Mine'!$L173","v":0},{"$f":"'7.WEF Influence-Mine'!$L213","v":0},{"$f":"'7.WEF Influence-Mine'!$L253","v":0},{"$f":"'7.WEF Influence-Mine'!$L293","v":0},{"$f":"IF(T41>=$D$7,\"B:\"&'3.WEF Status-Base'!$H40&\": \",)&IF(U41<>0,\"1.\"&'7.WEF Influence-Mine'!$M133&\" \",)&IF(V41<>0,\"2.\"&'7.WEF Influence-Mine'!$M173&\" \",)&IF(W41<>0,\"3.\"&'7.WEF Influence-Mine'!$M213&\" \",)&IF(X41<>0,\"4.\"&'7.WEF Influence-Mine'!$M253&\" \",)&IF(Y41<>0,\"5.\"&'7.WEF Influence-Mine'!$M293&\" \",)","v":""},null,null,null,null,null,null,{"$f":"'3.WEF Status-Base'!J40","v":0},{"$f":"'7.WEF Influence-Mine'!$P133","v":0},{"$f":"'7.WEF Influence-Mine'!$P173","v":0},{"$f":"'7.WEF Influence-Mine'!$P213","v":0},{"$f":"'7.WEF Influence-Mine'!$P253","v":0},{"$f":"'7.WEF Influence-Mine'!$P293","v":0},{"$f":"IF(AG41>=$D$7,\"B:\"&'3.WEF Status-Base'!$K40&\": \",)&IF(AH41<>0,\"1.\"&'7.WEF Influence-Mine'!$Q133&\" \",)&IF(AI41<>0,\"2.\"&'7.WEF Influence-Mine'!$Q173&\" \",)&IF(AJ41<>0,\"3.\"&'7.WEF Influence-Mine'!$Q213&\" \",)&IF(AK41<>0,\"4.\"&'7.WEF Influence-Mine'!$Q253&\" \",)&IF(AL41<>0,\"5.\"&'7.WEF Influence-Mine'!$Q293&\" \",)","v":""},null,null,null,null,null,null,{"$f":"'3.WEF Status-Base'!M40","v":0},{"$f":"'7.WEF Influence-Mine'!$T133","v":0},{"$f":"'7.WEF Influence-Mine'!$T173","v":0},{"$f":"'7.WEF Influence-Mine'!$T213","v":0},{"$f":"'7.WEF Influence-Mine'!$T253","v":0},{"$f":"'7.WEF Influence-Mine'!$T293","v":0},{"$f":"IF(AT41>=$D$7,\"B:\"&'3.WEF Status-Base'!$N40&\": \",)&IF(AU41<>0,\"1.\"&'7.WEF Influence-Mine'!$U133&\" \",)&IF(AV41<>0,\"2.\"&'7.WEF Influence-Mine'!$U173&\" \",)&IF(AW41<>0,\"3.\"&'7.WEF Influence-Mine'!$U213&\" \",)&IF(AX41<>0,\"4.\"&'7.WEF Influence-Mine'!$U253&\" \",)&IF(AY41<>0,\"5.\"&'7.WEF Influence-Mine'!$U293&\" \",)","v":""},null,null,null,null,null,null,{"$f":"'3.WEF Status-Base'!P40","v":0},{"$f":"'7.WEF Influence-Mine'!$X133","v":0},{"$f":"'7.WEF Influence-Mine'!$X173","v":0},{"$f":"'7.WEF Influence-Mine'!$X213","v":0},{"$f":"'7.WEF Influence-Mine'!$X253","v":0},{"$f":"'7.WEF Influence-Mine'!$X293","v":0},{"$f":"IF(BG41>=$D$7,\"B:\"&'3.WEF Status-Base'!$Q40&\": \",)&IF(BH41<>0,\"1.\"&'7.WEF Influence-Mine'!$Y133&\" \",)&IF(BI41<>0,\"2.\"&'7.WEF Influence-Mine'!$Y173&\" \",)&IF(BJ41<>0,\"3.\"&'7.WEF Influence-Mine'!$Y213&\" \",)&IF(BK41<>0,\"4.\"&'7.WEF Influence-Mine'!$Y253&\" \",)&IF(BL41<>0,\"5.\"&'7.WEF Influence-Mine'!$Y293&\" \",)","v":""},null,null,null,null,null,null,{"$f":"'3.WEF Status-Base'!S40","v":0},{"$f":"'7.WEF Influence-Mine'!$AB133","v":0},{"$f":"'7.WEF Influence-Mine'!$AB173","v":0},{"$f":"'7.WEF Influence-Mine'!$AB213","v":0},{"$f":"'7.WEF Influence-Mine'!$AB253","v":0},{"$f":"'7.WEF Influence-Mine'!$AB293","v":0},{"$f":"IF(BT41>=$D$7,\"B:\"&'3.WEF Status-Base'!$T40&\": \",)&IF(BU41<>0,\"1.\"&'7.WEF Influence-Mine'!$AC133&\" \",)&IF(BV41<>0,\"2.\"&'7.WEF Influence-Mine'!$AC173&\" \",)&IF(BW41<>0,\"3.\"&'7.WEF Influence-Mine'!$AC213&\" \",)&IF(BX41<>0,\"4.\"&'7.WEF Influence-Mine'!$AC253&\" \",)&IF(BY41<>0,\"5.\"&'7.WEF Influence-Mine'!$AC293&\" \",)","v":""},null,null,null,null,null,null,{"$f":"'3.WEF Status-Base'!V40","v":0},{"$f":"'7.WEF Influence-Mine'!$AF133","v":0},{"$f":"'7.WEF Influence-Mine'!$AF173","v":0},{"$f":"'7.WEF Influence-Mine'!$AF213","v":0},{"$f":"'7.WEF Influence-Mine'!$AF253","v":0},{"$f":"'7.WEF Influence-Mine'!$AF293","v":0},{"$f":"IF(CG41>=$D$7,\"B:\"&'3.WEF Status-Base'!$W40&\": \",)&IF(CH41<>0,\"1.\"&'7.WEF Influence-Mine'!$AG133&\" \",)&IF(CI41<>0,\"2.\"&'7.WEF Influence-Mine'!$AG173&\" \",)&IF(CJ41<>0,\"3.\"&'7.WEF Influence-Mine'!$AG213&\" \",)&IF(CK41<>0,\"4.\"&'7.WEF Influence-Mine'!$AG253&\" \",)&IF(CL41<>0,\"5.\"&'7.WEF Influence-Mine'!$AG293&\" \",)","v":""},null,null,null,null,null,null,{"$f":"'3.WEF Status-Base'!Y40","v":0},{"$f":"'7.WEF Influence-Mine'!$AJ133","v":0},{"$f":"'7.WEF Influence-Mine'!$AJ173","v":0},{"$f":"'7.WEF Influence-Mine'!$AJ213","v":0},{"$f":"'7.WEF Influence-Mine'!$AJ253","v":0},{"$f":"'7.WEF Influence-Mine'!$AJ293","v":0},{"$f":"IF(CT41>=$D$7,\"B:\"&'3.WEF Status-Base'!$Z40&\": \",)&IF(CU41<>0,\"1.\"&'7.WEF Influence-Mine'!$AK133&\" \",)&IF(CV41<>0,\"2.\"&'7.WEF Influence-Mine'!$AK173&\" \",)&IF(CW41<>0,\"3.\"&'7.WEF Influence-Mine'!$AK213&\" \",)&IF(CX41<>0,\"4.\"&'7.WEF Influence-Mine'!$AK253&\" \",)&IF(CY41<>0,\"5.\"&'7.WEF Influence-Mine'!$AK293&\" \",)","v":""},null,null,null,null,null,null,{"$f":"'3.WEF Status-Base'!AB40","v":0},{"$f":"'7.WEF Influence-Mine'!$AN133","v":0},{"$f":"'7.WEF Influence-Mine'!$AN173","v":0},{"$f":"'7.WEF Influence-Mine'!$AN213","v":0},{"$f":"'7.WEF Influence-Mine'!$AN253","v":0},{"$f":"'7.WEF Influence-Mine'!$AN293","v":0},{"$f":"IF(DG41>=$D$7,\"B:\"&'3.WEF Status-Base'!$AC40&\": \",)&IF(DH41<>0,\"1.\"&'7.WEF Influence-Mine'!$AO133&\" \",)&IF(DI41<>0,\"2.\"&'7.WEF Influence-Mine'!$AO173&\" \",)&IF(DJ41<>0,\"3.\"&'7.WEF Influence-Mine'!$AO213&\" \",)&IF(DK41<>0,\"4.\"&'7.WEF Influence-Mine'!$AO253&\" \",)&IF(DL41<>0,\"5.\"&'7.WEF Influence-Mine'!$AO293&\" \",)","v":""},null,null,null,null,null,null,{"$f":"'3.WEF Status-Base'!AE40","v":0},{"$f":"'7.WEF Influence-Mine'!$AR133","v":0},{"$f":"'7.WEF Influence-Mine'!$AR173","v":0},{"$f":"'7.WEF Influence-Mine'!$AR213","v":0},{"$f":"'7.WEF Influence-Mine'!$AR253","v":0},{"$f":"'7.WEF Influence-Mine'!$AR293","v":0},{"$f":"IF(DT41>=$D$7,\"B:\"&'3.WEF Status-Base'!$AF40&\": \",)&IF(DU41<>0,\"1.\"&'7.WEF Influence-Mine'!$AS133&\" \",)&IF(DV41<>0,\"2.\"&'7.WEF Influence-Mine'!$AS173&\" \",)&IF(DW41<>0,\"3.\"&'7.WEF Influence-Mine'!$AS213&\" \",)&IF(DX41<>0,\"4.\"&'7.WEF Influence-Mine'!$AS253&\" \",)&IF(DY41<>0,\"5.\"&'7.WEF Influence-Mine'!$AS293&\" \",)","v":""},null,null,null,null,null,null,{"$f":"'3.WEF Status-Base'!AH40","v":0},{"$f":"'7.WEF Influence-Mine'!$AV133","v":0},{"$f":"'7.WEF Influence-Mine'!$AV173","v":0},{"$f":"'7.WEF Influence-Mine'!$AV213","v":0},{"$f":"'7.WEF Influence-Mine'!$AV253","v":0},{"$f":"'7.WEF Influence-Mine'!$AV293","v":0},{"$f":"IF(EG41>=$D$7,\"B:\"&'3.WEF Status-Base'!$AI40&\": \",)&IF(EH41<>0,\"1.\"&'7.WEF Influence-Mine'!$AW133&\" \",)&IF(EI41<>0,\"2.\"&'7.WEF Influence-Mine'!$AW173&\" \",)&IF(EJ41<>0,\"3.\"&'7.WEF Influence-Mine'!$AW213&\" \",)&IF(EK41<>0,\"4.\"&'7.WEF Influence-Mine'!$AW253&\" \",)&IF(EL41<>0,\"5.\"&'7.WEF Influence-Mine'!$AW293&\" \",)","v":""},null,null,null,null,null,null,{"$f":"'3.WEF Status-Base'!AK40","v":0},{"$f":"'7.WEF Influence-Mine'!$AZ133","v":0},{"$f":"'7.WEF Influence-Mine'!$AZ173","v":0},{"$f":"'7.WEF Influence-Mine'!$AZ213","v":0},{"$f":"'7.WEF Influence-Mine'!$AZ253","v":0},{"$f":"'7.WEF Influence-Mine'!$AZ293","v":0},{"$f":"IF(ET41>=$D$7,\"B:\"&'3.WEF Status-Base'!$AL40&\": \",)&IF(EU41<>0,\"1.\"&'7.WEF Influence-Mine'!$BA133&\" \",)&IF(EV41<>0,\"2.\"&'7.WEF Influence-Mine'!$BA173&\" \",)&IF(EW41<>0,\"3.\"&'7.WEF Influence-Mine'!$BA213&\" \",)&IF(EX41<>0,\"4.\"&'7.WEF Influence-Mine'!$BA253&\" \",)&IF(EY41<>0,\"5.\"&'7.WEF Influence-Mine'!$BA293&\" \",)","v":""},null,null,null,null,null,null,{"$f":"'3.WEF Status-Base'!AN40","v":0},{"$f":"'7.WEF Influence-Mine'!$BD133","v":0},{"$f":"'7.WEF Influence-Mine'!$BD173","v":0},{"$f":"'7.WEF Influence-Mine'!$BD213","v":0},{"$f":"'7.WEF Influence-Mine'!$BD253","v":0},{"$f":"'7.WEF Influence-Mine'!$BD293","v":0},{"$f":"IF(FG41>=$D$7,\"B:\"&'3.WEF Status-Base'!$AO40&\": \",)&IF(FH41<>0,\"1.\"&'7.WEF Influence-Mine'!$BE133&\" \",)&IF(FI41<>0,\"2.\"&'7.WEF Influence-Mine'!$BE173&\" \",)&IF(FJ41<>0,\"3.\"&'7.WEF Influence-Mine'!$BE213&\" \",)&IF(FK41<>0,\"4.\"&'7.WEF Influence-Mine'!$BE253&\" \",)&IF(FL41<>0,\"5.\"&'7.WEF Influence-Mine'!$BE293&\" \",)","v":""},null,null,null,null,null,null,{"$f":"'3.WEF Status-Base'!AQ40","v":0},{"$f":"'7.WEF Influence-Mine'!$BH133","v":0},{"$f":"'7.WEF Influence-Mine'!$BH173","v":0},{"$f":"'7.WEF Influence-Mine'!$BH213","v":0},{"$f":"'7.WEF Influence-Mine'!$BH253","v":0},{"$f":"'7.WEF Influence-Mine'!$BH293","v":0},{"$f":"IF(FT41>=$D$7,\"B:\"&'3.WEF Status-Base'!$AR40&\": \",)&IF(FU41<>0,\"1.\"&'7.WEF Influence-Mine'!$BI133&\" \",)&IF(FV41<>0,\"2.\"&'7.WEF Influence-Mine'!$BI173&\" \",)&IF(FW41<>0,\"3.\"&'7.WEF Influence-Mine'!$BI213&\" \",)&IF(FX41<>0,\"4.\"&'7.WEF Influence-Mine'!$BI253&\" \",)&IF(FY41<>0,\"5.\"&'7.WEF Influence-Mine'!$BI293&\" \",)","v":""},null,null,null,null,null,null,{"$f":"'3.WEF Status-Base'!AT40","v":0},{"$f":"'7.WEF Influence-Mine'!$BL133","v":0},{"$f":"'7.WEF Influence-Mine'!$BL173","v":0},{"$f":"'7.WEF Influence-Mine'!$BL213","v":0},{"$f":"'7.WEF Influence-Mine'!$BL253","v":0},{"$f":"'7.WEF Influence-Mine'!$BL293","v":0},{"$f":"IF(GG41>=$D$7,\"B:\"&'3.WEF Status-Base'!$AU40&\": \",)&IF(GH41<>0,\"1.\"&'7.WEF Influence-Mine'!$BM133&\" \",)&IF(GI41<>0,\"2.\"&'7.WEF Influence-Mine'!$BM173&\" \",)&IF(GJ41<>0,\"3.\"&'7.WEF Influence-Mine'!$BM213&\" \",)&IF(GK41<>0,\"4.\"&'7.WEF Influence-Mine'!$BM253&\" \",)&IF(GL41<>0,\"5.\"&'7.WEF Influence-Mine'!$BM293&\" \",)","v":""},null,null,null,null,null,null,{"$f":"'3.WEF Status-Base'!AW40","v":0},{"$f":"'7.WEF Influence-Mine'!$BP133","v":0},{"$f":"'7.WEF Influence-Mine'!$BP173","v":0},{"$f":"'7.WEF Influence-Mine'!$BP213","v":0},{"$f":"'7.WEF Influence-Mine'!$BP253","v":0},{"$f":"'7.WEF Influence-Mine'!$BP293","v":0},{"$f":"IF(GT41>=$D$7,\"B:\"&'3.WEF Status-Base'!$AX40&\": \",)&IF(GU41<>0,\"1.\"&'7.WEF Influence-Mine'!$BQ133&\" \",)&IF(GV41<>0,\"2.\"&'7.WEF Influence-Mine'!$BQ173&\" \",)&IF(GW41<>0,\"3.\"&'7.WEF Influence-Mine'!$BQ213&\" \",)&IF(GX41<>0,\"4.\"&'7.WEF Influence-Mine'!$BQ253&\" \",)&IF(GY41<>0,\"5.\"&'7.WEF Influence-Mine'!$BQ293&\" \",)","v":""},null,null,null,null,null,null,{"$f":"'3.WEF Status-Base'!AZ40","v":0},{"$f":"'7.WEF Influence-Mine'!$BT133","v":0},{"$f":"'7.WEF Influence-Mine'!$BT173","v":0},{"$f":"'7.WEF Influence-Mine'!$BT213","v":0},{"$f":"'7.WEF Influence-Mine'!$BT253","v":0},{"$f":"'7.WEF Influence-Mine'!$BT293","v":0},{"$f":"IF(HG41>=$D$7,\"B:\"&'3.WEF Status-Base'!$BA40&\": \",)&IF(HH41<>0,\"1.\"&'7.WEF Influence-Mine'!$BU133&\" \",)&IF(HI41<>0,\"2.\"&'7.WEF Influence-Mine'!$BU173&\" \",)&IF(HJ41<>0,\"3.\"&'7.WEF Influence-Mine'!$BU213&\" \",)&IF(HK41<>0,\"4.\"&'7.WEF Influence-Mine'!$BU253&\" \",)&IF(HL41<>0,\"5.\"&'7.WEF Influence-Mine'!$BU293&\" \",)","v":""},null,null,null,null,null,null,{"$f":"'3.WEF Status-Base'!BC40","v":0},{"$f":"'7.WEF Influence-Mine'!$BX133","v":0},{"$f":"'7.WEF Influence-Mine'!$BX173","v":0},{"$f":"'7.WEF Influence-Mine'!$BX213","v":0},{"$f":"'7.WEF Influence-Mine'!$BX253","v":0},{"$f":"'7.WEF Influence-Mine'!$BX293","v":0},{"$f":"IF(HT41>=$D$7,\"B:\"&'3.WEF Status-Base'!$BD40&\": \",)&IF(HU41<>0,\"1.\"&'7.WEF Influence-Mine'!$BY133&\" \",)&IF(HV41<>0,\"2.\"&'7.WEF Influence-Mine'!$BY173&\" \",)&IF(HW41<>0,\"3.\"&'7.WEF Influence-Mine'!$BY213&\" \",)&IF(HX41<>0,\"4.\"&'7.WEF Influence-Mine'!$BY253&\" \",)&IF(HY41<>0,\"5.\"&'7.WEF Influence-Mine'!$BY293&\" \",)","v":""},null,null,null,null,null,null,{"$f":"'7.WEF Influence-Mine'!BZ133&\" : \"&'7.WEF Influence-Mine'!BZ173&\" : \"&'7.WEF Influence-Mine'!BZ213&\" : \"&'7.WEF Influence-Mine'!BZ253&\" : \"&'7.WEF Influence-Mine'!BZ293","v":"0 : 0 : 0 : 0 : 0"}]
[32,"     Climate change adaptation",{"$f":"'3.WEF Status-Base'!B41","v":0},0,{"$f":"MIN($H42:$L42,$U42:$Y42,$AH42:$AL42,$AU42:$AY42,$BH42:$BL42,$BU42:$BY42,$CH42:$CL42,$CU42:$CY42,$DH42:$DL42,$DU42:$DY42,$EH42:$EL42,$EU42:$EY42,$FH42:$FL42,$FU42:$FY42,$GH42:$GL42,$GU42:$GY42,$HH42:$HL42,$HU42:$HY42)","v":0},null,{"$f":"'3.WEF Status-Base'!D41","v":0},{"$f":"'7.WEF Influence-Mine'!$H134","v":0},{"$f":"'7.WEF Influence-Mine'!$H174","v":0},{"$f":"'7.WEF Influence-Mine'!$H214","v":0},{"$f":"'7.WEF Influence-Mine'!$H254","v":0},{"$f":"'7.WEF Influence-Mine'!$H294","v":0},{"$f":"IF(G42>=$D$7,\"B:\"&'3.WEF Status-Base'!$E41&\": \",)&IF(H42<>0,\"1. \"&'7.WEF Influence-Mine'!$I134&\" \",)&IF(I42<>0,\"2. \"&'7.WEF Influence-Mine'!$I174&\" \",)&IF(J42<>0,\"3. \"&'7.WEF Influence-Mine'!$I214&\" \",)&IF(K42<>0,\"4. \"&'7.WEF Influence-Mine'!$I254&\" \",)&IF(L42<>0,\"5. \"&'7.WEF Influence-Mine'!$I294&\" \",)","v":""},null,null,null,null,null,null,{"$f":"'3.WEF Status-Base'!G41","v":0},{"$f":"'7.WEF Influence-Mine'!$L134","v":0},{"$f":"'7.WEF Influence-Mine'!$L174","v":0},{"$f":"'7.WEF Influence-Mine'!$L214","v":0},{"$f":"'7.WEF Influence-Mine'!$L254","v":0},{"$f":"'7.WEF Influence-Mine'!$L294","v":0},{"$f":"IF(T42>=$D$7,\"B:\"&'3.WEF Status-Base'!$H41&\": \",)&IF(U42<>0,\"1.\"&'7.WEF Influence-Mine'!$M134&\" \",)&IF(V42<>0,\"2.\"&'7.WEF Influence-Mine'!$M174&\" \",)&IF(W42<>0,\"3.\"&'7.WEF Influence-Mine'!$M214&\" \",)&IF(X42<>0,\"4.\"&'7.WEF Influence-Mine'!$M254&\" \",)&IF(Y42<>0,\"5.\"&'7.WEF Influence-Mine'!$M294&\" \",)","v":""},null,null,null,null,null,null,{"$f":"'3.WEF Status-Base'!J41","v":0},{"$f":"'7.WEF Influence-Mine'!$P134","v":0},{"$f":"'7.WEF Influence-Mine'!$P174","v":0},{"$f":"'7.WEF Influence-Mine'!$P214","v":0},{"$f":"'7.WEF Influence-Mine'!$P254","v":0},{"$f":"'7.WEF Influence-Mine'!$P294","v":0},{"$f":"IF(AG42>=$D$7,\"B:\"&'3.WEF Status-Base'!$K41&\": \",)&IF(AH42<>0,\"1.\"&'7.WEF Influence-Mine'!$Q134&\" \",)&IF(AI42<>0,\"2.\"&'7.WEF Influence-Mine'!$Q174&\" \",)&IF(AJ42<>0,\"3.\"&'7.WEF Influence-Mine'!$Q214&\" \",)&IF(AK42<>0,\"4.\"&'7.WEF Influence-Mine'!$Q254&\" \",)&IF(AL42<>0,\"5.\"&'7.WEF Influence-Mine'!$Q294&\" \",)","v":""},null,null,null,null,null,null,{"$f":"'3.WEF Status-Base'!M41","v":0},{"$f":"'7.WEF Influence-Mine'!$T134","v":0},{"$f":"'7.WEF Influence-Mine'!$T174","v":0},{"$f":"'7.WEF Influence-Mine'!$T214","v":0},{"$f":"'7.WEF Influence-Mine'!$T254","v":0},{"$f":"'7.WEF Influence-Mine'!$T294","v":0},{"$f":"IF(AT42>=$D$7,\"B:\"&'3.WEF Status-Base'!$N41&\": \",)&IF(AU42<>0,\"1.\"&'7.WEF Influence-Mine'!$U134&\" \",)&IF(AV42<>0,\"2.\"&'7.WEF Influence-Mine'!$U174&\" \",)&IF(AW42<>0,\"3.\"&'7.WEF Influence-Mine'!$U214&\" \",)&IF(AX42<>0,\"4.\"&'7.WEF Influence-Mine'!$U254&\" \",)&IF(AY42<>0,\"5.\"&'7.WEF Influence-Mine'!$U294&\" \",)","v":""},null,null,null,null,null,null,{"$f":"'3.WEF Status-Base'!P41","v":0},{"$f":"'7.WEF Influence-Mine'!$X134","v":0},{"$f":"'7.WEF Influence-Mine'!$X174","v":0},{"$f":"'7.WEF Influence-Mine'!$X214","v":0},{"$f":"'7.WEF Influence-Mine'!$X254","v":0},{"$f":"'7.WEF Influence-Mine'!$X294","v":0},{"$f":"IF(BG42>=$D$7,\"B:\"&'3.WEF Status-Base'!$Q41&\": \",)&IF(BH42<>0,\"1.\"&'7.WEF Influence-Mine'!$Y134&\" \",)&IF(BI42<>0,\"2.\"&'7.WEF Influence-Mine'!$Y174&\" \",)&IF(BJ42<>0,\"3.\"&'7.WEF Influence-Mine'!$Y214&\" \",)&IF(BK42<>0,\"4.\"&'7.WEF Influence-Mine'!$Y254&\" \",)&IF(BL42<>0,\"5.\"&'7.WEF Influence-Mine'!$Y294&\" \",)","v":""},null,null,null,null,null,null,{"$f":"'3.WEF Status-Base'!S41","v":0},{"$f":"'7.WEF Influence-Mine'!$AB134","v":0},{"$f":"'7.WEF Influence-Mine'!$AB174","v":0},{"$f":"'7.WEF Influence-Mine'!$AB214","v":0},{"$f":"'7.WEF Influence-Mine'!$AB254","v":0},{"$f":"'7.WEF Influence-Mine'!$AB294","v":0},{"$f":"IF(BT42>=$D$7,\"B:\"&'3.WEF Status-Base'!$T41&\": \",)&IF(BU42<>0,\"1.\"&'7.WEF Influence-Mine'!$AC134&\" \",)&IF(BV42<>0,\"2.\"&'7.WEF Influence-Mine'!$AC174&\" \",)&IF(BW42<>0,\"3.\"&'7.WEF Influence-Mine'!$AC214&\" \",)&IF(BX42<>0,\"4.\"&'7.WEF Influence-Mine'!$AC254&\" \",)&IF(BY42<>0,\"5.\"&'7.WEF Influence-Mine'!$AC294&\" \",)","v":""},null,null,null,null,null,null,{"$f":"'3.WEF Status-Base'!V41","v":0},{"$f":"'7.WEF Influence-Mine'!$AF134","v":0},{"$f":"'7.WEF Influence-Mine'!$AF174","v":0},{"$f":"'7.WEF Influence-Mine'!$AF214","v":0},{"$f":"'7.WEF Influence-Mine'!$AF254","v":0},{"$f":"'7.WEF Influence-Mine'!$AF294","v":0},{"$f":"IF(CG42>=$D$7,\"B:\"&'3.WEF Status-Base'!$W41&\": \",)&IF(CH42<>0,\"1.\"&'7.WEF Influence-Mine'!$AG134&\" \",)&IF(CI42<>0,\"2.\"&'7.WEF Influence-Mine'!$AG174&\" \",)&IF(CJ42<>0,\"3.\"&'7.WEF Influence-Mine'!$AG214&\" \",)&IF(CK42<>0,\"4.\"&'7.WEF Influence-Mine'!$AG254&\" \",)&IF(CL42<>0,\"5.\"&'7.WEF Influence-Mine'!$AG294&\" \",)","v":""},null,null,null,null,null,null,{"$f":"'3.WEF Status-Base'!Y41","v":0},{"$f":"'7.WEF Influence-Mine'!$AJ134","v":0},{"$f":"'7.WEF Influence-Mine'!$AJ174","v":0},{"$f":"'7.WEF Influence-Mine'!$AJ214","v":0},{"$f":"'7.WEF Influence-Mine'!$AJ254","v":0},{"$f":"'7.WEF Influence-Mine'!$AJ294","v":0},{"$f":"IF(CT42>=$D$7,\"B:\"&'3.WEF Status-Base'!$Z41&\": \",)&IF(CU42<>0,\"1.\"&'7.WEF Influence-Mine'!$AK134&\" \",)&IF(CV42<>0,\"2.\"&'7.WEF Influence-Mine'!$AK174&\" \",)&IF(CW42<>0,\"3.\"&'7.WEF Influence-Mine'!$AK214&\" \",)&IF(CX42<>0,\"4.\"&'7.WEF Influence-Mine'!$AK254&\" \",)&IF(CY42<>0,\"5.\"&'7.WEF Influence-Mine'!$AK294&\" \",)","v":""},null,null,null,null,null,null,{"$f":"'3.WEF Status-Base'!AB41","v":0},{"$f":"'7.WEF Influence-Mine'!$AN134","v":0},{"$f":"'7.WEF Influence-Mine'!$AN174","v":0},{"$f":"'7.WEF Influence-Mine'!$AN214","v":0},{"$f":"'7.WEF Influence-Mine'!$AN254","v":0},{"$f":"'7.WEF Influence-Mine'!$AN294","v":0},{"$f":"IF(DG42>=$D$7,\"B:\"&'3.WEF Status-Base'!$AC41&\": \",)&IF(DH42<>0,\"1.\"&'7.WEF Influence-Mine'!$AO134&\" \",)&IF(DI42<>0,\"2.\"&'7.WEF Influence-Mine'!$AO174&\" \",)&IF(DJ42<>0,\"3.\"&'7.WEF Influence-Mine'!$AO214&\" \",)&IF(DK42<>0,\"4.\"&'7.WEF Influence-Mine'!$AO254&\" \",)&IF(DL42<>0,\"5.\"&'7.WEF Influence-Mine'!$AO294&\" \",)","v":""},null,null,null,null,null,null,{"$f":"'3.WEF Status-Base'!AE41","v":0},{"$f":"'7.WEF Influence-Mine'!$AR134","v":0},{"$f":"'7.WEF Influence-Mine'!$AR174","v":0},{"$f":"'7.WEF Influence-Mine'!$AR214","v":0},{"$f":"'7.WEF Influence-Mine'!$AR254","v":0},{"$f":"'7.WEF Influence-Mine'!$AR294","v":0},{"$f":"IF(DT42>=$D$7,\"B:\"&'3.WEF Status-Base'!$AF41&\": \",)&IF(DU42<>0,\"1.\"&'7.WEF Influence-Mine'!$AS134&\" \",)&IF(DV42<>0,\"2.\"&'7.WEF Influence-Mine'!$AS174&\" \",)&IF(DW42<>0,\"3.\"&'7.WEF Influence-Mine'!$AS214&\" \",)&IF(DX42<>0,\"4.\"&'7.WEF Influence-Mine'!$AS254&\" \",)&IF(DY42<>0,\"5.\"&'7.WEF Influence-Mine'!$AS294&\" \",)","v":""},null,null,null,null,null,null,{"$f":"'3.WEF Status-Base'!AH41","v":0},{"$f":"'7.WEF Influence-Mine'!$AV134","v":0},{"$f":"'7.WEF Influence-Mine'!$AV174","v":0},{"$f":"'7.WEF Influence-Mine'!$AV214","v":0},{"$f":"'7.WEF Influence-Mine'!$AV254","v":0},{"$f":"'7.WEF Influence-Mine'!$AV294","v":0},{"$f":"IF(EG42>=$D$7,\"B:\"&'3.WEF Status-Base'!$AI41&\": \",)&IF(EH42<>0,\"1.\"&'7.WEF Influence-Mine'!$AW134&\" \",)&IF(EI42<>0,\"2.\"&'7.WEF Influence-Mine'!$AW174&\" \",)&IF(EJ42<>0,\"3.\"&'7.WEF Influence-Mine'!$AW214&\" \",)&IF(EK42<>0,\"4.\"&'7.WEF Influence-Mine'!$AW254&\" \",)&IF(EL42<>0,\"5.\"&'7.WEF Influence-Mine'!$AW294&\" \",)","v":""},null,null,null,null,null,null,{"$f":"'3.WEF Status-Base'!AK41","v":0},{"$f":"'7.WEF Influence-Mine'!$AZ134","v":0},{"$f":"'7.WEF Influence-Mine'!$AZ174","v":0},{"$f":"'7.WEF Influence-Mine'!$AZ214","v":0},{"$f":"'7.WEF Influence-Mine'!$AZ254","v":0},{"$f":"'7.WEF Influence-Mine'!$AZ294","v":0},{"$f":"IF(ET42>=$D$7,\"B:\"&'3.WEF Status-Base'!$AL41&\": \",)&IF(EU42<>0,\"1.\"&'7.WEF Influence-Mine'!$BA134&\" \",)&IF(EV42<>0,\"2.\"&'7.WEF Influence-Mine'!$BA174&\" \",)&IF(EW42<>0,\"3.\"&'7.WEF Influence-Mine'!$BA214&\" \",)&IF(EX42<>0,\"4.\"&'7.WEF Influence-Mine'!$BA254&\" \",)&IF(EY42<>0,\"5.\"&'7.WEF Influence-Mine'!$BA294&\" \",)","v":""},null,null,null,null,null,null,{"$f":"'3.WEF Status-Base'!AN41","v":0},{"$f":"'7.WEF Influence-Mine'!$BD134","v":0},{"$f":"'7.WEF Influence-Mine'!$BD174","v":0},{"$f":"'7.WEF Influence-Mine'!$BD214","v":0},{"$f":"'7.WEF Influence-Mine'!$BD254","v":0},{"$f":"'7.WEF Influence-Mine'!$BD294","v":0},{"$f":"IF(FG42>=$D$7,\"B:\"&'3.WEF Status-Base'!$AO41&\": \",)&IF(FH42<>0,\"1.\"&'7.WEF Influence-Mine'!$BE134&\" \",)&IF(FI42<>0,\"2.\"&'7.WEF Influence-Mine'!$BE174&\" \",)&IF(FJ42<>0,\"3.\"&'7.WEF Influence-Mine'!$BE214&\" \",)&IF(FK42<>0,\"4.\"&'7.WEF Influence-Mine'!$BE254&\" \",)&IF(FL42<>0,\"5.\"&'7.WEF Influence-Mine'!$BE294&\" \",)","v":""},null,null,null,null,null,null,{"$f":"'3.WEF Status-Base'!AQ41","v":0},{"$f":"'7.WEF Influence-Mine'!$BH134","v":0},{"$f":"'7.WEF Influence-Mine'!$BH174","v":0},{"$f":"'7.WEF Influence-Mine'!$BH214","v":0},{"$f":"'7.WEF Influence-Mine'!$BH254","v":0},{"$f":"'7.WEF Influence-Mine'!$BH294","v":0},{"$f":"IF(FT42>=$D$7,\"B:\"&'3.WEF Status-Base'!$AR41&\": \",)&IF(FU42<>0,\"1.\"&'7.WEF Influence-Mine'!$BI134&\" \",)&IF(FV42<>0,\"2.\"&'7.WEF Influence-Mine'!$BI174&\" \",)&IF(FW42<>0,\"3.\"&'7.WEF Influence-Mine'!$BI214&\" \",)&IF(FX42<>0,\"4.\"&'7.WEF Influence-Mine'!$BI254&\" \",)&IF(FY42<>0,\"5.\"&'7.WEF Influence-Mine'!$BI294&\" \",)","v":""},null,null,null,null,null,null,{"$f":"'3.WEF Status-Base'!AT41","v":0},{"$f":"'7.WEF Influence-Mine'!$BL134","v":0},{"$f":"'7.WEF Influence-Mine'!$BL174","v":0},{"$f":"'7.WEF Influence-Mine'!$BL214","v":0},{"$f":"'7.WEF Influence-Mine'!$BL254","v":0},{"$f":"'7.WEF Influence-Mine'!$BL294","v":0},{"$f":"IF(GG42>=$D$7,\"B:\"&'3.WEF Status-Base'!$AU41&\": \",)&IF(GH42<>0,\"1.\"&'7.WEF Influence-Mine'!$BM134&\" \",)&IF(GI42<>0,\"2.\"&'7.WEF Influence-Mine'!$BM174&\" \",)&IF(GJ42<>0,\"3.\"&'7.WEF Influence-Mine'!$BM214&\" \",)&IF(GK42<>0,\"4.\"&'7.WEF Influence-Mine'!$BM254&\" \",)&IF(GL42<>0,\"5.\"&'7.WEF Influence-Mine'!$BM294&\" \",)","v":""},null,null,null,null,null,null,{"$f":"'3.WEF Status-Base'!AW41","v":0},{"$f":"'7.WEF Influence-Mine'!$BP134","v":0},{"$f":"'7.WEF Influence-Mine'!$BP174","v":0},{"$f":"'7.WEF Influence-Mine'!$BP214","v":0},{"$f":"'7.WEF Influence-Mine'!$BP254","v":0},{"$f":"'7.WEF Influence-Mine'!$BP294","v":0},{"$f":"IF(GT42>=$D$7,\"B:\"&'3.WEF Status-Base'!$AX41&\": \",)&IF(GU42<>0,\"1.\"&'7.WEF Influence-Mine'!$BQ134&\" \",)&IF(GV42<>0,\"2.\"&'7.WEF Influence-Mine'!$BQ174&\" \",)&IF(GW42<>0,\"3.\"&'7.WEF Influence-Mine'!$BQ214&\" \",)&IF(GX42<>0,\"4.\"&'7.WEF Influence-Mine'!$BQ254&\" \",)&IF(GY42<>0,\"5.\"&'7.WEF Influence-Mine'!$BQ294&\" \",)","v":""},null,null,null,null,null,null,{"$f":"'3.WEF Status-Base'!AZ41","v":0},{"$f":"'7.WEF Influence-Mine'!$BT134","v":0},{"$f":"'7.WEF Influence-Mine'!$BT174","v":0},{"$f":"'7.WEF Influence-Mine'!$BT214","v":0},{"$f":"'7.WEF Influence-Mine'!$BT254","v":0},{"$f":"'7.WEF Influence-Mine'!$BT294","v":0},{"$f":"IF(HG42>=$D$7,\"B:\"&'3.WEF Status-Base'!$BA41&\": \",)&IF(HH42<>0,\"1.\"&'7.WEF Influence-Mine'!$BU134&\" \",)&IF(HI42<>0,\"2.\"&'7.WEF Influence-Mine'!$BU174&\" \",)&IF(HJ42<>0,\"3.\"&'7.WEF Influence-Mine'!$BU214&\" \",)&IF(HK42<>0,\"4.\"&'7.WEF Influence-Mine'!$BU254&\" \",)&IF(HL42<>0,\"5.\"&'7.WEF Influence-Mine'!$BU294&\" \",)","v":""},null,null,null,null,null,null,{"$f":"'3.WEF Status-Base'!BC41","v":0},{"$f":"'7.WEF Influence-Mine'!$BX134","v":0},{"$f":"'7.WEF Influence-Mine'!$BX174","v":0},{"$f":"'7.WEF Influence-Mine'!$BX214","v":0},{"$f":"'7.WEF Influence-Mine'!$BX254","v":0},{"$f":"'7.WEF Influence-Mine'!$BX294","v":0},{"$f":"IF(HT42>=$D$7,\"B:\"&'3.WEF Status-Base'!$BD41&\": \",)&IF(HU42<>0,\"1.\"&'7.WEF Influence-Mine'!$BY134&\" \",)&IF(HV42<>0,\"2.\"&'7.WEF Influence-Mine'!$BY174&\" \",)&IF(HW42<>0,\"3.\"&'7.WEF Influence-Mine'!$BY214&\" \",)&IF(HX42<>0,\"4.\"&'7.WEF Influence-Mine'!$BY254&\" \",)&IF(HY42<>0,\"5.\"&'7.WEF Influence-Mine'!$BY294&\" \",)","v":""},null,null,null,null,null,null,{"$f":"'7.WEF Influence-Mine'!BZ134&\" : \"&'7.WEF Influence-Mine'!BZ174&\" : \"&'7.WEF Influence-Mine'!BZ214&\" : \"&'7.WEF Influence-Mine'!BZ254&\" : \"&'7.WEF Influence-Mine'!BZ294","v":"0 : 0 : 0 : 0 : 0"}]
[33,"     Disaster recovery and risk management ",{"$f":"'3.WEF Status-Base'!B42","v":0},0,{"$f":"MIN($H43:$L43,$U43:$Y43,$AH43:$AL43,$AU43:$AY43,$BH43:$BL43,$BU43:$BY43,$CH43:$CL43,$CU43:$CY43,$DH43:$DL43,$DU43:$DY43,$EH43:$EL43,$EU43:$EY43,$FH43:$FL43,$FU43:$FY43,$GH43:$GL43,$GU43:$GY43,$HH43:$HL43,$HU43:$HY43)","v":0},null,{"$f":"'3.WEF Status-Base'!D42","v":0},{"$f":"'7.WEF Influence-Mine'!$H135","v":0},{"$f":"'7.WEF Influence-Mine'!$H175","v":0},{"$f":"'7.WEF Influence-Mine'!$H215","v":0},{"$f":"'7.WEF Influence-Mine'!$H255","v":0},{"$f":"'7.WEF Influence-Mine'!$H295","v":0},{"$f":"IF(G43>=$D$7,\"B:\"&'3.WEF Status-Base'!$E42&\": \",)&IF(H43<>0,\"1. \"&'7.WEF Influence-Mine'!$I135&\" \",)&IF(I43<>0,\"2. \"&'7.WEF Influence-Mine'!$I175&\" \",)&IF(J43<>0,\"3. \"&'7.WEF Influence-Mine'!$I215&\" \",)&IF(K43<>0,\"4. \"&'7.WEF Influence-Mine'!$I255&\" \",)&IF(L43<>0,\"5. \"&'7.WEF Influence-Mine'!$I295&\" \",)","v":""},null,null,null,null,null,null,{"$f":"'3.WEF Status-Base'!G42","v":0},{"$f":"'7.WEF Influence-Mine'!$L135","v":0},{"$f":"'7.WEF Influence-Mine'!$L175","v":0},{"$f":"'7.WEF Influence-Mine'!$L215","v":0},{"$f":"'7.WEF Influence-Mine'!$L255","v":0},{"$f":"'7.WEF Influence-Mine'!$L295","v":0},{"$f":"IF(T43>=$D$7,\"B:\"&'3.WEF Status-Base'!$H42&\": \",)&IF(U43<>0,\"1.\"&'7.WEF Influence-Mine'!$M135&\" \",)&IF(V43<>0,\"2.\"&'7.WEF Influence-Mine'!$M175&\" \",)&IF(W43<>0,\"3.\"&'7.WEF Influence-Mine'!$M215&\" \",)&IF(X43<>0,\"4.\"&'7.WEF Influence-Mine'!$M255&\" \",)&IF(Y43<>0,\"5.\"&'7.WEF Influence-Mine'!$M295&\" \",)","v":""},null,null,null,null,null,null,{"$f":"'3.WEF Status-Base'!J42","v":0},{"$f":"'7.WEF Influence-Mine'!$P135","v":0},{"$f":"'7.WEF Influence-Mine'!$P175","v":0},{"$f":"'7.WEF Influence-Mine'!$P215","v":0},{"$f":"'7.WEF Influence-Mine'!$P255","v":0},{"$f":"'7.WEF Influence-Mine'!$P295","v":0},{"$f":"IF(AG43>=$D$7,\"B:\"&'3.WEF Status-Base'!$K42&\": \",)&IF(AH43<>0,\"1.\"&'7.WEF Influence-Mine'!$Q135&\" \",)&IF(AI43<>0,\"2.\"&'7.WEF Influence-Mine'!$Q175&\" \",)&IF(AJ43<>0,\"3.\"&'7.WEF Influence-Mine'!$Q215&\" \",)&IF(AK43<>0,\"4.\"&'7.WEF Influence-Mine'!$Q255&\" \",)&IF(AL43<>0,\"5.\"&'7.WEF Influence-Mine'!$Q295&\" \",)","v":""},null,null,null,null,null,null,{"$f":"'3.WEF Status-Base'!M42","v":0},{"$f":"'7.WEF Influence-Mine'!$T135","v":0},{"$f":"'7.WEF Influence-Mine'!$T175","v":0},{"$f":"'7.WEF Influence-Mine'!$T215","v":0},{"$f":"'7.WEF Influence-Mine'!$T255","v":0},{"$f":"'7.WEF Influence-Mine'!$T295","v":0},{"$f":"IF(AT43>=$D$7,\"B:\"&'3.WEF Status-Base'!$N42&\": \",)&IF(AU43<>0,\"1.\"&'7.WEF Influence-Mine'!$U135&\" \",)&IF(AV43<>0,\"2.\"&'7.WEF Influence-Mine'!$U175&\" \",)&IF(AW43<>0,\"3.\"&'7.WEF Influence-Mine'!$U215&\" \",)&IF(AX43<>0,\"4.\"&'7.WEF Influence-Mine'!$U255&\" \",)&IF(AY43<>0,\"5.\"&'7.WEF Influence-Mine'!$U295&\" \",)","v":""},null,null,null,null,null,null,{"$f":"'3.WEF Status-Base'!P42","v":0},{"$f":"'7.WEF Influence-Mine'!$X135","v":0},{"$f":"'7.WEF Influence-Mine'!$X175","v":0},{"$f":"'7.WEF Influence-Mine'!$X215","v":0},{"$f":"'7.WEF Influence-Mine'!$X255","v":0},{"$f":"'7.WEF Influence-Mine'!$X295","v":0},{"$f":"IF(BG43>=$D$7,\"B:\"&'3.WEF Status-Base'!$Q42&\": \",)&IF(BH43<>0,\"1.\"&'7.WEF Influence-Mine'!$Y135&\" \",)&IF(BI43<>0,\"2.\"&'7.WEF Influence-Mine'!$Y175&\" \",)&IF(BJ43<>0,\"3.\"&'7.WEF Influence-Mine'!$Y215&\" \",)&IF(BK43<>0,\"4.\"&'7.WEF Influence-Mine'!$Y255&\" \",)&IF(BL43<>0,\"5.\"&'7.WEF Influence-Mine'!$Y295&\" \",)","v":""},null,null,null,null,null,null,{"$f":"'3.WEF Status-Base'!S42","v":0},{"$f":"'7.WEF Influence-Mine'!$AB135","v":0},{"$f":"'7.WEF Influence-Mine'!$AB175","v":0},{"$f":"'7.WEF Influence-Mine'!$AB215","v":0},{"$f":"'7.WEF Influence-Mine'!$AB255","v":0},{"$f":"'7.WEF Influence-Mine'!$AB295","v":0},{"$f":"IF(BT43>=$D$7,\"B:\"&'3.WEF Status-Base'!$T42&\": \",)&IF(BU43<>0,\"1.\"&'7.WEF Influence-Mine'!$AC135&\" \",)&IF(BV43<>0,\"2.\"&'7.WEF Influence-Mine'!$AC175&\" \",)&IF(BW43<>0,\"3.\"&'7.WEF Influence-Mine'!$AC215&\" \",)&IF(BX43<>0,\"4.\"&'7.WEF Influence-Mine'!$AC255&\" \",)&IF(BY43<>0,\"5.\"&'7.WEF Influence-Mine'!$AC295&\" \",)","v":""},null,null,null,null,null,null,{"$f":"'3.WEF Status-Base'!V42","v":0},{"$f":"'7.WEF Influence-Mine'!$AF135","v":0},{"$f":"'7.WEF Influence-Mine'!$AF175","v":0},{"$f":"'7.WEF Influence-Mine'!$AF215","v":0},{"$f":"'7.WEF Influence-Mine'!$AF255","v":0},{"$f":"'7.WEF Influence-Mine'!$AF295","v":0},{"$f":"IF(CG43>=$D$7,\"B:\"&'3.WEF Status-Base'!$W42&\": \",)&IF(CH43<>0,\"1.\"&'7.WEF Influence-Mine'!$AG135&\" \",)&IF(CI43<>0,\"2.\"&'7.WEF Influence-Mine'!$AG175&\" \",)&IF(CJ43<>0,\"3.\"&'7.WEF Influence-Mine'!$AG215&\" \",)&IF(CK43<>0,\"4.\"&'7.WEF Influence-Mine'!$AG255&\" \",)&IF(CL43<>0,\"5.\"&'7.WEF Influence-Mine'!$AG295&\" \",)","v":""},null,null,null,null,null,null,{"$f":"'3.WEF Status-Base'!Y42","v":0},{"$f":"'7.WEF Influence-Mine'!$AJ135","v":0},{"$f":"'7.WEF Influence-Mine'!$AJ175","v":0},{"$f":"'7.WEF Influence-Mine'!$AJ215","v":0},{"$f":"'7.WEF Influence-Mine'!$AJ255","v":0},{"$f":"'7.WEF Influence-Mine'!$AJ295","v":0},{"$f":"IF(CT43>=$D$7,\"B:\"&'3.WEF Status-Base'!$Z42&\": \",)&IF(CU43<>0,\"1.\"&'7.WEF Influence-Mine'!$AK135&\" \",)&IF(CV43<>0,\"2.\"&'7.WEF Influence-Mine'!$AK175&\" \",)&IF(CW43<>0,\"3.\"&'7.WEF Influence-Mine'!$AK215&\" \",)&IF(CX43<>0,\"4.\"&'7.WEF Influence-Mine'!$AK255&\" \",)&IF(CY43<>0,\"5.\"&'7.WEF Influence-Mine'!$AK295&\" \",)","v":""},null,null,null,null,null,null,{"$f":"'3.WEF Status-Base'!AB42","v":0},{"$f":"'7.WEF Influence-Mine'!$AN135","v":0},{"$f":"'7.WEF Influence-Mine'!$AN175","v":0},{"$f":"'7.WEF Influence-Mine'!$AN215","v":0},{"$f":"'7.WEF Influence-Mine'!$AN255","v":0},{"$f":"'7.WEF Influence-Mine'!$AN295","v":0},{"$f":"IF(DG43>=$D$7,\"B:\"&'3.WEF Status-Base'!$AC42&\": \",)&IF(DH43<>0,\"1.\"&'7.WEF Influence-Mine'!$AO135&\" \",)&IF(DI43<>0,\"2.\"&'7.WEF Influence-Mine'!$AO175&\" \",)&IF(DJ43<>0,\"3.\"&'7.WEF Influence-Mine'!$AO215&\" \",)&IF(DK43<>0,\"4.\"&'7.WEF Influence-Mine'!$AO255&\" \",)&IF(DL43<>0,\"5.\"&'7.WEF Influence-Mine'!$AO295&\" \",)","v":""},null,null,null,null,null,null,{"$f":"'3.WEF Status-Base'!AE42","v":0},{"$f":"'7.WEF Influence-Mine'!$AR135","v":0},{"$f":"'7.WEF Influence-Mine'!$AR175","v":0},{"$f":"'7.WEF Influence-Mine'!$AR215","v":0},{"$f":"'7.WEF Influence-Mine'!$AR255","v":0},{"$f":"'7.WEF Influence-Mine'!$AR295","v":0},{"$f":"IF(DT43>=$D$7,\"B:\"&'3.WEF Status-Base'!$AF42&\": \",)&IF(DU43<>0,\"1.\"&'7.WEF Influence-Mine'!$AS135&\" \",)&IF(DV43<>0,\"2.\"&'7.WEF Influence-Mine'!$AS175&\" \",)&IF(DW43<>0,\"3.\"&'7.WEF Influence-Mine'!$AS215&\" \",)&IF(DX43<>0,\"4.\"&'7.WEF Influence-Mine'!$AS255&\" \",)&IF(DY43<>0,\"5.\"&'7.WEF Influence-Mine'!$AS295&\" \",)","v":""},null,null,null,null,null,null,{"$f":"'3.WEF Status-Base'!AH42","v":0},{"$f":"'7.WEF Influence-Mine'!$AV135","v":0},{"$f":"'7.WEF Influence-Mine'!$AV175","v":0},{"$f":"'7.WEF Influence-Mine'!$AV215","v":0},{"$f":"'7.WEF Influence-Mine'!$AV255","v":0},{"$f":"'7.WEF Influence-Mine'!$AV295","v":0},{"$f":"IF(EG43>=$D$7,\"B:\"&'3.WEF Status-Base'!$AI42&\": \",)&IF(EH43<>0,\"1.\"&'7.WEF Influence-Mine'!$AW135&\" \",)&IF(EI43<>0,\"2.\"&'7.WEF Influence-Mine'!$AW175&\" \",)&IF(EJ43<>0,\"3.\"&'7.WEF Influence-Mine'!$AW215&\" \",)&IF(EK43<>0,\"4.\"&'7.WEF Influence-Mine'!$AW255&\" \",)&IF(EL43<>0,\"5.\"&'7.WEF Influence-Mine'!$AW295&\" \",)","v":""},null,null,null,null,null,null,{"$f":"'3.WEF Status-Base'!AK42","v":0},{"$f":"'7.WEF Influence-Mine'!$AZ135","v":0},{"$f":"'7.WEF Influence-Mine'!$AZ175","v":0},{"$f":"'7.WEF Influence-Mine'!$AZ215","v":0},{"$f":"'7.WEF Influence-Mine'!$AZ255","v":0},{"$f":"'7.WEF Influence-Mine'!$AZ295","v":0},{"$f":"IF(ET43>=$D$7,\"B:\"&'3.WEF Status-Base'!$AL42&\": \",)&IF(EU43<>0,\"1.\"&'7.WEF Influence-Mine'!$BA135&\" \",)&IF(EV43<>0,\"2.\"&'7.WEF Influence-Mine'!$BA175&\" \",)&IF(EW43<>0,\"3.\"&'7.WEF Influence-Mine'!$BA215&\" \",)&IF(EX43<>0,\"4.\"&'7.WEF Influence-Mine'!$BA255&\" \",)&IF(EY43<>0,\"5.\"&'7.WEF Influence-Mine'!$BA295&\" \",)","v":""},null,null,null,null,null,null,{"$f":"'3.WEF Status-Base'!AN42","v":0},{"$f":"'7.WEF Influence-Mine'!$BD135","v":0},{"$f":"'7.WEF Influence-Mine'!$BD175","v":0},{"$f":"'7.WEF Influence-Mine'!$BD215","v":0},{"$f":"'7.WEF Influence-Mine'!$BD255","v":0},{"$f":"'7.WEF Influence-Mine'!$BD295","v":0},{"$f":"IF(FG43>=$D$7,\"B:\"&'3.WEF Status-Base'!$AO42&\": \",)&IF(FH43<>0,\"1.\"&'7.WEF Influence-Mine'!$BE135&\" \",)&IF(FI43<>0,\"2.\"&'7.WEF Influence-Mine'!$BE175&\" \",)&IF(FJ43<>0,\"3.\"&'7.WEF Influence-Mine'!$BE215&\" \",)&IF(FK43<>0,\"4.\"&'7.WEF Influence-Mine'!$BE255&\" \",)&IF(FL43<>0,\"5.\"&'7.WEF Influence-Mine'!$BE295&\" \",)","v":""},null,null,null,null,null,null,{"$f":"'3.WEF Status-Base'!AQ42","v":0},{"$f":"'7.WEF Influence-Mine'!$BH135","v":0},{"$f":"'7.WEF Influence-Mine'!$BH175","v":0},{"$f":"'7.WEF Influence-Mine'!$BH215","v":0},{"$f":"'7.WEF Influence-Mine'!$BH255","v":0},{"$f":"'7.WEF Influence-Mine'!$BH295","v":0},{"$f":"IF(FT43>=$D$7,\"B:\"&'3.WEF Status-Base'!$AR42&\": \",)&IF(FU43<>0,\"1.\"&'7.WEF Influence-Mine'!$BI135&\" \",)&IF(FV43<>0,\"2.\"&'7.WEF Influence-Mine'!$BI175&\" \",)&IF(FW43<>0,\"3.\"&'7.WEF Influence-Mine'!$BI215&\" \",)&IF(FX43<>0,\"4.\"&'7.WEF Influence-Mine'!$BI255&\" \",)&IF(FY43<>0,\"5.\"&'7.WEF Influence-Mine'!$BI295&\" \",)","v":""},null,null,null,null,null,null,{"$f":"'3.WEF Status-Base'!AT42","v":0},{"$f":"'7.WEF Influence-Mine'!$BL135","v":0},{"$f":"'7.WEF Influence-Mine'!$BL175","v":0},{"$f":"'7.WEF Influence-Mine'!$BL215","v":0},{"$f":"'7.WEF Influence-Mine'!$BL255","v":0},{"$f":"'7.WEF Influence-Mine'!$BL295","v":0},{"$f":"IF(GG43>=$D$7,\"B:\"&'3.WEF Status-Base'!$AU42&\": \",)&IF(GH43<>0,\"1.\"&'7.WEF Influence-Mine'!$BM135&\" \",)&IF(GI43<>0,\"2.\"&'7.WEF Influence-Mine'!$BM175&\" \",)&IF(GJ43<>0,\"3.\"&'7.WEF Influence-Mine'!$BM215&\" \",)&IF(GK43<>0,\"4.\"&'7.WEF Influence-Mine'!$BM255&\" \",)&IF(GL43<>0,\"5.\"&'7.WEF Influence-Mine'!$BM295&\" \",)","v":""},null,null,null,null,null,null,{"$f":"'3.WEF Status-Base'!AW42","v":0},{"$f":"'7.WEF Influence-Mine'!$BP135","v":0},{"$f":"'7.WEF Influence-Mine'!$BP175","v":0},{"$f":"'7.WEF Influence-Mine'!$BP215","v":0},{"$f":"'7.WEF Influence-Mine'!$BP255","v":0},{"$f":"'7.WEF Influence-Mine'!$BP295","v":0},{"$f":"IF(GT43>=$D$7,\"B:\"&'3.WEF Status-Base'!$AX42&\": \",)&IF(GU43<>0,\"1.\"&'7.WEF Influence-Mine'!$BQ135&\" \",)&IF(GV43<>0,\"2.\"&'7.WEF Influence-Mine'!$BQ175&\" \",)&IF(GW43<>0,\"3.\"&'7.WEF Influence-Mine'!$BQ215&\" \",)&IF(GX43<>0,\"4.\"&'7.WEF Influence-Mine'!$BQ255&\" \",)&IF(GY43<>0,\"5.\"&'7.WEF Influence-Mine'!$BQ295&\" \",)","v":""},null,null,null,null,null,null,{"$f":"'3.WEF Status-Base'!AZ42","v":0},{"$f":"'7.WEF Influence-Mine'!$BT135","v":0},{"$f":"'7.WEF Influence-Mine'!$BT175","v":0},{"$f":"'7.WEF Influence-Mine'!$BT215","v":0},{"$f":"'7.WEF Influence-Mine'!$BT255","v":0},{"$f":"'7.WEF Influence-Mine'!$BT295","v":0},{"$f":"IF(HG43>=$D$7,\"B:\"&'3.WEF Status-Base'!$BA42&\": \",)&IF(HH43<>0,\"1.\"&'7.WEF Influence-Mine'!$BU135&\" \",)&IF(HI43<>0,\"2.\"&'7.WEF Influence-Mine'!$BU175&\" \",)&IF(HJ43<>0,\"3.\"&'7.WEF Influence-Mine'!$BU215&\" \",)&IF(HK43<>0,\"4.\"&'7.WEF Influence-Mine'!$BU255&\" \",)&IF(HL43<>0,\"5.\"&'7.WEF Influence-Mine'!$BU295&\" \",)","v":""},null,null,null,null,null,null,{"$f":"'3.WEF Status-Base'!BC42","v":0},{"$f":"'7.WEF Influence-Mine'!$BX135","v":0},{"$f":"'7.WEF Influence-Mine'!$BX175","v":0},{"$f":"'7.WEF Influence-Mine'!$BX215","v":0},{"$f":"'7.WEF Influence-Mine'!$BX255","v":0},{"$f":"'7.WEF Influence-Mine'!$BX295","v":0},{"$f":"IF(HT43>=$D$7,\"B:\"&'3.WEF Status-Base'!$BD42&\": \",)&IF(HU43<>0,\"1.\"&'7.WEF Influence-Mine'!$BY135&\" \",)&IF(HV43<>0,\"2.\"&'7.WEF Influence-Mine'!$BY175&\" \",)&IF(HW43<>0,\"3.\"&'7.WEF Influence-Mine'!$BY215&\" \",)&IF(HX43<>0,\"4.\"&'7.WEF Influence-Mine'!$BY255&\" \",)&IF(HY43<>0,\"5.\"&'7.WEF Influence-Mine'!$BY295&\" \",)","v":""},null,null,null,null,null,null,{"$f":"'7.WEF Influence-Mine'!BZ135&\" : \"&'7.WEF Influence-Mine'!BZ175&\" : \"&'7.WEF Influence-Mine'!BZ215&\" : \"&'7.WEF Influence-Mine'!BZ255&\" : \"&'7.WEF Influence-Mine'!BZ295","v":"0 : 0 : 0 : 0 : 0"}]
[34,"     R&D and innovation",{"$f":"'3.WEF Status-Base'!B43","v":0},0,{"$f":"MIN($H44:$L44,$U44:$Y44,$AH44:$AL44,$AU44:$AY44,$BH44:$BL44,$BU44:$BY44,$CH44:$CL44,$CU44:$CY44,$DH44:$DL44,$DU44:$DY44,$EH44:$EL44,$EU44:$EY44,$FH44:$FL44,$FU44:$FY44,$GH44:$GL44,$GU44:$GY44,$HH44:$HL44,$HU44:$HY44)","v":0},null,{"$f":"'3.WEF Status-Base'!D43","v":0},{"$f":"'7.WEF Influence-Mine'!$H136","v":0},{"$f":"'7.WEF Influence-Mine'!$H176","v":0},{"$f":"'7.WEF Influence-Mine'!$H216","v":0},{"$f":"'7.WEF Influence-Mine'!$H256","v":0},{"$f":"'7.WEF Influence-Mine'!$H296","v":0},{"$f":"IF(G44>=$D$7,\"B:\"&'3.WEF Status-Base'!$E43&\": \",)&IF(H44<>0,\"1. \"&'7.WEF Influence-Mine'!$I136&\" \",)&IF(I44<>0,\"2. \"&'7.WEF Influence-Mine'!$I176&\" \",)&IF(J44<>0,\"3. \"&'7.WEF Influence-Mine'!$I216&\" \",)&IF(K44<>0,\"4. \"&'7.WEF Influence-Mine'!$I256&\" \",)&IF(L44<>0,\"5. \"&'7.WEF Influence-Mine'!$I296&\" \",)","v":""},null,null,null,null,null,null,{"$f":"'3.WEF Status-Base'!G43","v":0},{"$f":"'7.WEF Influence-Mine'!$L136","v":0},{"$f":"'7.WEF Influence-Mine'!$L176","v":0},{"$f":"'7.WEF Influence-Mine'!$L216","v":0},{"$f":"'7.WEF Influence-Mine'!$L256","v":0},{"$f":"'7.WEF Influence-Mine'!$L296","v":0},{"$f":"IF(T44>=$D$7,\"B:\"&'3.WEF Status-Base'!$H43&\": \",)&IF(U44<>0,\"1.\"&'7.WEF Influence-Mine'!$M136&\" \",)&IF(V44<>0,\"2.\"&'7.WEF Influence-Mine'!$M176&\" \",)&IF(W44<>0,\"3.\"&'7.WEF Influence-Mine'!$M216&\" \",)&IF(X44<>0,\"4.\"&'7.WEF Influence-Mine'!$M256&\" \",)&IF(Y44<>0,\"5.\"&'7.WEF Influence-Mine'!$M296&\" \",)","v":""},null,null,null,null,null,null,{"$f":"'3.WEF Status-Base'!J43","v":0},{"$f":"'7.WEF Influence-Mine'!$P136","v":0},{"$f":"'7.WEF Influence-Mine'!$P176","v":0},{"$f":"'7.WEF Influence-Mine'!$P216","v":0},{"$f":"'7.WEF Influence-Mine'!$P256","v":0},{"$f":"'7.WEF Influence-Mine'!$P296","v":0},{"$f":"IF(AG44>=$D$7,\"B:\"&'3.WEF Status-Base'!$K43&\": \",)&IF(AH44<>0,\"1.\"&'7.WEF Influence-Mine'!$Q136&\" \",)&IF(AI44<>0,\"2.\"&'7.WEF Influence-Mine'!$Q176&\" \",)&IF(AJ44<>0,\"3.\"&'7.WEF Influence-Mine'!$Q216&\" \",)&IF(AK44<>0,\"4.\"&'7.WEF Influence-Mine'!$Q256&\" \",)&IF(AL44<>0,\"5.\"&'7.WEF Influence-Mine'!$Q296&\" \",)","v":""},null,null,null,null,null,null,{"$f":"'3.WEF Status-Base'!M43","v":0},{"$f":"'7.WEF Influence-Mine'!$T136","v":0},{"$f":"'7.WEF Influence-Mine'!$T176","v":0},{"$f":"'7.WEF Influence-Mine'!$T216","v":0},{"$f":"'7.WEF Influence-Mine'!$T256","v":0},{"$f":"'7.WEF Influence-Mine'!$T296","v":0},{"$f":"IF(AT44>=$D$7,\"B:\"&'3.WEF Status-Base'!$N43&\": \",)&IF(AU44<>0,\"1.\"&'7.WEF Influence-Mine'!$U136&\" \",)&IF(AV44<>0,\"2.\"&'7.WEF Influence-Mine'!$U176&\" \",)&IF(AW44<>0,\"3.\"&'7.WEF Influence-Mine'!$U216&\" \",)&IF(AX44<>0,\"4.\"&'7.WEF Influence-Mine'!$U256&\" \",)&IF(AY44<>0,\"5.\"&'7.WEF Influence-Mine'!$U296&\" \",)","v":""},null,null,null,null,null,null,{"$f":"'3.WEF Status-Base'!P43","v":0},{"$f":"'7.WEF Influence-Mine'!$X136","v":0},{"$f":"'7.WEF Influence-Mine'!$X176","v":0},{"$f":"'7.WEF Influence-Mine'!$X216","v":0},{"$f":"'7.WEF Influence-Mine'!$X256","v":0},{"$f":"'7.WEF Influence-Mine'!$X296","v":0},{"$f":"IF(BG44>=$D$7,\"B:\"&'3.WEF Status-Base'!$Q43&\": \",)&IF(BH44<>0,\"1.\"&'7.WEF Influence-Mine'!$Y136&\" \",)&IF(BI44<>0,\"2.\"&'7.WEF Influence-Mine'!$Y176&\" \",)&IF(BJ44<>0,\"3.\"&'7.WEF Influence-Mine'!$Y216&\" \",)&IF(BK44<>0,\"4.\"&'7.WEF Influence-Mine'!$Y256&\" \",)&IF(BL44<>0,\"5.\"&'7.WEF Influence-Mine'!$Y296&\" \",)","v":""},null,null,null,null,null,null,{"$f":"'3.WEF Status-Base'!S43","v":0},{"$f":"'7.WEF Influence-Mine'!$AB136","v":0},{"$f":"'7.WEF Influence-Mine'!$AB176","v":0},{"$f":"'7.WEF Influence-Mine'!$AB216","v":0},{"$f":"'7.WEF Influence-Mine'!$AB256","v":0},{"$f":"'7.WEF Influence-Mine'!$AB296","v":0},{"$f":"IF(BT44>=$D$7,\"B:\"&'3.WEF Status-Base'!$T43&\": \",)&IF(BU44<>0,\"1.\"&'7.WEF Influence-Mine'!$AC136&\" \",)&IF(BV44<>0,\"2.\"&'7.WEF Influence-Mine'!$AC176&\" \",)&IF(BW44<>0,\"3.\"&'7.WEF Influence-Mine'!$AC216&\" \",)&IF(BX44<>0,\"4.\"&'7.WEF Influence-Mine'!$AC256&\" \",)&IF(BY44<>0,\"5.\"&'7.WEF Influence-Mine'!$AC296&\" \",)","v":""},null,null,null,null,null,null,{"$f":"'3.WEF Status-Base'!V43","v":0},{"$f":"'7.WEF Influence-Mine'!$AF136","v":0},{"$f":"'7.WEF Influence-Mine'!$AF176","v":0},{"$f":"'7.WEF Influence-Mine'!$AF216","v":0},{"$f":"'7.WEF Influence-Mine'!$AF256","v":0},{"$f":"'7.WEF Influence-Mine'!$AF296","v":0},{"$f":"IF(CG44>=$D$7,\"B:\"&'3.WEF Status-Base'!$W43&\": \",)&IF(CH44<>0,\"1.\"&'7.WEF Influence-Mine'!$AG136&\" \",)&IF(CI44<>0,\"2.\"&'7.WEF Influence-Mine'!$AG176&\" \",)&IF(CJ44<>0,\"3.\"&'7.WEF Influence-Mine'!$AG216&\" \",)&IF(CK44<>0,\"4.\"&'7.WEF Influence-Mine'!$AG256&\" \",)&IF(CL44<>0,\"5.\"&'7.WEF Influence-Mine'!$AG296&\" \",)","v":""},null,null,null,null,null,null,{"$f":"'3.WEF Status-Base'!Y43","v":0},{"$f":"'7.WEF Influence-Mine'!$AJ136","v":0},{"$f":"'7.WEF Influence-Mine'!$AJ176","v":0},{"$f":"'7.WEF Influence-Mine'!$AJ216","v":0},{"$f":"'7.WEF Influence-Mine'!$AJ256","v":0},{"$f":"'7.WEF Influence-Mine'!$AJ296","v":0},{"$f":"IF(CT44>=$D$7,\"B:\"&'3.WEF Status-Base'!$Z43&\": \",)&IF(CU44<>0,\"1.\"&'7.WEF Influence-Mine'!$AK136&\" \",)&IF(CV44<>0,\"2.\"&'7.WEF Influence-Mine'!$AK176&\" \",)&IF(CW44<>0,\"3.\"&'7.WEF Influence-Mine'!$AK216&\" \",)&IF(CX44<>0,\"4.\"&'7.WEF Influence-Mine'!$AK256&\" \",)&IF(CY44<>0,\"5.\"&'7.WEF Influence-Mine'!$AK296&\" \",)","v":""},null,null,null,null,null,null,{"$f":"'3.WEF Status-Base'!AB43","v":0},{"$f":"'7.WEF Influence-Mine'!$AN136","v":0},{"$f":"'7.WEF Influence-Mine'!$AN176","v":0},{"$f":"'7.WEF Influence-Mine'!$AN216","v":0},{"$f":"'7.WEF Influence-Mine'!$AN256","v":0},{"$f":"'7.WEF Influence-Mine'!$AN296","v":0},{"$f":"IF(DG44>=$D$7,\"B:\"&'3.WEF Status-Base'!$AC43&\": \",)&IF(DH44<>0,\"1.\"&'7.WEF Influence-Mine'!$AO136&\" \",)&IF(DI44<>0,\"2.\"&'7.WEF Influence-Mine'!$AO176&\" \",)&IF(DJ44<>0,\"3.\"&'7.WEF Influence-Mine'!$AO216&\" \",)&IF(DK44<>0,\"4.\"&'7.WEF Influence-Mine'!$AO256&\" \",)&IF(DL44<>0,\"5.\"&'7.WEF Influence-Mine'!$AO296&\" \",)","v":""},null,null,null,null,null,null,{"$f":"'3.WEF Status-Base'!AE43","v":0},{"$f":"'7.WEF Influence-Mine'!$AR136","v":0},{"$f":"'7.WEF Influence-Mine'!$AR176","v":0},{"$f":"'7.WEF Influence-Mine'!$AR216","v":0},{"$f":"'7.WEF Influence-Mine'!$AR256","v":0},{"$f":"'7.WEF Influence-Mine'!$AR296","v":0},{"$f":"IF(DT44>=$D$7,\"B:\"&'3.WEF Status-Base'!$AF43&\": \",)&IF(DU44<>0,\"1.\"&'7.WEF Influence-Mine'!$AS136&\" \",)&IF(DV44<>0,\"2.\"&'7.WEF Influence-Mine'!$AS176&\" \",)&IF(DW44<>0,\"3.\"&'7.WEF Influence-Mine'!$AS216&\" \",)&IF(DX44<>0,\"4.\"&'7.WEF Influence-Mine'!$AS256&\" \",)&IF(DY44<>0,\"5.\"&'7.WEF Influence-Mine'!$AS296&\" \",)","v":""},null,null,null,null,null,null,{"$f":"'3.WEF Status-Base'!AH43","v":0},{"$f":"'7.WEF Influence-Mine'!$AV136","v":0},{"$f":"'7.WEF Influence-Mine'!$AV176","v":0},{"$f":"'7.WEF Influence-Mine'!$AV216","v":0},{"$f":"'7.WEF Influence-Mine'!$AV256","v":0},{"$f":"'7.WEF Influence-Mine'!$AV296","v":0},{"$f":"IF(EG44>=$D$7,\"B:\"&'3.WEF Status-Base'!$AI43&\": \",)&IF(EH44<>0,\"1.\"&'7.WEF Influence-Mine'!$AW136&\" \",)&IF(EI44<>0,\"2.\"&'7.WEF Influence-Mine'!$AW176&\" \",)&IF(EJ44<>0,\"3.\"&'7.WEF Influence-Mine'!$AW216&\" \",)&IF(EK44<>0,\"4.\"&'7.WEF Influence-Mine'!$AW256&\" \",)&IF(EL44<>0,\"5.\"&'7.WEF Influence-Mine'!$AW296&\" \",)","v":""},null,null,null,null,null,null,{"$f":"'3.WEF Status-Base'!AK43","v":0},{"$f":"'7.WEF Influence-Mine'!$AZ136","v":0},{"$f":"'7.WEF Influence-Mine'!$AZ176","v":0},{"$f":"'7.WEF Influence-Mine'!$AZ216","v":0},{"$f":"'7.WEF Influence-Mine'!$AZ256","v":0},{"$f":"'7.WEF Influence-Mine'!$AZ296","v":0},{"$f":"IF(ET44>=$D$7,\"B:\"&'3.WEF Status-Base'!$AL43&\": \",)&IF(EU44<>0,\"1.\"&'7.WEF Influence-Mine'!$BA136&\" \",)&IF(EV44<>0,\"2.\"&'7.WEF Influence-Mine'!$BA176&\" \",)&IF(EW44<>0,\"3.\"&'7.WEF Influence-Mine'!$BA216&\" \",)&IF(EX44<>0,\"4.\"&'7.WEF Influence-Mine'!$BA256&\" \",)&IF(EY44<>0,\"5.\"&'7.WEF Influence-Mine'!$BA296&\" \",)","v":""},null,null,null,null,null,null,{"$f":"'3.WEF Status-Base'!AN43","v":0},{"$f":"'7.WEF Influence-Mine'!$BD136","v":0},{"$f":"'7.WEF Influence-Mine'!$BD176","v":0},{"$f":"'7.WEF Influence-Mine'!$BD216","v":0},{"$f":"'7.WEF Influence-Mine'!$BD256","v":0},{"$f":"'7.WEF Influence-Mine'!$BD296","v":0},{"$f":"IF(FG44>=$D$7,\"B:\"&'3.WEF Status-Base'!$AO43&\": \",)&IF(FH44<>0,\"1.\"&'7.WEF Influence-Mine'!$BE136&\" \",)&IF(FI44<>0,\"2.\"&'7.WEF Influence-Mine'!$BE176&\" \",)&IF(FJ44<>0,\"3.\"&'7.WEF Influence-Mine'!$BE216&\" \",)&IF(FK44<>0,\"4.\"&'7.WEF Influence-Mine'!$BE256&\" \",)&IF(FL44<>0,\"5.\"&'7.WEF Influence-Mine'!$BE296&\" \",)","v":""},null,null,null,null,null,null,{"$f":"'3.WEF Status-Base'!AQ43","v":0},{"$f":"'7.WEF Influence-Mine'!$BH136","v":0},{"$f":"'7.WEF Influence-Mine'!$BH176","v":0},{"$f":"'7.WEF Influence-Mine'!$BH216","v":0},{"$f":"'7.WEF Influence-Mine'!$BH256","v":0},{"$f":"'7.WEF Influence-Mine'!$BH296","v":0},{"$f":"IF(FT44>=$D$7,\"B:\"&'3.WEF Status-Base'!$AR43&\": \",)&IF(FU44<>0,\"1.\"&'7.WEF Influence-Mine'!$BI136&\" \",)&IF(FV44<>0,\"2.\"&'7.WEF Influence-Mine'!$BI176&\" \",)&IF(FW44<>0,\"3.\"&'7.WEF Influence-Mine'!$BI216&\" \",)&IF(FX44<>0,\"4.\"&'7.WEF Influence-Mine'!$BI256&\" \",)&IF(FY44<>0,\"5.\"&'7.WEF Influence-Mine'!$BI296&\" \",)","v":""},null,null,null,null,null,null,{"$f":"'3.WEF Status-Base'!AT43","v":0},{"$f":"'7.WEF Influence-Mine'!$BL136","v":0},{"$f":"'7.WEF Influence-Mine'!$BL176","v":0},{"$f":"'7.WEF Influence-Mine'!$BL216","v":0},{"$f":"'7.WEF Influence-Mine'!$BL256","v":0},{"$f":"'7.WEF Influence-Mine'!$BL296","v":0},{"$f":"IF(GG44>=$D$7,\"B:\"&'3.WEF Status-Base'!$AU43&\": \",)&IF(GH44<>0,\"1.\"&'7.WEF Influence-Mine'!$BM136&\" \",)&IF(GI44<>0,\"2.\"&'7.WEF Influence-Mine'!$BM176&\" \",)&IF(GJ44<>0,\"3.\"&'7.WEF Influence-Mine'!$BM216&\" \",)&IF(GK44<>0,\"4.\"&'7.WEF Influence-Mine'!$BM256&\" \",)&IF(GL44<>0,\"5.\"&'7.WEF Influence-Mine'!$BM296&\" \",)","v":""},null,null,null,null,null,null,{"$f":"'3.WEF Status-Base'!AW43","v":0},{"$f":"'7.WEF Influence-Mine'!$BP136","v":0},{"$f":"'7.WEF Influence-Mine'!$BP176","v":0},{"$f":"'7.WEF Influence-Mine'!$BP216","v":0},{"$f":"'7.WEF Influence-Mine'!$BP256","v":0},{"$f":"'7.WEF Influence-Mine'!$BP296","v":0},{"$f":"IF(GT44>=$D$7,\"B:\"&'3.WEF Status-Base'!$AX43&\": \",)&IF(GU44<>0,\"1.\"&'7.WEF Influence-Mine'!$BQ136&\" \",)&IF(GV44<>0,\"2.\"&'7.WEF Influence-Mine'!$BQ176&\" \",)&IF(GW44<>0,\"3.\"&'7.WEF Influence-Mine'!$BQ216&\" \",)&IF(GX44<>0,\"4.\"&'7.WEF Influence-Mine'!$BQ256&\" \",)&IF(GY44<>0,\"5.\"&'7.WEF Influence-Mine'!$BQ296&\" \",)","v":""},null,null,null,null,null,null,{"$f":"'3.WEF Status-Base'!AZ43","v":0},{"$f":"'7.WEF Influence-Mine'!$BT136","v":0},{"$f":"'7.WEF Influence-Mine'!$BT176","v":0},{"$f":"'7.WEF Influence-Mine'!$BT216","v":0},{"$f":"'7.WEF Influence-Mine'!$BT256","v":0},{"$f":"'7.WEF Influence-Mine'!$BT296","v":0},{"$f":"IF(HG44>=$D$7,\"B:\"&'3.WEF Status-Base'!$BA43&\": \",)&IF(HH44<>0,\"1.\"&'7.WEF Influence-Mine'!$BU136&\" \",)&IF(HI44<>0,\"2.\"&'7.WEF Influence-Mine'!$BU176&\" \",)&IF(HJ44<>0,\"3.\"&'7.WEF Influence-Mine'!$BU216&\" \",)&IF(HK44<>0,\"4.\"&'7.WEF Influence-Mine'!$BU256&\" \",)&IF(HL44<>0,\"5.\"&'7.WEF Influence-Mine'!$BU296&\" \",)","v":""},null,null,null,null,null,null,{"$f":"'3.WEF Status-Base'!BC43","v":0},{"$f":"'7.WEF Influence-Mine'!$BX136","v":0},{"$f":"'7.WEF Influence-Mine'!$BX176","v":0},{"$f":"'7.WEF Influence-Mine'!$BX216","v":0},{"$f":"'7.WEF Influence-Mine'!$BX256","v":0},{"$f":"'7.WEF Influence-Mine'!$BX296","v":0},{"$f":"IF(HT44>=$D$7,\"B:\"&'3.WEF Status-Base'!$BD43&\": \",)&IF(HU44<>0,\"1.\"&'7.WEF Influence-Mine'!$BY136&\" \",)&IF(HV44<>0,\"2.\"&'7.WEF Influence-Mine'!$BY176&\" \",)&IF(HW44<>0,\"3.\"&'7.WEF Influence-Mine'!$BY216&\" \",)&IF(HX44<>0,\"4.\"&'7.WEF Influence-Mine'!$BY256&\" \",)&IF(HY44<>0,\"5.\"&'7.WEF Influence-Mine'!$BY296&\" \",)","v":""},null,null,null,null,null,null,{"$f":"'7.WEF Influence-Mine'!BZ136&\" : \"&'7.WEF Influence-Mine'!BZ176&\" : \"&'7.WEF Influence-Mine'!BZ216&\" : \"&'7.WEF Influence-Mine'!BZ256&\" : \"&'7.WEF Influence-Mine'!BZ296","v":"0 : 0 : 0 : 0 : 0"}]

{"sheet":"8b.WEF Closure-Composite","index":9,"n_rows":44,"n_cols":241,"rows_kept":44,"cut":false,"hidden":false,"merged":[[5,71,5,75],[5,162,5,166],[5,175,5,179],[5,188,5,192],[5,201,5,205],[5,214,5,218],[5,227,5,231],[5,84,5,88],[5,97,5,101],[5,110,5,114],[5,123,5,127],[5,136,5,140],[5,149,5,153],[5,32,5,36],[5,45,5,49],[5,58,5,62],[7,19,9,19],[7,6,9,6],[5,6,5,10],[5,19,5,23]]}
[null,"WEF Security"]
[null,"WEF Benefit-Impact from Mining"]
[null,{"$f":"'2.WEF Inventory Base'!C3","v":"Community A"},null,null,null,null,null,null,null,null,null,null,null,null,null,null,null,null,null,null,null,null,null,null,null,null,null,{"$f":"COLUMN()","v":28}]
[null,"User Guidance Notes"]
[null,"OPERATIONS"]
[null,"Source",null,"X",null,null,"Active ",null,null,null,null,{"$f":"'6.WEF Inventory Mine'!$O$10","v":"N"},{"$f":"'6.WEF Inventory Mine'!$B$10","v":"Surface Water"},null,null,null,null,null,null,"Active ",null,null,null,null,{"$f":"'6.WEF Inventory Mine'!$O$11","v":"N"},{"$f":"'6.WEF Inventory Mine'!$B$11","v":"Groundwater"},null,null,null,null,null,null,"Active ",null,null,null,null,{"$f":"'6.WEF Inventory Mine'!O12","v":"N"},{"$f":"'6.WEF Inventory Mine'!$B$12","v":"Storage Water"},null,null,null,null,null,null,"Active ",null,null,null,null,{"$f":"'6.WEF Inventory Mine'!$O$13","v":"N"},{"$f":"'6.WEF Inventory Mine'!$B$13","v":"Rainwater Harvest"},null,null,null,null,null,null,"Active ",null,null,null,null,{"$f":"'6.WEF Inventory Mine'!$O$14","v":"N"},{"$f":"'6.WEF Inventory Mine'!$B$14","v":"Imported"},null,null,null,null,null,null,"Active ",null,null,null,null,{"$f":"'6.WEF Inventory Mine'!$O$15","v":"N"},{"$f":"'6.WEF Inventory Mine'!$B$15","v":"Other"},null,null,null,null,null,null,"Active ",null,null,null,null,{"$f":"'6.WEF Inventory Mine'!$O$22","v":"N"},{"$f":"'6.WEF Inventory Mine'!$B$22","v":"Biomass (Wood)"},null,null,null,null,null,null,"Active ",null,null,null,null,{"$f":"'6.WEF Inventory Mine'!$O$23","v":"N"},{"$f":"'6.WEF Inventory Mine'!$B$23","v":"Diesel, Petrol"},null,null,null,null,null,null,"Active ",null,null,null,null,{"$f":"'6.WEF Inventory Mine'!$O$24","v":"N"},{"$f":"'6.WEF Inventory Mine'!$B$24","v":"Electric Grid"},null,null,null,null,null,null,"Active ",null,null,null,null,{"$f":"'6.WEF Inventory Mine'!$O$25","v":"N"},{"$f":"'6.WEF Inventory Mine'!$B$25","v":"Propane (Gas)"},null,null,null,null,null,null,"Active ",null,null,null,null,{"$f":"'6.WEF Inventory Mine'!$O$26","v":"N"},{"$f":"'6.WEF Inventory Mine'!$B$26","v":"Renewable"},null,null,null,null,null,null,"Active ",null,null,null,null,{"$f":"'6.WEF Inventory Mine'!$O$27","v":"N"},{"$f":"'6.WEF Inventory Mine'!$B$27","v":"Other"},null,null,null,null,null,null,"Active ",null,null,null,null,{"$f":"'6.WEF Inventory Mine'!O34","v":"N"},{"$f":"'6.WEF Inventory Mine'!B34","v":"Self Produced"},null,null,null,null,null,null,"Active ",null,null,null,null,{"$f":"'6.WEF Inventory Mine'!O35","v":"N"},{"$f":"'6.WEF Inventory Mine'!B35","v":"Purchased Locally"},null,null,null,null,null,null,"Active ",null,null,null,null,{"$f":"'6.WEF Inventory Mine'!O36","v":"N"},{"$f":"'6.WEF Inventory Mine'!B36","v":"Imported"},null,null,null,null,null,null,"Active ",null,null,null,null,{"$f":"'6.WEF Inventory Mine'!O37","v":"N"},{"$f":"'6.WEF Inventory Mine'!B37","v":"Other"},null,null,null,null,null,null,"Active ",null,null,null,null,{"$f":"'6.WEF Inventory Mine'!O38","v":"N"},{"$f":"'6.WEF Inventory Mine'!B38","v":0},null,null,null,null,null,null,"Active ",null,null,null,null,{"$f":"'6.WEF Inventory Mine'!O39","v":"N"},{"$f":"'6.WEF Inventory Mine'!B39","v":0}]
[null,"Relevance Threshold",null,1,null,null,{"$f":"IF(MAX(G12:G44)<>0,\"Y\",\"N\")","v":"N"},{"$f":"IF(MAX(H12:H44)<>0,\"Y\",IF(MIN(H12:H44)<>0,\"Y\",\"N\"))","v":"N"},{"$f":"IF(MAX(I12:I44)<>0,\"Y\",IF(MIN(I12:I44)<>0,\"Y\",\"N\"))","v":"N"},{"$f":"IF(MAX(J12:J44)<>0,\"Y\",IF(MIN(J12:J44)<>0,\"Y\",\"N\"))","v":"N"},{"$f":"IF(MAX(K12:K44)<>0,\"Y\",IF(MIN(K12:K44)<>0,\"Y\",\"N\"))","v":"N"},{"$f":"IF(MAX(L12:L44)<>0,\"Y\",IF(MIN(L12:L44)<>0,\"Y\",\"N\"))","v":"N"},"Mining Benefit & Impacts","Actions","Status Indicator","Pressure Indicator","Action Indicator",null,null,{"$f":"IF(MAX(T12:T44)<>0,\"Y\",\"N\")","v":"N"},{"$f":"IF(MAX(U12:U44)<>0,\"Y\",IF(MIN(U12:U44)<>0,\"Y\",\"N\"))","v":"N"},{"$f":"IF(MAX(V12:V44)<>0,\"Y\",IF(MIN(V12:V44)<>0,\"Y\",\"N\"))","v":"N"},{"$f":"IF(MAX(W12:W44)<>0,\"Y\",IF(MIN(W12:W44)<>0,\"Y\",\"N\"))","v":"N"},{"$f":"IF(MAX(X12:X44)<>0,\"Y\",IF(MIN(X12:X44)<>0,\"Y\",\"N\"))","v":"N"},{"$f":"IF(MAX(Y12:Y44)<>0,\"Y\",IF(MIN(Y12:Y44)<>0,\"Y\",\"N\"))","v":"N"},"Mining Benefit & Impacts","Actions","Status Indicator","Pressure Indicator","Action Indicator",null,null,{"$f":"IF(MAX(AG12:AG44)<>0,\"Y\",\"N\")","v":"N"},{"$f":"IF(MAX(AH12:AH44)<>0,\"Y\",IF(MIN(AH12:AH44)<>0,\"Y\",\"N\"))","v":"N"},{"$f":"IF(MAX(AI12:AI44)<>0,\"Y\",IF(MIN(AI12:AI44)<>0,\"Y\",\"N\"))","v":"N"},{"$f":"IF(MAX(AJ12:AJ44)<>0,\"Y\",IF(MIN(AJ12:AJ44)<>0,\"Y\",\"N\"))","v":"N"},{"$f":"IF(MAX(AK12:AK44)<>0,\"Y\",IF(MIN(AK12:AK44)<>0,\"Y\",\"N\"))","v":"N"},{"$f":"IF(MAX(AL12:AL44)<>0,\"Y\",IF(MIN(AL12:AL44)<>0,\"Y\",\"N\"))","v":"N"},"Mining Benefit & Impacts","Actions","Status Indicator","Pressure Indicator","Action Indicator",null,null,{"$f":"IF(MAX(AT12:AT44)<>0,\"Y\",\"N\")","v":"N"},{"$f":"IF(MAX(AU12:AU44)<>0,\"Y\",IF(MIN(AU12:AU44)<>0,\"Y\",\"N\"))","v":"N"},{"$f":"IF(MAX(AV12:AV44)<>0,\"Y\",IF(MIN(AV12:AV44)<>0,\"Y\",\"N\"))","v":"N"},{"$f":"IF(MAX(AW12:AW44)<>0,\"Y\",IF(MIN(AW12:AW44)<>0,\"Y\",\"N\"))","v":"N"},{"$f":"IF(MAX(AX12:AX44)<>0,\"Y\",IF(MIN(AX12:AX44)<>0,\"Y\",\"N\"))","v":"N"},{"$f":"IF(MAX(AY12:AY44)<>0,\"Y\",IF(MIN(AY12:AY44)<>0,\"Y\",\"N\"))","v":"N"},"Mining Benefit & Impacts","Actions","Status Indicator","Pressure Indicator","Action Indicator",null,null,{"$f":"IF(MAX(BG12:BG44)<>0,\"Y\",\"N\")","v":"N"},{"$f":"IF(MAX(BH12:BH44)<>0,\"Y\",IF(MIN(BH12:BH44)<>0,\"Y\",\"N\"))","v":"N"},{"$f":"IF(MAX(BI12:BI44)<>0,\"Y\",IF(MIN(BI12:BI44)<>0,\"Y\",\"N\"))","v":"N"},{"$f":"IF(MAX(BJ12:BJ44)<>0,\"Y\",IF(MIN(BJ12:BJ44)<>0,\"Y\",\"N\"))","v":"N"},{"$f":"IF(MAX(BK12:BK44)<>0,\"Y\",IF(MIN(BK12:BK44)<>0,\"Y\",\"N\"))","v":"N"},{"$f":"IF(MAX(BL12:BL44)<>0,\"Y\",IF(MIN(BL12:BL44)<>0,\"Y\",\"N\"))","v":"N"},"Mining Benefit & Impacts","Actions","Status Indicator","Pressure Indicator","Action Indicator",null,null,{"$f":"IF(MAX(BT12:BT44)<>0,\"Y\",\"N\")","v":"N"},{"$f":"IF(MAX(BU12:BU44)<>0,\"Y\",IF(MIN(BU12:BU44)<>0,\"Y\",\"N\"))","v":"N"},{"$f":"IF(MAX(BV12:BV44)<>0,\"Y\",IF(MIN(BV12:BV44)<>0,\"Y\",\"N\"))","v":"N"},{"$f":"IF(MAX(BW12:BW44)<>0,\"Y\",IF(MIN(BW12:BW44)<>0,\"Y\",\"N\"))","v":"N"},{"$f":"IF(MAX(BX12:BX44)<>0,\"Y\",IF(MIN(BX12:BX44)<>0,\"Y\",\"N\"))","v":"N"},{"$f":"IF(MAX(BY12:BY44)<>0,\"Y\",IF(MIN(BY12:BY44)<>0,\"Y\",\"N\"))","v":"N"},"Mining Benefit & Impacts","Actions","Status Indicator","Pressure Indicator","Action Indicator",null,null,{"$f":"IF(MAX(CG12:CG44)<>0,\"Y\",\"N\")","v":"N"},{"$f":"IF(MAX(CH12:CH44)<>0,\"Y\",IF(MIN(CH12:CH44)<>0,\"Y\",\"N\"))","v":"N"},{"$f":"IF(MAX(CI12:CI44)<>0,\"Y\",IF(MIN(CI12:CI44)<>0,\"Y\",\"N\"))","v":"N"},{"$f":"IF(MAX(CJ12:CJ44)<>0,\"Y\",IF(MIN(CJ12:CJ44)<>0,\"Y\",\"N\"))","v":"N"},{"$f":"IF(MAX(CK12:CK44)<>0,\"Y\",IF(MIN(CK12:CK44)<>0,\"Y\",\"N\"))","v":"N"},{"$f":"IF(MAX(CL12:CL44)<>0,\"Y\",IF(MIN(CL12:CL44)<>0,\"Y\",\"N\"))","v":"N"},"Mining Benefit & Impacts","Actions","Status Indicator","Pressure Indicator","Action Indicator",null,null,{"$f":"IF(MAX(CT12:CT44)<>0,\"Y\",\"N\")","v":"N"},{"$f":"IF(MAX(CU12:CU44)<>0,\"Y\",IF(MIN(CU12:CU44)<>0,\"Y\",\"N\"))","v":"N"},{"$f":"IF(MAX(CV12:CV44)<>0,\"Y\",IF(MIN(CV12:CV44)<>0,\"Y\",\"N\"))","v":"N"},{"$f":"IF(MAX(CW12:CW44)<>0,\"Y\",IF(MIN(CW12:CW44)<>0,\"Y\",\"N\"))","v":"N"},{"$f":"IF(MAX(CX12:CX44)<>0,\"Y\",IF(MIN(CX12:CX44)<>0,\"Y\",\"N\"))","v":"N"},{"$f":"IF(MAX(CY12:CY44)<>0,\"Y\",IF(MIN(CY12:CY44)<>0,\"Y\",\"N\"))","v":"N"},"Mining Benefit & Impacts","Actions","Status Indicator","Pressure Indicator","Action Indicator",null,null,{"$f":"IF(MAX(DG12:DG44)<>0,\"Y\",\"N\")","v":"N"},{"$f":"IF(MAX(DH12:DH44)<>0,\"Y\",IF(MIN(DH12:DH44)<>0,\"Y\",\"N\"))","v":"N"},{"$f":"IF(MAX(DI12:DI44)<>0,\"Y\",IF(MIN(DI12:DI44)<>0,\"Y\",\"N\"))","v":"N"},{"$f":"IF(MAX(DJ12:DJ44)<>0,\"Y\",IF(MIN(DJ12:DJ44)<>0,\"Y\",\"N\"))","v":"N"},{"$f":"IF(MAX(DK12:DK44)<>0,\"Y\",IF(MIN(DK12:DK44)<>0,\"Y\",\"N\"))","v":"N"},{"$f":"IF(MAX(DL12:DL44)<>0,\"Y\",IF(MIN(DL12:DL44)<>0,\"Y\",\"N\"))","v":"N"},"Mining Benefit & Impacts","Actions","Status Indicator","Pressure Indicator","Action Indicator",null,null,{"$f":"IF(MAX(DT12:DT44)<>0,\"Y\",\"N\")","v":"N"},{"$f":"IF(MAX(DU12:DU44)<>0,\"Y\",IF(MIN(DU12:DU44)<>0,\"Y\",\"N\"))","v":"N"},{"$f":"IF(MAX(DV12:DV44)<>0,\"Y\",IF(MIN(DV12:DV44)<>0,\"Y\",\"N\"))","v":"N"},{"$f":"IF(MAX(DW12:DW44)<>0,\"Y\",IF(MIN(DW12:DW44)<>0,\"Y\",\"N\"))","v":"N"},{"$f":"IF(MAX(DX12:DX44)<>0,\"Y\",IF(MIN(DX12:DX44)<>0,\"Y\",\"N\"))","v":"N"},{"$f":"IF(MAX(DY12:DY44)<>0,\"Y\",IF(MIN(DY12:DY44)<>0,\"Y\",\"N\"))","v":"N"},"Mining Benefit & Impacts","Actions","Status Indicator","Pressure Indicator","Action Indicator",null,null,{"$f":"IF(MAX(EG12:EG44)<>0,\"Y\",\"N\")","v":"N"},{"$f":"IF(MAX(EH12:EH44)<>0,\"Y\",IF(MIN(EH12:EH44)<>0,\"Y\",\"N\"))","v":"N"},{"$f":"IF(MAX(EI12:EI44)<>0,\"Y\",IF(MIN(EI12:EI44)<>0,\"Y\",\"N\"))","v":"N"},{"$f":"IF(MAX(EJ12:EJ44)<>0,\"Y\",IF(MIN(EJ12:EJ44)<>0,\"Y\",\"N\"))","v":"N"},{"$f":"IF(MAX(EK12:EK44)<>0,\"Y\",IF(MIN(EK12:EK44)<>0,\"Y\",\"N\"))","v":"N"},{"$f":"IF(MAX(EL12:EL44)<>0,\"Y\",IF(MIN(EL12:EL44)<>0,\"Y\",\"N\"))","v":"N"},"Mining Benefit & Impacts","Actions","Status Indicator","Pressure Indicator","Action Indicator",null,null,{"$f":"IF(MAX(ET12:ET44)<>0,\"Y\",\"N\")","v":"N"},{"$f":"IF(MAX(EU12:EU44)<>0,\"Y\",IF(MIN(EU12:EU44)<>0,\"Y\",\"N\"))","v":"N"},{"$f":"IF(MAX(EV12:EV44)<>0,\"Y\",IF(MIN(EV12:EV44)<>0,\"Y\",\"N\"))","v":"N"},{"$f":"IF(MAX(EW12:EW44)<>0,\"Y\",IF(MIN(EW12:EW44)<>0,\"Y\",\"N\"))","v":"N"},{"$f":"IF(MAX(EX12:EX44)<>0,\"Y\",IF(MIN(EX12:EX44)<>0,\"Y\",\"N\"))","v":"N"},{"$f":"IF(MAX(EY12:EY44)<>0,\"Y\",IF(MIN(EY12:EY44)<>0,\"Y\",\"N\"))","v":"N"},"Mining Benefit & Impacts","Actions","Status Indicator","Pressure Indicator","Action Indicator",null,null,{"$f":"IF(MAX(FG12:FG44)<>0,\"Y\",\"N\")","v":"N"},{"$f":"IF(MAX(FH12:FH44)<>0,\"Y\",IF(MIN(FH12:FH44)<>0,\"Y\",\"N\"))","v":"N"},{"$f":"IF(MAX(FI12:FI44)<>0,\"Y\",IF(MIN(FI12:FI44)<>0,\"Y\",\"N\"))","v":"N"},{"$f":"IF(MAX(FJ12:FJ44)<>0,\"Y\",IF(MIN(FJ12:FJ44)<>0,\"Y\",\"N\"))","v":"N"},{"$f":"IF(MAX(FK12:FK44)<>0,\"Y\",IF(MIN(FK12:FK44)<>0,\"Y\",\"N\"))","v":"N"},{"$f":"IF(MAX(FL12:FL44)<>0,\"Y\",IF(MIN(FL12:FL44)<>0,\"Y\",\"N\"))","v":"N"},"Mining Benefit & Impacts","Actions","Status Indicator","Pressure Indicator","Action Indicator",null,null,{"$f":"IF(MAX(FT12:FT44)<>0,\"Y\",\"N\")","v":"N"},{"$f":"IF(MAX(FU12:FU44)<>0,\"Y\",IF(MIN(FU12:FU44)<>0,\"Y\",\"N\"))","v":"N"},{"$f":"IF(MAX(FV12:FV44)<>0,\"Y\",IF(MIN(FV12:FV44)<>0,\"Y\",\"N\"))","v":"N"},{"$f":"IF(MAX(FW12:FW44)<>0,\"Y\",IF(MIN(FW12:FW44)<>0,\"Y\",\"N\"))","v":"N"},{"$f":"IF(MAX(FX12:FX44)<>0,\"Y\",IF(MIN(FX12:FX44)<>0,\"Y\",\"N\"))","v":"N"},{"$f":"IF(MAX(FY12:FY44)<>0,\"Y\",IF(MIN(FY12:FY44)<>0,\"Y\",\"N\"))","v":"N"},"Mining Benefit & Impacts","Actions","Status Indicator","Pressure Indicator","Action Indicator",null,null,{"$f":"IF(MAX(GG12:GG44)<>0,\"Y\",\"N\")","v":"N"},{"$f":"IF(MAX(GH12:GH44)<>0,\"Y\",IF(MIN(GH12:GH44)<>0,\"Y\",\"N\"))","v":"N"},{"$f":"IF(MAX(GI12:GI44)<>0,\"Y\",IF(MIN(GI12:GI44)<>0,\"Y\",\"N\"))","v":"N"},{"$f":"IF(MAX(GJ12:GJ44)<>0,\"Y\",IF(MIN(GJ12:GJ44)<>0,\"Y\",\"N\"))","v":"N"},{"$f":"IF(MAX(GK12:GK44)<>0,\"Y\",IF(MIN(GK12:GK44)<>0,\"Y\",\"N\"))","v":"N"},{"$f":"IF(MAX(GL12:GL44)<>0,\"Y\",IF(MIN(GL12:GL44)<>0,\"Y\",\"N\"))","v":"N"},"Mining Benefit & Impacts","Actions","Status Indicator","Pressure Indicator","Action Indicator",null,null,{"$f":"IF(MAX(GT12:GT44)<>0,\"Y\",\"N\")","v":"N"},{"$f":"IF(MAX(GU12:GU44)<>0,\"Y\",IF(MIN(GU12:GU44)<>0,\"Y\",\"N\"))","v":"N"},{"$f":"IF(MAX(GV12:GV44)<>0,\"Y\",IF(MIN(GV12:GV44)<>0,\"Y\",\"N\"))","v":"N"},{"$f":"IF(MAX(GW12:GW44)<>0,\"Y\",IF(MIN(GW12:GW44)<>0,\"Y\",\"N\"))","v":"N"},{"$f":"IF(MAX(GX12:GX44)<>0,\"Y\",IF(MIN(GX12:GX44)<>0,\"Y\",\"N\"))","v":"N"},{"$f":"IF(MAX(GY12:GY44)<>0,\"Y\",IF(MIN(GY12:GY44)<>0,\"Y\",\"N\"))","v":"N"},"Mining Benefit & Impacts","Actions","Status Indicator","Pressure Indicator","Action Indicator",null,null,{"$f":"IF(MAX(HG12:HG44)<>0,\"Y\",\"N\")","v":"N"},{"$f":"IF(MAX(HH12:HH44)<>0,\"Y\",IF(MIN(HH12:HH44)<>0,\"Y\",\"N\"))","v":"N"},{"$f":"IF(MAX(HI12:HI44)<>0,\"Y\",IF(MIN(HI12:HI44)<>0,\"Y\",\"N\"))","v":"N"},{"$f":"IF(MAX(HJ12:HJ44)<>0,\"Y\",IF(MIN(HJ12:HJ44)<>0,\"Y\",\"N\"))","v":"N"},{"$f":"IF(MAX(HK12:HK44)<>0,\"Y\",IF(MIN(HK12:HK44)<>0,\"Y\",\"N\"))","v":"N"},{"$f":"IF(MAX(HL12:HL44)<>0,\"Y\",IF(MIN(HL12:HL44)<>0,\"Y\",\"N\"))","v":"N"},"Mining Benefit & Impacts","Actions","Status Indicator","Pressure Indicator","Action Indicator",null,null,{"$f":"IF(MAX(HT12:HT44)<>0,\"Y\",\"N\")","v":"N"},{"$f":"IF(MAX(HU12:HU44)<>0,\"Y\",IF(MIN(HU12:HU44)<>0,\"Y\",\"N\"))","v":"N"},{"$f":"IF(MAX(HV12:HV44)<>0,\"Y\",IF(MIN(HV12:HV44)<>0,\"Y\",\"N\"))","v":"N"},{"$f":"IF(MAX(HW12:HW44)<>0,\"Y\",IF(MIN(HW12:HW44)<>0,\"Y\",\"N\"))","v":"N"},{"$f":"IF(MAX(HX12:HX44)<>0,\"Y\",IF(MIN(HX12:HX44)<>0,\"Y\",\"N\"))","v":"N"},{"$f":"IF(MAX(HY12:HY44)<>0,\"Y\",IF(MIN(HY12:HY44)<>0,\"Y\",\"N\"))","v":"N"},"Mining Benefit & Impacts","Actions","Status Indicator","Pressure Indicator","Action Indicator"]
[null,null,null,null,"Use",null,"Baseline","1.Mineral Extraction","2.Mineral Processing","3.Mine Waste","4.Economic Activity","5.General Facilities",{"$f":"'6.WEF Inventory Mine'!$P$10","v":0},null,null,null,null,null,null,"Baseline","1.Mineral Extraction","2.Mineral Processing","3.Mine Waste","4.Economic Activity","5.General Facilities",{"$f":"'6.WEF Inventory Mine'!$P$11","v":0},null,null,null,null,null,null,"Baseline","1.Mineral Extraction","2.Mineral Processing","3.Mine Waste","4.Economic Activity","5.General Facilities",{"$f":"'6.WEF Inventory Mine'!$P$12","v":0},null,null,null,null,null,null,"Baseline","1.Mineral Extraction","2.Mineral Processing","3.Mine Waste","4.Economic Activity","5.General Facilities",{"$f":"'6.WEF Inventory Mine'!$P$13","v":0},null,null,null,null,null,null,"Baseline","1.Mineral Extraction","2.Mineral Processing","3.Mine Waste","4.Economic Activity","5.General Facilities",{"$f":"'6.WEF Inventory Mine'!$P$14","v":0},null,null,null,null,null,null,"Baseline","1.Mineral Extraction","2.Mineral Processing","3.Mine Waste","4.Economic Activity","5.General Facilities",{"$f":"'6.WEF Inventory Mine'!$P$15","v":0},null,null,null,null,null,null,"Baseline","1.Mineral Extraction","2.Mineral Processing","3.Mine Waste","4.Economic Activity","5.General Facilities",{"$f":"'6.WEF Inventory Mine'!$P$22","v":0},null,null,null,null,null,null,"Baseline","1.Mineral Extraction","2.Mineral Processing","3.Mine Waste","4.Economic Activity","5.General Facilities",{"$f":"'6.WEF Inventory Mine'!$P$23","v":0},null,null,null,null,null,null,"Baseline","1.Mineral Extraction","2.Mineral Processing","3.Mine Waste","4.Economic Activity","5.General Facilities",{"$f":"'6.WEF Inventory Mine'!$P$24","v":0},null,null,null,null,null,null,"Baseline","1.Mineral Extraction","2.Mineral Processing","3.Mine Waste","4.Economic Activity","5.General Facilities",{"$f":"'6.WEF Inventory Mine'!$P$25","v":0},null,null,null,null,null,null,"Baseline","1.Mineral Extraction","2.Mineral Processing","3.Mine Waste","4.Economic Activity","5.General Facilities",{"$f":"'6.WEF Inventory Mine'!$P$26","v":0},null,null,null,null,null,null,"Baseline","1.Mineral Extraction","2.Mineral Processing","3.Mine Waste","4.Economic Activity","5.General Facilities",{"$f":"'6.WEF Inventory Mine'!$P$27","v":0},null,null,null,null,null,null,"Baseline","1.Mineral Extraction","2.Mineral Processing","3.Mine Waste","4.Economic Activity","5.General Facilities",{"$f":"'6.WEF Inventory Mine'!$P$34","v":0},null,null,null,null,null,null,"Baseline","1.Mineral Extraction","2.Mineral Processing","3.Mine Waste","4.Economic Activity","5.General Facilities",{"$f":"'6.WEF Inventory Mine'!$P$35","v":0},null,null,null,null,null,null,"Baseline","1.Mineral Extraction","2.Mineral Processing","3.Mine Waste","4.Economic Activity","5.General Facilities",{"$f":"'6.WEF Inventory Mine'!$P$36","v":0},null,null,null,null,null,null,"Baseline","1.Mineral Extraction","2.Mineral Processing","3.Mine Waste","4.Economic Activity","5.General Facilities",{"$f":"'6.WEF Inventory Mine'!$P$37","v":0},null,null,null,null,null,null,"Baseline","1.Mineral Extraction","2.Mineral Processing","3.Mine Waste","4.Economic Activity","5.General Facilities",{"$f":"'6.WEF Inventory Mine'!$P$38","v":0},null,null,null,null,null,null,"Baseline","1.Mineral Extraction","2.Mineral Processing","3.Mine Waste","4.Economic Activity","5.General Facilities",{"$f":"'6.WEF Inventory Mine'!$P$39","v":0}]
[null,null,null,null,"Change in use",null,null,{"$f":"'7.WEF Influence-Mine'!$CD101","v":0},{"$f":"'7.WEF Influence-Mine'!$CD141","v":0},{"$f":"'7.WEF Influence-Mine'!$CD181","v":0},{"$f":"'7.WEF Influence-Mine'!$CD221","v":0},{"$f":"'7.WEF Influence-Mine'!$CD261","v":0},{"$f":"\"1. \"&'7.WEF Influence-Mine'!$CE101&\": 2. \"&'7.WEF Influence-Mine'!$CE141&\": 3. \"&'7.WEF Influence-Mine'!$CE181&\": 4. \"&'7.WEF Influence-Mine'!$CE221&\": 5. \"&'7.WEF Influence-Mine'!$CE261","v":"1. : 2. : 3. : 4. : 5. "},null,null,null,null,null,null,null,{"$f":"'7.WEF Influence-Mine'!$CH101","v":0},{"$f":"'7.WEF Influence-Mine'!$CH141","v":0},{"$f":"'7.WEF Influence-Mine'!$CH181","v":0},{"$f":"'7.WEF Influence-Mine'!$CH221","v":0},{"$f":"'7.WEF Influence-Mine'!$CH261","v":0},{"$f":"\"1.\"&'7.WEF Influence-Mine'!$CI101&\": 2.\"&'7.WEF Influence-Mine'!$CI141&\": 3.\"&'7.WEF Influence-Mine'!$CI181&\": 4.\"&'7.WEF Influence-Mine'!$CI221&\": 5\"&'7.WEF Influence-Mine'!$CI261","v":"1.: 2.: 3.: 4.: 5"},null,null,null,null,null,null,null,{"$f":"'7.WEF Influence-Mine'!$CL101","v":0},{"$f":"'7.WEF Influence-Mine'!$CL141","v":0},{"$f":"'7.WEF Influence-Mine'!$CL181","v":0},{"$f":"'7.WEF Influence-Mine'!$CL221","v":0},{"$f":"'7.WEF Influence-Mine'!$CL261","v":0},{"$f":"\"1.\"&'7.WEF Influence-Mine'!$CM101&\": 2.\"&'7.WEF Influence-Mine'!$CM141&\": 3.\"&'7.WEF Influence-Mine'!$CM181&\": 4.\"&'7.WEF Influence-Mine'!$CM221&\": 5\"&'7.WEF Influence-Mine'!$CM261","v":"1.: 2.: 3.: 4.: 5"},null,null,null,null,null,null,null,{"$f":"'7.WEF Influence-Mine'!$CP101","v":0},{"$f":"'7.WEF Influence-Mine'!$CP141","v":0},{"$f":"'7.WEF Influence-Mine'!$CP181","v":0},{"$f":"'7.WEF Influence-Mine'!$CP221","v":0},{"$f":"'7.WEF Influence-Mine'!$CP261","v":0},{"$f":"\"1.\"&'7.WEF Influence-Mine'!$CQ101&\": 2.\"&'7.WEF Influence-Mine'!$CQ141&\": 3.\"&'7.WEF Influence-Mine'!$CQ181&\": 4.\"&'7.WEF Influence-Mine'!$CQ221&\": 5\"&'7.WEF Influence-Mine'!$CQ261","v":"1.: 2.: 3.: 4.: 5"},null,null,null,null,null,null,null,{"$f":"'7.WEF Influence-Mine'!$CT101","v":0},{"$f":"'7.WEF Influence-Mine'!$CT141","v":0},{"$f":"'7.WEF Influence-Mine'!$CT181","v":0},{"$f":"'7.WEF Influence-Mine'!$CT221","v":0},{"$f":"'7.WEF Influence-Mine'!$CT261","v":0},{"$f":"\"1.\"&'7.WEF Influence-Mine'!$CU101&\": 2.\"&'7.WEF Influence-Mine'!$CU141&\": 3.\"&'7.WEF Influence-Mine'!$CU181&\": 4.\"&'7.WEF Influence-Mine'!$CU221&\": 5\"&'7.WEF Influence-Mine'!$CU261","v":"1.: 2.: 3.: 4.: 5"},null,null,null,null,null,null,null,{"$f":"'7.WEF Influence-Mine'!$CX101","v":0},{"$f":"'7.WEF Influence-Mine'!$CX141","v":0},{"$f":"'7.WEF Influence-Mine'!$CX181","v":0},{"$f":"'7.WEF Influence-Mine'!$CX221","v":0},{"$f":"'7.WEF Influence-Mine'!$CX261","v":0},{"$f":"\"1.\"&'7.WEF Influence-Mine'!$CY101&\": 2.\"&'7.WEF Influence-Mine'!$CY141&\": 3.\"&'7.WEF Influence-Mine'!$CY181&\": 4.\"&'7.WEF Influence-Mine'!$CY221&\": 5\"&'7.WEF Influence-Mine'!$CY261","v":"1.: 2.: 3.: 4.: 5"},null,null,null,null,null,null,null,{"$f":"'7.WEF Influence-Mine'!$DB101","v":0},{"$f":"'7.WEF Influence-Mine'!$DB141","v":0},{"$f":"'7.WEF Influence-Mine'!$DB181","v":0},{"$f":"'7.WEF Influence-Mine'!$DB221","v":0},{"$f":"'7.WEF Influence-Mine'!$DB261","v":0},{"$f":"\"1.\"&'7.WEF Influence-Mine'!$DC101&\": 2.\"&'7.WEF Influence-Mine'!$DC141&\": 3.\"&'7.WEF Influence-Mine'!$DC181&\": 4.\"&'7.WEF Influence-Mine'!$DC221&\": 5\"&'7.WEF Influence-Mine'!$DC261","v":"1.: 2.: 3.: 4.: 5"},null,null,null,null,null,null,null,{"$f":"'7.WEF Influence-Mine'!$DF101","v":0},{"$f":"'7.WEF Influence-Mine'!$DF141","v":0},{"$f":"'7.WEF Influence-Mine'!$DF181","v":0},{"$f":"'7.WEF Influence-Mine'!$DF221","v":0},{"$f":"'7.WEF Influence-Mine'!$DF261","v":0},{"$f":"\"1.\"&'7.WEF Influence-Mine'!$DG101&\": 2.\"&'7.WEF Influence-Mine'!$DG141&\": 3.\"&'7.WEF Influence-Mine'!$DG181&\": 4.\"&'7.WEF Influence-Mine'!$DG221&\": 5\"&'7.WEF Influence-Mine'!$DG261","v":"1.: 2.: 3.: 4.: 5"},null,null,null,null,null,null,null,{"$f":"'7.WEF Influence-Mine'!$DJ101","v":0},{"$f":"'7.WEF Influence-Mine'!$DJ141","v":0},{"$f":"'7.WEF Influence-Mine'!$DJ181","v":0},{"$f":"'7.WEF Influence-Mine'!$DJ221","v":0},{"$f":"'7.WEF Influence-Mine'!$DJ261","v":0},{"$f":"\"1.\"&'7.WEF Influence-Mine'!$DK101&\": 2.\"&'7.WEF Influence-Mine'!$DK141&\": 3.\"&'7.WEF Influence-Mine'!$DK181&\": 4.\"&'7.WEF Influence-Mine'!$DK221&\": 5\"&'7.WEF Influence-Mine'!$DK261","v":"1.: 2.: 3.: 4.: 5"},null,null,null,null,null,null,null,{"$f":"'7.WEF Influence-Mine'!$DN101","v":0},{"$f":"'7.WEF Influence-Mine'!$DN141","v":0},{"$f":"'7.WEF Influence-Mine'!$DN181","v":0},{"$f":"'7.WEF Influence-Mine'!$DN221","v":0},{"$f":"'7.WEF Influence-Mine'!$DN261","v":0},{"$f":"\"1.\"&'7.WEF Influence-Mine'!$DO101&\": 2.\"&'7.WEF Influence-Mine'!$DO141&\": 3.\"&'7.WEF Influence-Mine'!$DO181&\": 4.\"&'7.WEF Influence-Mine'!$DO221&\": 5\"&'7.WEF Influence-Mine'!$DO261","v":"1.: 2.: 3.: 4.: 5"},null,null,null,null,null,null,null,{"$f":"'7.WEF Influence-Mine'!$DR101","v":0},{"$f":"'7.WEF Influence-Mine'!$DR141","v":0},{"$f":"'7.WEF Influence-Mine'!$DR181","v":0},{"$f":"'7.WEF Influence-Mine'!$DR221","v":0},{"$f":"'7.WEF Influence-Mine'!$DR261","v":0},{"$f":"\"1.\"&'7.WEF Influence-Mine'!$DS101&\": 2.\"&'7.WEF Influence-Mine'!$DS141&\": 3.\"&'7.WEF Influence-Mine'!$DS181&\": 4.\"&'7.WEF Influence-Mine'!$DS221&\": 5\"&'7.WEF Influence-Mine'!$DS261","v":"1.: 2.: 3.: 4.: 5"},null,null,null,null,null,null,null,{"$f":"'7.WEF Influence-Mine'!$DV101","v":0},{"$f":"'7.WEF Influence-Mine'!$DV141","v":0},{"$f":"'7.WEF Influence-Mine'!$DV181","v":0},{"$f":"'7.WEF Influence-Mine'!$DV221","v":0},{"$f":"'7.WEF Influence-Mine'!$DV261","v":0},{"$f":"\"1.\"&'7.WEF Influence-Mine'!$DW101&\": 2.\"&'7.WEF Influence-Mine'!$DW141&\": 3.\"&'7.WEF Influence-Mine'!$DW181&\": 4.\"&'7.WEF Influence-Mine'!$DW221&\": 5\"&'7.WEF Influence-Mine'!$DW261","v":"1.: 2.: 3.: 4.: 5"},null,null,null,null,null,null,null,{"$f":"'7.WEF Influence-Mine'!$DZ101","v":0},{"$f":"'7.WEF Influence-Mine'!$DZ141","v":0},{"$f":"'7.WEF Influence-Mine'!$DZ181","v":0},{"$f":"'7.WEF Influence-Mine'!$DZ221","v":0},{"$f":"'7.WEF Influence-Mine'!$DZ261","v":0},{"$f":"\"1.\"&'7.WEF Influence-Mine'!$EA101&\": 2.\"&'7.WEF Influence-Mine'!$EA141&\": 3.\"&'7.WEF Influence-Mine'!$EA181&\": 4.\"&'7.WEF Influence-Mine'!$EA221&\": 5\"&'7.WEF Influence-Mine'!$EA261","v":"1.: 2.: 3.: 4.: 5"},null,null,null,null,null,null,null,{"$f":"'7.WEF Influence-Mine'!$ED101","v":0},{"$f":"'7.WEF Influence-Mine'!$ED141","v":0},{"$f":"'7.WEF Influence-Mine'!$ED181","v":0},{"$f":"'7.WEF Influence-Mine'!$ED221","v":0},{"$f":"'7.WEF Influence-Mine'!$ED221","v":0},{"$f":"\"1.\"&'7.WEF Influence-Mine'!$EE101&\": 2.\"&'7.WEF Influence-Mine'!$EE141&\": 3.\"&'7.WEF Influence-Mine'!$EE181&\": 4.\"&'7.WEF Influence-Mine'!$EE221&\": 5\"&'7.WEF Influence-Mine'!$EE261","v":"1.: 2.: 3.: 4.: 5"},null,null,null,null,null,null,null,{"$f":"'7.WEF Influence-Mine'!$EH101","v":0},{"$f":"'7.WEF Influence-Mine'!$EH141","v":0},{"$f":"'7.WEF Influence-Mine'!$EH181","v":0},{"$f":"'7.WEF Influence-Mine'!$EH221","v":0},{"$f":"'7.WEF Influence-Mine'!$EH261","v":0},{"$f":"\"1.\"&'7.WEF Influence-Mine'!$EI101&\": 2.\"&'7.WEF Influence-Mine'!$EI141&\": 3.\"&'7.WEF Influence-Mine'!$EI181&\": 4.\"&'7.WEF Influence-Mine'!$EI221&\": 5\"&'7.WEF Influence-Mine'!$EI261","v":"1.: 2.: 3.: 4.: 5"},null,null,null,null,null,null,null,{"$f":"'7.WEF Influence-Mine'!$EL101","v":0},{"$f":"'7.WEF Influence-Mine'!$EL141","v":0},{"$f":"'7.WEF Influence-Mine'!$EL181","v":0},{"$f":"'7.WEF Influence-Mine'!$EL221","v":0},{"$f":"'7.WEF Influence-Mine'!$EL261","v":0},{"$f":"\"1.\"&'7.WEF Influence-Mine'!$EM101&\": 2.\"&'7.WEF Influence-Mine'!$EM141&\": 3.\"&'7.WEF Influence-Mine'!$EM181&\": 4.\"&'7.WEF Influence-Mine'!$EM221&\": 5\"&'7.WEF Influence-Mine'!$EM261","v":"1.: 2.: 3.: 4.: 5"},null,null,null,null,null,null,null,{"$f":"'7.WEF Influence-Mine'!$EP101","v":0},{"$f":"'7.WEF Influence-Mine'!$EP141","v":0},{"$f":"'7.WEF Influence-Mine'!$EP181","v":0},{"$f":"'7.WEF Influence-Mine'!$EP221","v":0},{"$f":"'7.WEF Influence-Mine'!$EP261","v":0},{"$f":"\"1.\"&'7.WEF Influence-Mine'!$EQ101&\": 2.\"&'7.WEF Influence-Mine'!$EQ141&\": 3.\"&'7.WEF Influence-Mine'!$EQ181&\": 4.\"&'7.WEF Influence-Mine'!$EQ221&\": 5\"&'7.WEF Influence-Mine'!$EQ261","v":"1.: 2.: 3.: 4.: 5"},null,null,null,null,null,null,null,{"$f":"'7.WEF Influence-Mine'!$ET101","v":0},{"$f":"'7.WEF Influence-Mine'!$ET141","v":0},{"$f":"'7.WEF Influence-Mine'!$ET181","v":0},{"$f":"'7.WEF Influence-Mine'!$ET221","v":0},{"$f":"'7.WEF Influence-Mine'!$ET261","v":0},{"$f":"\"1.\"&'7.WEF Influence-Mine'!$EU101&\": 2.\"&'7.WEF Influence-Mine'!$EU141&\": 3.\"&'7.WEF Influence-Mine'!$EU181&\": 4.\"&'7.WEF Influence-Mine'!$EU221&\": 5\"&'7.WEF Influence-Mine'!$EU261","v":"1.: 2.: 3.: 4.: 5"}]
[null,"Change in source description ","Baseline","+Change","-Change",null,null,{"$f":"'7.WEF Influence-Mine'!$CD102","v":0},{"$f":"'7.WEF Influence-Mine'!$CD142","v":0},{"$f":"'7.WEF Influence-Mine'!$CD182","v":0},{"$f":"'7.WEF Influence-Mine'!$CD222","v":0},{"$f":"'7.WEF Influence-Mine'!$CD262","v":0},{"$f":"\"1. \"&'7.WEF Influence-Mine'!$CE102&\": 2. \"&'7.WEF Influence-Mine'!$CE142&\": 3. \"&'7.WEF Influence-Mine'!$CE182&\": 4. \"&'7.WEF Influence-Mine'!$CE222&\": 5. \"&'7.WEF Influence-Mine'!$CE262","v":"1. : 2. : 3. : 4. : 5. "},null,null,null,null,null,null,null,{"$f":"'7.WEF Influence-Mine'!$CH102","v":0},{"$f":"'7.WEF Influence-Mine'!$CH142","v":0},{"$f":"'7.WEF Influence-Mine'!$CH182","v":0},{"$f":"'7.WEF Influence-Mine'!$CH222","v":0},{"$f":"'7.WEF Influence-Mine'!$CH262","v":0},{"$f":"\"1.\"&'7.WEF Influence-Mine'!$CI102&\": 2.\"&'7.WEF Influence-Mine'!$CI142&\": 3.\"&'7.WEF Influence-Mine'!$CI182&\": 4.\"&'7.WEF Influence-Mine'!$CI222&\": 5\"&'7.WEF Influence-Mine'!$CI262","v":"1.: 2.: 3.: 4.: 5"},null,null,null,null,null,null,null,{"$f":"'7.WEF Influence-Mine'!$CL102","v":0},{"$f":"'7.WEF Influence-Mine'!$CL142","v":0},{"$f":"'7.WEF Influence-Mine'!$CL182","v":0},{"$f":"'7.WEF Influence-Mine'!$CL222","v":0},{"$f":"'7.WEF Influence-Mine'!$CL262","v":0},{"$f":"\"1.\"&'7.WEF Influence-Mine'!$CM102&\": 2.\"&'7.WEF Influence-Mine'!$CM142&\": 3.\"&'7.WEF Influence-Mine'!$CM182&\": 4.\"&'7.WEF Influence-Mine'!$CM222&\": 5\"&'7.WEF Influence-Mine'!$CM262","v":"1.: 2.: 3.: 4.: 5"},null,null,null,null,null,null,null,{"$f":"'7.WEF Influence-Mine'!$CP102","v":0},{"$f":"'7.WEF Influence-Mine'!$CP142","v":0},{"$f":"'7.WEF Influence-Mine'!$CP182","v":0},{"$f":"'7.WEF Influence-Mine'!$CP222","v":0},{"$f":"'7.WEF Influence-Mine'!$CP262","v":0},{"$f":"\"1.\"&'7.WEF Influence-Mine'!$CQ102&\": 2.\"&'7.WEF Influence-Mine'!$CQ142&\": 3.\"&'7.WEF Influence-Mine'!$CQ182&\": 4.\"&'7.WEF Influence-Mine'!$CQ222&\": 5\"&'7.WEF Influence-Mine'!$CQ262","v":"1.: 2.: 3.: 4.: 5"},null,null,null,null,null,null,null,{"$f":"'7.WEF Influence-Mine'!$CT102","v":0},{"$f":"'7.WEF Influence-Mine'!$CT142","v":0},{"$f":"'7.WEF Influence-Mine'!$CT182","v":0},{"$f":"'7.WEF Influence-Mine'!$CT222","v":0},{"$f":"'7.WEF Influence-Mine'!$CT262","v":0},{"$f":"\"1.\"&'7.WEF Influence-Mine'!$CU102&\": 2.\"&'7.WEF Influence-Mine'!$CU142&\": 3.\"&'7.WEF Influence-Mine'!$CU182&\": 4.\"&'7.WEF Influence-Mine'!$CU222&\": 5\"&'7.WEF Influence-Mine'!$CU262","v":"1.: 2.: 3.: 4.: 5"},null,null,null,null,null,null,null,{"$f":"'7.WEF Influence-Mine'!$CX102","v":0},{"$f":"'7.WEF Influence-Mine'!$CX142","v":0},{"$f":"'7.WEF Influence-Mine'!$CX182","v":0},{"$f":"'7.WEF Influence-Mine'!$CX222","v":0},{"$f":"'7.WEF Influence-Mine'!$CX262","v":0},{"$f":"\"1.\"&'7.WEF Influence-Mine'!$CY102&\": 2.\"&'7.WEF Influence-Mine'!$CY142&\": 3.\"&'7.WEF Influence-Mine'!$CY182&\": 4.\"&'7.WEF Influence-Mine'!$CY222&\": 5\"&'7.WEF Influence-Mine'!$CY262","v":"1.: 2.: 3.: 4.: 5"},null,null,null,null,null,null,null,{"$f":"'7.WEF Influence-Mine'!$DB102","v":0},{"$f":"'7.WEF Influence-Mine'!$DB142","v":0},{"$f":"'7.WEF Influence-Mine'!$DB182","v":0},{"$f":"'7.WEF Influence-Mine'!$DB222","v":0},{"$f":"'7.WEF Influence-Mine'!$DB262","v":0},{"$f":"\"1.\"&'7.WEF Influence-Mine'!$DC102&\": 2.\"&'7.WEF Influence-Mine'!$DC142&\": 3.\"&'7.WEF Influence-Mine'!$DC182&\": 4.\"&'7.WEF Influence-Mine'!$DC222&\": 5\"&'7.WEF Influence-Mine'!$DC262","v":"1.: 2.: 3.: 4.: 5"},null,null,null,null,null,null,null,{"$f":"'7.WEF Influence-Mine'!$DF102","v":0},{"$f":"'7.WEF Influence-Mine'!$DF142","v":0},{"$f":"'7.WEF Influence-Mine'!$DF182","v":0},{"$f":"'7.WEF Influence-Mine'!$DF222","v":0},{"$f":"'7.WEF Influence-Mine'!$DF262","v":0},{"$f":"\"1.\"&'7.WEF Influence-Mine'!$DG102&\": 2.\"&'7.WEF Influence-Mine'!$DG142&\": 3.\"&'7.WEF Influence-Mine'!$DG182&\": 4.\"&'7.WEF Influence-Mine'!$DG222&\": 5\"&'7.WEF Influence-Mine'!$DG262","v":"1.: 2.: 3.: 4.: 5"},null,null,null,null,null,null,null,{"$f":"'7.WEF Influence-Mine'!$DJ102","v":0},{"$f":"'7.WEF Influence-Mine'!$DJ142","v":0},{"$f":"'7.WEF Influence-Mine'!$DJ182","v":0},{"$f":"'7.WEF Influence-Mine'!$DJ222","v":0},{"$f":"'7.WEF Influence-Mine'!$DJ262","v":0},{"$f":"\"1.\"&'7.WEF Influence-Mine'!$DK102&\": 2.\"&'7.WEF Influence-Mine'!$DK142&\": 3.\"&'7.WEF Influence-Mine'!$DK182&\": 4.\"&'7.WEF Influence-Mine'!$DK222&\": 5\"&'7.WEF Influence-Mine'!$DK262","v":"1.: 2.: 3.: 4.: 5"},null,null,null,null,null,null,null,{"$f":"'7.WEF Influence-Mine'!$DN102","v":0},{"$f":"'7.WEF Influence-Mine'!$DN142","v":0},{"$f":"'7.WEF Influence-Mine'!$DN182","v":0},{"$f":"'7.WEF Influence-Mine'!$DN222","v":0},{"$f":"'7.WEF Influence-Mine'!$DN262","v":0},{"$f":"\"1.\"&'7.WEF Influence-Mine'!$DO102&\": 2.\"&'7.WEF Influence-Mine'!$DO142&\": 3.\"&'7.WEF Influence-Mine'!$DO182&\": 4.\"&'7.WEF Influence-Mine'!$DO222&\": 5\"&'7.WEF Influence-Mine'!$DO262","v":"1.: 2.: 3.: 4.: 5"},null,null,null,null,null,null,null,{"$f":"'7.WEF Influence-Mine'!$DR102","v":0},{"$f":"'7.WEF Influence-Mine'!$DR142","v":0},{"$f":"'7.WEF Influence-Mine'!$DR182","v":0},{"$f":"'7.WEF Influence-Mine'!$DR222","v":0},{"$f":"'7.WEF Influence-Mine'!$DR262","v":0},{"$f":"\"1.\"&'7.WEF Influence-Mine'!$DS102&\": 2.\"&'7.WEF Influence-Mine'!$DS142&\": 3.\"&'7.WEF Influence-Mine'!$DS182&\": 4.\"&'7.WEF Influence-Mine'!$DS222&\": 5\"&'7.WEF Influence-Mine'!$DS262","v":"1.: 2.: 3.: 4.: 5"},null,null,null,null,null,null,null,{"$f":"'7.WEF Influence-Mine'!$DV102","v":0},{"$f":"'7.WEF Influence-Mine'!$DV142","v":0},{"$f":"'7.WEF Influence-Mine'!$DV182","v":0},{"$f":"'7.WEF Influence-Mine'!$DV222","v":0},{"$f":"'7.WEF Influence-Mine'!$DV262","v":0},{"$f":"\"1.\"&'7.WEF Influence-Mine'!$DW102&\": 2.\"&'7.WEF Influence-Mine'!$DW142&\": 3.\"&'7.WEF Influence-Mine'!$DW182&\": 4.\"&'7.WEF Influence-Mine'!$DW222&\": 5\"&'7.WEF Influence-Mine'!$DW262","v":"1.: 2.: 3.: 4.: 5"},null,null,null,null,null,null,null,{"$f":"'7.WEF Influence-Mine'!$DZ102","v":0},{"$f":"'7.WEF Influence-Mine'!$DZ142","v":0},{"$f":"'7.WEF Influence-Mine'!$DZ182","v":0},{"$f":"'7.WEF Influence-Mine'!$DZ222","v":0},{"$f":"'7.WEF Influence-Mine'!$DZ262","v":0},{"$f":"\"1.\"&'7.WEF Influence-Mine'!$EA102&\": 2.\"&'7.WEF Influence-Mine'!$EA142&\": 3.\"&'7.WEF Influence-Mine'!$EA182&\": 4.\"&'7.WEF Influence-Mine'!$EA222&\": 5\"&'7.WEF Influence-Mine'!$EA262","v":"1.: 2.: 3.: 4.: 5"},null,null,null,null,null,null,null,{"$f":"'7.WEF Influence-Mine'!$ED102","v":0},{"$f":"'7.WEF Influence-Mine'!$ED142","v":0},{"$f":"'7.WEF Influence-Mine'!$ED182","v":0},{"$f":"'7.WEF Influence-Mine'!$ED222","v":0},{"$f":"'7.WEF Influence-Mine'!$ED222","v":0},{"$f":"\"1.\"&'7.WEF Influence-Mine'!$EE102&\": 2.\"&'7.WEF Influence-Mine'!$EE142&\": 3.\"&'7.WEF Influence-Mine'!$EE182&\": 4.\"&'7.WEF Influence-Mine'!$EE222&\": 5\"&'7.WEF Influence-Mine'!$EE262","v":"1.: 2.: 3.: 4.: 5"},null,null,null,null,null,null,null,{"$f":"'7.WEF Influence-Mine'!$EH102","v":0},{"$f":"'7.WEF Influence-Mine'!$EH142","v":0},{"$f":"'7.WEF Influence-Mine'!$EH182","v":0},{"$f":"'7.WEF Influence-Mine'!$EH222","v":0},{"$f":"'7.WEF Influence-Mine'!$EH262","v":0},{"$f":"\"1.\"&'7.WEF Influence-Mine'!$EI102&\": 2.\"&'7.WEF Influence-Mine'!$EI142&\": 3.\"&'7.WEF Influence-Mine'!$EI182&\": 4.\"&'7.WEF Influence-Mine'!$EI222&\": 5\"&'7.WEF Influence-Mine'!$EI262","v":"1.: 2.: 3.: 4.: 5"},null,null,null,null,null,null,null,{"$f":"'7.WEF Influence-Mine'!$EL102","v":0},{"$f":"'7.WEF Influence-Mine'!$EL142","v":0},{"$f":"'7.WEF Influence-Mine'!$EL182","v":0},{"$f":"'7.WEF Influence-Mine'!$EL222","v":0},{"$f":"'7.WEF Influence-Mine'!$EL262","v":0},{"$f":"\"1.\"&'7.WEF Influence-Mine'!$EM102&\": 2.\"&'7.WEF Influence-Mine'!$EM142&\": 3.\"&'7.WEF Influence-Mine'!$EM182&\": 4.\"&'7.WEF Influence-Mine'!$EM222&\": 5\"&'7.WEF Influence-Mine'!$EM262","v":"1.: 2.: 3.: 4.: 5"},null,null,null,null,null,null,null,{"$f":"'7.WEF Influence-Mine'!$EP102","v":0},{"$f":"'7.WEF Influence-Mine'!$EP142","v":0},{"$f":"'7.WEF Influence-Mine'!$EP182","v":0},{"$f":"'7.WEF Influence-Mine'!$EP222","v":0},{"$f":"'7.WEF Influence-Mine'!$EP262","v":0},{"$f":"\"1.\"&'7.WEF Influence-Mine'!$EQ102&\": 2.\"&'7.WEF Influence-Mine'!$EQ142&\": 3.\"&'7.WEF Influence-Mine'!$EQ182&\": 4.\"&'7.WEF Influence-Mine'!$EQ222&\": 5\"&'7.WEF Influence-Mine'!$EQ262","v":"1.: 2.: 3.: 4.: 5"},null,null,null,null,null,null,null,{"$f":"'7.WEF Influence-Mine'!$ET102","v":0},{"$f":"'7.WEF Influence-Mine'!$ET142","v":0},{"$f":"'7.WEF Influence-Mine'!$ET182","v":0},{"$f":"'7.WEF Influence-Mine'!$ET222","v":0},{"$f":"'7.WEF Influence-Mine'!$ET262","v":0},{"$f":"\"1.\"&'7.WEF Influence-Mine'!$EU102&\": 2.\"&'7.WEF Influence-Mine'!$EU142&\": 3.\"&'7.WEF Influence-Mine'!$EU182&\": 4.\"&'7.WEF Influence-Mine'!$EU222&\": 5\"&'7.WEF Influence-Mine'!$EU262","v":"1.: 2.: 3.: 4.: 5"}]
[null,"Availability (Other)","X","X",null,1]
[2,"Processing/treatment/conversion",{"$f":"'3.WEF Status-Base'!B11","v":0},{"$f":"MAX($H12:$L12,$U12:$Y12,$AH12:$AL12,$AU12:$AY12,$BH12:$BL12,$BU12:$BY12,$CH12:$CL12,$CU12:$CY12,$DH12:$DL12,$DU12:$DY12,$EH12:$EL12,$EU12:$EY12,$FH12:$FL12,$FU12:$FY12,$GH12:$GL12,$GU12:$GY12,$HH12:$HL12,$HU12:$HY12)","v":0},{"$f":"MIN($H12:$L12,$U12:$Y12,$AH12:$AL12,$AU12:$AY12,$BH12:$BL12,$BU12:$BY12,$CH12:$CL12,$CU12:$CY12,$DH12:$DL12,$DU12:$DY12,$EH12:$EL12,$EU12:$EY12,$FH12:$FL12,$FU12:$FY12,$GH12:$GL12,$GU12:$GY12,$HH12:$HL12,$HU12:$HY12)","v":0},null,{"$f":"'3.WEF Status-Base'!D11","v":0},{"$f":"'7.WEF Influence-Mine'!$CD104","v":0},{"$f":"'7.WEF Influence-Mine'!$CD144","v":0},{"$f":"'7.WEF Influence-Mine'!$CD184","v":0},{"$f":"'7.WEF Influence-Mine'!$CD224","v":0},{"$f":"'7.WEF Influence-Mine'!$CD264","v":0},{"$f":"IF(G12>=$D$7,\"B:\"&'3.WEF Status-Base'!$E11&\": \",)&IF(H12<>0,\"1. \"&'7.WEF Influence-Mine'!$CE104&\" \",)&IF(I12<>0,\"2. \"&'7.WEF Influence-Mine'!$CE144&\" \",)&IF(J12<>0,\"3. \"&'7.WEF Influence-Mine'!$CE184&\" \",)&IF(K12<>0,\"4. \"&'7.WEF Influence-Mine'!$CE224&\" \",)&IF(L12<>0,\"5. \"&'7.WEF Influence-Mine'!$CE264&\" \",)","v":""},null,null,null,null,null,null,{"$f":"'3.WEF Status-Base'!G11","v":0},{"$f":"'7.WEF Influence-Mine'!$CH104","v":0},{"$f":"'7.WEF Influence-Mine'!$CH144","v":0},{"$f":"'7.WEF Influence-Mine'!$CH184","v":0},{"$f":"'7.WEF Influence-Mine'!$CH224","v":0},{"$f":"'7.WEF Influence-Mine'!$CH264","v":0},{"$f":"IF(T12>=$D$7,\"B:\"&'3.WEF Status-Base'!$H11&\": \",)&IF(U12<>0,\"1.\"&'7.WEF Influence-Mine'!$CI104&\" \",)&IF(V12<>0,\"2.\"&'7.WEF Influence-Mine'!$CI144&\" \",)&IF(W12<>0,\"3.\"&'7.WEF Influence-Mine'!$CI184&\" \",)&IF(X12<>0,\"4.\"&'7.WEF Influence-Mine'!$CI224&\" \",)&IF(Y12<>0,\"5.\"&'7.WEF Influence-Mine'!$CI264&\" \",)","v":""},null,null,null,null,null,null,{"$f":"'3.WEF Status-Base'!J11","v":0},{"$f":"'7.WEF Influence-Mine'!$CL104","v":0},{"$f":"'7.WEF Influence-Mine'!$CL144","v":0},{"$f":"'7.WEF Influence-Mine'!$CL184","v":0},{"$f":"'7.WEF Influence-Mine'!$CL224","v":0},{"$f":"'7.WEF Influence-Mine'!$CL264","v":0},null,null,null,null,null,null,null,{"$f":"'3.WEF Status-Base'!M11","v":0},{"$f":"'7.WEF Influence-Mine'!$CP104","v":0},{"$f":"'7.WEF Influence-Mine'!$CP144","v":0},{"$f":"'7.WEF Influence-Mine'!$CP184","v":0},{"$f":"'7.WEF Influence-Mine'!$CP224","v":0},{"$f":"'7.WEF Influence-Mine'!$CP264","v":0},{"$f":"IF(AT12>=$D$7,\"B:\"&'3.WEF Status-Base'!$N11&\": \",)&IF(AU12<>0,\"1.\"&'7.WEF Influence-Mine'!$CQ104&\" \",)&IF(AV12<>0,\"2.\"&'7.WEF Influence-Mine'!$CQ144&\" \",)&IF(AW12<>0,\"3.\"&'7.WEF Influence-Mine'!$CQ184&\" \",)&IF(AX12<>0,\"4.\"&'7.WEF Influence-Mine'!$CQ224&\" \",)&IF(AY12<>0,\"5.\"&'7.WEF Influence-Mine'!$CQ264&\" \",)","v":""},null,null,null,null,null,null,{"$f":"'3.WEF Status-Base'!P11","v":0},{"$f":"'7.WEF Influence-Mine'!$CT104","v":0},{"$f":"'7.WEF Influence-Mine'!$CT144","v":0},{"$f":"'7.WEF Influence-Mine'!$CT184","v":0},{"$f":"'7.WEF Influence-Mine'!$CT224","v":0},{"$f":"'7.WEF Influence-Mine'!$CT264","v":0},{"$f":"IF(BG12>=$D$7,\"B:\"&'3.WEF Status-Base'!$Q11&\": \",)&IF(BH12<>0,\"1.\"&'7.WEF Influence-Mine'!$CU104&\" \",)&IF(BI12<>0,\"2.\"&'7.WEF Influence-Mine'!$CU144&\" \",)&IF(BJ12<>0,\"3.\"&'7.WEF Influence-Mine'!$CU184&\" \",)&IF(BK12<>0,\"4.\"&'7.WEF Influence-Mine'!$CU224&\" \",)&IF(BL12<>0,\"5.\"&'7.WEF Influence-Mine'!$CU264&\" \",)","v":""},null,null,null,null,null,null,{"$f":"'3.WEF Status-Base'!S11","v":0},{"$f":"'7.WEF Influence-Mine'!$CX104","v":0},{"$f":"'7.WEF Influence-Mine'!$CX144","v":0},{"$f":"'7.WEF Influence-Mine'!$CX184","v":0},{"$f":"'7.WEF Influence-Mine'!$CX224","v":0},{"$f":"'7.WEF Influence-Mine'!$CX264","v":0},{"$f":"IF(BT12>=$D$7,\"B:\"&'3.WEF Status-Base'!$T11&\": \",)&IF(BU12<>0,\"1.\"&'7.WEF Influence-Mine'!$CY104&\" \",)&IF(BV12<>0,\"2.\"&'7.WEF Influence-Mine'!$CY144&\" \",)&IF(BW12<>0,\"3.\"&'7.WEF Influence-Mine'!$CY184&\" \",)&IF(BX12<>0,\"4.\"&'7.WEF Influence-Mine'!$CY224&\" \",)&IF(BY12<>0,\"5.\"&'7.WEF Influence-Mine'!$CY264&\" \",)","v":""},null,null,null,null,null,null,{"$f":"'3.WEF Status-Base'!V11","v":0},{"$f":"'7.WEF Influence-Mine'!$DB104","v":0},{"$f":"'7.WEF Influence-Mine'!$DB144","v":0},{"$f":"'7.WEF Influence-Mine'!$DB184","v":0},{"$f":"'7.WEF Influence-Mine'!$DB224","v":0},{"$f":"'7.WEF Influence-Mine'!$DB264","v":0},{"$f":"IF(CG12>=$D$7,\"B:\"&'3.WEF Status-Base'!$W11&\": \",)&IF(CH12<>0,\"1.\"&'7.WEF Influence-Mine'!$DC104&\" \",)&IF(CI12<>0,\"2.\"&'7.WEF Influence-Mine'!$DC144&\" \",)&IF(CJ12<>0,\"3.\"&'7.WEF Influence-Mine'!$DC184&\" \",)&IF(CK12<>0,\"4.\"&'7.WEF Influence-Mine'!$DC224&\" \",)&IF(CL12<>0,\"5.\"&'7.WEF Influence-Mine'!$DC264&\" \",)","v":""},null,null,null,null,null,null,{"$f":"'3.WEF Status-Base'!Y11","v":0},{"$f":"'7.WEF Influence-Mine'!$DF104","v":0},{"$f":"'7.WEF Influence-Mine'!$DF144","v":0},{"$f":"'7.WEF Influence-Mine'!$DF184","v":0},{"$f":"'7.WEF Influence-Mine'!$DF224","v":0},{"$f":"'7.WEF Influence-Mine'!$DF264","v":0},{"$f":"IF(CT12>=$D$7,\"B:\"&'3.WEF Status-Base'!$Z11&\": \",)&IF(CU12<>0,\"1.\"&'7.WEF Influence-Mine'!$DG104&\" \",)&IF(CV12<>0,\"2.\"&'7.WEF Influence-Mine'!$DG144&\" \",)&IF(CW12<>0,\"3.\"&'7.WEF Influence-Mine'!$DG184&\" \",)&IF(CX12<>0,\"4.\"&'7.WEF Influence-Mine'!$DG224&\" \",)&IF(CY12<>0,\"5.\"&'7.WEF Influence-Mine'!$DG264&\" \",)","v":""},null,null,null,null,null,null,{"$f":"'3.WEF Status-Base'!AB11","v":0},{"$f":"'7.WEF Influence-Mine'!$DJ104","v":0},{"$f":"'7.WEF Influence-Mine'!$DJ144","v":0},{"$f":"'7.WEF Influence-Mine'!$DJ184","v":0},{"$f":"'7.WEF Influence-Mine'!$DJ224","v":0},{"$f":"'7.WEF Influence-Mine'!$DJ264","v":0},{"$f":"IF(DG12>=$D$7,\"B:\"&'3.WEF Status-Base'!$AC11&\": \",)&IF(DH12<>0,\"1.\"&'7.WEF Influence-Mine'!$DK104&\" \",)&IF(DI12<>0,\"2.\"&'7.WEF Influence-Mine'!$DK144&\" \",)&IF(DJ12<>0,\"3.\"&'7.WEF Influence-Mine'!$DK184&\" \",)&IF(DK12<>0,\"4.\"&'7.WEF Influence-Mine'!$DK224&\" \",)&IF(DL12<>0,\"5.\"&'7.WEF Influence-Mine'!$DK264&\" \",)","v":""},null,null,null,null,null,null,{"$f":"'3.WEF Status-Base'!AE11","v":0},{"$f":"'7.WEF Influence-Mine'!$DN104","v":0},{"$f":"'7.WEF Influence-Mine'!$DN144","v":0},{"$f":"'7.WEF Influence-Mine'!$DN184","v":0},{"$f":"'7.WEF Influence-Mine'!$DN224","v":0},{"$f":"'7.WEF Influence-Mine'!$DN264","v":0},{"$f":"IF(DT12>=$D$7,\"B:\"&'3.WEF Status-Base'!$AF11&\": \",)&IF(DU12<>0,\"1.\"&'7.WEF Influence-Mine'!$DO104&\" \",)&IF(DV12<>0,\"2.\"&'7.WEF Influence-Mine'!$DO144&\" \",)&IF(DW12<>0,\"3.\"&'7.WEF Influence-Mine'!$DO184&\" \",)&IF(DX12<>0,\"4.\"&'7.WEF Influence-Mine'!$DO224&\" \",)&IF(DY12<>0,\"5.\"&'7.WEF Influence-Mine'!$DO264&\" \",)","v":""},null,null,null,null,null,null,{"$f":"'3.WEF Status-Base'!AH11","v":0},{"$f":"'7.WEF Influence-Mine'!$DR104","v":0},{"$f":"'7.WEF Influence-Mine'!$DR144","v":0},{"$f":"'7.WEF Influence-Mine'!$DR184","v":0},{"$f":"'7.WEF Influence-Mine'!$DR224","v":0},{"$f":"'7.WEF Influence-Mine'!$DR264","v":0},{"$f":"IF(EG12>=$D$7,\"B:\"&'3.WEF Status-Base'!$AI11&\": \",)&IF(EH12<>0,\"1.\"&'7.WEF Influence-Mine'!$DS104&\" \",)&IF(EI12<>0,\"2.\"&'7.WEF Influence-Mine'!$DS144&\" \",)&IF(EJ12<>0,\"3.\"&'7.WEF Influence-Mine'!$DS184&\" \",)&IF(EK12<>0,\"4.\"&'7.WEF Influence-Mine'!$DS224&\" \",)&IF(EL12<>0,\"5.\"&'7.WEF Influence-Mine'!$DS264&\" \",)","v":""},null,null,null,null,null,null,{"$f":"'3.WEF Status-Base'!AK11","v":0},{"$f":"'7.WEF Influence-Mine'!$DV104","v":0},{"$f":"'7.WEF Influence-Mine'!$DV144","v":0},{"$f":"'7.WEF Influence-Mine'!$DV184","v":0},{"$f":"'7.WEF Influence-Mine'!$DV224","v":0},{"$f":"'7.WEF Influence-Mine'!$DV264","v":0},{"$f":"IF(ET12>=$D$7,\"B:\"&'3.WEF Status-Base'!$AL11&\": \",)&IF(EU12<>0,\"1.\"&'7.WEF Influence-Mine'!$DW104&\" \",)&IF(EV12<>0,\"2.\"&'7.WEF Influence-Mine'!$DW144&\" \",)&IF(EW12<>0,\"3.\"&'7.WEF Influence-Mine'!$DW184&\" \",)&IF(EX12<>0,\"4.\"&'7.WEF Influence-Mine'!$DW224&\" \",)&IF(EY12<>0,\"5.\"&'7.WEF Influence-Mine'!$DW264&\" \",)","v":""},null,null,null,null,null,null,{"$f":"'3.WEF Status-Base'!AN11","v":0},{"$f":"'7.WEF Influence-Mine'!$DZ104","v":0},{"$f":"'7.WEF Influence-Mine'!$DZ144","v":0},{"$f":"'7.WEF Influence-Mine'!$DZ184","v":0},{"$f":"'7.WEF Influence-Mine'!$DZ224","v":0},{"$f":"'7.WEF Influence-Mine'!$DZ264","v":0},{"$f":"IF(FG12>=$D$7,\"B:\"&'3.WEF Status-Base'!$AO11&\": \",)&IF(FH12<>0,\"1.\"&'7.WEF Influence-Mine'!$EA104&\" \",)&IF(FI12<>0,\"2.\"&'7.WEF Influence-Mine'!$EA144&\" \",)&IF(FJ12<>0,\"3.\"&'7.WEF Influence-Mine'!$EA184&\" \",)&IF(FK12<>0,\"4.\"&'7.WEF Influence-Mine'!$EA224&\" \",)&IF(FL12<>0,\"5.\"&'7.WEF Influence-Mine'!$EA264&\" \",)","v":""},null,null,null,null,null,null,{"$f":"'3.WEF Status-Base'!AQ11","v":0},{"$f":"'7.WEF Influence-Mine'!$ED104","v":0},{"$f":"'7.WEF Influence-Mine'!$ED144","v":0},{"$f":"'7.WEF Influence-Mine'!$ED184","v":0},{"$f":"'7.WEF Influence-Mine'!$ED224","v":0},{"$f":"'7.WEF Influence-Mine'!$ED224","v":0},{"$f":"IF(FT12>=$D$7,\"B:\"&'3.WEF Status-Base'!$AR11&\": \",)&IF(FU12<>0,\"1.\"&'7.WEF Influence-Mine'!$EE104&\" \",)&IF(FV12<>0,\"2.\"&'7.WEF Influence-Mine'!$EE144&\" \",)&IF(FW12<>0,\"3.\"&'7.WEF Influence-Mine'!$EE184&\" \",)&IF(FX12<>0,\"4.\"&'7.WEF Influence-Mine'!$EE224&\" \",)&IF(FY12<>0,\"5.\"&'7.WEF Influence-Mine'!$EE264&\" \",)","v":""},null,null,null,null,null,null,{"$f":"'3.WEF Status-Base'!AT11","v":0},{"$f":"'7.WEF Influence-Mine'!$EH104","v":0},{"$f":"'7.WEF Influence-Mine'!$EH144","v":0},{"$f":"'7.WEF Influence-Mine'!$EH184","v":0},{"$f":"'7.WEF Influence-Mine'!$EH224","v":0},{"$f":"'7.WEF Influence-Mine'!$EH264","v":0},{"$f":"IF(GG12>=$D$7,\"B:\"&'3.WEF Status-Base'!$AU11&\": \",)&IF(GH12<>0,\"1.\"&'7.WEF Influence-Mine'!$EI104&\" \",)&IF(GI12<>0,\"2.\"&'7.WEF Influence-Mine'!$EI144&\" \",)&IF(GJ12<>0,\"3.\"&'7.WEF Influence-Mine'!$EI184&\" \",)&IF(GK12<>0,\"4.\"&'7.WEF Influence-Mine'!$EI224&\" \",)&IF(GL12<>0,\"5.\"&'7.WEF Influence-Mine'!$EI264&\" \",)","v":""},null,null,null,null,null,null,{"$f":"'3.WEF Status-Base'!AW11","v":0},{"$f":"'7.WEF Influence-Mine'!$EL104","v":0},{"$f":"'7.WEF Influence-Mine'!$EL144","v":0},{"$f":"'7.WEF Influence-Mine'!$EL184","v":0},{"$f":"'7.WEF Influence-Mine'!$EL224","v":0},{"$f":"'7.WEF Influence-Mine'!$EL264","v":0},{"$f":"IF(GT12>=$D$7,\"B:\"&'3.WEF Status-Base'!$AX11&\": \",)&IF(GU12<>0,\"1.\"&'7.WEF Influence-Mine'!$EM104&\" \",)&IF(GV12<>0,\"2.\"&'7.WEF Influence-Mine'!$EM144&\" \",)&IF(GW12<>0,\"3.\"&'7.WEF Influence-Mine'!$EM184&\" \",)&IF(GX12<>0,\"4.\"&'7.WEF Influence-Mine'!$EM224&\" \",)&IF(GY12<>0,\"5.\"&'7.WEF Influence-Mine'!$EM264&\" \",)","v":""},null,null,null,null,null,null,{"$f":"'3.WEF Status-Base'!AZ11","v":0},{"$f":"'7.WEF Influence-Mine'!$EP104","v":0},{"$f":"'7.WEF Influence-Mine'!$EP144","v":0},{"$f":"'7.WEF Influence-Mine'!$EP184","v":0},{"$f":"'7.WEF Influence-Mine'!$EP224","v":0},{"$f":"'7.WEF Influence-Mine'!$EP264","v":0},{"$f":"IF(HG12>=$D$7,\"B:\"&'3.WEF Status-Base'!$BA11&\": \",)&IF(HH12<>0,\"1.\"&'7.WEF Influence-Mine'!$EQ104&\" \",)&IF(HI12<>0,\"2.\"&'7.WEF Influence-Mine'!$EQ144&\" \",)&IF(HJ12<>0,\"3.\"&'7.WEF Influence-Mine'!$EQ184&\" \",)&IF(HK12<>0,\"4.\"&'7.WEF Influence-Mine'!$EQ224&\" \",)&IF(HL12<>0,\"5.\"&'7.WEF Influence-Mine'!$EQ264&\" \",)","v":""},null,null,null,null,null,null,{"$f":"'3.WEF Status-Base'!BC11","v":0},{"$f":"'7.WEF Influence-Mine'!$ET104","v":0},{"$f":"'7.WEF Influence-Mine'!$ET144","v":0},{"$f":"'7.WEF Influence-Mine'!$ET184","v":0},{"$f":"'7.WEF Influence-Mine'!$ET224","v":0},{"$f":"'7.WEF Influence-Mine'!$ET264","v":0},{"$f":"IF(HT12>=$D$7,\"B:\"&'3.WEF Status-Base'!$BD11&\": \",)&IF(HU12<>0,\"1.\"&'7.WEF Influence-Mine'!$EU104&\" \",)&IF(HV12<>0,\"2.\"&'7.WEF Influence-Mine'!$EU144&\" \",)&IF(HW12<>0,\"3.\"&'7.WEF Influence-Mine'!$EU184&\" \",)&IF(HX12<>0,\"4.\"&'7.WEF Influence-Mine'!$EU224&\" \",)&IF(HY12<>0,\"5.\"&'7.WEF Influence-Mine'!$EU264&\" \",)","v":""},null,null,null,null,null,null,{"$f":"'7.WEF Influence-Mine'!EV104&\" : \"&'7.WEF Influence-Mine'!EV144&\" : \"&'7.WEF Influence-Mine'!EV184&\" : \"&'7.WEF Influence-Mine'!EV224&\" : \"&'7.WEF Influence-Mine'!EV264","v":"0 : 0 : 0 : 0 : 0"}]
[3,"Timing of delivery (storage)",{"$f":"'3.WEF Status-Base'!B12","v":0},{"$f":"MAX($H13:$L13,$U13:$Y13,$AH13:$AL13,$AU13:$AY13,$BH13:$BL13,$BU13:$BY13,$CH13:$CL13,$CU13:$CY13,$DH13:$DL13,$DU13:$DY13,$EH13:$EL13,$EU13:$EY13,$FH13:$FL13,$FU13:$FY13,$GH13:$GL13,$GU13:$GY13,$HH13:$HL13,$HU13:$HY13)","v":0},{"$f":"MIN($H13:$L13,$U13:$Y13,$AH13:$AL13,$AU13:$AY13,$BH13:$BL13,$BU13:$BY13,$CH13:$CL13,$CU13:$CY13,$DH13:$DL13,$DU13:$DY13,$EH13:$EL13,$EU13:$EY13,$FH13:$FL13,$FU13:$FY13,$GH13:$GL13,$GU13:$GY13,$HH13:$HL13,$HU13:$HY13)","v":0},null,{"$f":"'3.WEF Status-Base'!D12","v":0},{"$f":"'7.WEF Influence-Mine'!$CD105","v":0},{"$f":"'7.WEF Influence-Mine'!$CD145","v":0},{"$f":"'7.WEF Influence-Mine'!$CD185","v":0},{"$f":"'7.WEF Influence-Mine'!$CD225","v":0},{"$f":"'7.WEF Influence-Mine'!$CD265","v":0},{"$f":"IF(G13>=$D$7,\"B:\"&'3.WEF Status-Base'!$E12&\": \",)&IF(H13<>0,\"1. \"&'7.WEF Influence-Mine'!$CE105&\" \",)&IF(I13<>0,\"2. \"&'7.WEF Influence-Mine'!$CE145&\" \",)&IF(J13<>0,\"3. \"&'7.WEF Influence-Mine'!$CE185&\" \",)&IF(K13<>0,\"4. \"&'7.WEF Influence-Mine'!$CE225&\" \",)&IF(L13<>0,\"5. \"&'7.WEF Influence-Mine'!$CE265&\" \",)","v":""},null,null,null,null,null,null,{"$f":"'3.WEF Status-Base'!G12","v":0},{"$f":"'7.WEF Influence-Mine'!$CH105","v":0},{"$f":"'7.WEF Influence-Mine'!$CH145","v":0},{"$f":"'7.WEF Influence-Mine'!$CH185","v":0},{"$f":"'7.WEF Influence-Mine'!$CH225","v":0},{"$f":"'7.WEF Influence-Mine'!$CH265","v":0},{"$f":"IF(T13>=$D$7,\"B:\"&'3.WEF Status-Base'!$H12&\": \",)&IF(U13<>0,\"1.\"&'7.WEF Influence-Mine'!$CI105&\" \",)&IF(V13<>0,\"2.\"&'7.WEF Influence-Mine'!$CI145&\" \",)&IF(W13<>0,\"3.\"&'7.WEF Influence-Mine'!$CI185&\" \",)&IF(X13<>0,\"4.\"&'7.WEF Influence-Mine'!$CI225&\" \",)&IF(Y13<>0,\"5.\"&'7.WEF Influence-Mine'!$CI265&\" \",)","v":""},null,null,null,null,null,null,{"$f":"'3.WEF Status-Base'!J12","v":0},{"$f":"'7.WEF Influence-Mine'!$CL105","v":0},{"$f":"'7.WEF Influence-Mine'!$CL145","v":0},{"$f":"'7.WEF Influence-Mine'!$CL185","v":0},{"$f":"'7.WEF Influence-Mine'!$CL225","v":0},{"$f":"'7.WEF Influence-Mine'!$CL265","v":0},null,null,null,null,null,null,null,{"$f":"'3.WEF Status-Base'!M12","v":0},{"$f":"'7.WEF Influence-Mine'!$CP105","v":0},{"$f":"'7.WEF Influence-Mine'!$CP145","v":0},{"$f":"'7.WEF Influence-Mine'!$CP185","v":0},{"$f":"'7.WEF Influence-Mine'!$CP225","v":0},{"$f":"'7.WEF Influence-Mine'!$CP265","v":0},{"$f":"IF(AT13>=$D$7,\"B:\"&'3.WEF Status-Base'!$N12&\": \",)&IF(AU13<>0,\"1.\"&'7.WEF Influence-Mine'!$CQ105&\" \",)&IF(AV13<>0,\"2.\"&'7.WEF Influence-Mine'!$CQ145&\" \",)&IF(AW13<>0,\"3.\"&'7.WEF Influence-Mine'!$CQ185&\" \",)&IF(AX13<>0,\"4.\"&'7.WEF Influence-Mine'!$CQ225&\" \",)&IF(AY13<>0,\"5.\"&'7.WEF Influence-Mine'!$CQ265&\" \",)","v":""},null,null,null,null,null,null,{"$f":"'3.WEF Status-Base'!P12","v":0},{"$f":"'7.WEF Influence-Mine'!$CT105","v":0},{"$f":"'7.WEF Influence-Mine'!$CT145","v":0},{"$f":"'7.WEF Influence-Mine'!$CT185","v":0},{"$f":"'7.WEF Influence-Mine'!$CT225","v":0},{"$f":"'7.WEF Influence-Mine'!$CT265","v":0},{"$f":"IF(BG13>=$D$7,\"B:\"&'3.WEF Status-Base'!$Q12&\": \",)&IF(BH13<>0,\"1.\"&'7.WEF Influence-Mine'!$CU105&\" \",)&IF(BI13<>0,\"2.\"&'7.WEF Influence-Mine'!$CU145&\" \",)&IF(BJ13<>0,\"3.\"&'7.WEF Influence-Mine'!$CU185&\" \",)&IF(BK13<>0,\"4.\"&'7.WEF Influence-Mine'!$CU225&\" \",)&IF(BL13<>0,\"5.\"&'7.WEF Influence-Mine'!$CU265&\" \",)","v":""},null,null,null,null,null,null,{"$f":"'3.WEF Status-Base'!S12","v":0},{"$f":"'7.WEF Influence-Mine'!$CX105","v":0},{"$f":"'7.WEF Influence-Mine'!$CX145","v":0},{"$f":"'7.WEF Influence-Mine'!$CX185","v":0},{"$f":"'7.WEF Influence-Mine'!$CX225","v":0},{"$f":"'7.WEF Influence-Mine'!$CX265","v":0},{"$f":"IF(BT13>=$D$7,\"B:\"&'3.WEF Status-Base'!$T12&\": \",)&IF(BU13<>0,\"1.\"&'7.WEF Influence-Mine'!$CY105&\" \",)&IF(BV13<>0,\"2.\"&'7.WEF Influence-Mine'!$CY145&\" \",)&IF(BW13<>0,\"3.\"&'7.WEF Influence-Mine'!$CY185&\" \",)&IF(BX13<>0,\"4.\"&'7.WEF Influence-Mine'!$CY225&\" \",)&IF(BY13<>0,\"5.\"&'7.WEF Influence-Mine'!$CY265&\" \",)","v":""},null,null,null,null,null,null,{"$f":"'3.WEF Status-Base'!V12","v":0},{"$f":"'7.WEF Influence-Mine'!$DB105","v":0},{"$f":"'7.WEF Influence-Mine'!$DB145","v":0},{"$f":"'7.WEF Influence-Mine'!$DB185","v":0},{"$f":"'7.WEF Influence-Mine'!$DB225","v":0},{"$f":"'7.WEF Influence-Mine'!$DB265","v":0},{"$f":"IF(CG13>=$D$7,\"B:\"&'3.WEF Status-Base'!$W12&\": \",)&IF(CH13<>0,\"1.\"&'7.WEF Influence-Mine'!$DC105&\" \",)&IF(CI13<>0,\"2.\"&'7.WEF Influence-Mine'!$DC145&\" \",)&IF(CJ13<>0,\"3.\"&'7.WEF Influence-Mine'!$DC185&\" \",)&IF(CK13<>0,\"4.\"&'7.WEF Influence-Mine'!$DC225&\" \",)&IF(CL13<>0,\"5.\"&'7.WEF Influence-Mine'!$DC265&\" \",)","v":""},null,null,null,null,null,null,{"$f":"'3.WEF Status-Base'!Y12","v":0},{"$f":"'7.WEF Influence-Mine'!$DF105","v":0},{"$f":"'7.WEF Influence-Mine'!$DF145","v":0},{"$f":"'7.WEF Influence-Mine'!$DF185","v":0},{"$f":"'7.WEF Influence-Mine'!$DF225","v":0},{"$f":"'7.WEF Influence-Mine'!$DF265","v":0},{"$f":"IF(CT13>=$D$7,\"B:\"&'3.WEF Status-Base'!$Z12&\": \",)&IF(CU13<>0,\"1.\"&'7.WEF Influence-Mine'!$DG105&\" \",)&IF(CV13<>0,\"2.\"&'7.WEF Influence-Mine'!$DG145&\" \",)&IF(CW13<>0,\"3.\"&'7.WEF Influence-Mine'!$DG185&\" \",)&IF(CX13<>0,\"4.\"&'7.WEF Influence-Mine'!$DG225&\" \",)&IF(CY13<>0,\"5.\"&'7.WEF Influence-Mine'!$DG265&\" \",)","v":""},null,null,null,null,null,null,{"$f":"'3.WEF Status-Base'!AB12","v":0},{"$f":"'7.WEF Influence-Mine'!$DJ105","v":0},{"$f":"'7.WEF Influence-Mine'!$DJ145","v":0},{"$f":"'7.WEF Influence-Mine'!$DJ185","v":0},{"$f":"'7.WEF Influence-Mine'!$DJ225","v":0},{"$f":"'7.WEF Influence-Mine'!$DJ265","v":0},{"$f":"IF(DG13>=$D$7,\"B:\"&'3.WEF Status-Base'!$AC12&\": \",)&IF(DH13<>0,\"1.\"&'7.WEF Influence-Mine'!$DK105&\" \",)&IF(DI13<>0,\"2.\"&'7.WEF Influence-Mine'!$DK145&\" \",)&IF(DJ13<>0,\"3.\"&'7.WEF Influence-Mine'!$DK185&\" \",)&IF(DK13<>0,\"4.\"&'7.WEF Influence-Mine'!$DK225&\" \",)&IF(DL13<>0,\"5.\"&'7.WEF Influence-Mine'!$DK265&\" \",)","v":""},null,null,null,null,null,null,{"$f":"'3.WEF Status-Base'!AE12","v":0},{"$f":"'7.WEF Influence-Mine'!$DN105","v":0},{"$f":"'7.WEF Influence-Mine'!$DN145","v":0},{"$f":"'7.WEF Influence-Mine'!$DN185","v":0},{"$f":"'7.WEF Influence-Mine'!$DN225","v":0},{"$f":"'7.WEF Influence-Mine'!$DN265","v":0},{"$f":"IF(DT13>=$D$7,\"B:\"&'3.WEF Status-Base'!$AF12&\": \",)&IF(DU13<>0,\"1.\"&'7.WEF Influence-Mine'!$DO105&\" \",)&IF(DV13<>0,\"2.\"&'7.WEF Influence-Mine'!$DO145&\" \",)&IF(DW13<>0,\"3.\"&'7.WEF Influence-Mine'!$DO185&\" \",)&IF(DX13<>0,\"4.\"&'7.WEF Influence-Mine'!$DO225&\" \",)&IF(DY13<>0,\"5.\"&'7.WEF Influence-Mine'!$DO265&\" \",)","v":""},null,null,null,null,null,null,{"$f":"'3.WEF Status-Base'!AH12","v":0},{"$f":"'7.WEF Influence-Mine'!$DR105","v":0},{"$f":"'7.WEF Influence-Mine'!$DR145","v":0},{"$f":"'7.WEF Influence-Mine'!$DR185","v":0},{"$f":"'7.WEF Influence-Mine'!$DR225","v":0},{"$f":"'7.WEF Influence-Mine'!$DR265","v":0},{"$f":"IF(EG13>=$D$7,\"B:\"&'3.WEF Status-Base'!$AI12&\": \",)&IF(EH13<>0,\"1.\"&'7.WEF Influence-Mine'!$DS105&\" \",)&IF(EI13<>0,\"2.\"&'7.WEF Influence-Mine'!$DS145&\" \",)&IF(EJ13<>0,\"3.\"&'7.WEF Influence-Mine'!$DS185&\" \",)&IF(EK13<>0,\"4.\"&'7.WEF Influence-Mine'!$DS225&\" \",)&IF(EL13<>0,\"5.\"&'7.WEF Influence-Mine'!$DS265&\" \",)","v":""},null,null,null,null,null,null,{"$f":"'3.WEF Status-Base'!AK12","v":0},{"$f":"'7.WEF Influence-Mine'!$DV105","v":0},{"$f":"'7.WEF Influence-Mine'!$DV145","v":0},{"$f":"'7.WEF Influence-Mine'!$DV185","v":0},{"$f":"'7.WEF Influence-Mine'!$DV225","v":0},{"$f":"'7.WEF Influence-Mine'!$DV265","v":0},{"$f":"IF(ET13>=$D$7,\"B:\"&'3.WEF Status-Base'!$AL12&\": \",)&IF(EU13<>0,\"1.\"&'7.WEF Influence-Mine'!$DW105&\" \",)&IF(EV13<>0,\"2.\"&'7.WEF Influence-Mine'!$DW145&\" \",)&IF(EW13<>0,\"3.\"&'7.WEF Influence-Mine'!$DW185&\" \",)&IF(EX13<>0,\"4.\"&'7.WEF Influence-Mine'!$DW225&\" \",)&IF(EY13<>0,\"5.\"&'7.WEF Influence-Mine'!$DW265&\" \",)","v":""},null,null,null,null,null,null,{"$f":"'3.WEF Status-Base'!AN12","v":0},{"$f":"'7.WEF Influence-Mine'!$DZ105","v":0},{"$f":"'7.WEF Influence-Mine'!$DZ145","v":0},{"$f":"'7.WEF Influence-Mine'!$DZ185","v":0},{"$f":"'7.WEF Influence-Mine'!$DZ225","v":0},{"$f":"'7.WEF Influence-Mine'!$DZ265","v":0},{"$f":"IF(FG13>=$D$7,\"B:\"&'3.WEF Status-Base'!$AO12&\": \",)&IF(FH13<>0,\"1.\"&'7.WEF Influence-Mine'!$EA105&\" \",)&IF(FI13<>0,\"2.\"&'7.WEF Influence-Mine'!$EA145&\" \",)&IF(FJ13<>0,\"3.\"&'7.WEF Influence-Mine'!$EA185&\" \",)&IF(FK13<>0,\"4.\"&'7.WEF Influence-Mine'!$EA225&\" \",)&IF(FL13<>0,\"5.\"&'7.WEF Influence-Mine'!$EA265&\" \",)","v":""},null,null,null,null,null,null,{"$f":"'3.WEF Status-Base'!AQ12","v":0},{"$f":"'7.WEF Influence-Mine'!$ED105","v":0},{"$f":"'7.WEF Influence-Mine'!$ED145","v":0},{"$f":"'7.WEF Influence-Mine'!$ED185","v":0},{"$f":"'7.WEF Influence-Mine'!$ED225","v":0},{"$f":"'7.WEF Influence-Mine'!$ED265","v":0},{"$f":"IF(FT13>=$D$7,\"B:\"&'3.WEF Status-Base'!$AR12&\": \",)&IF(FU13<>0,\"1.\"&'7.WEF Influence-Mine'!$EE105&\" \",)&IF(FV13<>0,\"2.\"&'7.WEF Influence-Mine'!$EE145&\" \",)&IF(FW13<>0,\"3.\"&'7.WEF Influence-Mine'!$EE185&\" \",)&IF(FX13<>0,\"4.\"&'7.WEF Influence-Mine'!$EE225&\" \",)&IF(FY13<>0,\"5.\"&'7.WEF Influence-Mine'!$EE265&\" \",)","v":""},null,null,null,null,null,null,{"$f":"'3.WEF Status-Base'!AT12","v":0},{"$f":"'7.WEF Influence-Mine'!$EH105","v":0},{"$f":"'7.WEF Influence-Mine'!$EH145","v":0},{"$f":"'7.WEF Influence-Mine'!$EH185","v":0},{"$f":"'7.WEF Influence-Mine'!$EH225","v":0},{"$f":"'7.WEF Influence-Mine'!$EH265","v":0},{"$f":"IF(GG13>=$D$7,\"B:\"&'3.WEF Status-Base'!$AU12&\": \",)&IF(GH13<>0,\"1.\"&'7.WEF Influence-Mine'!$EI105&\" \",)&IF(GI13<>0,\"2.\"&'7.WEF Influence-Mine'!$EI145&\" \",)&IF(GJ13<>0,\"3.\"&'7.WEF Influence-Mine'!$EI185&\" \",)&IF(GK13<>0,\"4.\"&'7.WEF Influence-Mine'!$EI225&\" \",)&IF(GL13<>0,\"5.\"&'7.WEF Influence-Mine'!$EI265&\" \",)","v":""},null,null,null,null,null,null,{"$f":"'3.WEF Status-Base'!AW12","v":0},{"$f":"'7.WEF Influence-Mine'!$EL105","v":0},{"$f":"'7.WEF Influence-Mine'!$EL145","v":0},{"$f":"'7.WEF Influence-Mine'!$EL185","v":0},{"$f":"'7.WEF Influence-Mine'!$EL225","v":0},{"$f":"'7.WEF Influence-Mine'!$EL265","v":0},{"$f":"IF(GT13>=$D$7,\"B:\"&'3.WEF Status-Base'!$AX12&\": \",)&IF(GU13<>0,\"1.\"&'7.WEF Influence-Mine'!$EM105&\" \",)&IF(GV13<>0,\"2.\"&'7.WEF Influence-Mine'!$EM145&\" \",)&IF(GW13<>0,\"3.\"&'7.WEF Influence-Mine'!$EM185&\" \",)&IF(GX13<>0,\"4.\"&'7.WEF Influence-Mine'!$EM225&\" \",)&IF(GY13<>0,\"5.\"&'7.WEF Influence-Mine'!$EM265&\" \",)","v":""},null,null,null,null,null,null,{"$f":"'3.WEF Status-Base'!AZ12","v":0},{"$f":"'7.WEF Influence-Mine'!$EP105","v":0},{"$f":"'7.WEF Influence-Mine'!$EP145","v":0},{"$f":"'7.WEF Influence-Mine'!$EP185","v":0},{"$f":"'7.WEF Influence-Mine'!$EP225","v":0},{"$f":"'7.WEF Influence-Mine'!$EP265","v":0},{"$f":"IF(HG13>=$D$7,\"B:\"&'3.WEF Status-Base'!$BA12&\": \",)&IF(HH13<>0,\"1.\"&'7.WEF Influence-Mine'!$EQ105&\" \",)&IF(HI13<>0,\"2.\"&'7.WEF Influence-Mine'!$EQ145&\" \",)&IF(HJ13<>0,\"3.\"&'7.WEF Influence-Mine'!$EQ185&\" \",)&IF(HK13<>0,\"4.\"&'7.WEF Influence-Mine'!$EQ225&\" \",)&IF(HL13<>0,\"5.\"&'7.WEF Influence-Mine'!$EQ265&\" \",)","v":""},null,null,null,null,null,null,{"$f":"'3.WEF Status-Base'!BC12","v":0},{"$f":"'7.WEF Influence-Mine'!$ET105","v":0},{"$f":"'7.WEF Influence-Mine'!$ET145","v":0},{"$f":"'7.WEF Influence-Mine'!$ET185","v":0},{"$f":"'7.WEF Influence-Mine'!$ET225","v":0},{"$f":"'7.WEF Influence-Mine'!$ET265","v":0},{"$f":"IF(HT13>=$D$7,\"B:\"&'3.WEF Status-Base'!$BD12&\": \",)&IF(HU13<>0,\"1.\"&'7.WEF Influence-Mine'!$EU105&\" \",)&IF(HV13<>0,\"2.\"&'7.WEF Influence-Mine'!$EU145&\" \",)&IF(HW13<>0,\"3.\"&'7.WEF Influence-Mine'!$EU185&\" \",)&IF(HX13<>0,\"4.\"&'7.WEF Influence-Mine'!$EU225&\" \",)&IF(HY13<>0,\"5.\"&'7.WEF Influence-Mine'!$EU265&\" \",)","v":""},null,null,null,null,null,null,{"$f":"'7.WEF Influence-Mine'!EV105&\" : \"&'7.WEF Influence-Mine'!EV145&\" : \"&'7.WEF Influence-Mine'!EV185&\" : \"&'7.WEF Influence-Mine'!EV225&\" : \"&'7.WEF Influence-Mine'!EV265","v":"0 : 0 : 0 : 0 : 0"}]
[4,"Distribution (water towers)",{"$f":"'3.WEF Status-Base'!B13","v":0},{"$f":"MAX($H14:$L14,$U14:$Y14,$AH14:$AL14,$AU14:$AY14,$BH14:$BL14,$BU14:$BY14,$CH14:$CL14,$CU14:$CY14,$DH14:$DL14,$DU14:$DY14,$EH14:$EL14,$EU14:$EY14,$FH14:$FL14,$FU14:$FY14,$GH14:$GL14,$GU14:$GY14,$HH14:$HL14,$HU14:$HY14)","v":0},{"$f":"MIN($H14:$L14,$U14:$Y14,$AH14:$AL14,$AU14:$AY14,$BH14:$BL14,$BU14:$BY14,$CH14:$CL14,$CU14:$CY14,$DH14:$DL14,$DU14:$DY14,$EH14:$EL14,$EU14:$EY14,$FH14:$FL14,$FU14:$FY14,$GH14:$GL14,$GU14:$GY14,$HH14:$HL14,$HU14:$HY14)","v":0},null,{"$f":"'3.WEF Status-Base'!D13","v":0},{"$f":"'7.WEF Influence-Mine'!$CD106","v":0},{"$f":"'7.WEF Influence-Mine'!$CD146","v":0},{"$f":"'7.WEF Influence-Mine'!$CD186","v":0},{"$f":"'7.WEF Influence-Mine'!$CD226","v":0},{"$f":"'7.WEF Influence-Mine'!$CD266","v":0},{"$f":"IF(G14>=$D$7,\"B:\"&'3.WEF Status-Base'!$E13&\": \",)&IF(H14<>0,\"1. \"&'7.WEF Influence-Mine'!$CE106&\" \",)&IF(I14<>0,\"2. \"&'7.WEF Influence-Mine'!$CE146&\" \",)&IF(J14<>0,\"3. \"&'7.WEF Influence-Mine'!$CE186&\" \",)&IF(K14<>0,\"4. \"&'7.WEF Influence-Mine'!$CE226&\" \",)&IF(L14<>0,\"5. \"&'7.WEF Influence-Mine'!$CE266&\" \",)","v":""},null,null,null,null,null,null,{"$f":"'3.WEF Status-Base'!G13","v":0},{"$f":"'7.WEF Influence-Mine'!$CH106","v":0},{"$f":"'7.WEF Influence-Mine'!$CH146","v":0},{"$f":"'7.WEF Influence-Mine'!$CH186","v":0},{"$f":"'7.WEF Influence-Mine'!$CH226","v":0},{"$f":"'7.WEF Influence-Mine'!$CH266","v":0},{"$f":"IF(T14>=$D$7,\"B:\"&'3.WEF Status-Base'!$H13&\": \",)&IF(U14<>0,\"1.\"&'7.WEF Influence-Mine'!$CI106&\" \",)&IF(V14<>0,\"2.\"&'7.WEF Influence-Mine'!$CI146&\" \",)&IF(W14<>0,\"3.\"&'7.WEF Influence-Mine'!$CI186&\" \",)&IF(X14<>0,\"4.\"&'7.WEF Influence-Mine'!$CI226&\" \",)&IF(Y14<>0,\"5.\"&'7.WEF Influence-Mine'!$CI266&\" \",)","v":""},null,null,null,null,null,null,{"$f":"'3.WEF Status-Base'!J13","v":0},{"$f":"'7.WEF Influence-Mine'!$CL106","v":0},{"$f":"'7.WEF Influence-Mine'!$CL146","v":0},{"$f":"'7.WEF Influence-Mine'!$CL186","v":0},{"$f":"'7.WEF Influence-Mine'!$CL226","v":0},{"$f":"'7.WEF Influence-Mine'!$CL266","v":0},{"$f":"IF(AG14>=$D$7,\"B:\"&'3.WEF Status-Base'!$K13&\": \",)&IF(AH14<>0,\"1.\"&'7.WEF Influence-Mine'!$CM106&\" \",)&IF(AI14<>0,\"2.\"&'7.WEF Influence-Mine'!$CM146&\" \",)&IF(AJ14<>0,\"3.\"&'7.WEF Influence-Mine'!$CM186&\" \",)&IF(AK14<>0,\"4.\"&'7.WEF Influence-Mine'!$CM226&\" \",)&IF(AL14<>0,\"5.\"&'7.WEF Influence-Mine'!$CM266&\" \",)","v":""},null,null,null,null,null,null,{"$f":"'3.WEF Status-Base'!M13","v":0},{"$f":"'7.WEF Influence-Mine'!$CP106","v":0},{"$f":"'7.WEF Influence-Mine'!$CP146","v":0},{"$f":"'7.WEF Influence-Mine'!$CP186","v":0},{"$f":"'7.WEF Influence-Mine'!$CP226","v":0},{"$f":"'7.WEF Influence-Mine'!$CP266","v":0},{"$f":"IF(AT14>=$D$7,\"B:\"&'3.WEF Status-Base'!$N13&\": \",)&IF(AU14<>0,\"1.\"&'7.WEF Influence-Mine'!$CQ106&\" \",)&IF(AV14<>0,\"2.\"&'7.WEF Influence-Mine'!$CQ146&\" \",)&IF(AW14<>0,\"3.\"&'7.WEF Influence-Mine'!$CQ186&\" \",)&IF(AX14<>0,\"4.\"&'7.WEF Influence-Mine'!$CQ226&\" \",)&IF(AY14<>0,\"5.\"&'7.WEF Influence-Mine'!$CQ266&\" \",)","v":""},null,null,null,null,null,null,{"$f":"'3.WEF Status-Base'!P13","v":0},{"$f":"'7.WEF Influence-Mine'!$CT106","v":0},{"$f":"'7.WEF Influence-Mine'!$CT146","v":0},{"$f":"'7.WEF Influence-Mine'!$CT186","v":0},{"$f":"'7.WEF Influence-Mine'!$CT226","v":0},{"$f":"'7.WEF Influence-Mine'!$CT266","v":0},{"$f":"IF(BG14>=$D$7,\"B:\"&'3.WEF Status-Base'!$Q13&\": \",)&IF(BH14<>0,\"1.\"&'7.WEF Influence-Mine'!$CU106&\" \",)&IF(BI14<>0,\"2.\"&'7.WEF Influence-Mine'!$CU146&\" \",)&IF(BJ14<>0,\"3.\"&'7.WEF Influence-Mine'!$CU186&\" \",)&IF(BK14<>0,\"4.\"&'7.WEF Influence-Mine'!$CU226&\" \",)&IF(BL14<>0,\"5.\"&'7.WEF Influence-Mine'!$CU266&\" \",)","v":""},null,null,null,null,null,null,{"$f":"'3.WEF Status-Base'!S13","v":0},{"$f":"'7.WEF Influence-Mine'!$CX106","v":0},{"$f":"'7.WEF Influence-Mine'!$CX146","v":0},{"$f":"'7.WEF Influence-Mine'!$CX186","v":0},{"$f":"'7.WEF Influence-Mine'!$CX226","v":0},{"$f":"'7.WEF Influence-Mine'!$CX266","v":0},{"$f":"IF(BT14>=$D$7,\"B:\"&'3.WEF Status-Base'!$T13&\": \",)&IF(BU14<>0,\"1.\"&'7.WEF Influence-Mine'!$CY106&\" \",)&IF(BV14<>0,\"2.\"&'7.WEF Influence-Mine'!$CY146&\" \",)&IF(BW14<>0,\"3.\"&'7.WEF Influence-Mine'!$CY186&\" \",)&IF(BX14<>0,\"4.\"&'7.WEF Influence-Mine'!$CY226&\" \",)&IF(BY14<>0,\"5.\"&'7.WEF Influence-Mine'!$CY266&\" \",)","v":""},null,null,null,null,null,null,{"$f":"'3.WEF Status-Base'!V13","v":0},{"$f":"'7.WEF Influence-Mine'!$DB106","v":0},{"$f":"'7.WEF Influence-Mine'!$DB146","v":0},{"$f":"'7.WEF Influence-Mine'!$DB186","v":0},{"$f":"'7.WEF Influence-Mine'!$DB226","v":0},{"$f":"'7.WEF Influence-Mine'!$DB266","v":0},{"$f":"IF(CG14>=$D$7,\"B:\"&'3.WEF Status-Base'!$W13&\": \",)&IF(CH14<>0,\"1.\"&'7.WEF Influence-Mine'!$DC106&\" \",)&IF(CI14<>0,\"2.\"&'7.WEF Influence-Mine'!$DC146&\" \",)&IF(CJ14<>0,\"3.\"&'7.WEF Influence-Mine'!$DC186&\" \",)&IF(CK14<>0,\"4.\"&'7.WEF Influence-Mine'!$DC226&\" \",)&IF(CL14<>0,\"5.\"&'7.WEF Influence-Mine'!$DC266&\" \",)","v":""},null,null,null,null,null,null,{"$f":"'3.WEF Status-Base'!Y13","v":0},{"$f":"'7.WEF Influence-Mine'!$DF106","v":0},{"$f":"'7.WEF Influence-Mine'!$DF146","v":0},{"$f":"'7.WEF Influence-Mine'!$DF186","v":0},{"$f":"'7.WEF Influence-Mine'!$DF226","v":0},{"$f":"'7.WEF Influence-Mine'!$DF266","v":0},{"$f":"IF(CT14>=$D$7,\"B:\"&'3.WEF Status-Base'!$Z13&\": \",)&IF(CU14<>0,\"1.\"&'7.WEF Influence-Mine'!$DG106&\" \",)&IF(CV14<>0,\"2.\"&'7.WEF Influence-Mine'!$DG146&\" \",)&IF(CW14<>0,\"3.\"&'7.WEF Influence-Mine'!$DG186&\" \",)&IF(CX14<>0,\"4.\"&'7.WEF Influence-Mine'!$DG226&\" \",)&IF(CY14<>0,\"5.\"&'7.WEF Influence-Mine'!$DG266&\" \",)","v":""},null,null,null,null,null,null,{"$f":"'3.WEF Status-Base'!AB13","v":0},{"$f":"'7.WEF Influence-Mine'!$DJ106","v":0},{"$f":"'7.WEF Influence-Mine'!$DJ146","v":0},{"$f":"'7.WEF Influence-Mine'!$DJ186","v":0},{"$f":"'7.WEF Influence-Mine'!$DJ226","v":0},{"$f":"'7.WEF Influence-Mine'!$DJ266","v":0},{"$f":"IF(DG14>=$D$7,\"B:\"&'3.WEF Status-Base'!$AC13&\": \",)&IF(DH14<>0,\"1.\"&'7.WEF Influence-Mine'!$DK106&\" \",)&IF(DI14<>0,\"2.\"&'7.WEF Influence-Mine'!$DK146&\" \",)&IF(DJ14<>0,\"3.\"&'7.WEF Influence-Mine'!$DK186&\" \",)&IF(DK14<>0,\"4.\"&'7.WEF Influence-Mine'!$DK226&\" \",)&IF(DL14<>0,\"5.\"&'7.WEF Influence-Mine'!$DK266&\" \",)","v":""},null,null,null,null,null,null,{"$f":"'3.WEF Status-Base'!AE13","v":0},{"$f":"'7.WEF Influence-Mine'!$DN106","v":0},{"$f":"'7.WEF Influence-Mine'!$DN146","v":0},{"$f":"'7.WEF Influence-Mine'!$DN186","v":0},{"$f":"'7.WEF Influence-Mine'!$DN226","v":0},{"$f":"'7.WEF Influence-Mine'!$DN266","v":0},{"$f":"IF(DT14>=$D$7,\"B:\"&'3.WEF Status-Base'!$AF13&\": \",)&IF(DU14<>0,\"1.\"&'7.WEF Influence-Mine'!$DO106&\" \",)&IF(DV14<>0,\"2.\"&'7.WEF Influence-Mine'!$DO146&\" \",)&IF(DW14<>0,\"3.\"&'7.WEF Influence-Mine'!$DO186&\" \",)&IF(DX14<>0,\"4.\"&'7.WEF Influence-Mine'!$DO226&\" \",)&IF(DY14<>0,\"5.\"&'7.WEF Influence-Mine'!$DO266&\" \",)","v":""},null,null,null,null,null,null,{"$f":"'3.WEF Status-Base'!AH13","v":0},{"$f":"'7.WEF Influence-Mine'!$DR106","v":0},{"$f":"'7.WEF Influence-Mine'!$DR146","v":0},{"$f":"'7.WEF Influence-Mine'!$DR186","v":0},{"$f":"'7.WEF Influence-Mine'!$DR226","v":0},{"$f":"'7.WEF Influence-Mine'!$DR266","v":0},{"$f":"IF(EG14>=$D$7,\"B:\"&'3.WEF Status-Base'!$AI13&\": \",)&IF(EH14<>0,\"1.\"&'7.WEF Influence-Mine'!$DS106&\" \",)&IF(EI14<>0,\"2.\"&'7.WEF Influence-Mine'!$DS146&\" \",)&IF(EJ14<>0,\"3.\"&'7.WEF Influence-Mine'!$DS186&\" \",)&IF(EK14<>0,\"4.\"&'7.WEF Influence-Mine'!$DS226&\" \",)&IF(EL14<>0,\"5.\"&'7.WEF Influence-Mine'!$DS266&\" \",)","v":""},null,null,null,null,null,null,{"$f":"'3.WEF Status-Base'!AK13","v":0},{"$f":"'7.WEF Influence-Mine'!$DV106","v":0},{"$f":"'7.WEF Influence-Mine'!$DV146","v":0},{"$f":"'7.WEF Influence-Mine'!$DV186","v":0},{"$f":"'7.WEF Influence-Mine'!$DV226","v":0},{"$f":"'7.WEF Influence-Mine'!$DV266","v":0},{"$f":"IF(ET14>=$D$7,\"B:\"&'3.WEF Status-Base'!$AL13&\": \",)&IF(EU14<>0,\"1.\"&'7.WEF Influence-Mine'!$DW106&\" \",)&IF(EV14<>0,\"2.\"&'7.WEF Influence-Mine'!$DW146&\" \",)&IF(EW14<>0,\"3.\"&'7.WEF Influence-Mine'!$DW186&\" \",)&IF(EX14<>0,\"4.\"&'7.WEF Influence-Mine'!$DW226&\" \",)&IF(EY14<>0,\"5.\"&'7.WEF Influence-Mine'!$DW266&\" \",)","v":""},null,null,null,null,null,null,{"$f":"'3.WEF Status-Base'!AN13","v":0},{"$f":"'7.WEF Influence-Mine'!$DZ106","v":0},{"$f":"'7.WEF Influence-Mine'!$DZ146","v":0},{"$f":"'7.WEF Influence-Mine'!$DZ186","v":0},{"$f":"'7.WEF Influence-Mine'!$DZ226","v":0},{"$f":"'7.WEF Influence-Mine'!$DZ266","v":0},{"$f":"IF(FG14>=$D$7,\"B:\"&'3.WEF Status-Base'!$AO13&\": \",)&IF(FH14<>0,\"1.\"&'7.WEF Influence-Mine'!$EA106&\" \",)&IF(FI14<>0,\"2.\"&'7.WEF Influence-Mine'!$EA146&\" \",)&IF(FJ14<>0,\"3.\"&'7.WEF Influence-Mine'!$EA186&\" \",)&IF(FK14<>0,\"4.\"&'7.WEF Influence-Mine'!$EA226&\" \",)&IF(FL14<>0,\"5.\"&'7.WEF Influence-Mine'!$EA266&\" \",)","v":""},null,null,null,null,null,null,{"$f":"'3.WEF Status-Base'!AQ13","v":0},{"$f":"'7.WEF Influence-Mine'!$ED106","v":0},{"$f":"'7.WEF Influence-Mine'!$ED146","v":0},{"$f":"'7.WEF Influence-Mine'!$ED186","v":0},{"$f":"'7.WEF Influence-Mine'!$ED226","v":0},{"$f":"'7.WEF Influence-Mine'!$ED266","v":0},{"$f":"IF(FT14>=$D$7,\"B:\"&'3.WEF Status-Base'!$AR13&\": \",)&IF(FU14<>0,\"1.\"&'7.WEF Influence-Mine'!$EE106&\" \",)&IF(FV14<>0,\"2.\"&'7.WEF Influence-Mine'!$EE146&\" \",)&IF(FW14<>0,\"3.\"&'7.WEF Influence-Mine'!$EE186&\" \",)&IF(FX14<>0,\"4.\"&'7.WEF Influence-Mine'!$EE226&\" \",)&IF(FY14<>0,\"5.\"&'7.WEF Influence-Mine'!$EE266&\" \",)","v":""},null,null,null,null,null,null,{"$f":"'3.WEF Status-Base'!AT13","v":0},{"$f":"'7.WEF Influence-Mine'!$EH106","v":0},{"$f":"'7.WEF Influence-Mine'!$EH146","v":0},{"$f":"'7.WEF Influence-Mine'!$EH186","v":0},{"$f":"'7.WEF Influence-Mine'!$EH226","v":0},{"$f":"'7.WEF Influence-Mine'!$EH266","v":0},{"$f":"IF(GG14>=$D$7,\"B:\"&'3.WEF Status-Base'!$AU13&\": \",)&IF(GH14<>0,\"1.\"&'7.WEF Influence-Mine'!$EI106&\" \",)&IF(GI14<>0,\"2.\"&'7.WEF Influence-Mine'!$EI146&\" \",)&IF(GJ14<>0,\"3.\"&'7.WEF Influence-Mine'!$EI186&\" \",)&IF(GK14<>0,\"4.\"&'7.WEF Influence-Mine'!$EI226&\" \",)&IF(GL14<>0,\"5.\"&'7.WEF Influence-Mine'!$EI266&\" \",)","v":""},null,null,null,null,null,null,{"$f":"'3.WEF Status-Base'!AW13","v":0},{"$f":"'7.WEF Influence-Mine'!$EL106","v":0},{"$f":"'7.WEF Influence-Mine'!$EL146","v":0},{"$f":"'7.WEF Influence-Mine'!$EL186","v":0},{"$f":"'7.WEF Influence-Mine'!$EL226","v":0},{"$f":"'7.WEF Influence-Mine'!$EL266","v":0},{"$f":"IF(GT14>=$D$7,\"B:\"&'3.WEF Status-Base'!$AX13&\": \",)&IF(GU14<>0,\"1.\"&'7.WEF Influence-Mine'!$EM106&\" \",)&IF(GV14<>0,\"2.\"&'7.WEF Influence-Mine'!$EM146&\" \",)&IF(GW14<>0,\"3.\"&'7.WEF Influence-Mine'!$EM186&\" \",)&IF(GX14<>0,\"4.\"&'7.WEF Influence-Mine'!$EM226&\" \",)&IF(GY14<>0,\"5.\"&'7.WEF Influence-Mine'!$EM266&\" \",)","v":""},null,null,null,null,null,null,{"$f":"'3.WEF Status-Base'!AZ13","v":0},{"$f":"'7.WEF Influence-Mine'!$EP106","v":0},{"$f":"'7.WEF Influence-Mine'!$EP146","v":0},{"$f":"'7.WEF Influence-Mine'!$EP186","v":0},{"$f":"'7.WEF Influence-Mine'!$EP226","v":0},{"$f":"'7.WEF Influence-Mine'!$EP266","v":0},{"$f":"IF(HG14>=$D$7,\"B:\"&'3.WEF Status-Base'!$BA13&\": \",)&IF(HH14<>0,\"1.\"&'7.WEF Influence-Mine'!$EQ106&\" \",)&IF(HI14<>0,\"2.\"&'7.WEF Influence-Mine'!$EQ146&\" \",)&IF(HJ14<>0,\"3.\"&'7.WEF Influence-Mine'!$EQ186&\" \",)&IF(HK14<>0,\"4.\"&'7.WEF Influence-Mine'!$EQ226&\" \",)&IF(HL14<>0,\"5.\"&'7.WEF Influence-Mine'!$EQ266&\" \",)","v":""},null,null,null,null,null,null,{"$f":"'3.WEF Status-Base'!BC13","v":0},{"$f":"'7.WEF Influence-Mine'!$ET106","v":0},{"$f":"'7.WEF Influence-Mine'!$ET146","v":0},{"$f":"'7.WEF Influence-Mine'!$ET186","v":0},{"$f":"'7.WEF Influence-Mine'!$ET226","v":0},{"$f":"'7.WEF Influence-Mine'!$ET266","v":0},{"$f":"IF(HT14>=$D$7,\"B:\"&'3.WEF Status-Base'!$BD13&\": \",)&IF(HU14<>0,\"1.\"&'7.WEF Influence-Mine'!$EU106&\" \",)&IF(HV14<>0,\"2.\"&'7.WEF Influence-Mine'!$EU146&\" \",)&IF(HW14<>0,\"3.\"&'7.WEF Influence-Mine'!$EU186&\" \",)&IF(HX14<>0,\"4.\"&'7.WEF Influence-Mine'!$EU226&\" \",)&IF(HY14<>0,\"5.\"&'7.WEF Influence-Mine'!$EU266&\" \",)","v":""},null,null,null,null,null,null,{"$f":"'7.WEF Influence-Mine'!EV106&\" : \"&'7.WEF Influence-Mine'!EV146&\" : \"&'7.WEF Influence-Mine'!EV186&\" : \"&'7.WEF Influence-Mine'!EV226&\" : \"&'7.WEF Influence-Mine'!EV266","v":"0 : 0 : 0 : 0 : 0"}]
[5,"Retail (market prices)",{"$f":"'3.WEF Status-Base'!B14","v":0},{"$f":"MAX($H15:$L15,$U15:$Y15,$AH15:$AL15,$AU15:$AY15,$BH15:$BL15,$BU15:$BY15,$CH15:$CL15,$CU15:$CY15,$DH15:$DL15,$DU15:$DY15,$EH15:$EL15,$EU15:$EY15,$FH15:$FL15,$FU15:$FY15,$GH15:$GL15,$GU15:$GY15,$HH15:$HL15,$HU15:$HY15)","v":0},{"$f":"MIN($H15:$L15,$U15:$Y15,$AH15:$AL15,$AU15:$AY15,$BH15:$BL15,$BU15:$BY15,$CH15:$CL15,$CU15:$CY15,$DH15:$DL15,$DU15:$DY15,$EH15:$EL15,$EU15:$EY15,$FH15:$FL15,$FU15:$FY15,$GH15:$GL15,$GU15:$GY15,$HH15:$HL15,$HU15:$HY15)","v":0},null,{"$f":"'3.WEF Status-Base'!D14","v":0},{"$f":"'7.WEF Influence-Mine'!$CD107","v":0},{"$f":"'7.WEF Influence-Mine'!$CD147","v":0},{"$f":"'7.WEF Influence-Mine'!$CD187","v":0},{"$f":"'7.WEF Influence-Mine'!$CD227","v":0},{"$f":"'7.WEF Influence-Mine'!$CD267","v":0},{"$f":"IF(G15>=$D$7,\"B:\"&'3.WEF Status-Base'!$E14&\": \",)&IF(H15<>0,\"1. \"&'7.WEF Influence-Mine'!$CE107&\" \",)&IF(I15<>0,\"2. \"&'7.WEF Influence-Mine'!$CE147&\" \",)&IF(J15<>0,\"3. \"&'7.WEF Influence-Mine'!$CE187&\" \",)&IF(K15<>0,\"4. \"&'7.WEF Influence-Mine'!$CE227&\" \",)&IF(L15<>0,\"5. \"&'7.WEF Influence-Mine'!$CE267&\" \",)","v":""},null,null,null,null,null,null,{"$f":"'3.WEF Status-Base'!G14","v":0},{"$f":"'7.WEF Influence-Mine'!$CH107","v":0},{"$f":"'7.WEF Influence-Mine'!$CH147","v":0},{"$f":"'7.WEF Influence-Mine'!$CH187","v":0},{"$f":"'7.WEF Influence-Mine'!$CH227","v":0},{"$f":"'7.WEF Influence-Mine'!$CH267","v":0},{"$f":"IF(T15>=$D$7,\"B:\"&'3.WEF Status-Base'!$H14&\": \",)&IF(U15<>0,\"1.\"&'7.WEF Influence-Mine'!$CI107&\" \",)&IF(V15<>0,\"2.\"&'7.WEF Influence-Mine'!$CI147&\" \",)&IF(W15<>0,\"3.\"&'7.WEF Influence-Mine'!$CI187&\" \",)&IF(X15<>0,\"4.\"&'7.WEF Influence-Mine'!$CI227&\" \",)&IF(Y15<>0,\"5.\"&'7.WEF Influence-Mine'!$CI267&\" \",)","v":""},null,null,null,null,null,null,{"$f":"'3.WEF Status-Base'!J14","v":0},{"$f":"'7.WEF Influence-Mine'!$CL107","v":0},{"$f":"'7.WEF Influence-Mine'!$CL147","v":0},{"$f":"'7.WEF Influence-Mine'!$CL187","v":0},{"$f":"'7.WEF Influence-Mine'!$CL227","v":0},{"$f":"'7.WEF Influence-Mine'!$CL267","v":0},{"$f":"IF(AG15>=$D$7,\"B:\"&'3.WEF Status-Base'!$K14&\": \",)&IF(AH15<>0,\"1.\"&'7.WEF Influence-Mine'!$CM107&\" \",)&IF(AI15<>0,\"2.\"&'7.WEF Influence-Mine'!$CM147&\" \",)&IF(AJ15<>0,\"3.\"&'7.WEF Influence-Mine'!$CM187&\" \",)&IF(AK15<>0,\"4.\"&'7.WEF Influence-Mine'!$CM227&\" \",)&IF(AL15<>0,\"5.\"&'7.WEF Influence-Mine'!$CM267&\" \",)","v":""},null,null,null,null,null,null,{"$f":"'3.WEF Status-Base'!M14","v":0},{"$f":"'7.WEF Influence-Mine'!$CP107","v":0},{"$f":"'7.WEF Influence-Mine'!$CP147","v":0},{"$f":"'7.WEF Influence-Mine'!$CP187","v":0},{"$f":"'7.WEF Influence-Mine'!$CP227","v":0},{"$f":"'7.WEF Influence-Mine'!$CP267","v":0},{"$f":"IF(AT15>=$D$7,\"B:\"&'3.WEF Status-Base'!$N14&\": \",)&IF(AU15<>0,\"1.\"&'7.WEF Influence-Mine'!$CQ107&\" \",)&IF(AV15<>0,\"2.\"&'7.WEF Influence-Mine'!$CQ147&\" \",)&IF(AW15<>0,\"3.\"&'7.WEF Influence-Mine'!$CQ187&\" \",)&IF(AX15<>0,\"4.\"&'7.WEF Influence-Mine'!$CQ227&\" \",)&IF(AY15<>0,\"5.\"&'7.WEF Influence-Mine'!$CQ267&\" \",)","v":""},null,null,null,null,null,null,{"$f":"'3.WEF Status-Base'!P14","v":0},{"$f":"'7.WEF Influence-Mine'!$CT107","v":0},{"$f":"'7.WEF Influence-Mine'!$CT147","v":0},{"$f":"'7.WEF Influence-Mine'!$CT187","v":0},{"$f":"'7.WEF Influence-Mine'!$CT227","v":0},{"$f":"'7.WEF Influence-Mine'!$CT267","v":0},{"$f":"IF(BG15>=$D$7,\"B:\"&'3.WEF Status-Base'!$Q14&\": \",)&IF(BH15<>0,\"1.\"&'7.WEF Influence-Mine'!$CU107&\" \",)&IF(BI15<>0,\"2.\"&'7.WEF Influence-Mine'!$CU147&\" \",)&IF(BJ15<>0,\"3.\"&'7.WEF Influence-Mine'!$CU187&\" \",)&IF(BK15<>0,\"4.\"&'7.WEF Influence-Mine'!$CU227&\" \",)&IF(BL15<>0,\"5.\"&'7.WEF Influence-Mine'!$CU267&\" \",)","v":""},null,null,null,null,null,null,{"$f":"'3.WEF Status-Base'!S14","v":0},{"$f":"'7.WEF Influence-Mine'!$CX107","v":0},{"$f":"'7.WEF Influence-Mine'!$CX147","v":0},{"$f":"'7.WEF Influence-Mine'!$CX187","v":0},{"$f":"'7.WEF Influence-Mine'!$CX227","v":0},{"$f":"'7.WEF Influence-Mine'!$CX267","v":0},{"$f":"IF(BT15>=$D$7,\"B:\"&'3.WEF Status-Base'!$T14&\": \",)&IF(BU15<>0,\"1.\"&'7.WEF Influence-Mine'!$CY107&\" \",)&IF(BV15<>0,\"2.\"&'7.WEF Influence-Mine'!$CY147&\" \",)&IF(BW15<>0,\"3.\"&'7.WEF Influence-Mine'!$CY187&\" \",)&IF(BX15<>0,\"4.\"&'7.WEF Influence-Mine'!$CY227&\" \",)&IF(BY15<>0,\"5.\"&'7.WEF Influence-Mine'!$CY267&\" \",)","v":""},null,null,null,null,null,null,{"$f":"'3.WEF Status-Base'!V14","v":0},{"$f":"'7.WEF Influence-Mine'!$DB107","v":0},{"$f":"'7.WEF Influence-Mine'!$DB147","v":0},{"$f":"'7.WEF Influence-Mine'!$DB187","v":0},{"$f":"'7.WEF Influence-Mine'!$DB227","v":0},{"$f":"'7.WEF Influence-Mine'!$DB267","v":0},{"$f":"IF(CG15>=$D$7,\"B:\"&'3.WEF Status-Base'!$W14&\": \",)&IF(CH15<>0,\"1.\"&'7.WEF Influence-Mine'!$DC107&\" \",)&IF(CI15<>0,\"2.\"&'7.WEF Influence-Mine'!$DC147&\" \",)&IF(CJ15<>0,\"3.\"&'7.WEF Influence-Mine'!$DC187&\" \",)&IF(CK15<>0,\"4.\"&'7.WEF Influence-Mine'!$DC227&\" \",)&IF(CL15<>0,\"5.\"&'7.WEF Influence-Mine'!$DC267&\" \",)","v":""},null,null,null,null,null,null,{"$f":"'3.WEF Status-Base'!Y14","v":0},{"$f":"'7.WEF Influence-Mine'!$DF107","v":0},{"$f":"'7.WEF Influence-Mine'!$DF147","v":0},{"$f":"'7.WEF Influence-Mine'!$DF187","v":0},{"$f":"'7.WEF Influence-Mine'!$DF227","v":0},{"$f":"'7.WEF Influence-Mine'!$DF267","v":0},{"$f":"IF(CT15>=$D$7,\"B:\"&'3.WEF Status-Base'!$Z14&\": \",)&IF(CU15<>0,\"1.\"&'7.WEF Influence-Mine'!$DG107&\" \",)&IF(CV15<>0,\"2.\"&'7.WEF Influence-Mine'!$DG147&\" \",)&IF(CW15<>0,\"3.\"&'7.WEF Influence-Mine'!$DG187&\" \",)&IF(CX15<>0,\"4.\"&'7.WEF Influence-Mine'!$DG227&\" \",)&IF(CY15<>0,\"5.\"&'7.WEF Influence-Mine'!$DG267&\" \",)","v":""},null,null,null,null,null,null,{"$f":"'3.WEF Status-Base'!AB14","v":0},{"$f":"'7.WEF Influence-Mine'!$DJ107","v":0},{"$f":"'7.WEF Influence-Mine'!$DJ147","v":0},{"$f":"'7.WEF Influence-Mine'!$DJ187","v":0},{"$f":"'7.WEF Influence-Mine'!$DJ227","v":0},{"$f":"'7.WEF Influence-Mine'!$DJ267","v":0},{"$f":"IF(DG15>=$D$7,\"B:\"&'3.WEF Status-Base'!$AC14&\": \",)&IF(DH15<>0,\"1.\"&'7.WEF Influence-Mine'!$DK107&\" \",)&IF(DI15<>0,\"2.\"&'7.WEF Influence-Mine'!$DK147&\" \",)&IF(DJ15<>0,\"3.\"&'7.WEF Influence-Mine'!$DK187&\" \",)&IF(DK15<>0,\"4.\"&'7.WEF Influence-Mine'!$DK227&\" \",)&IF(DL15<>0,\"5.\"&'7.WEF Influence-Mine'!$DK267&\" \",)","v":""},null,null,null,null,null,null,{"$f":"'3.WEF Status-Base'!AE14","v":0},{"$f":"'7.WEF Influence-Mine'!$DN107","v":0},{"$f":"'7.WEF Influence-Mine'!$DN147","v":0},{"$f":"'7.WEF Influence-Mine'!$DN187","v":0},{"$f":"'7.WEF Influence-Mine'!$DN227","v":0},{"$f":"'7.WEF Influence-Mine'!$DN267","v":0},{"$f":"IF(DT15>=$D$7,\"B:\"&'3.WEF Status-Base'!$AF14&\": \",)&IF(DU15<>0,\"1.\"&'7.WEF Influence-Mine'!$DO107&\" \",)&IF(DV15<>0,\"2.\"&'7.WEF Influence-Mine'!$DO147&\" \",)&IF(DW15<>0,\"3.\"&'7.WEF Influence-Mine'!$DO187&\" \",)&IF(DX15<>0,\"4.\"&'7.WEF Influence-Mine'!$DO227&\" \",)&IF(DY15<>0,\"5.\"&'7.WEF Influence-Mine'!$DO267&\" \",)","v":""},null,null,null,null,null,null,{"$f":"'3.WEF Status-Base'!AH14","v":0},{"$f":"'7.WEF Influence-Mine'!$DR107","v":0},{"$f":"'7.WEF Influence-Mine'!$DR147","v":0},{"$f":"'7.WEF Influence-Mine'!$DR187","v":0},{"$f":"'7.WEF Influence-Mine'!$DR227","v":0},{"$f":"'7.WEF Influence-Mine'!$DR267","v":0},{"$f":"IF(EG15>=$D$7,\"B:\"&'3.WEF Status-Base'!$AI14&\": \",)&IF(EH15<>0,\"1.\"&'7.WEF Influence-Mine'!$DS107&\" \",)&IF(EI15<>0,\"2.\"&'7.WEF Influence-Mine'!$DS147&\" \",)&IF(EJ15<>0,\"3.\"&'7.WEF Influence-Mine'!$DS187&\" \",)&IF(EK15<>0,\"4.\"&'7.WEF Influence-Mine'!$DS227&\" \",)&IF(EL15<>0,\"5.\"&'7.WEF Influence-Mine'!$DS267&\" \",)","v":""},null,null,null,null,null,null,{"$f":"'3.WEF Status-Base'!AK14","v":0},{"$f":"'7.WEF Influence-Mine'!$DV107","v":0},{"$f":"'7.WEF Influence-Mine'!$DV147","v":0},{"$f":"'7.WEF Influence-Mine'!$DV187","v":0},{"$f":"'7.WEF Influence-Mine'!$DV227","v":0},{"$f":"'7.WEF Influence-Mine'!$DV267","v":0},{"$f":"IF(ET15>=$D$7,\"B:\"&'3.WEF Status-Base'!$AL14&\": \",)&IF(EU15<>0,\"1.\"&'7.WEF Influence-Mine'!$DW107&\" \",)&IF(EV15<>0,\"2.\"&'7.WEF Influence-Mine'!$DW147&\" \",)&IF(EW15<>0,\"3.\"&'7.WEF Influence-Mine'!$DW187&\" \",)&IF(EX15<>0,\"4.\"&'7.WEF Influence-Mine'!$DW227&\" \",)&IF(EY15<>0,\"5.\"&'7.WEF Influence-Mine'!$DW267&\" \",)","v":""},null,null,null,null,null,null,{"$f":"'3.WEF Status-Base'!AN14","v":0},{"$f":"'7.WEF Influence-Mine'!$DZ107","v":0},{"$f":"'7.WEF Influence-Mine'!$DZ147","v":0},{"$f":"'7.WEF Influence-Mine'!$DZ187","v":0},{"$f":"'7.WEF Influence-Mine'!$DZ227","v":0},{"$f":"'7.WEF Influence-Mine'!$DZ267","v":0},{"$f":"IF(FG15>=$D$7,\"B:\"&'3.WEF Status-Base'!$AO14&\": \",)&IF(FH15<>0,\"1.\"&'7.WEF Influence-Mine'!$EA107&\" \",)&IF(FI15<>0,\"2.\"&'7.WEF Influence-Mine'!$EA147&\" \",)&IF(FJ15<>0,\"3.\"&'7.WEF Influence-Mine'!$EA187&\" \",)&IF(FK15<>0,\"4.\"&'7.WEF Influence-Mine'!$EA227&\" \",)&IF(FL15<>0,\"5.\"&'7.WEF Influence-Mine'!$EA267&\" \",)","v":""},null,null,null,null,null,null,{"$f":"'3.WEF Status-Base'!AQ14","v":0},{"$f":"'7.WEF Influence-Mine'!$ED107","v":0},{"$f":"'7.WEF Influence-Mine'!$ED147","v":0},{"$f":"'7.WEF Influence-Mine'!$ED187","v":0},{"$f":"'7.WEF Influence-Mine'!$ED227","v":0},{"$f":"'7.WEF Influence-Mine'!$ED267","v":0},{"$f":"IF(FT15>=$D$7,\"B:\"&'3.WEF Status-Base'!$AR14&\": \",)&IF(FU15<>0,\"1.\"&'7.WEF Influence-Mine'!$EE107&\" \",)&IF(FV15<>0,\"2.\"&'7.WEF Influence-Mine'!$EE147&\" \",)&IF(FW15<>0,\"3.\"&'7.WEF Influence-Mine'!$EE187&\" \",)&IF(FX15<>0,\"4.\"&'7.WEF Influence-Mine'!$EE227&\" \",)&IF(FY15<>0,\"5.\"&'7.WEF Influence-Mine'!$EE267&\" \",)","v":""},null,null,null,null,null,null,{"$f":"'3.WEF Status-Base'!AT14","v":0},{"$f":"'7.WEF Influence-Mine'!$EH107","v":0},{"$f":"'7.WEF Influence-Mine'!$EH147","v":0},{"$f":"'7.WEF Influence-Mine'!$EH187","v":0},{"$f":"'7.WEF Influence-Mine'!$EH227","v":0},{"$f":"'7.WEF Influence-Mine'!$EH267","v":0},{"$f":"IF(GG15>=$D$7,\"B:\"&'3.WEF Status-Base'!$AU14&\": \",)&IF(GH15<>0,\"1.\"&'7.WEF Influence-Mine'!$EI107&\" \",)&IF(GI15<>0,\"2.\"&'7.WEF Influence-Mine'!$EI147&\" \",)&IF(GJ15<>0,\"3.\"&'7.WEF Influence-Mine'!$EI187&\" \",)&IF(GK15<>0,\"4.\"&'7.WEF Influence-Mine'!$EI227&\" \",)&IF(GL15<>0,\"5.\"&'7.WEF Influence-Mine'!$EI267&\" \",)","v":""},null,null,null,null,null,null,{"$f":"'3.WEF Status-Base'!AW14","v":0},{"$f":"'7.WEF Influence-Mine'!$EL107","v":0},{"$f":"'7.WEF Influence-Mine'!$EL147","v":0},{"$f":"'7.WEF Influence-Mine'!$EL187","v":0},{"$f":"'7.WEF Influence-Mine'!$EL227","v":0},{"$f":"'7.WEF Influence-Mine'!$EL267","v":0},{"$f":"IF(GT15>=$D$7,\"B:\"&'3.WEF Status-Base'!$AX14&\": \",)&IF(GU15<>0,\"1.\"&'7.WEF Influence-Mine'!$EM107&\" \",)&IF(GV15<>0,\"2.\"&'7.WEF Influence-Mine'!$EM147&\" \",)&IF(GW15<>0,\"3.\"&'7.WEF Influence-Mine'!$EM187&\" \",)&IF(GX15<>0,\"4.\"&'7.WEF Influence-Mine'!$EM227&\" \",)&IF(GY15<>0,\"5.\"&'7.WEF Influence-Mine'!$EM267&\" \",)","v":""},null,null,null,null,null,null,{"$f":"'3.WEF Status-Base'!AZ14","v":0},{"$f":"'7.WEF Influence-Mine'!$EP107","v":0},{"$f":"'7.WEF Influence-Mine'!$EP147","v":0},{"$f":"'7.WEF Influence-Mine'!$EP187","v":0},{"$f":"'7.WEF Influence-Mine'!$EP227","v":0},{"$f":"'7.WEF Influence-Mine'!$EP267","v":0},{"$f":"IF(HG15>=$D$7,\"B:\"&'3.WEF Status-Base'!$BA14&\": \",)&IF(HH15<>0,\"1.\"&'7.WEF Influence-Mine'!$EQ107&\" \",)&IF(HI15<>0,\"2.\"&'7.WEF Influence-Mine'!$EQ147&\" \",)&IF(HJ15<>0,\"3.\"&'7.WEF Influence-Mine'!$EQ187&\" \",)&IF(HK15<>0,\"4.\"&'7.WEF Influence-Mine'!$EQ227&\" \",)&IF(HL15<>0,\"5.\"&'7.WEF Influence-Mine'!$EQ267&\" \",)","v":""},null,null,null,null,null,null,{"$f":"'3.WEF Status-Base'!BC14","v":0},{"$f":"'7.WEF Influence-Mine'!$ET107","v":0},{"$f":"'7.WEF Influence-Mine'!$ET147","v":0},{"$f":"'7.WEF Influence-Mine'!$ET187","v":0},{"$f":"'7.WEF Influence-Mine'!$ET227","v":0},{"$f":"'7.WEF Influence-Mine'!$ET267","v":0},{"$f":"IF(HT15>=$D$7,\"B:\"&'3.WEF Status-Base'!$BD14&\": \",)&IF(HU15<>0,\"1.\"&'7.WEF Influence-Mine'!$EU107&\" \",)&IF(HV15<>0,\"2.\"&'7.WEF Influence-Mine'!$EU147&\" \",)&IF(HW15<>0,\"3.\"&'7.WEF Influence-Mine'!$EU187&\" \",)&IF(HX15<>0,\"4.\"&'7.WEF Influence-Mine'!$EU227&\" \",)&IF(HY15<>0,\"5.\"&'7.WEF Influence-Mine'!$EU267&\" \",)","v":""},null,null,null,null,null,null,{"$f":"'7.WEF Influence-Mine'!EV107&\" : \"&'7.WEF Influence-Mine'!EV147&\" : \"&'7.WEF Influence-Mine'!EV187&\" : \"&'7.WEF Influence-Mine'!EV227&\" : \"&'7.WEF Influence-Mine'!EV267","v":"0 : 0 : 0 : 0 : 0"}]
[6,"Access","X","X","X"]
[7,"Purchasing power (livelihood income, remittances, credit)",{"$f":"'3.WEF Status-Base'!B16","v":0},{"$f":"MAX($H17:$L17,$U17:$Y17,$AH17:$AL17,$AU17:$AY17,$BH17:$BL17,$BU17:$BY17,$CH17:$CL17,$CU17:$CY17,$DH17:$DL17,$DU17:$DY17,$EH17:$EL17,$EU17:$EY17,$FH17:$FL17,$FU17:$FY17,$GH17:$GL17,$GU17:$GY17,$HH17:$HL17,$HU17:$HY17)","v":0},{"$f":"MIN($H17:$L17,$U17:$Y17,$AH17:$AL17,$AU17:$AY17,$BH17:$BL17,$BU17:$BY17,$CH17:$CL17,$CU17:$CY17,$DH17:$DL17,$DU17:$DY17,$EH17:$EL17,$EU17:$EY17,$FH17:$FL17,$FU17:$FY17,$GH17:$GL17,$GU17:$GY17,$HH17:$HL17,$HU17:$HY17)","v":0},null,{"$f":"'3.WEF Status-Base'!D16","v":0},{"$f":"'7.WEF Influence-Mine'!$CD109","v":0},{"$f":"'7.WEF Influence-Mine'!$CD149","v":0},{"$f":"'7.WEF Influence-Mine'!$CD189","v":0},{"$f":"'7.WEF Influence-Mine'!$CD229","v":0},{"$f":"'7.WEF Influence-Mine'!$CD269","v":0},{"$f":"IF(G17>=$D$7,\"B:\"&'3.WEF Status-Base'!$E16&\": \",)&IF(H17<>0,\"1. \"&'7.WEF Influence-Mine'!$CE109&\" \",)&IF(I17<>0,\"2. \"&'7.WEF Influence-Mine'!$CE149&\" \",)&IF(J17<>0,\"3. \"&'7.WEF Influence-Mine'!$CE189&\" \",)&IF(K17<>0,\"4. \"&'7.WEF Influence-Mine'!$CE229&\" \",)&IF(L17<>0,\"5. \"&'7.WEF Influence-Mine'!$CE269&\" \",)","v":""},null,null,null,null,null,null,{"$f":"'3.WEF Status-Base'!G16","v":0},{"$f":"'7.WEF Influence-Mine'!$CH109","v":0},{"$f":"'7.WEF Influence-Mine'!$CH149","v":0},{"$f":"'7.WEF Influence-Mine'!$CH189","v":0},{"$f":"'7.WEF Influence-Mine'!$CH229","v":0},{"$f":"'7.WEF Influence-Mine'!$CH269","v":0},{"$f":"IF(T17>=$D$7,\"B:\"&'3.WEF Status-Base'!$H16&\": \",)&IF(U17<>0,\"1.\"&'7.WEF Influence-Mine'!$CI109&\" \",)&IF(V17<>0,\"2.\"&'7.WEF Influence-Mine'!$CI149&\" \",)&IF(W17<>0,\"3.\"&'7.WEF Influence-Mine'!$CI189&\" \",)&IF(X17<>0,\"4.\"&'7.WEF Influence-Mine'!$CI229&\" \",)&IF(Y17<>0,\"5.\"&'7.WEF Influence-Mine'!$CI269&\" \",)","v":""},null,null,null,null,null,null,{"$f":"'3.WEF Status-Base'!J16","v":0},{"$f":"'7.WEF Influence-Mine'!$CL109","v":0},{"$f":"'7.WEF Influence-Mine'!$CL149","v":0},{"$f":"'7.WEF Influence-Mine'!$CL189","v":0},{"$f":"'7.WEF Influence-Mine'!$CL229","v":0},{"$f":"'7.WEF Influence-Mine'!$CL269","v":0},{"$f":"IF(AG17>=$D$7,\"B:\"&'3.WEF Status-Base'!$K16&\": \",)&IF(AH17<>0,\"1.\"&'7.WEF Influence-Mine'!$CM109&\" \",)&IF(AI17<>0,\"2.\"&'7.WEF Influence-Mine'!$CM149&\" \",)&IF(AJ17<>0,\"3.\"&'7.WEF Influence-Mine'!$CM189&\" \",)&IF(AK17<>0,\"4.\"&'7.WEF Influence-Mine'!$CM229&\" \",)&IF(AL17<>0,\"5.\"&'7.WEF Influence-Mine'!$CM269&\" \",)","v":""},null,null,null,null,null,null,{"$f":"'3.WEF Status-Base'!M16","v":0},{"$f":"'7.WEF Influence-Mine'!$CP109","v":0},{"$f":"'7.WEF Influence-Mine'!$CP149","v":0},{"$f":"'7.WEF Influence-Mine'!$CP189","v":0},{"$f":"'7.WEF Influence-Mine'!$CP229","v":0},{"$f":"'7.WEF Influence-Mine'!$CP269","v":0},{"$f":"IF(AT17>=$D$7,\"B:\"&'3.WEF Status-Base'!$N16&\": \",)&IF(AU17<>0,\"1.\"&'7.WEF Influence-Mine'!$CQ109&\" \",)&IF(AV17<>0,\"2.\"&'7.WEF Influence-Mine'!$CQ149&\" \",)&IF(AW17<>0,\"3.\"&'7.WEF Influence-Mine'!$CQ189&\" \",)&IF(AX17<>0,\"4.\"&'7.WEF Influence-Mine'!$CQ229&\" \",)&IF(AY17<>0,\"5.\"&'7.WEF Influence-Mine'!$CQ269&\" \",)","v":""},null,null,null,null,null,null,{"$f":"'3.WEF Status-Base'!P16","v":0},{"$f":"'7.WEF Influence-Mine'!$CT109","v":0},{"$f":"'7.WEF Influence-Mine'!$CT149","v":0},{"$f":"'7.WEF Influence-Mine'!$CT189","v":0},{"$f":"'7.WEF Influence-Mine'!$CT229","v":0},{"$f":"'7.WEF Influence-Mine'!$CT269","v":0},{"$f":"IF(BG17>=$D$7,\"B:\"&'3.WEF Status-Base'!$Q16&\": \",)&IF(BH17<>0,\"1.\"&'7.WEF Influence-Mine'!$CU109&\" \",)&IF(BI17<>0,\"2.\"&'7.WEF Influence-Mine'!$CU149&\" \",)&IF(BJ17<>0,\"3.\"&'7.WEF Influence-Mine'!$CU189&\" \",)&IF(BK17<>0,\"4.\"&'7.WEF Influence-Mine'!$CU229&\" \",)&IF(BL17<>0,\"5.\"&'7.WEF Influence-Mine'!$CU269&\" \",)","v":""},null,null,null,null,null,null,{"$f":"'3.WEF Status-Base'!S16","v":0},{"$f":"'7.WEF Influence-Mine'!$CX109","v":0},{"$f":"'7.WEF Influence-Mine'!$CX149","v":0},{"$f":"'7.WEF Influence-Mine'!$CX189","v":0},{"$f":"'7.WEF Influence-Mine'!$CX229","v":0},{"$f":"'7.WEF Influence-Mine'!$CX269","v":0},{"$f":"IF(BT17>=$D$7,\"B:\"&'3.WEF Status-Base'!$T16&\": \",)&IF(BU17<>0,\"1.\"&'7.WEF Influence-Mine'!$CY109&\" \",)&IF(BV17<>0,\"2.\"&'7.WEF Influence-Mine'!$CY149&\" \",)&IF(BW17<>0,\"3.\"&'7.WEF Influence-Mine'!$CY189&\" \",)&IF(BX17<>0,\"4.\"&'7.WEF Influence-Mine'!$CY229&\" \",)&IF(BY17<>0,\"5.\"&'7.WEF Influence-Mine'!$CY269&\" \",)","v":""},null,null,null,null,null,null,{"$f":"'3.WEF Status-Base'!V16","v":0},{"$f":"'7.WEF Influence-Mine'!$DB109","v":0},{"$f":"'7.WEF Influence-Mine'!$DB149","v":0},{"$f":"'7.WEF Influence-Mine'!$DB189","v":0},{"$f":"'7.WEF Influence-Mine'!$DB229","v":0},{"$f":"'7.WEF Influence-Mine'!$DB269","v":0},{"$f":"IF(CG17>=$D$7,\"B:\"&'3.WEF Status-Base'!$W16&\": \",)&IF(CH17<>0,\"1.\"&'7.WEF Influence-Mine'!$DC109&\" \",)&IF(CI17<>0,\"2.\"&'7.WEF Influence-Mine'!$DC149&\" \",)&IF(CJ17<>0,\"3.\"&'7.WEF Influence-Mine'!$DC189&\" \",)&IF(CK17<>0,\"4.\"&'7.WEF Influence-Mine'!$DC229&\" \",)&IF(CL17<>0,\"5.\"&'7.WEF Influence-Mine'!$DC269&\" \",)","v":""},null,null,null,null,null,null,{"$f":"'3.WEF Status-Base'!Y16","v":0},{"$f":"'7.WEF Influence-Mine'!$DF109","v":0},{"$f":"'7.WEF Influence-Mine'!$DF149","v":0},{"$f":"'7.WEF Influence-Mine'!$DF189","v":0},{"$f":"'7.WEF Influence-Mine'!$DF229","v":0},{"$f":"'7.WEF Influence-Mine'!$DF269","v":0},{"$f":"IF(CT17>=$D$7,\"B:\"&'3.WEF Status-Base'!$Z16&\": \",)&IF(CU17<>0,\"1.\"&'7.WEF Influence-Mine'!$DG109&\" \",)&IF(CV17<>0,\"2.\"&'7.WEF Influence-Mine'!$DG149&\" \",)&IF(CW17<>0,\"3.\"&'7.WEF Influence-Mine'!$DG189&\" \",)&IF(CX17<>0,\"4.\"&'7.WEF Influence-Mine'!$DG229&\" \",)&IF(CY17<>0,\"5.\"&'7.WEF Influence-Mine'!$DG269&\" \",)","v":""},null,null,null,null,null,null,{"$f":"'3.WEF Status-Base'!AB16","v":0},{"$f":"'7.WEF Influence-Mine'!$DJ109","v":0},{"$f":"'7.WEF Influence-Mine'!$DJ149","v":0},{"$f":"'7.WEF Influence-Mine'!$DJ189","v":0},{"$f":"'7.WEF Influence-Mine'!$DJ229","v":0},{"$f":"'7.WEF Influence-Mine'!$DJ269","v":0},{"$f":"IF(DG17>=$D$7,\"B:\"&'3.WEF Status-Base'!$AC16&\": \",)&IF(DH17<>0,\"1.\"&'7.WEF Influence-Mine'!$DK109&\" \",)&IF(DI17<>0,\"2.\"&'7.WEF Influence-Mine'!$DK149&\" \",)&IF(DJ17<>0,\"3.\"&'7.WEF Influence-Mine'!$DK189&\" \",)&IF(DK17<>0,\"4.\"&'7.WEF Influence-Mine'!$DK229&\" \",)&IF(DL17<>0,\"5.\"&'7.WEF Influence-Mine'!$DK269&\" \",)","v":""},null,null,null,null,null,null,{"$f":"'3.WEF Status-Base'!AE16","v":0},{"$f":"'7.WEF Influence-Mine'!$DN109","v":0},{"$f":"'7.WEF Influence-Mine'!$DN149","v":0},{"$f":"'7.WEF Influence-Mine'!$DN189","v":0},{"$f":"'7.WEF Influence-Mine'!$DN229","v":0},{"$f":"'7.WEF Influence-Mine'!$DN269","v":0},{"$f":"IF(DT17>=$D$7,\"B:\"&'3.WEF Status-Base'!$AF16&\": \",)&IF(DU17<>0,\"1.\"&'7.WEF Influence-Mine'!$DO109&\" \",)&IF(DV17<>0,\"2.\"&'7.WEF Influence-Mine'!$DO149&\" \",)&IF(DW17<>0,\"3.\"&'7.WEF Influence-Mine'!$DO189&\" \",)&IF(DX17<>0,\"4.\"&'7.WEF Influence-Mine'!$DO229&\" \",)&IF(DY17<>0,\"5.\"&'7.WEF Influence-Mine'!$DO269&\" \",)","v":""},null,null,null,null,null,null,{"$f":"'3.WEF Status-Base'!AH16","v":0},{"$f":"'7.WEF Influence-Mine'!$DR109","v":0},{"$f":"'7.WEF Influence-Mine'!$DR149","v":0},{"$f":"'7.WEF Influence-Mine'!$DR189","v":0},{"$f":"'7.WEF Influence-Mine'!$DR229","v":0},{"$f":"'7.WEF Influence-Mine'!$DR269","v":0},{"$f":"IF(EG17>=$D$7,\"B:\"&'3.WEF Status-Base'!$AI16&\": \",)&IF(EH17<>0,\"1.\"&'7.WEF Influence-Mine'!$DS109&\" \",)&IF(EI17<>0,\"2.\"&'7.WEF Influence-Mine'!$DS149&\" \",)&IF(EJ17<>0,\"3.\"&'7.WEF Influence-Mine'!$DS189&\" \",)&IF(EK17<>0,\"4.\"&'7.WEF Influence-Mine'!$DS229&\" \",)&IF(EL17<>0,\"5.\"&'7.WEF Influence-Mine'!$DS269&\" \",)","v":""},null,null,null,null,null,null,{"$f":"'3.WEF Status-Base'!AK16","v":0},{"$f":"'7.WEF Influence-Mine'!$DV109","v":0},{"$f":"'7.WEF Influence-Mine'!$DV149","v":0},{"$f":"'7.WEF Influence-Mine'!$DV189","v":0},{"$f":"'7.WEF Influence-Mine'!$DV229","v":0},{"$f":"'7.WEF Influence-Mine'!$DV269","v":0},{"$f":"IF(ET17>=$D$7,\"B:\"&'3.WEF Status-Base'!$AL16&\": \",)&IF(EU17<>0,\"1.\"&'7.WEF Influence-Mine'!$DW109&\" \",)&IF(EV17<>0,\"2.\"&'7.WEF Influence-Mine'!$DW149&\" \",)&IF(EW17<>0,\"3.\"&'7.WEF Influence-Mine'!$DW189&\" \",)&IF(EX17<>0,\"4.\"&'7.WEF Influence-Mine'!$DW229&\" \",)&IF(EY17<>0,\"5.\"&'7.WEF Influence-Mine'!$DW269&\" \",)","v":""},null,null,null,null,null,null,{"$f":"'3.WEF Status-Base'!AN16","v":0},{"$f":"'7.WEF Influence-Mine'!$DZ109","v":0},{"$f":"'7.WEF Influence-Mine'!$DZ149","v":0},{"$f":"'7.WEF Influence-Mine'!$DZ189","v":0},{"$f":"'7.WEF Influence-Mine'!$DZ229","v":0},{"$f":"'7.WEF Influence-Mine'!$DZ269","v":0},{"$f":"IF(FG17>=$D$7,\"B:\"&'3.WEF Status-Base'!$AO16&\": \",)&IF(FH17<>0,\"1.\"&'7.WEF Influence-Mine'!$EA109&\" \",)&IF(FI17<>0,\"2.\"&'7.WEF Influence-Mine'!$EA149&\" \",)&IF(FJ17<>0,\"3.\"&'7.WEF Influence-Mine'!$EA189&\" \",)&IF(FK17<>0,\"4.\"&'7.WEF Influence-Mine'!$EA229&\" \",)&IF(FL17<>0,\"5.\"&'7.WEF Influence-Mine'!$EA269&\" \",)","v":""},null,null,null,null,null,null,{"$f":"'3.WEF Status-Base'!AQ16","v":0},{"$f":"'7.WEF Influence-Mine'!$ED109","v":0},{"$f":"'7.WEF Influence-Mine'!$ED149","v":0},{"$f":"'7.WEF Influence-Mine'!$ED189","v":0},{"$f":"'7.WEF Influence-Mine'!$ED229","v":0},{"$f":"'7.WEF Influence-Mine'!$ED269","v":0},{"$f":"IF(FT17>=$D$7,\"B:\"&'3.WEF Status-Base'!$AR16&\": \",)&IF(FU17<>0,\"1.\"&'7.WEF Influence-Mine'!$EE109&\" \",)&IF(FV17<>0,\"2.\"&'7.WEF Influence-Mine'!$EE149&\" \",)&IF(FW17<>0,\"3.\"&'7.WEF Influence-Mine'!$EE189&\" \",)&IF(FX17<>0,\"4.\"&'7.WEF Influence-Mine'!$EE229&\" \",)&IF(FY17<>0,\"5.\"&'7.WEF Influence-Mine'!$EE269&\" \",)","v":""},null,null,null,null,null,null,{"$f":"'3.WEF Status-Base'!AT16","v":0},{"$f":"'7.WEF Influence-Mine'!$EH109","v":0},{"$f":"'7.WEF Influence-Mine'!$EH149","v":0},{"$f":"'7.WEF Influence-Mine'!$EH189","v":0},{"$f":"'7.WEF Influence-Mine'!$EH229","v":0},{"$f":"'7.WEF Influence-Mine'!$EH269","v":0},{"$f":"IF(GG17>=$D$7,\"B:\"&'3.WEF Status-Base'!$AU16&\": \",)&IF(GH17<>0,\"1.\"&'7.WEF Influence-Mine'!$EI109&\" \",)&IF(GI17<>0,\"2.\"&'7.WEF Influence-Mine'!$EI149&\" \",)&IF(GJ17<>0,\"3.\"&'7.WEF Influence-Mine'!$EI189&\" \",)&IF(GK17<>0,\"4.\"&'7.WEF Influence-Mine'!$EI229&\" \",)&IF(GL17<>0,\"5.\"&'7.WEF Influence-Mine'!$EI269&\" \",)","v":""},null,null,null,null,null,null,{"$f":"'3.WEF Status-Base'!AW16","v":0},{"$f":"'7.WEF Influence-Mine'!$EL109","v":0},{"$f":"'7.WEF Influence-Mine'!$EL149","v":0},{"$f":"'7.WEF Influence-Mine'!$EL189","v":0},{"$f":"'7.WEF Influence-Mine'!$EL229","v":0},{"$f":"'7.WEF Influence-Mine'!$EL269","v":0},{"$f":"IF(GT17>=$D$7,\"B:\"&'3.WEF Status-Base'!$AX16&\": \",)&IF(GU17<>0,\"1.\"&'7.WEF Influence-Mine'!$EM109&\" \",)&IF(GV17<>0,\"2.\"&'7.WEF Influence-Mine'!$EM149&\" \",)&IF(GW17<>0,\"3.\"&'7.WEF Influence-Mine'!$EM189&\" \",)&IF(GX17<>0,\"4.\"&'7.WEF Influence-Mine'!$EM229&\" \",)&IF(GY17<>0,\"5.\"&'7.WEF Influence-Mine'!$EM269&\" \",)","v":""},null,null,null,null,null,null,{"$f":"'3.WEF Status-Base'!AZ16","v":0},{"$f":"'7.WEF Influence-Mine'!$EP109","v":0},{"$f":"'7.WEF Influence-Mine'!$EP149","v":0},{"$f":"'7.WEF Influence-Mine'!$EP189","v":0},{"$f":"'7.WEF Influence-Mine'!$EP229","v":0},{"$f":"'7.WEF Influence-Mine'!$EP269","v":0},{"$f":"IF(HG17>=$D$7,\"B:\"&'3.WEF Status-Base'!$BA16&\": \",)&IF(HH17<>0,\"1.\"&'7.WEF Influence-Mine'!$EQ109&\" \",)&IF(HI17<>0,\"2.\"&'7.WEF Influence-Mine'!$EQ149&\" \",)&IF(HJ17<>0,\"3.\"&'7.WEF Influence-Mine'!$EQ189&\" \",)&IF(HK17<>0,\"4.\"&'7.WEF Influence-Mine'!$EQ229&\" \",)&IF(HL17<>0,\"5.\"&'7.WEF Influence-Mine'!$EQ269&\" \",)","v":""},null,null,null,null,null,null,{"$f":"'3.WEF Status-Base'!BC16","v":0},{"$f":"'7.WEF Influence-Mine'!$ET109","v":0},{"$f":"'7.WEF Influence-Mine'!$ET149","v":0},{"$f":"'7.WEF Influence-Mine'!$ET189","v":0},{"$f":"'7.WEF Influence-Mine'!$ET229","v":0},{"$f":"'7.WEF Influence-Mine'!$ET269","v":0},{"$f":"IF(HT17>=$D$7,\"B:\"&'3.WEF Status-Base'!$BD16&\": \",)&IF(HU17<>0,\"1.\"&'7.WEF Influence-Mine'!$EU109&\" \",)&IF(HV17<>0,\"2.\"&'7.WEF Influence-Mine'!$EU149&\" \",)&IF(HW17<>0,\"3.\"&'7.WEF Influence-Mine'!$EU189&\" \",)&IF(HX17<>0,\"4.\"&'7.WEF Influence-Mine'!$EU229&\" \",)&IF(HY17<>0,\"5.\"&'7.WEF Influence-Mine'!$EU269&\" \",)","v":""},null,null,null,null,null,null,{"$f":"'7.WEF Influence-Mine'!EV109&\" : \"&'7.WEF Influence-Mine'!EV149&\" : \"&'7.WEF Influence-Mine'!EV189&\" : \"&'7.WEF Influence-Mine'!EV229&\" : \"&'7.WEF Influence-Mine'!EV269","v":"0 : 0 : 0 : 0 : 0"}]
[8,"Aid (direct provision, safety nets, subsidies)",{"$f":"'3.WEF Status-Base'!B17","v":0},{"$f":"MAX($H18:$L18,$U18:$Y18,$AH18:$AL18,$AU18:$AY18,$BH18:$BL18,$BU18:$BY18,$CH18:$CL18,$CU18:$CY18,$DH18:$DL18,$DU18:$DY18,$EH18:$EL18,$EU18:$EY18,$FH18:$FL18,$FU18:$FY18,$GH18:$GL18,$GU18:$GY18,$HH18:$HL18,$HU18:$HY18)","v":0},{"$f":"MIN($H18:$L18,$U18:$Y18,$AH18:$AL18,$AU18:$AY18,$BH18:$BL18,$BU18:$BY18,$CH18:$CL18,$CU18:$CY18,$DH18:$DL18,$DU18:$DY18,$EH18:$EL18,$EU18:$EY18,$FH18:$FL18,$FU18:$FY18,$GH18:$GL18,$GU18:$GY18,$HH18:$HL18,$HU18:$HY18)","v":0},null,{"$f":"'3.WEF Status-Base'!D17","v":0},{"$f":"'7.WEF Influence-Mine'!$CD110","v":0},{"$f":"'7.WEF Influence-Mine'!$CD150","v":0},{"$f":"'7.WEF Influence-Mine'!$CD190","v":0},{"$f":"'7.WEF Influence-Mine'!$CD230","v":0},{"$f":"'7.WEF Influence-Mine'!$CD270","v":0},{"$f":"IF(G18>=$D$7,\"B:\"&'3.WEF Status-Base'!$E17&\": \",)&IF(H18<>0,\"1. \"&'7.WEF Influence-Mine'!$CE110&\" \",)&IF(I18<>0,\"2. \"&'7.WEF Influence-Mine'!$CE150&\" \",)&IF(J18<>0,\"3. \"&'7.WEF Influence-Mine'!$CE190&\" \",)&IF(K18<>0,\"4. \"&'7.WEF Influence-Mine'!$CE230&\" \",)&IF(L18<>0,\"5. \"&'7.WEF Influence-Mine'!$CE270&\" \",)","v":""},null,null,null,null,null,null,{"$f":"'3.WEF Status-Base'!G17","v":0},{"$f":"'7.WEF Influence-Mine'!$CH110","v":0},{"$f":"'7.WEF Influence-Mine'!$CH150","v":0},{"$f":"'7.WEF Influence-Mine'!$CH190","v":0},{"$f":"'7.WEF Influence-Mine'!$CH230","v":0},{"$f":"'7.WEF Influence-Mine'!$CH270","v":0},{"$f":"IF(T18>=$D$7,\"B:\"&'3.WEF Status-Base'!$H17&\": \",)&IF(U18<>0,\"1.\"&'7.WEF Influence-Mine'!$CI110&\" \",)&IF(V18<>0,\"2.\"&'7.WEF Influence-Mine'!$CI150&\" \",)&IF(W18<>0,\"3.\"&'7.WEF Influence-Mine'!$CI190&\" \",)&IF(X18<>0,\"4.\"&'7.WEF Influence-Mine'!$CI230&\" \",)&IF(Y18<>0,\"5.\"&'7.WEF Influence-Mine'!$CI270&\" \",)","v":""},null,null,null,null,null,null,{"$f":"'3.WEF Status-Base'!J17","v":0},{"$f":"'7.WEF Influence-Mine'!$CL110","v":0},{"$f":"'7.WEF Influence-Mine'!$CL150","v":0},{"$f":"'7.WEF Influence-Mine'!$CL190","v":0},{"$f":"'7.WEF Influence-Mine'!$CL230","v":0},{"$f":"'7.WEF Influence-Mine'!$CL270","v":0},{"$f":"IF(AG18>=$D$7,\"B:\"&'3.WEF Status-Base'!$K17&\": \",)&IF(AH18<>0,\"1.\"&'7.WEF Influence-Mine'!$CM110&\" \",)&IF(AI18<>0,\"2.\"&'7.WEF Influence-Mine'!$CM150&\" \",)&IF(AJ18<>0,\"3.\"&'7.WEF Influence-Mine'!$CM190&\" \",)&IF(AK18<>0,\"4.\"&'7.WEF Influence-Mine'!$CM230&\" \",)&IF(AL18<>0,\"5.\"&'7.WEF Influence-Mine'!$CM270&\" \",)","v":""},null,null,null,null,null,null,{"$f":"'3.WEF Status-Base'!M17","v":0},{"$f":"'7.WEF Influence-Mine'!$CP110","v":0},{"$f":"'7.WEF Influence-Mine'!$CP150","v":0},{"$f":"'7.WEF Influence-Mine'!$CP190","v":0},{"$f":"'7.WEF Influence-Mine'!$CP230","v":0},{"$f":"'7.WEF Influence-Mine'!$CP270","v":0},{"$f":"IF(AT18>=$D$7,\"B:\"&'3.WEF Status-Base'!$N17&\": \",)&IF(AU18<>0,\"1.\"&'7.WEF Influence-Mine'!$CQ110&\" \",)&IF(AV18<>0,\"2.\"&'7.WEF Influence-Mine'!$CQ150&\" \",)&IF(AW18<>0,\"3.\"&'7.WEF Influence-Mine'!$CQ190&\" \",)&IF(AX18<>0,\"4.\"&'7.WEF Influence-Mine'!$CQ230&\" \",)&IF(AY18<>0,\"5.\"&'7.WEF Influence-Mine'!$CQ270&\" \",)","v":""},null,null,null,null,null,null,{"$f":"'3.WEF Status-Base'!P17","v":0},{"$f":"'7.WEF Influence-Mine'!$CT110","v":0},{"$f":"'7.WEF Influence-Mine'!$CT150","v":0},{"$f":"'7.WEF Influence-Mine'!$CT190","v":0},{"$f":"'7.WEF Influence-Mine'!$CT230","v":0},{"$f":"'7.WEF Influence-Mine'!$CT270","v":0},{"$f":"IF(BG18>=$D$7,\"B:\"&'3.WEF Status-Base'!$Q17&\": \",)&IF(BH18<>0,\"1.\"&'7.WEF Influence-Mine'!$CU110&\" \",)&IF(BI18<>0,\"2.\"&'7.WEF Influence-Mine'!$CU150&\" \",)&IF(BJ18<>0,\"3.\"&'7.WEF Influence-Mine'!$CU190&\" \",)&IF(BK18<>0,\"4.\"&'7.WEF Influence-Mine'!$CU230&\" \",)&IF(BL18<>0,\"5.\"&'7.WEF Influence-Mine'!$CU270&\" \",)","v":""},null,null,null,null,null,null,{"$f":"'3.WEF Status-Base'!S17","v":0},{"$f":"'7.WEF Influence-Mine'!$CX110","v":0},{"$f":"'7.WEF Influence-Mine'!$CX150","v":0},{"$f":"'7.WEF Influence-Mine'!$CX190","v":0},{"$f":"'7.WEF Influence-Mine'!$CX230","v":0},{"$f":"'7.WEF Influence-Mine'!$CX270","v":0},{"$f":"IF(BT18>=$D$7,\"B:\"&'3.WEF Status-Base'!$T17&\": \",)&IF(BU18<>0,\"1.\"&'7.WEF Influence-Mine'!$CY110&\" \",)&IF(BV18<>0,\"2.\"&'7.WEF Influence-Mine'!$CY150&\" \",)&IF(BW18<>0,\"3.\"&'7.WEF Influence-Mine'!$CY190&\" \",)&IF(BX18<>0,\"4.\"&'7.WEF Influence-Mine'!$CY230&\" \",)&IF(BY18<>0,\"5.\"&'7.WEF Influence-Mine'!$CY270&\" \",)","v":""},null,null,null,null,null,null,{"$f":"'3.WEF Status-Base'!V17","v":0},{"$f":"'7.WEF Influence-Mine'!$DB110","v":0},{"$f":"'7.WEF Influence-Mine'!$DB150","v":0},{"$f":"'7.WEF Influence-Mine'!$DB190","v":0},{"$f":"'7.WEF Influence-Mine'!$DB230","v":0},{"$f":"'7.WEF Influence-Mine'!$DB270","v":0},{"$f":"IF(CG18>=$D$7,\"B:\"&'3.WEF Status-Base'!$W17&\": \",)&IF(CH18<>0,\"1.\"&'7.WEF Influence-Mine'!$DC110&\" \",)&IF(CI18<>0,\"2.\"&'7.WEF Influence-Mine'!$DC150&\" \",)&IF(CJ18<>0,\"3.\"&'7.WEF Influence-Mine'!$DC190&\" \",)&IF(CK18<>0,\"4.\"&'7.WEF Influence-Mine'!$DC230&\" \",)&IF(CL18<>0,\"5.\"&'7.WEF Influence-Mine'!$DC270&\" \",)","v":""},null,null,null,null,null,null,{"$f":"'3.WEF Status-Base'!Y17","v":0},{"$f":"'7.WEF Influence-Mine'!$DF110","v":0},{"$f":"'7.WEF Influence-Mine'!$DF150","v":0},{"$f":"'7.WEF Influence-Mine'!$DF190","v":0},{"$f":"'7.WEF Influence-Mine'!$DF230","v":0},{"$f":"'7.WEF Influence-Mine'!$DF270","v":0},{"$f":"IF(CT18>=$D$7,\"B:\"&'3.WEF Status-Base'!$Z17&\": \",)&IF(CU18<>0,\"1.\"&'7.WEF Influence-Mine'!$DG110&\" \",)&IF(CV18<>0,\"2.\"&'7.WEF Influence-Mine'!$DG150&\" \",)&IF(CW18<>0,\"3.\"&'7.WEF Influence-Mine'!$DG190&\" \",)&IF(CX18<>0,\"4.\"&'7.WEF Influence-Mine'!$DG230&\" \",)&IF(CY18<>0,\"5.\"&'7.WEF Influence-Mine'!$DG270&\" \",)","v":""},null,null,null,null,null,null,{"$f":"'3.WEF Status-Base'!AB17","v":0},{"$f":"'7.WEF Influence-Mine'!$DJ110","v":0},{"$f":"'7.WEF Influence-Mine'!$DJ150","v":0},{"$f":"'7.WEF Influence-Mine'!$DJ190","v":0},{"$f":"'7.WEF Influence-Mine'!$DJ230","v":0},{"$f":"'7.WEF Influence-Mine'!$DJ270","v":0},{"$f":"IF(DG18>=$D$7,\"B:\"&'3.WEF Status-Base'!$AC17&\": \",)&IF(DH18<>0,\"1.\"&'7.WEF Influence-Mine'!$DK110&\" \",)&IF(DI18<>0,\"2.\"&'7.WEF Influence-Mine'!$DK150&\" \",)&IF(DJ18<>0,\"3.\"&'7.WEF Influence-Mine'!$DK190&\" \",)&IF(DK18<>0,\"4.\"&'7.WEF Influence-Mine'!$DK230&\" \",)&IF(DL18<>0,\"5.\"&'7.WEF Influence-Mine'!$DK270&\" \",)","v":""},null,null,null,null,null,null,{"$f":"'3.WEF Status-Base'!AE17","v":0},{"$f":"'7.WEF Influence-Mine'!$DN110","v":0},{"$f":"'7.WEF Influence-Mine'!$DN150","v":0},{"$f":"'7.WEF Influence-Mine'!$DN190","v":0},{"$f":"'7.WEF Influence-Mine'!$DN230","v":0},{"$f":"'7.WEF Influence-Mine'!$DN270","v":0},{"$f":"IF(DT18>=$D$7,\"B:\"&'3.WEF Status-Base'!$AF17&\": \",)&IF(DU18<>0,\"1.\"&'7.WEF Influence-Mine'!$DO110&\" \",)&IF(DV18<>0,\"2.\"&'7.WEF Influence-Mine'!$DO150&\" \",)&IF(DW18<>0,\"3.\"&'7.WEF Influence-Mine'!$DO190&\" \",)&IF(DX18<>0,\"4.\"&'7.WEF Influence-Mine'!$DO230&\" \",)&IF(DY18<>0,\"5.\"&'7.WEF Influence-Mine'!$DO270&\" \",)","v":""},null,null,null,null,null,null,{"$f":"'3.WEF Status-Base'!AH17","v":0},{"$f":"'7.WEF Influence-Mine'!$DR110","v":0},{"$f":"'7.WEF Influence-Mine'!$DR150","v":0},{"$f":"'7.WEF Influence-Mine'!$DR190","v":0},{"$f":"'7.WEF Influence-Mine'!$DR230","v":0},{"$f":"'7.WEF Influence-Mine'!$DR270","v":0},{"$f":"IF(EG18>=$D$7,\"B:\"&'3.WEF Status-Base'!$AI17&\": \",)&IF(EH18<>0,\"1.\"&'7.WEF Influence-Mine'!$DS110&\" \",)&IF(EI18<>0,\"2.\"&'7.WEF Influence-Mine'!$DS150&\" \",)&IF(EJ18<>0,\"3.\"&'7.WEF Influence-Mine'!$DS190&\" \",)&IF(EK18<>0,\"4.\"&'7.WEF Influence-Mine'!$DS230&\" \",)&IF(EL18<>0,\"5.\"&'7.WEF Influence-Mine'!$DS270&\" \",)","v":""},null,null,null,null,null,null,{"$f":"'3.WEF Status-Base'!AK17","v":0},{"$f":"'7.WEF Influence-Mine'!$DV110","v":0},{"$f":"'7.WEF Influence-Mine'!$DV150","v":0},{"$f":"'7.WEF Influence-Mine'!$DV190","v":0},{"$f":"'7.WEF Influence-Mine'!$DV230","v":0},{"$f":"'7.WEF Influence-Mine'!$DV270","v":0},{"$f":"IF(ET18>=$D$7,\"B:\"&'3.WEF Status-Base'!$AL17&\": \",)&IF(EU18<>0,\"1.\"&'7.WEF Influence-Mine'!$DW110&\" \",)&IF(EV18<>0,\"2.\"&'7.WEF Influence-Mine'!$DW150&\" \",)&IF(EW18<>0,\"3.\"&'7.WEF Influence-Mine'!$DW190&\" \",)&IF(EX18<>0,\"4.\"&'7.WEF Influence-Mine'!$DW230&\" \",)&IF(EY18<>0,\"5.\"&'7.WEF Influence-Mine'!$DW270&\" \",)","v":""},null,null,null,null,null,null,{"$f":"'3.WEF Status-Base'!AN17","v":0},{"$f":"'7.WEF Influence-Mine'!$DZ110","v":0},{"$f":"'7.WEF Influence-Mine'!$DZ150","v":0},{"$f":"'7.WEF Influence-Mine'!$DZ190","v":0},{"$f":"'7.WEF Influence-Mine'!$DZ230","v":0},{"$f":"'7.WEF Influence-Mine'!$DZ270","v":0},{"$f":"IF(FG18>=$D$7,\"B:\"&'3.WEF Status-Base'!$AO17&\": \",)&IF(FH18<>0,\"1.\"&'7.WEF Influence-Mine'!$EA110&\" \",)&IF(FI18<>0,\"2.\"&'7.WEF Influence-Mine'!$EA150&\" \",)&IF(FJ18<>0,\"3.\"&'7.WEF Influence-Mine'!$EA190&\" \",)&IF(FK18<>0,\"4.\"&'7.WEF Influence-Mine'!$EA230&\" \",)&IF(FL18<>0,\"5.\"&'7.WEF Influence-Mine'!$EA270&\" \",)","v":""},null,null,null,null,null,null,{"$f":"'3.WEF Status-Base'!AQ17","v":0},{"$f":"'7.WEF Influence-Mine'!$ED110","v":0},{"$f":"'7.WEF Influence-Mine'!$ED150","v":0},{"$f":"'7.WEF Influence-Mine'!$ED190","v":0},{"$f":"'7.WEF Influence-Mine'!$ED230","v":0},{"$f":"'7.WEF Influence-Mine'!$ED270","v":0},{"$f":"IF(FT18>=$D$7,\"B:\"&'3.WEF Status-Base'!$AR17&\": \",)&IF(FU18<>0,\"1.\"&'7.WEF Influence-Mine'!$EE110&\" \",)&IF(FV18<>0,\"2.\"&'7.WEF Influence-Mine'!$EE150&\" \",)&IF(FW18<>0,\"3.\"&'7.WEF Influence-Mine'!$EE190&\" \",)&IF(FX18<>0,\"4.\"&'7.WEF Influence-Mine'!$EE230&\" \",)&IF(FY18<>0,\"5.\"&'7.WEF Influence-Mine'!$EE270&\" \",)","v":""},null,null,null,null,null,null,{"$f":"'3.WEF Status-Base'!AT17","v":0},{"$f":"'7.WEF Influence-Mine'!$EH110","v":0},{"$f":"'7.WEF Influence-Mine'!$EH150","v":0},{"$f":"'7.WEF Influence-Mine'!$EH190","v":0},{"$f":"'7.WEF Influence-Mine'!$EH230","v":0},{"$f":"'7.WEF Influence-Mine'!$EH270","v":0},{"$f":"IF(GG18>=$D$7,\"B:\"&'3.WEF Status-Base'!$AU17&\": \",)&IF(GH18<>0,\"1.\"&'7.WEF Influence-Mine'!$EI110&\" \",)&IF(GI18<>0,\"2.\"&'7.WEF Influence-Mine'!$EI150&\" \",)&IF(GJ18<>0,\"3.\"&'7.WEF Influence-Mine'!$EI190&\" \",)&IF(GK18<>0,\"4.\"&'7.WEF Influence-Mine'!$EI230&\" \",)&IF(GL18<>0,\"5.\"&'7.WEF Influence-Mine'!$EI270&\" \",)","v":""},null,null,null,null,null,null,{"$f":"'3.WEF Status-Base'!AW17","v":0},{"$f":"'7.WEF Influence-Mine'!$EL110","v":0},{"$f":"'7.WEF Influence-Mine'!$EL150","v":0},{"$f":"'7.WEF Influence-Mine'!$EL190","v":0},{"$f":"'7.WEF Influence-Mine'!$EL230","v":0},{"$f":"'7.WEF Influence-Mine'!$EL270","v":0},{"$f":"IF(GT18>=$D$7,\"B:\"&'3.WEF Status-Base'!$AX17&\": \",)&IF(GU18<>0,\"1.\"&'7.WEF Influence-Mine'!$EM110&\" \",)&IF(GV18<>0,\"2.\"&'7.WEF Influence-Mine'!$EM150&\" \",)&IF(GW18<>0,\"3.\"&'7.WEF Influence-Mine'!$EM190&\" \",)&IF(GX18<>0,\"4.\"&'7.WEF Influence-Mine'!$EM230&\" \",)&IF(GY18<>0,\"5.\"&'7.WEF Influence-Mine'!$EM270&\" \",)","v":""},null,null,null,null,null,null,{"$f":"'3.WEF Status-Base'!AZ17","v":0},{"$f":"'7.WEF Influence-Mine'!$EP110","v":0},{"$f":"'7.WEF Influence-Mine'!$EP150","v":0},{"$f":"'7.WEF Influence-Mine'!$EP190","v":0},{"$f":"'7.WEF Influence-Mine'!$EP230","v":0},{"$f":"'7.WEF Influence-Mine'!$EP270","v":0},{"$f":"IF(HG18>=$D$7,\"B:\"&'3.WEF Status-Base'!$BA17&\": \",)&IF(HH18<>0,\"1.\"&'7.WEF Influence-Mine'!$EQ110&\" \",)&IF(HI18<>0,\"2.\"&'7.WEF Influence-Mine'!$EQ150&\" \",)&IF(HJ18<>0,\"3.\"&'7.WEF Influence-Mine'!$EQ190&\" \",)&IF(HK18<>0,\"4.\"&'7.WEF Influence-Mine'!$EQ230&\" \",)&IF(HL18<>0,\"5.\"&'7.WEF Influence-Mine'!$EQ270&\" \",)","v":""},null,null,null,null,null,null,{"$f":"'3.WEF Status-Base'!BC17","v":0},{"$f":"'7.WEF Influence-Mine'!$ET110","v":0},{"$f":"'7.WEF Influence-Mine'!$ET150","v":0},{"$f":"'7.WEF Influence-Mine'!$ET190","v":0},{"$f":"'7.WEF Influence-Mine'!$ET230","v":0},{"$f":"'7.WEF Influence-Mine'!$ET270","v":0},{"$f":"IF(HT18>=$D$7,\"B:\"&'3.WEF Status-Base'!$BD17&\": \",)&IF(HU18<>0,\"1.\"&'7.WEF Influence-Mine'!$EU110&\" \",)&IF(HV18<>0,\"2.\"&'7.WEF Influence-Mine'!$EU150&\" \",)&IF(HW18<>0,\"3.\"&'7.WEF Influence-Mine'!$EU190&\" \",)&IF(HX18<>0,\"4.\"&'7.WEF Influence-Mine'!$EU230&\" \",)&IF(HY18<>0,\"5.\"&'7.WEF Influence-Mine'!$EU270&\" \",)","v":""},null,null,null,null,null,null,{"$f":"'7.WEF Influence-Mine'!EV110&\" : \"&'7.WEF Influence-Mine'!EV150&\" : \"&'7.WEF Influence-Mine'!EV190&\" : \"&'7.WEF Influence-Mine'!EV230&\" : \"&'7.WEF Influence-Mine'!EV270","v":"0 : 0 : 0 : 0 : 0"}]
[9,"Self-production (water wells, off-grid power, individual/community gardens)",{"$f":"'3.WEF Status-Base'!B18","v":0},{"$f":"MAX($H19:$L19,$U19:$Y19,$AH19:$AL19,$AU19:$AY19,$BH19:$BL19,$BU19:$BY19,$CH19:$CL19,$CU19:$CY19,$DH19:$DL19,$DU19:$DY19,$EH19:$EL19,$EU19:$EY19,$FH19:$FL19,$FU19:$FY19,$GH19:$GL19,$GU19:$GY19,$HH19:$HL19,$HU19:$HY19)","v":0},{"$f":"MIN($H19:$L19,$U19:$Y19,$AH19:$AL19,$AU19:$AY19,$BH19:$BL19,$BU19:$BY19,$CH19:$CL19,$CU19:$CY19,$DH19:$DL19,$DU19:$DY19,$EH19:$EL19,$EU19:$EY19,$FH19:$FL19,$FU19:$FY19,$GH19:$GL19,$GU19:$GY19,$HH19:$HL19,$HU19:$HY19)","v":0},null,{"$f":"'3.WEF Status-Base'!D18","v":0},{"$f":"'7.WEF Influence-Mine'!$CD111","v":0},{"$f":"'7.WEF Influence-Mine'!$CD151","v":0},{"$f":"'7.WEF Influence-Mine'!$CD191","v":0},{"$f":"'7.WEF Influence-Mine'!$CD231","v":0},{"$f":"'7.WEF Influence-Mine'!$CD271","v":0},{"$f":"IF(G19>=$D$7,\"B:\"&'3.WEF Status-Base'!$E18&\": \",)&IF(H19<>0,\"1. \"&'7.WEF Influence-Mine'!$CE111&\" \",)&IF(I19<>0,\"2. \"&'7.WEF Influence-Mine'!$CE151&\" \",)&IF(J19<>0,\"3. \"&'7.WEF Influence-Mine'!$CE191&\" \",)&IF(K19<>0,\"4. \"&'7.WEF Influence-Mine'!$CE231&\" \",)&IF(L19<>0,\"5. \"&'7.WEF Influence-Mine'!$CE271&\" \",)","v":""},null,null,null,null,null,null,{"$f":"'3.WEF Status-Base'!G18","v":0},{"$f":"'7.WEF Influence-Mine'!$CH111","v":0},{"$f":"'7.WEF Influence-Mine'!$CH151","v":0},{"$f":"'7.WEF Influence-Mine'!$CH191","v":0},{"$f":"'7.WEF Influence-Mine'!$CH231","v":0},{"$f":"'7.WEF Influence-Mine'!$CH271","v":0},{"$f":"IF(T19>=$D$7,\"B:\"&'3.WEF Status-Base'!$H18&\": \",)&IF(U19<>0,\"1.\"&'7.WEF Influence-Mine'!$CI111&\" \",)&IF(V19<>0,\"2.\"&'7.WEF Influence-Mine'!$CI151&\" \",)&IF(W19<>0,\"3.\"&'7.WEF Influence-Mine'!$CI191&\" \",)&IF(X19<>0,\"4.\"&'7.WEF Influence-Mine'!$CI231&\" \",)&IF(Y19<>0,\"5.\"&'7.WEF Influence-Mine'!$CI271&\" \",)","v":""},null,null,null,null,null,null,{"$f":"'3.WEF Status-Base'!J18","v":0},{"$f":"'7.WEF Influence-Mine'!$CL111","v":0},{"$f":"'7.WEF Influence-Mine'!$CL151","v":0},{"$f":"'7.WEF Influence-Mine'!$CL191","v":0},{"$f":"'7.WEF Influence-Mine'!$CL231","v":0},{"$f":"'7.WEF Influence-Mine'!$CL271","v":0},{"$f":"IF(AG19>=$D$7,\"B:\"&'3.WEF Status-Base'!$K18&\": \",)&IF(AH19<>0,\"1.\"&'7.WEF Influence-Mine'!$CM111&\" \",)&IF(AI19<>0,\"2.\"&'7.WEF Influence-Mine'!$CM151&\" \",)&IF(AJ19<>0,\"3.\"&'7.WEF Influence-Mine'!$CM191&\" \",)&IF(AK19<>0,\"4.\"&'7.WEF Influence-Mine'!$CM231&\" \",)&IF(AL19<>0,\"5.\"&'7.WEF Influence-Mine'!$CM271&\" \",)","v":""},null,null,null,null,null,null,{"$f":"'3.WEF Status-Base'!M18","v":0},{"$f":"'7.WEF Influence-Mine'!$CP111","v":0},{"$f":"'7.WEF Influence-Mine'!$CP151","v":0},{"$f":"'7.WEF Influence-Mine'!$CP191","v":0},{"$f":"'7.WEF Influence-Mine'!$CP231","v":0},{"$f":"'7.WEF Influence-Mine'!$CP271","v":0},{"$f":"IF(AT19>=$D$7,\"B:\"&'3.WEF Status-Base'!$N18&\": \",)&IF(AU19<>0,\"1.\"&'7.WEF Influence-Mine'!$CQ111&\" \",)&IF(AV19<>0,\"2.\"&'7.WEF Influence-Mine'!$CQ151&\" \",)&IF(AW19<>0,\"3.\"&'7.WEF Influence-Mine'!$CQ191&\" \",)&IF(AX19<>0,\"4.\"&'7.WEF Influence-Mine'!$CQ231&\" \",)&IF(AY19<>0,\"5.\"&'7.WEF Influence-Mine'!$CQ271&\" \",)","v":""},null,null,null,null,null,null,{"$f":"'3.WEF Status-Base'!P18","v":0},{"$f":"'7.WEF Influence-Mine'!$CT111","v":0},{"$f":"'7.WEF Influence-Mine'!$CT151","v":0},{"$f":"'7.WEF Influence-Mine'!$CT191","v":0},{"$f":"'7.WEF Influence-Mine'!$CT231","v":0},{"$f":"'7.WEF Influence-Mine'!$CT271","v":0},{"$f":"IF(BG19>=$D$7,\"B:\"&'3.WEF Status-Base'!$Q18&\": \",)&IF(BH19<>0,\"1.\"&'7.WEF Influence-Mine'!$CU111&\" \",)&IF(BI19<>0,\"2.\"&'7.WEF Influence-Mine'!$CU151&\" \",)&IF(BJ19<>0,\"3.\"&'7.WEF Influence-Mine'!$CU191&\" \",)&IF(BK19<>0,\"4.\"&'7.WEF Influence-Mine'!$CU231&\" \",)&IF(BL19<>0,\"5.\"&'7.WEF Influence-Mine'!$CU271&\" \",)","v":""},null,null,null,null,null,null,{"$f":"'3.WEF Status-Base'!S18","v":0},{"$f":"'7.WEF Influence-Mine'!$CX111","v":0},{"$f":"'7.WEF Influence-Mine'!$CX151","v":0},{"$f":"'7.WEF Influence-Mine'!$CX191","v":0},{"$f":"'7.WEF Influence-Mine'!$CX231","v":0},{"$f":"'7.WEF Influence-Mine'!$CX271","v":0},{"$f":"IF(BT19>=$D$7,\"B:\"&'3.WEF Status-Base'!$T18&\": \",)&IF(BU19<>0,\"1.\"&'7.WEF Influence-Mine'!$CY111&\" \",)&IF(BV19<>0,\"2.\"&'7.WEF Influence-Mine'!$CY151&\" \",)&IF(BW19<>0,\"3.\"&'7.WEF Influence-Mine'!$CY191&\" \",)&IF(BX19<>0,\"4.\"&'7.WEF Influence-Mine'!$CY231&\" \",)&IF(BY19<>0,\"5.\"&'7.WEF Influence-Mine'!$CY271&\" \",)","v":""},null,null,null,null,null,null,{"$f":"'3.WEF Status-Base'!V18","v":0},{"$f":"'7.WEF Influence-Mine'!$DB111","v":0},{"$f":"'7.WEF Influence-Mine'!$DB151","v":0},{"$f":"'7.WEF Influence-Mine'!$DB191","v":0},{"$f":"'7.WEF Influence-Mine'!$DB231","v":0},{"$f":"'7.WEF Influence-Mine'!$DB271","v":0},{"$f":"IF(CG19>=$D$7,\"B:\"&'3.WEF Status-Base'!$W18&\": \",)&IF(CH19<>0,\"1.\"&'7.WEF Influence-Mine'!$DC111&\" \",)&IF(CI19<>0,\"2.\"&'7.WEF Influence-Mine'!$DC151&\" \",)&IF(CJ19<>0,\"3.\"&'7.WEF Influence-Mine'!$DC191&\" \",)&IF(CK19<>0,\"4.\"&'7.WEF Influence-Mine'!$DC231&\" \",)&IF(CL19<>0,\"5.\"&'7.WEF Influence-Mine'!$DC271&\" \",)","v":""},null,null,null,null,null,null,{"$f":"'3.WEF Status-Base'!Y18","v":0},{"$f":"'7.WEF Influence-Mine'!$DF111","v":0},{"$f":"'7.WEF Influence-Mine'!$DF151","v":0},{"$f":"'7.WEF Influence-Mine'!$DF191","v":0},{"$f":"'7.WEF Influence-Mine'!$DF231","v":0},{"$f":"'7.WEF Influence-Mine'!$DF271","v":0},{"$f":"IF(CT19>=$D$7,\"B:\"&'3.WEF Status-Base'!$Z18&\": \",)&IF(CU19<>0,\"1.\"&'7.WEF Influence-Mine'!$DG111&\" \",)&IF(CV19<>0,\"2.\"&'7.WEF Influence-Mine'!$DG151&\" \",)&IF(CW19<>0,\"3.\"&'7.WEF Influence-Mine'!$DG191&\" \",)&IF(CX19<>0,\"4.\"&'7.WEF Influence-Mine'!$DG231&\" \",)&IF(CY19<>0,\"5.\"&'7.WEF Influence-Mine'!$DG271&\" \",)","v":""},null,null,null,null,null,null,{"$f":"'3.WEF Status-Base'!AB18","v":0},{"$f":"'7.WEF Influence-Mine'!$DJ111","v":0},{"$f":"'7.WEF Influence-Mine'!$DJ151","v":0},{"$f":"'7.WEF Influence-Mine'!$DJ191","v":0},{"$f":"'7.WEF Influence-Mine'!$DJ231","v":0},{"$f":"'7.WEF Influence-Mine'!$DJ271","v":0},{"$f":"IF(DG19>=$D$7,\"B:\"&'3.WEF Status-Base'!$AC18&\": \",)&IF(DH19<>0,\"1.\"&'7.WEF Influence-Mine'!$DK111&\" \",)&IF(DI19<>0,\"2.\"&'7.WEF Influence-Mine'!$DK151&\" \",)&IF(DJ19<>0,\"3.\"&'7.WEF Influence-Mine'!$DK191&\" \",)&IF(DK19<>0,\"4.\"&'7.WEF Influence-Mine'!$DK231&\" \",)&IF(DL19<>0,\"5.\"&'7.WEF Influence-Mine'!$DK271&\" \",)","v":""},null,null,null,null,null,null,{"$f":"'3.WEF Status-Base'!AE18","v":0},{"$f":"'7.WEF Influence-Mine'!$DN111","v":0},{"$f":"'7.WEF Influence-Mine'!$DN151","v":0},{"$f":"'7.WEF Influence-Mine'!$DN191","v":0},{"$f":"'7.WEF Influence-Mine'!$DN231","v":0},{"$f":"'7.WEF Influence-Mine'!$DN271","v":0},{"$f":"IF(DT19>=$D$7,\"B:\"&'3.WEF Status-Base'!$AF18&\": \",)&IF(DU19<>0,\"1.\"&'7.WEF Influence-Mine'!$DO111&\" \",)&IF(DV19<>0,\"2.\"&'7.WEF Influence-Mine'!$DO151&\" \",)&IF(DW19<>0,\"3.\"&'7.WEF Influence-Mine'!$DO191&\" \",)&IF(DX19<>0,\"4.\"&'7.WEF Influence-Mine'!$DO231&\" \",)&IF(DY19<>0,\"5.\"&'7.WEF Influence-Mine'!$DO271&\" \",)","v":""},null,null,null,null,null,null,{"$f":"'3.WEF Status-Base'!AH18","v":0},{"$f":"'7.WEF Influence-Mine'!$DR111","v":0},{"$f":"'7.WEF Influence-Mine'!$DR151","v":0},{"$f":"'7.WEF Influence-Mine'!$DR191","v":0},{"$f":"'7.WEF Influence-Mine'!$DR231","v":0},{"$f":"'7.WEF Influence-Mine'!$DR271","v":0},{"$f":"IF(EG19>=$D$7,\"B:\"&'3.WEF Status-Base'!$AI18&\": \",)&IF(EH19<>0,\"1.\"&'7.WEF Influence-Mine'!$DS111&\" \",)&IF(EI19<>0,\"2.\"&'7.WEF Influence-Mine'!$DS151&\" \",)&IF(EJ19<>0,\"3.\"&'7.WEF Influence-Mine'!$DS191&\" \",)&IF(EK19<>0,\"4.\"&'7.WEF Influence-Mine'!$DS231&\" \",)&IF(EL19<>0,\"5.\"&'7.WEF Influence-Mine'!$DS271&\" \",)","v":""},null,null,null,null,null,null,{"$f":"'3.WEF Status-Base'!AK18","v":0},{"$f":"'7.WEF Influence-Mine'!$DV111","v":0},{"$f":"'7.WEF Influence-Mine'!$DV151","v":0},{"$f":"'7.WEF Influence-Mine'!$DV191","v":0},{"$f":"'7.WEF Influence-Mine'!$DV231","v":0},{"$f":"'7.WEF Influence-Mine'!$DV271","v":0},{"$f":"IF(ET19>=$D$7,\"B:\"&'3.WEF Status-Base'!$AL18&\": \",)&IF(EU19<>0,\"1.\"&'7.WEF Influence-Mine'!$DW111&\" \",)&IF(EV19<>0,\"2.\"&'7.WEF Influence-Mine'!$DW151&\" \",)&IF(EW19<>0,\"3.\"&'7.WEF Influence-Mine'!$DW191&\" \",)&IF(EX19<>0,\"4.\"&'7.WEF Influence-Mine'!$DW231&\" \",)&IF(EY19<>0,\"5.\"&'7.WEF Influence-Mine'!$DW271&\" \",)","v":""},null,null,null,null,null,null,{"$f":"'3.WEF Status-Base'!AN18","v":0},{"$f":"'7.WEF Influence-Mine'!$DZ111","v":0},{"$f":"'7.WEF Influence-Mine'!$DZ151","v":0},{"$f":"'7.WEF Influence-Mine'!$DZ191","v":0},{"$f":"'7.WEF Influence-Mine'!$DZ231","v":0},{"$f":"'7.WEF Influence-Mine'!$DZ271","v":0},{"$f":"IF(FG19>=$D$7,\"B:\"&'3.WEF Status-Base'!$AO18&\": \",)&IF(FH19<>0,\"1.\"&'7.WEF Influence-Mine'!$EA111&\" \",)&IF(FI19<>0,\"2.\"&'7.WEF Influence-Mine'!$EA151&\" \",)&IF(FJ19<>0,\"3.\"&'7.WEF Influence-Mine'!$EA191&\" \",)&IF(FK19<>0,\"4.\"&'7.WEF Influence-Mine'!$EA231&\" \",)&IF(FL19<>0,\"5.\"&'7.WEF Influence-Mine'!$EA271&\" \",)","v":""},null,null,null,null,null,null,{"$f":"'3.WEF Status-Base'!AQ18","v":0},{"$f":"'7.WEF Influence-Mine'!$ED111","v":0},{"$f":"'7.WEF Influence-Mine'!$ED151","v":0},{"$f":"'7.WEF Influence-Mine'!$ED191","v":0},{"$f":"'7.WEF Influence-Mine'!$ED231","v":0},{"$f":"'7.WEF Influence-Mine'!$ED271","v":0},{"$f":"IF(FT19>=$D$7,\"B:\"&'3.WEF Status-Base'!$AR18&\": \",)&IF(FU19<>0,\"1.\"&'7.WEF Influence-Mine'!$EE111&\" \",)&IF(FV19<>0,\"2.\"&'7.WEF Influence-Mine'!$EE151&\" \",)&IF(FW19<>0,\"3.\"&'7.WEF Influence-Mine'!$EE191&\" \",)&IF(FX19<>0,\"4.\"&'7.WEF Influence-Mine'!$EE231&\" \",)&IF(FY19<>0,\"5.\"&'7.WEF Influence-Mine'!$EE271&\" \",)","v":""},null,null,null,null,null,null,{"$f":"'3.WEF Status-Base'!AT18","v":0},{"$f":"'7.WEF Influence-Mine'!$EH111","v":0},{"$f":"'7.WEF Influence-Mine'!$EH151","v":0},{"$f":"'7.WEF Influence-Mine'!$EH191","v":0},{"$f":"'7.WEF Influence-Mine'!$EH231","v":0},{"$f":"'7.WEF Influence-Mine'!$EH271","v":0},{"$f":"IF(GG19>=$D$7,\"B:\"&'3.WEF Status-Base'!$AU18&\": \",)&IF(GH19<>0,\"1.\"&'7.WEF Influence-Mine'!$EI111&\" \",)&IF(GI19<>0,\"2.\"&'7.WEF Influence-Mine'!$EI151&\" \",)&IF(GJ19<>0,\"3.\"&'7.WEF Influence-Mine'!$EI191&\" \",)&IF(GK19<>0,\"4.\"&'7.WEF Influence-Mine'!$EI231&\" \",)&IF(GL19<>0,\"5.\"&'7.WEF Influence-Mine'!$EI271&\" \",)","v":""},null,null,null,null,null,null,{"$f":"'3.WEF Status-Base'!AW18","v":0},{"$f":"'7.WEF Influence-Mine'!$EL111","v":0},{"$f":"'7.WEF Influence-Mine'!$EL151","v":0},{"$f":"'7.WEF Influence-Mine'!$EL191","v":0},{"$f":"'7.WEF Influence-Mine'!$EL231","v":0},{"$f":"'7.WEF Influence-Mine'!$EL271","v":0},{"$f":"IF(GT19>=$D$7,\"B:\"&'3.WEF Status-Base'!$AX18&\": \",)&IF(GU19<>0,\"1.\"&'7.WEF Influence-Mine'!$EM111&\" \",)&IF(GV19<>0,\"2.\"&'7.WEF Influence-Mine'!$EM151&\" \",)&IF(GW19<>0,\"3.\"&'7.WEF Influence-Mine'!$EM191&\" \",)&IF(GX19<>0,\"4.\"&'7.WEF Influence-Mine'!$EM231&\" \",)&IF(GY19<>0,\"5.\"&'7.WEF Influence-Mine'!$EM271&\" \",)","v":""},null,null,null,null,null,null,{"$f":"'3.WEF Status-Base'!AZ18","v":0},{"$f":"'7.WEF Influence-Mine'!$EP111","v":0},{"$f":"'7.WEF Influence-Mine'!$EP151","v":0},{"$f":"'7.WEF Influence-Mine'!$EP191","v":0},{"$f":"'7.WEF Influence-Mine'!$EP231","v":0},{"$f":"'7.WEF Influence-Mine'!$EP271","v":0},{"$f":"IF(HG19>=$D$7,\"B:\"&'3.WEF Status-Base'!$BA18&\": \",)&IF(HH19<>0,\"1.\"&'7.WEF Influence-Mine'!$EQ111&\" \",)&IF(HI19<>0,\"2.\"&'7.WEF Influence-Mine'!$EQ151&\" \",)&IF(HJ19<>0,\"3.\"&'7.WEF Influence-Mine'!$EQ191&\" \",)&IF(HK19<>0,\"4.\"&'7.WEF Influence-Mine'!$EQ231&\" \",)&IF(HL19<>0,\"5.\"&'7.WEF Influence-Mine'!$EQ271&\" \",)","v":""},null,null,null,null,null,null,{"$f":"'3.WEF Status-Base'!BC18","v":0},{"$f":"'7.WEF Influence-Mine'!$ET111","v":0},{"$f":"'7.WEF Influence-Mine'!$ET151","v":0},{"$f":"'7.WEF Influence-Mine'!$ET191","v":0},{"$f":"'7.WEF Influence-Mine'!$ET231","v":0},{"$f":"'7.WEF Influence-Mine'!$ET271","v":0},{"$f":"IF(HT19>=$D$7,\"B:\"&'3.WEF Status-Base'!$BD18&\": \",)&IF(HU19<>0,\"1.\"&'7.WEF Influence-Mine'!$EU111&\" \",)&IF(HV19<>0,\"2.\"&'7.WEF Influence-Mine'!$EU151&\" \",)&IF(HW19<>0,\"3.\"&'7.WEF Influence-Mine'!$EU191&\" \",)&IF(HX19<>0,\"4.\"&'7.WEF Influence-Mine'!$EU231&\" \",)&IF(HY19<>0,\"5.\"&'7.WEF Influence-Mine'!$EU271&\" \",)","v":""},null,null,null,null,null,null,{"$f":"'7.WEF Influence-Mine'!EV111&\" : \"&'7.WEF Influence-Mine'!EV151&\" : \"&'7.WEF Influence-Mine'!EV191&\" : \"&'7.WEF Influence-Mine'!EV231&\" : \"&'7.WEF Influence-Mine'!EV271","v":"0 : 0 : 0 : 0 : 0"}]
[10,"Barter",{"$f":"'3.WEF Status-Base'!B19","v":0},{"$f":"MAX($H20:$L20,$U20:$Y20,$AH20:$AL20,$AU20:$AY20,$BH20:$BL20,$BU20:$BY20,$CH20:$CL20,$CU20:$CY20,$DH20:$DL20,$DU20:$DY20,$EH20:$EL20,$EU20:$EY20,$FH20:$FL20,$FU20:$FY20,$GH20:$GL20,$GU20:$GY20,$HH20:$HL20,$HU20:$HY20)","v":0},{"$f":"MIN($H20:$L20,$U20:$Y20,$AH20:$AL20,$AU20:$AY20,$BH20:$BL20,$BU20:$BY20,$CH20:$CL20,$CU20:$CY20,$DH20:$DL20,$DU20:$DY20,$EH20:$EL20,$EU20:$EY20,$FH20:$FL20,$FU20:$FY20,$GH20:$GL20,$GU20:$GY20,$HH20:$HL20,$HU20:$HY20)","v":0},null,{"$f":"'3.WEF Status-Base'!D19","v":0},{"$f":"'7.WEF Influence-Mine'!$CD112","v":0},{"$f":"'7.WEF Influence-Mine'!$CD152","v":0},{"$f":"'7.WEF Influence-Mine'!$CD192","v":0},{"$f":"'7.WEF Influence-Mine'!$CD232","v":0},{"$f":"'7.WEF Influence-Mine'!$CD272","v":0},{"$f":"IF(G20>=$D$7,\"B:\"&'3.WEF Status-Base'!$E19&\": \",)&IF(H20<>0,\"1. \"&'7.WEF Influence-Mine'!$CE112&\" \",)&IF(I20<>0,\"2. \"&'7.WEF Influence-Mine'!$CE152&\" \",)&IF(J20<>0,\"3. \"&'7.WEF Influence-Mine'!$CE192&\" \",)&IF(K20<>0,\"4. \"&'7.WEF Influence-Mine'!$CE232&\" \",)&IF(L20<>0,\"5. \"&'7.WEF Influence-Mine'!$CE272&\" \",)","v":""},null,null,null,null,null,null,{"$f":"'3.WEF Status-Base'!G19","v":0},{"$f":"'7.WEF Influence-Mine'!$CH112","v":0},{"$f":"'7.WEF Influence-Mine'!$CH152","v":0},{"$f":"'7.WEF Influence-Mine'!$CH192","v":0},{"$f":"'7.WEF Influence-Mine'!$CH232","v":0},{"$f":"'7.WEF Influence-Mine'!$CH272","v":0},{"$f":"IF(T20>=$D$7,\"B:\"&'3.WEF Status-Base'!$H19&\": \",)&IF(U20<>0,\"1.\"&'7.WEF Influence-Mine'!$CI112&\" \",)&IF(V20<>0,\"2.\"&'7.WEF Influence-Mine'!$CI152&\" \",)&IF(W20<>0,\"3.\"&'7.WEF Influence-Mine'!$CI192&\" \",)&IF(X20<>0,\"4.\"&'7.WEF Influence-Mine'!$CI232&\" \",)&IF(Y20<>0,\"5.\"&'7.WEF Influence-Mine'!$CI272&\" \",)","v":""},null,null,null,null,null,null,{"$f":"'3.WEF Status-Base'!J19","v":0},{"$f":"'7.WEF Influence-Mine'!$CL112","v":0},{"$f":"'7.WEF Influence-Mine'!$CL152","v":0},{"$f":"'7.WEF Influence-Mine'!$CL192","v":0},{"$f":"'7.WEF Influence-Mine'!$CL232","v":0},{"$f":"'7.WEF Influence-Mine'!$CL272","v":0},{"$f":"IF(AG20>=$D$7,\"B:\"&'3.WEF Status-Base'!$K19&\": \",)&IF(AH20<>0,\"1.\"&'7.WEF Influence-Mine'!$CM112&\" \",)&IF(AI20<>0,\"2.\"&'7.WEF Influence-Mine'!$CM152&\" \",)&IF(AJ20<>0,\"3.\"&'7.WEF Influence-Mine'!$CM192&\" \",)&IF(AK20<>0,\"4.\"&'7.WEF Influence-Mine'!$CM232&\" \",)&IF(AL20<>0,\"5.\"&'7.WEF Influence-Mine'!$CM272&\" \",)","v":""},null,null,null,null,null,null,{"$f":"'3.WEF Status-Base'!M19","v":0},{"$f":"'7.WEF Influence-Mine'!$CP112","v":0},{"$f":"'7.WEF Influence-Mine'!$CP152","v":0},{"$f":"'7.WEF Influence-Mine'!$CP192","v":0},{"$f":"'7.WEF Influence-Mine'!$CP232","v":0},{"$f":"'7.WEF Influence-Mine'!$CP272","v":0},{"$f":"IF(AT20>=$D$7,\"B:\"&'3.WEF Status-Base'!$N19&\": \",)&IF(AU20<>0,\"1.\"&'7.WEF Influence-Mine'!$CQ112&\" \",)&IF(AV20<>0,\"2.\"&'7.WEF Influence-Mine'!$CQ152&\" \",)&IF(AW20<>0,\"3.\"&'7.WEF Influence-Mine'!$CQ192&\" \",)&IF(AX20<>0,\"4.\"&'7.WEF Influence-Mine'!$CQ232&\" \",)&IF(AY20<>0,\"5.\"&'7.WEF Influence-Mine'!$CQ272&\" \",)","v":""},null,null,null,null,null,null,{"$f":"'3.WEF Status-Base'!P19","v":0},{"$f":"'7.WEF Influence-Mine'!$CT112","v":0},{"$f":"'7.WEF Influence-Mine'!$CT152","v":0},{"$f":"'7.WEF Influence-Mine'!$CT192","v":0},{"$f":"'7.WEF Influence-Mine'!$CT232","v":0},{"$f":"'7.WEF Influence-Mine'!$CT272","v":0},{"$f":"IF(BG20>=$D$7,\"B:\"&'3.WEF Status-Base'!$Q19&\": \",)&IF(BH20<>0,\"1.\"&'7.WEF Influence-Mine'!$CU112&\" \",)&IF(BI20<>0,\"2.\"&'7.WEF Influence-Mine'!$CU152&\" \",)&IF(BJ20<>0,\"3.\"&'7.WEF Influence-Mine'!$CU192&\" \",)&IF(BK20<>0,\"4.\"&'7.WEF Influence-Mine'!$CU232&\" \",)&IF(BL20<>0,\"5.\"&'7.WEF Influence-Mine'!$CU272&\" \",)","v":""},null,null,null,null,null,null,{"$f":"'3.WEF Status-Base'!S19","v":0},{"$f":"'7.WEF Influence-Mine'!$CX112","v":0},{"$f":"'7.WEF Influence-Mine'!$CX152","v":0},{"$f":"'7.WEF Influence-Mine'!$CX192","v":0},{"$f":"'7.WEF Influence-Mine'!$CX232","v":0},{"$f":"'7.WEF Influence-Mine'!$CX272","v":0},{"$f":"IF(BT20>=$D$7,\"B:\"&'3.WEF Status-Base'!$T19&\": \",)&IF(BU20<>0,\"1.\"&'7.WEF Influence-Mine'!$CY112&\" \",)&IF(BV20<>0,\"2.\"&'7.WEF Influence-Mine'!$CY152&\" \",)&IF(BW20<>0,\"3.\"&'7.WEF Influence-Mine'!$CY192&\" \",)&IF(BX20<>0,\"4.\"&'7.WEF Influence-Mine'!$CY232&\" \",)&IF(BY20<>0,\"5.\"&'7.WEF Influence-Mine'!$CY272&\" \",)","v":""},null,null,null,null,null,null,{"$f":"'3.WEF Status-Base'!V19","v":0},{"$f":"'7.WEF Influence-Mine'!$DB112","v":0},{"$f":"'7.WEF Influence-Mine'!$DB152","v":0},{"$f":"'7.WEF Influence-Mine'!$DB192","v":0},{"$f":"'7.WEF Influence-Mine'!$DB232","v":0},{"$f":"'7.WEF Influence-Mine'!$DB272","v":0},{"$f":"IF(CG20>=$D$7,\"B:\"&'3.WEF Status-Base'!$W19&\": \",)&IF(CH20<>0,\"1.\"&'7.WEF Influence-Mine'!$DC112&\" \",)&IF(CI20<>0,\"2.\"&'7.WEF Influence-Mine'!$DC152&\" \",)&IF(CJ20<>0,\"3.\"&'7.WEF Influence-Mine'!$DC192&\" \",)&IF(CK20<>0,\"4.\"&'7.WEF Influence-Mine'!$DC232&\" \",)&IF(CL20<>0,\"5.\"&'7.WEF Influence-Mine'!$DC272&\" \",)","v":""},null,null,null,null,null,null,{"$f":"'3.WEF Status-Base'!Y19","v":0},{"$f":"'7.WEF Influence-Mine'!$DF112","v":0},{"$f":"'7.WEF Influence-Mine'!$DF152","v":0},{"$f":"'7.WEF Influence-Mine'!$DF192","v":0},{"$f":"'7.WEF Influence-Mine'!$DF232","v":0},{"$f":"'7.WEF Influence-Mine'!$DF272","v":0},{"$f":"IF(CT20>=$D$7,\"B:\"&'3.WEF Status-Base'!$Z19&\": \",)&IF(CU20<>0,\"1.\"&'7.WEF Influence-Mine'!$DG112&\" \",)&IF(CV20<>0,\"2.\"&'7.WEF Influence-Mine'!$DG152&\" \",)&IF(CW20<>0,\"3.\"&'7.WEF Influence-Mine'!$DG192&\" \",)&IF(CX20<>0,\"4.\"&'7.WEF Influence-Mine'!$DG232&\" \",)&IF(CY20<>0,\"5.\"&'7.WEF Influence-Mine'!$DG272&\" \",)","v":""},null,null,null,null,null,null,{"$f":"'3.WEF Status-Base'!AB19","v":0},{"$f":"'7.WEF Influence-Mine'!$DJ112","v":0},{"$f":"'7.WEF Influence-Mine'!$DJ152","v":0},{"$f":"'7.WEF Influence-Mine'!$DJ192","v":0},{"$f":"'7.WEF Influence-Mine'!$DJ232","v":0},{"$f":"'7.WEF Influence-Mine'!$DJ272","v":0},{"$f":"IF(DG20>=$D$7,\"B:\"&'3.WEF Status-Base'!$AC19&\": \",)&IF(DH20<>0,\"1.\"&'7.WEF Influence-Mine'!$DK112&\" \",)&IF(DI20<>0,\"2.\"&'7.WEF Influence-Mine'!$DK152&\" \",)&IF(DJ20<>0,\"3.\"&'7.WEF Influence-Mine'!$DK192&\" \",)&IF(DK20<>0,\"4.\"&'7.WEF Influence-Mine'!$DK232&\" \",)&IF(DL20<>0,\"5.\"&'7.WEF Influence-Mine'!$DK272&\" \",)","v":""},null,null,null,null,null,null,{"$f":"'3.WEF Status-Base'!AE19","v":0},{"$f":"'7.WEF Influence-Mine'!$DN112","v":0},{"$f":"'7.WEF Influence-Mine'!$DN152","v":0},{"$f":"'7.WEF Influence-Mine'!$DN192","v":0},{"$f":"'7.WEF Influence-Mine'!$DN232","v":0},{"$f":"'7.WEF Influence-Mine'!$DN272","v":0},{"$f":"IF(DT20>=$D$7,\"B:\"&'3.WEF Status-Base'!$AF19&\": \",)&IF(DU20<>0,\"1.\"&'7.WEF Influence-Mine'!$DO112&\" \",)&IF(DV20<>0,\"2.\"&'7.WEF Influence-Mine'!$DO152&\" \",)&IF(DW20<>0,\"3.\"&'7.WEF Influence-Mine'!$DO192&\" \",)&IF(DX20<>0,\"4.\"&'7.WEF Influence-Mine'!$DO232&\" \",)&IF(DY20<>0,\"5.\"&'7.WEF Influence-Mine'!$DO272&\" \",)","v":""},null,null,null,null,null,null,{"$f":"'3.WEF Status-Base'!AH19","v":0},{"$f":"'7.WEF Influence-Mine'!$DR112","v":0},{"$f":"'7.WEF Influence-Mine'!$DR152","v":0},{"$f":"'7.WEF Influence-Mine'!$DR192","v":0},{"$f":"'7.WEF Influence-Mine'!$DR232","v":0},{"$f":"'7.WEF Influence-Mine'!$DR272","v":0},{"$f":"IF(EG20>=$D$7,\"B:\"&'3.WEF Status-Base'!$AI19&\": \",)&IF(EH20<>0,\"1.\"&'7.WEF Influence-Mine'!$DS112&\" \",)&IF(EI20<>0,\"2.\"&'7.WEF Influence-Mine'!$DS152&\" \",)&IF(EJ20<>0,\"3.\"&'7.WEF Influence-Mine'!$DS192&\" \",)&IF(EK20<>0,\"4.\"&'7.WEF Influence-Mine'!$DS232&\" \",)&IF(EL20<>0,\"5.\"&'7.WEF Influence-Mine'!$DS272&\" \",)","v":""},null,null,null,null,null,null,{"$f":"'3.WEF Status-Base'!AK19","v":0},{"$f":"'7.WEF Influence-Mine'!$DV112","v":0},{"$f":"'7.WEF Influence-Mine'!$DV152","v":0},{"$f":"'7.WEF Influence-Mine'!$DV192","v":0},{"$f":"'7.WEF Influence-Mine'!$DV232","v":0},{"$f":"'7.WEF Influence-Mine'!$DV272","v":0},{"$f":"IF(ET20>=$D$7,\"B:\"&'3.WEF Status-Base'!$AL19&\": \",)&IF(EU20<>0,\"1.\"&'7.WEF Influence-Mine'!$DW112&\" \",)&IF(EV20<>0,\"2.\"&'7.WEF Influence-Mine'!$DW152&\" \",)&IF(EW20<>0,\"3.\"&'7.WEF Influence-Mine'!$DW192&\" \",)&IF(EX20<>0,\"4.\"&'7.WEF Influence-Mine'!$DW232&\" \",)&IF(EY20<>0,\"5.\"&'7.WEF Influence-Mine'!$DW272&\" \",)","v":""},null,null,null,null,null,null,{"$f":"'3.WEF Status-Base'!AN19","v":0},{"$f":"'7.WEF Influence-Mine'!$DZ112","v":0},{"$f":"'7.WEF Influence-Mine'!$DZ152","v":0},{"$f":"'7.WEF Influence-Mine'!$DZ192","v":0},{"$f":"'7.WEF Influence-Mine'!$DZ232","v":0},{"$f":"'7.WEF Influence-Mine'!$DZ272","v":0},{"$f":"IF(FG20>=$D$7,\"B:\"&'3.WEF Status-Base'!$AO19&\": \",)&IF(FH20<>0,\"1.\"&'7.WEF Influence-Mine'!$EA112&\" \",)&IF(FI20<>0,\"2.\"&'7.WEF Influence-Mine'!$EA152&\" \",)&IF(FJ20<>0,\"3.\"&'7.WEF Influence-Mine'!$EA192&\" \",)&IF(FK20<>0,\"4.\"&'7.WEF Influence-Mine'!$EA232&\" \",)&IF(FL20<>0,\"5.\"&'7.WEF Influence-Mine'!$EA272&\" \",)","v":""},null,null,null,null,null,null,{"$f":"'3.WEF Status-Base'!AQ19","v":0},{"$f":"'7.WEF Influence-Mine'!$ED112","v":0},{"$f":"'7.WEF Influence-Mine'!$ED152","v":0},{"$f":"'7.WEF Influence-Mine'!$ED192","v":0},{"$f":"'7.WEF Influence-Mine'!$ED232","v":0},{"$f":"'7.WEF Influence-Mine'!$ED272","v":0},{"$f":"IF(FT20>=$D$7,\"B:\"&'3.WEF Status-Base'!$AR19&\": \",)&IF(FU20<>0,\"1.\"&'7.WEF Influence-Mine'!$EE112&\" \",)&IF(FV20<>0,\"2.\"&'7.WEF Influence-Mine'!$EE152&\" \",)&IF(FW20<>0,\"3.\"&'7.WEF Influence-Mine'!$EE192&\" \",)&IF(FX20<>0,\"4.\"&'7.WEF Influence-Mine'!$EE232&\" \",)&IF(FY20<>0,\"5.\"&'7.WEF Influence-Mine'!$EE272&\" \",)","v":""},null,null,null,null,null,null,{"$f":"'3.WEF Status-Base'!AT19","v":0},{"$f":"'7.WEF Influence-Mine'!$EH112","v":0},{"$f":"'7.WEF Influence-Mine'!$EH152","v":0},{"$f":"'7.WEF Influence-Mine'!$EH192","v":0},{"$f":"'7.WEF Influence-Mine'!$EH232","v":0},{"$f":"'7.WEF Influence-Mine'!$EH272","v":0},{"$f":"IF(GG20>=$D$7,\"B:\"&'3.WEF Status-Base'!$AU19&\": \",)&IF(GH20<>0,\"1.\"&'7.WEF Influence-Mine'!$EI112&\" \",)&IF(GI20<>0,\"2.\"&'7.WEF Influence-Mine'!$EI152&\" \",)&IF(GJ20<>0,\"3.\"&'7.WEF Influence-Mine'!$EI192&\" \",)&IF(GK20<>0,\"4.\"&'7.WEF Influence-Mine'!$EI232&\" \",)&IF(GL20<>0,\"5.\"&'7.WEF Influence-Mine'!$EI272&\" \",)","v":""},null,null,null,null,null,null,{"$f":"'3.WEF Status-Base'!AW19","v":0},{"$f":"'7.WEF Influence-Mine'!$EL112","v":0},{"$f":"'7.WEF Influence-Mine'!$EL152","v":0},{"$f":"'7.WEF Influence-Mine'!$EL192","v":0},{"$f":"'7.WEF Influence-Mine'!$EL232","v":0},{"$f":"'7.WEF Influence-Mine'!$EL272","v":0},{"$f":"IF(GT20>=$D$7,\"B:\"&'3.WEF Status-Base'!$AX19&\": \",)&IF(GU20<>0,\"1.\"&'7.WEF Influence-Mine'!$EM112&\" \",)&IF(GV20<>0,\"2.\"&'7.WEF Influence-Mine'!$EM152&\" \",)&IF(GW20<>0,\"3.\"&'7.WEF Influence-Mine'!$EM192&\" \",)&IF(GX20<>0,\"4.\"&'7.WEF Influence-Mine'!$EM232&\" \",)&IF(GY20<>0,\"5.\"&'7.WEF Influence-Mine'!$EM272&\" \",)","v":""},null,null,null,null,null,null,{"$f":"'3.WEF Status-Base'!AZ19","v":0},{"$f":"'7.WEF Influence-Mine'!$EP112","v":0},{"$f":"'7.WEF Influence-Mine'!$EP152","v":0},{"$f":"'7.WEF Influence-Mine'!$EP192","v":0},{"$f":"'7.WEF Influence-Mine'!$EP232","v":0},{"$f":"'7.WEF Influence-Mine'!$EP272","v":0},{"$f":"IF(HG20>=$D$7,\"B:\"&'3.WEF Status-Base'!$BA19&\": \",)&IF(HH20<>0,\"1.\"&'7.WEF Influence-Mine'!$EQ112&\" \",)&IF(HI20<>0,\"2.\"&'7.WEF Influence-Mine'!$EQ152&\" \",)&IF(HJ20<>0,\"3.\"&'7.WEF Influence-Mine'!$EQ192&\" \",)&IF(HK20<>0,\"4.\"&'7.WEF Influence-Mine'!$EQ232&\" \",)&IF(HL20<>0,\"5.\"&'7.WEF Influence-Mine'!$EQ272&\" \",)","v":""},null,null,null,null,null,null,{"$f":"'3.WEF Status-Base'!BC19","v":0},{"$f":"'7.WEF Influence-Mine'!$ET112","v":0},{"$f":"'7.WEF Influence-Mine'!$ET152","v":0},{"$f":"'7.WEF Influence-Mine'!$ET192","v":0},{"$f":"'7.WEF Influence-Mine'!$ET232","v":0},{"$f":"'7.WEF Influence-Mine'!$ET272","v":0},{"$f":"IF(HT20>=$D$7,\"B:\"&'3.WEF Status-Base'!$BD19&\": \",)&IF(HU20<>0,\"1.\"&'7.WEF Influence-Mine'!$EU112&\" \",)&IF(HV20<>0,\"2.\"&'7.WEF Influence-Mine'!$EU152&\" \",)&IF(HW20<>0,\"3.\"&'7.WEF Influence-Mine'!$EU192&\" \",)&IF(HX20<>0,\"4.\"&'7.WEF Influence-Mine'!$EU232&\" \",)&IF(HY20<>0,\"5.\"&'7.WEF Influence-Mine'!$EU272&\" \",)","v":""},null,null,null,null,null,null,{"$f":"'7.WEF Influence-Mine'!EV112&\" : \"&'7.WEF Influence-Mine'!EV152&\" : \"&'7.WEF Influence-Mine'!EV192&\" : \"&'7.WEF Influence-Mine'!EV232&\" : \"&'7.WEF Influence-Mine'!EV272","v":"0 : 0 : 0 : 0 : 0"}]
[11,"Supporting Infrastructure","X","X","X"]
[12,"Built Infrastructure","x","x","x"]
[13,"     Transportation",{"$f":"'3.WEF Status-Base'!B22","v":0},{"$f":"MAX($H23:$L23,$U23:$Y23,$AH23:$AL23,$AU23:$AY23,$BH23:$BL23,$BU23:$BY23,$CH23:$CL23,$CU23:$CY23,$DH23:$DL23,$DU23:$DY23,$EH23:$EL23,$EU23:$EY23,$FH23:$FL23,$FU23:$FY23,$GH23:$GL23,$GU23:$GY23,$HH23:$HL23,$HU23:$HY23)","v":0},{"$f":"MIN($H23:$L23,$U23:$Y23,$AH23:$AL23,$AU23:$AY23,$BH23:$BL23,$BU23:$BY23,$CH23:$CL23,$CU23:$CY23,$DH23:$DL23,$DU23:$DY23,$EH23:$EL23,$EU23:$EY23,$FH23:$FL23,$FU23:$FY23,$GH23:$GL23,$GU23:$GY23,$HH23:$HL23,$HU23:$HY23)","v":0},null,{"$f":"'3.WEF Status-Base'!D22","v":0},{"$f":"'7.WEF Influence-Mine'!$CD115","v":0},{"$f":"'7.WEF Influence-Mine'!$CD155","v":0},{"$f":"'7.WEF Influence-Mine'!$CD195","v":0},{"$f":"'7.WEF Influence-Mine'!$CD235","v":0},{"$f":"'7.WEF Influence-Mine'!$CD275","v":0},{"$f":"IF(G23>=$D$7,\"B:\"&'3.WEF Status-Base'!$E22&\": \",)&IF(H23<>0,\"1. \"&'7.WEF Influence-Mine'!$CE115&\" \",)&IF(I23<>0,\"2. \"&'7.WEF Influence-Mine'!$CE155&\" \",)&IF(J23<>0,\"3. \"&'7.WEF Influence-Mine'!$CE195&\" \",)&IF(K23<>0,\"4. \"&'7.WEF Influence-Mine'!$CE235&\" \",)&IF(L23<>0,\"5. \"&'7.WEF Influence-Mine'!$CE275&\" \",)","v":""},null,null,null,null,null,null,{"$f":"'3.WEF Status-Base'!G22","v":0},{"$f":"'7.WEF Influence-Mine'!$CH115","v":0},{"$f":"'7.WEF Influence-Mine'!$CH155","v":0},{"$f":"'7.WEF Influence-Mine'!$CH195","v":0},{"$f":"'7.WEF Influence-Mine'!$CH235","v":0},{"$f":"'7.WEF Influence-Mine'!$CH275","v":0},{"$f":"IF(T23>=$D$7,\"B:\"&'3.WEF Status-Base'!$H22&\": \",)&IF(U23<>0,\"1.\"&'7.WEF Influence-Mine'!$CI115&\" \",)&IF(V23<>0,\"2.\"&'7.WEF Influence-Mine'!$CI155&\" \",)&IF(W23<>0,\"3.\"&'7.WEF Influence-Mine'!$CI195&\" \",)&IF(X23<>0,\"4.\"&'7.WEF Influence-Mine'!$CI235&\" \",)&IF(Y23<>0,\"5.\"&'7.WEF Influence-Mine'!$CI275&\" \",)","v":""},null,null,null,null,null,null,{"$f":"'3.WEF Status-Base'!J22","v":0},{"$f":"'7.WEF Influence-Mine'!$CL115","v":0},{"$f":"'7.WEF Influence-Mine'!$CL155","v":0},{"$f":"'7.WEF Influence-Mine'!$CL195","v":0},{"$f":"'7.WEF Influence-Mine'!$CL235","v":0},{"$f":"'7.WEF Influence-Mine'!$CL275","v":0},{"$f":"IF(AG23>=$D$7,\"B:\"&'3.WEF Status-Base'!$K22&\": \",)&IF(AH23<>0,\"1.\"&'7.WEF Influence-Mine'!$CM115&\" \",)&IF(AI23<>0,\"2.\"&'7.WEF Influence-Mine'!$CM155&\" \",)&IF(AJ23<>0,\"3.\"&'7.WEF Influence-Mine'!$CM195&\" \",)&IF(AK23<>0,\"4.\"&'7.WEF Influence-Mine'!$CM235&\" \",)&IF(AL23<>0,\"5.\"&'7.WEF Influence-Mine'!$CM275&\" \",)","v":""},null,null,null,null,null,null,{"$f":"'3.WEF Status-Base'!M22","v":0},{"$f":"'7.WEF Influence-Mine'!$CP115","v":0},{"$f":"'7.WEF Influence-Mine'!$CP155","v":0},{"$f":"'7.WEF Influence-Mine'!$CP195","v":0},{"$f":"'7.WEF Influence-Mine'!$CP235","v":0},{"$f":"'7.WEF Influence-Mine'!$CP275","v":0},{"$f":"IF(AT23>=$D$7,\"B:\"&'3.WEF Status-Base'!$N22&\": \",)&IF(AU23<>0,\"1.\"&'7.WEF Influence-Mine'!$CQ115&\" \",)&IF(AV23<>0,\"2.\"&'7.WEF Influence-Mine'!$CQ155&\" \",)&IF(AW23<>0,\"3.\"&'7.WEF Influence-Mine'!$CQ195&\" \",)&IF(AX23<>0,\"4.\"&'7.WEF Influence-Mine'!$CQ235&\" \",)&IF(AY23<>0,\"5.\"&'7.WEF Influence-Mine'!$CQ275&\" \",)","v":""},null,null,null,null,null,null,{"$f":"'3.WEF Status-Base'!P22","v":0},{"$f":"'7.WEF Influence-Mine'!$CT115","v":0},{"$f":"'7.WEF Influence-Mine'!$CT155","v":0},{"$f":"'7.WEF Influence-Mine'!$CT195","v":0},{"$f":"'7.WEF Influence-Mine'!$CT235","v":0},{"$f":"'7.WEF Influence-Mine'!$CT275","v":0},{"$f":"IF(BG23>=$D$7,\"B:\"&'3.WEF Status-Base'!$Q22&\": \",)&IF(BH23<>0,\"1.\"&'7.WEF Influence-Mine'!$CU115&\" \",)&IF(BI23<>0,\"2.\"&'7.WEF Influence-Mine'!$CU155&\" \",)&IF(BJ23<>0,\"3.\"&'7.WEF Influence-Mine'!$CU195&\" \",)&IF(BK23<>0,\"4.\"&'7.WEF Influence-Mine'!$CU235&\" \",)&IF(BL23<>0,\"5.\"&'7.WEF Influence-Mine'!$CU275&\" \",)","v":""},null,null,null,null,null,null,{"$f":"'3.WEF Status-Base'!S22","v":0},{"$f":"'7.WEF Influence-Mine'!$CX115","v":0},{"$f":"'7.WEF Influence-Mine'!$CX155","v":0},{"$f":"'7.WEF Influence-Mine'!$CX195","v":0},{"$f":"'7.WEF Influence-Mine'!$CX235","v":0},{"$f":"'7.WEF Influence-Mine'!$CX275","v":0},{"$f":"IF(BT23>=$D$7,\"B:\"&'3.WEF Status-Base'!$T22&\": \",)&IF(BU23<>0,\"1.\"&'7.WEF Influence-Mine'!$CY115&\" \",)&IF(BV23<>0,\"2.\"&'7.WEF Influence-Mine'!$CY155&\" \",)&IF(BW23<>0,\"3.\"&'7.WEF Influence-Mine'!$CY195&\" \",)&IF(BX23<>0,\"4.\"&'7.WEF Influence-Mine'!$CY235&\" \",)&IF(BY23<>0,\"5.\"&'7.WEF Influence-Mine'!$CY275&\" \",)","v":""},null,null,null,null,null,null,{"$f":"'3.WEF Status-Base'!V22","v":0},{"$f":"'7.WEF Influence-Mine'!$DB115","v":0},{"$f":"'7.WEF Influence-Mine'!$DB155","v":0},{"$f":"'7.WEF Influence-Mine'!$DB195","v":0},{"$f":"'7.WEF Influence-Mine'!$DB235","v":0},{"$f":"'7.WEF Influence-Mine'!$DB275","v":0},{"$f":"IF(CG23>=$D$7,\"B:\"&'3.WEF Status-Base'!$W22&\": \",)&IF(CH23<>0,\"1.\"&'7.WEF Influence-Mine'!$DC115&\" \",)&IF(CI23<>0,\"2.\"&'7.WEF Influence-Mine'!$DC155&\" \",)&IF(CJ23<>0,\"3.\"&'7.WEF Influence-Mine'!$DC195&\" \",)&IF(CK23<>0,\"4.\"&'7.WEF Influence-Mine'!$DC235&\" \",)&IF(CL23<>0,\"5.\"&'7.WEF Influence-Mine'!$DC275&\" \",)","v":""},null,null,null,null,null,null,{"$f":"'3.WEF Status-Base'!Y22","v":0},{"$f":"'7.WEF Influence-Mine'!$DF115","v":0},{"$f":"'7.WEF Influence-Mine'!$DF155","v":0},{"$f":"'7.WEF Influence-Mine'!$DF195","v":0},{"$f":"'7.WEF Influence-Mine'!$DF235","v":0},{"$f":"'7.WEF Influence-Mine'!$DF275","v":0},{"$f":"IF(CT23>=$D$7,\"B:\"&'3.WEF Status-Base'!$Z22&\": \",)&IF(CU23<>0,\"1.\"&'7.WEF Influence-Mine'!$DG115&\" \",)&IF(CV23<>0,\"2.\"&'7.WEF Influence-Mine'!$DG155&\" \",)&IF(CW23<>0,\"3.\"&'7.WEF Influence-Mine'!$DG195&\" \",)&IF(CX23<>0,\"4.\"&'7.WEF Influence-Mine'!$DG235&\" \",)&IF(CY23<>0,\"5.\"&'7.WEF Influence-Mine'!$DG275&\" \",)","v":""},null,null,null,null,null,null,{"$f":"'3.WEF Status-Base'!AB22","v":0},{"$f":"'7.WEF Influence-Mine'!$DJ115","v":0},{"$f":"'7.WEF Influence-Mine'!$DJ155","v":0},{"$f":"'7.WEF Influence-Mine'!$DJ195","v":0},{"$f":"'7.WEF Influence-Mine'!$DJ235","v":0},{"$f":"'7.WEF Influence-Mine'!$DJ275","v":0},{"$f":"IF(DG23>=$D$7,\"B:\"&'3.WEF Status-Base'!$AC22&\": \",)&IF(DH23<>0,\"1.\"&'7.WEF Influence-Mine'!$DK115&\" \",)&IF(DI23<>0,\"2.\"&'7.WEF Influence-Mine'!$DK155&\" \",)&IF(DJ23<>0,\"3.\"&'7.WEF Influence-Mine'!$DK195&\" \",)&IF(DK23<>0,\"4.\"&'7.WEF Influence-Mine'!$DK235&\" \",)&IF(DL23<>0,\"5.\"&'7.WEF Influence-Mine'!$DK275&\" \",)","v":""},null,null,null,null,null,null,{"$f":"'3.WEF Status-Base'!AE22","v":0},{"$f":"'7.WEF Influence-Mine'!$DN115","v":0},{"$f":"'7.WEF Influence-Mine'!$DN155","v":0},{"$f":"'7.WEF Influence-Mine'!$DN195","v":0},{"$f":"'7.WEF Influence-Mine'!$DN235","v":0},{"$f":"'7.WEF Influence-Mine'!$DN275","v":0},{"$f":"IF(DT23>=$D$7,\"B:\"&'3.WEF Status-Base'!$AF22&\": \",)&IF(DU23<>0,\"1.\"&'7.WEF Influence-Mine'!$DO115&\" \",)&IF(DV23<>0,\"2.\"&'7.WEF Influence-Mine'!$DO155&\" \",)&IF(DW23<>0,\"3.\"&'7.WEF Influence-Mine'!$DO195&\" \",)&IF(DX23<>0,\"4.\"&'7.WEF Influence-Mine'!$DO235&\" \",)&IF(DY23<>0,\"5.\"&'7.WEF Influence-Mine'!$DO275&\" \",)","v":""},null,null,null,null,null,null,{"$f":"'3.WEF Status-Base'!AH22","v":0},{"$f":"'7.WEF Influence-Mine'!$DR115","v":0},{"$f":"'7.WEF Influence-Mine'!$DR155","v":0},{"$f":"'7.WEF Influence-Mine'!$DR195","v":0},{"$f":"'7.WEF Influence-Mine'!$DR235","v":0},{"$f":"'7.WEF Influence-Mine'!$DR275","v":0},{"$f":"IF(EG23>=$D$7,\"B:\"&'3.WEF Status-Base'!$AI22&\": \",)&IF(EH23<>0,\"1.\"&'7.WEF Influence-Mine'!$DS115&\" \",)&IF(EI23<>0,\"2.\"&'7.WEF Influence-Mine'!$DS155&\" \",)&IF(EJ23<>0,\"3.\"&'7.WEF Influence-Mine'!$DS195&\" \",)&IF(EK23<>0,\"4.\"&'7.WEF Influence-Mine'!$DS235&\" \",)&IF(EL23<>0,\"5.\"&'7.WEF Influence-Mine'!$DS275&\" \",)","v":""},null,null,null,null,null,null,{"$f":"'3.WEF Status-Base'!AK22","v":0},{"$f":"'7.WEF Influence-Mine'!$DV115","v":0},{"$f":"'7.WEF Influence-Mine'!$DV155","v":0},{"$f":"'7.WEF Influence-Mine'!$DV195","v":0},{"$f":"'7.WEF Influence-Mine'!$DV235","v":0},{"$f":"'7.WEF Influence-Mine'!$DV275","v":0},{"$f":"IF(ET23>=$D$7,\"B:\"&'3.WEF Status-Base'!$AL22&\": \",)&IF(EU23<>0,\"1.\"&'7.WEF Influence-Mine'!$DW115&\" \",)&IF(EV23<>0,\"2.\"&'7.WEF Influence-Mine'!$DW155&\" \",)&IF(EW23<>0,\"3.\"&'7.WEF Influence-Mine'!$DW195&\" \",)&IF(EX23<>0,\"4.\"&'7.WEF Influence-Mine'!$DW235&\" \",)&IF(EY23<>0,\"5.\"&'7.WEF Influence-Mine'!$DW275&\" \",)","v":""},null,null,null,null,null,null,{"$f":"'3.WEF Status-Base'!AN22","v":0},{"$f":"'7.WEF Influence-Mine'!$DZ115","v":0},{"$f":"'7.WEF Influence-Mine'!$DZ155","v":0},{"$f":"'7.WEF Influence-Mine'!$DZ195","v":0},{"$f":"'7.WEF Influence-Mine'!$DZ235","v":0},{"$f":"'7.WEF Influence-Mine'!$DZ275","v":0},{"$f":"IF(FG23>=$D$7,\"B:\"&'3.WEF Status-Base'!$AO22&\": \",)&IF(FH23<>0,\"1.\"&'7.WEF Influence-Mine'!$EA115&\" \",)&IF(FI23<>0,\"2.\"&'7.WEF Influence-Mine'!$EA155&\" \",)&IF(FJ23<>0,\"3.\"&'7.WEF Influence-Mine'!$EA195&\" \",)&IF(FK23<>0,\"4.\"&'7.WEF Influence-Mine'!$EA235&\" \",)&IF(FL23<>0,\"5.\"&'7.WEF Influence-Mine'!$EA275&\" \",)","v":""},null,null,null,null,null,null,{"$f":"'3.WEF Status-Base'!AQ22","v":0},{"$f":"'7.WEF Influence-Mine'!$ED115","v":0},{"$f":"'7.WEF Influence-Mine'!$ED155","v":0},{"$f":"'7.WEF Influence-Mine'!$ED195","v":0},{"$f":"'7.WEF Influence-Mine'!$ED235","v":0},{"$f":"'7.WEF Influence-Mine'!$ED275","v":0},{"$f":"IF(FT23>=$D$7,\"B:\"&'3.WEF Status-Base'!$AR22&\": \",)&IF(FU23<>0,\"1.\"&'7.WEF Influence-Mine'!$EE115&\" \",)&IF(FV23<>0,\"2.\"&'7.WEF Influence-Mine'!$EE155&\" \",)&IF(FW23<>0,\"3.\"&'7.WEF Influence-Mine'!$EE195&\" \",)&IF(FX23<>0,\"4.\"&'7.WEF Influence-Mine'!$EE235&\" \",)&IF(FY23<>0,\"5.\"&'7.WEF Influence-Mine'!$EE275&\" \",)","v":""},null,null,null,null,null,null,{"$f":"'3.WEF Status-Base'!AT22","v":0},{"$f":"'7.WEF Influence-Mine'!$EH115","v":0},{"$f":"'7.WEF Influence-Mine'!$EH155","v":0},{"$f":"'7.WEF Influence-Mine'!$EH195","v":0},{"$f":"'7.WEF Influence-Mine'!$EH235","v":0},{"$f":"'7.WEF Influence-Mine'!$EH275","v":0},{"$f":"IF(GG23>=$D$7,\"B:\"&'3.WEF Status-Base'!$AU22&\": \",)&IF(GH23<>0,\"1.\"&'7.WEF Influence-Mine'!$EI115&\" \",)&IF(GI23<>0,\"2.\"&'7.WEF Influence-Mine'!$EI155&\" \",)&IF(GJ23<>0,\"3.\"&'7.WEF Influence-Mine'!$EI195&\" \",)&IF(GK23<>0,\"4.\"&'7.WEF Influence-Mine'!$EI235&\" \",)&IF(GL23<>0,\"5.\"&'7.WEF Influence-Mine'!$EI275&\" \",)","v":""},null,null,null,null,null,null,{"$f":"'3.WEF Status-Base'!AW22","v":0},{"$f":"'7.WEF Influence-Mine'!$EL115","v":0},{"$f":"'7.WEF Influence-Mine'!$EL155","v":0},{"$f":"'7.WEF Influence-Mine'!$EL195","v":0},{"$f":"'7.WEF Influence-Mine'!$EL235","v":0},{"$f":"'7.WEF Influence-Mine'!$EL275","v":0},{"$f":"IF(GT23>=$D$7,\"B:\"&'3.WEF Status-Base'!$AX22&\": \",)&IF(GU23<>0,\"1.\"&'7.WEF Influence-Mine'!$EM115&\" \",)&IF(GV23<>0,\"2.\"&'7.WEF Influence-Mine'!$EM155&\" \",)&IF(GW23<>0,\"3.\"&'7.WEF Influence-Mine'!$EM195&\" \",)&IF(GX23<>0,\"4.\"&'7.WEF Influence-Mine'!$EM235&\" \",)&IF(GY23<>0,\"5.\"&'7.WEF Influence-Mine'!$EM275&\" \",)","v":""},null,null,null,null,null,null,{"$f":"'3.WEF Status-Base'!AZ22","v":0},{"$f":"'7.WEF Influence-Mine'!$EP115","v":0},{"$f":"'7.WEF Influence-Mine'!$EP155","v":0},{"$f":"'7.WEF Influence-Mine'!$EP195","v":0},{"$f":"'7.WEF Influence-Mine'!$EP235","v":0},{"$f":"'7.WEF Influence-Mine'!$EP275","v":0},{"$f":"IF(HG23>=$D$7,\"B:\"&'3.WEF Status-Base'!$BA22&\": \",)&IF(HH23<>0,\"1.\"&'7.WEF Influence-Mine'!$EQ115&\" \",)&IF(HI23<>0,\"2.\"&'7.WEF Influence-Mine'!$EQ155&\" \",)&IF(HJ23<>0,\"3.\"&'7.WEF Influence-Mine'!$EQ195&\" \",)&IF(HK23<>0,\"4.\"&'7.WEF Influence-Mine'!$EQ235&\" \",)&IF(HL23<>0,\"5.\"&'7.WEF Influence-Mine'!$EQ275&\" \",)","v":""},null,null,null,null,null,null,{"$f":"'3.WEF Status-Base'!BC22","v":0},{"$f":"'7.WEF Influence-Mine'!$ET115","v":0},{"$f":"'7.WEF Influence-Mine'!$ET155","v":0},{"$f":"'7.WEF Influence-Mine'!$ET195","v":0},{"$f":"'7.WEF Influence-Mine'!$ET235","v":0},{"$f":"'7.WEF Influence-Mine'!$ET275","v":0},{"$f":"IF(HT23>=$D$7,\"B:\"&'3.WEF Status-Base'!$BD22&\": \",)&IF(HU23<>0,\"1.\"&'7.WEF Influence-Mine'!$EU115&\" \",)&IF(HV23<>0,\"2.\"&'7.WEF Influence-Mine'!$EU155&\" \",)&IF(HW23<>0,\"3.\"&'7.WEF Influence-Mine'!$EU195&\" \",)&IF(HX23<>0,\"4.\"&'7.WEF Influence-Mine'!$EU235&\" \",)&IF(HY23<>0,\"5.\"&'7.WEF Influence-Mine'!$EU275&\" \",)","v":""},null,null,null,null,null,null,{"$f":"'7.WEF Influence-Mine'!EV115&\" : \"&'7.WEF Influence-Mine'!EV155&\" : \"&'7.WEF Influence-Mine'!EV195&\" : \"&'7.WEF Influence-Mine'!EV235&\" : \"&'7.WEF Influence-Mine'!EV275","v":"0 : 0 : 0 : 0 : 0"}]
[14,"     Communication",{"$f":"'3.WEF Status-Base'!B23","v":0},0,{"$f":"MIN($H24:$L24,$U24:$Y24,$AH24:$AL24,$AU24:$AY24,$BH24:$BL24,$BU24:$BY24,$CH24:$CL24,$CU24:$CY24,$DH24:$DL24,$DU24:$DY24,$EH24:$EL24,$EU24:$EY24,$FH24:$FL24,$FU24:$FY24,$GH24:$GL24,$GU24:$GY24,$HH24:$HL24,$HU24:$HY24)","v":0},null,{"$f":"'3.WEF Status-Base'!D23","v":0},{"$f":"'7.WEF Influence-Mine'!$CD116","v":0},{"$f":"'7.WEF Influence-Mine'!$CD156","v":0},{"$f":"'7.WEF Influence-Mine'!$CD196","v":0},{"$f":"'7.WEF Influence-Mine'!$CD236","v":0},{"$f":"'7.WEF Influence-Mine'!$CD276","v":0},{"$f":"IF(G24>=$D$7,\"B:\"&'3.WEF Status-Base'!$E23&\": \",)&IF(H24<>0,\"1. \"&'7.WEF Influence-Mine'!$CE116&\" \",)&IF(I24<>0,\"2. \"&'7.WEF Influence-Mine'!$CE156&\" \",)&IF(J24<>0,\"3. \"&'7.WEF Influence-Mine'!$CE196&\" \",)&IF(K24<>0,\"4. \"&'7.WEF Influence-Mine'!$CE236&\" \",)&IF(L24<>0,\"5. \"&'7.WEF Influence-Mine'!$CE276&\" \",)","v":""},null,null,null,null,null,null,{"$f":"'3.WEF Status-Base'!G23","v":0},{"$f":"'7.WEF Influence-Mine'!$CH116","v":0},{"$f":"'7.WEF Influence-Mine'!$CH156","v":0},{"$f":"'7.WEF Influence-Mine'!$CH196","v":0},{"$f":"'7.WEF Influence-Mine'!$CH236","v":0},{"$f":"'7.WEF Influence-Mine'!$CH276","v":0},{"$f":"IF(T24>=$D$7,\"B:\"&'3.WEF Status-Base'!$H23&\": \",)&IF(U24<>0,\"1.\"&'7.WEF Influence-Mine'!$CI116&\" \",)&IF(V24<>0,\"2.\"&'7.WEF Influence-Mine'!$CI156&\" \",)&IF(W24<>0,\"3.\"&'7.WEF Influence-Mine'!$CI196&\" \",)&IF(X24<>0,\"4.\"&'7.WEF Influence-Mine'!$CI236&\" \",)&IF(Y24<>0,\"5.\"&'7.WEF Influence-Mine'!$CI276&\" \",)","v":""},null,null,null,null,null,null,{"$f":"'3.WEF Status-Base'!J23","v":0},{"$f":"'7.WEF Influence-Mine'!$CL116","v":0},{"$f":"'7.WEF Influence-Mine'!$CL156","v":0},{"$f":"'7.WEF Influence-Mine'!$CL196","v":0},{"$f":"'7.WEF Influence-Mine'!$CL236","v":0},{"$f":"'7.WEF Influence-Mine'!$CL276","v":0},{"$f":"IF(AG24>=$D$7,\"B:\"&'3.WEF Status-Base'!$K23&\": \",)&IF(AH24<>0,\"1.\"&'7.WEF Influence-Mine'!$CM116&\" \",)&IF(AI24<>0,\"2.\"&'7.WEF Influence-Mine'!$CM156&\" \",)&IF(AJ24<>0,\"3.\"&'7.WEF Influence-Mine'!$CM196&\" \",)&IF(AK24<>0,\"4.\"&'7.WEF Influence-Mine'!$CM236&\" \",)&IF(AL24<>0,\"5.\"&'7.WEF Influence-Mine'!$CM276&\" \",)","v":""},null,null,null,null,null,null,{"$f":"'3.WEF Status-Base'!M23","v":0},{"$f":"'7.WEF Influence-Mine'!$CP116","v":0},{"$f":"'7.WEF Influence-Mine'!$CP156","v":0},{"$f":"'7.WEF Influence-Mine'!$CP196","v":0},{"$f":"'7.WEF Influence-Mine'!$CP236","v":0},{"$f":"'7.WEF Influence-Mine'!$CP276","v":0},{"$f":"IF(AT24>=$D$7,\"B:\"&'3.WEF Status-Base'!$N23&\": \",)&IF(AU24<>0,\"1.\"&'7.WEF Influence-Mine'!$CQ116&\" \",)&IF(AV24<>0,\"2.\"&'7.WEF Influence-Mine'!$CQ156&\" \",)&IF(AW24<>0,\"3.\"&'7.WEF Influence-Mine'!$CQ196&\" \",)&IF(AX24<>0,\"4.\"&'7.WEF Influence-Mine'!$CQ236&\" \",)&IF(AY24<>0,\"5.\"&'7.WEF Influence-Mine'!$CQ276&\" \",)","v":""},null,null,null,null,null,null,{"$f":"'3.WEF Status-Base'!P23","v":0},{"$f":"'7.WEF Influence-Mine'!$CT116","v":0},{"$f":"'7.WEF Influence-Mine'!$CT156","v":0},{"$f":"'7.WEF Influence-Mine'!$CT196","v":0},{"$f":"'7.WEF Influence-Mine'!$CT236","v":0},{"$f":"'7.WEF Influence-Mine'!$CT276","v":0},{"$f":"IF(BG24>=$D$7,\"B:\"&'3.WEF Status-Base'!$Q23&\": \",)&IF(BH24<>0,\"1.\"&'7.WEF Influence-Mine'!$CU116&\" \",)&IF(BI24<>0,\"2.\"&'7.WEF Influence-Mine'!$CU156&\" \",)&IF(BJ24<>0,\"3.\"&'7.WEF Influence-Mine'!$CU196&\" \",)&IF(BK24<>0,\"4.\"&'7.WEF Influence-Mine'!$CU236&\" \",)&IF(BL24<>0,\"5.\"&'7.WEF Influence-Mine'!$CU276&\" \",)","v":""},null,null,null,null,null,null,{"$f":"'3.WEF Status-Base'!S23","v":0},{"$f":"'7.WEF Influence-Mine'!$CX116","v":0},{"$f":"'7.WEF Influence-Mine'!$CX156","v":0},{"$f":"'7.WEF Influence-Mine'!$CX196","v":0},{"$f":"'7.WEF Influence-Mine'!$CX236","v":0},{"$f":"'7.WEF Influence-Mine'!$CX276","v":0},{"$f":"IF(BT24>=$D$7,\"B:\"&'3.WEF Status-Base'!$T23&\": \",)&IF(BU24<>0,\"1.\"&'7.WEF Influence-Mine'!$CY116&\" \",)&IF(BV24<>0,\"2.\"&'7.WEF Influence-Mine'!$CY156&\" \",)&IF(BW24<>0,\"3.\"&'7.WEF Influence-Mine'!$CY196&\" \",)&IF(BX24<>0,\"4.\"&'7.WEF Influence-Mine'!$CY236&\" \",)&IF(BY24<>0,\"5.\"&'7.WEF Influence-Mine'!$CY276&\" \",)","v":""},null,null,null,null,null,null,{"$f":"'3.WEF Status-Base'!V23","v":0},{"$f":"'7.WEF Influence-Mine'!$DB116","v":0},{"$f":"'7.WEF Influence-Mine'!$DB156","v":0},{"$f":"'7.WEF Influence-Mine'!$DB196","v":0},{"$f":"'7.WEF Influence-Mine'!$DB236","v":0},{"$f":"'7.WEF Influence-Mine'!$DB276","v":0},{"$f":"IF(CG24>=$D$7,\"B:\"&'3.WEF Status-Base'!$W23&\": \",)&IF(CH24<>0,\"1.\"&'7.WEF Influence-Mine'!$DC116&\" \",)&IF(CI24<>0,\"2.\"&'7.WEF Influence-Mine'!$DC156&\" \",)&IF(CJ24<>0,\"3.\"&'7.WEF Influence-Mine'!$DC196&\" \",)&IF(CK24<>0,\"4.\"&'7.WEF Influence-Mine'!$DC236&\" \",)&IF(CL24<>0,\"5.\"&'7.WEF Influence-Mine'!$DC276&\" \",)","v":""},null,null,null,null,null,null,{"$f":"'3.WEF Status-Base'!Y23","v":0},{"$f":"'7.WEF Influence-Mine'!$DF116","v":0},{"$f":"'7.WEF Influence-Mine'!$DF156","v":0},{"$f":"'7.WEF Influence-Mine'!$DF196","v":0},{"$f":"'7.WEF Influence-Mine'!$DF236","v":0},{"$f":"'7.WEF Influence-Mine'!$DF276","v":0},{"$f":"IF(CT24>=$D$7,\"B:\"&'3.WEF Status-Base'!$Z23&\": \",)&IF(CU24<>0,\"1.\"&'7.WEF Influence-Mine'!$DG116&\" \",)&IF(CV24<>0,\"2.\"&'7.WEF Influence-Mine'!$DG156&\" \",)&IF(CW24<>0,\"3.\"&'7.WEF Influence-Mine'!$DG196&\" \",)&IF(CX24<>0,\"4.\"&'7.WEF Influence-Mine'!$DG236&\" \",)&IF(CY24<>0,\"5.\"&'7.WEF Influence-Mine'!$DG276&\" \",)","v":""},null,null,null,null,null,null,{"$f":"'3.WEF Status-Base'!AB23","v":0},{"$f":"'7.WEF Influence-Mine'!$DJ116","v":0},{"$f":"'7.WEF Influence-Mine'!$DJ156","v":0},{"$f":"'7.WEF Influence-Mine'!$DJ196","v":0},{"$f":"'7.WEF Influence-Mine'!$DJ236","v":0},{"$f":"'7.WEF Influence-Mine'!$DJ276","v":0},{"$f":"IF(DG24>=$D$7,\"B:\"&'3.WEF Status-Base'!$AC23&\": \",)&IF(DH24<>0,\"1.\"&'7.WEF Influence-Mine'!$DK116&\" \",)&IF(DI24<>0,\"2.\"&'7.WEF Influence-Mine'!$DK156&\" \",)&IF(DJ24<>0,\"3.\"&'7.WEF Influence-Mine'!$DK196&\" \",)&IF(DK24<>0,\"4.\"&'7.WEF Influence-Mine'!$DK236&\" \",)&IF(DL24<>0,\"5.\"&'7.WEF Influence-Mine'!$DK276&\" \",)","v":""},null,null,null,null,null,null,{"$f":"'3.WEF Status-Base'!AE23","v":0},{"$f":"'7.WEF Influence-Mine'!$DN116","v":0},{"$f":"'7.WEF Influence-Mine'!$DN156","v":0},{"$f":"'7.WEF Influence-Mine'!$DN196","v":0},{"$f":"'7.WEF Influence-Mine'!$DN236","v":0},{"$f":"'7.WEF Influence-Mine'!$DN276","v":0},{"$f":"IF(DT24>=$D$7,\"B:\"&'3.WEF Status-Base'!$AF23&\": \",)&IF(DU24<>0,\"1.\"&'7.WEF Influence-Mine'!$DO116&\" \",)&IF(DV24<>0,\"2.\"&'7.WEF Influence-Mine'!$DO156&\" \",)&IF(DW24<>0,\"3.\"&'7.WEF Influence-Mine'!$DO196&\" \",)&IF(DX24<>0,\"4.\"&'7.WEF Influence-Mine'!$DO236&\" \",)&IF(DY24<>0,\"5.\"&'7.WEF Influence-Mine'!$DO276&\" \",)","v":""},null,null,null,null,null,null,{"$f":"'3.WEF Status-Base'!AH23","v":0},{"$f":"'7.WEF Influence-Mine'!$DR116","v":0},{"$f":"'7.WEF Influence-Mine'!$DR156","v":0},{"$f":"'7.WEF Influence-Mine'!$DR196","v":0},{"$f":"'7.WEF Influence-Mine'!$DR236","v":0},{"$f":"'7.WEF Influence-Mine'!$DR276","v":0},{"$f":"IF(EG24>=$D$7,\"B:\"&'3.WEF Status-Base'!$AI23&\": \",)&IF(EH24<>0,\"1.\"&'7.WEF Influence-Mine'!$DS116&\" \",)&IF(EI24<>0,\"2.\"&'7.WEF Influence-Mine'!$DS156&\" \",)&IF(EJ24<>0,\"3.\"&'7.WEF Influence-Mine'!$DS196&\" \",)&IF(EK24<>0,\"4.\"&'7.WEF Influence-Mine'!$DS236&\" \",)&IF(EL24<>0,\"5.\"&'7.WEF Influence-Mine'!$DS276&\" \",)","v":""},null,null,null,null,null,null,{"$f":"'3.WEF Status-Base'!AK23","v":0},{"$f":"'7.WEF Influence-Mine'!$DV116","v":0},{"$f":"'7.WEF Influence-Mine'!$DV156","v":0},{"$f":"'7.WEF Influence-Mine'!$DV196","v":0},{"$f":"'7.WEF Influence-Mine'!$DV236","v":0},{"$f":"'7.WEF Influence-Mine'!$DV276","v":0},{"$f":"IF(ET24>=$D$7,\"B:\"&'3.WEF Status-Base'!$AL23&\": \",)&IF(EU24<>0,\"1.\"&'7.WEF Influence-Mine'!$DW116&\" \",)&IF(EV24<>0,\"2.\"&'7.WEF Influence-Mine'!$DW156&\" \",)&IF(EW24<>0,\"3.\"&'7.WEF Influence-Mine'!$DW196&\" \",)&IF(EX24<>0,\"4.\"&'7.WEF Influence-Mine'!$DW236&\" \",)&IF(EY24<>0,\"5.\"&'7.WEF Influence-Mine'!$DW276&\" \",)","v":""},null,null,null,null,null,null,{"$f":"'3.WEF Status-Base'!AN23","v":0},{"$f":"'7.WEF Influence-Mine'!$DZ116","v":0},{"$f":"'7.WEF Influence-Mine'!$DZ156","v":0},{"$f":"'7.WEF Influence-Mine'!$DZ196","v":0},{"$f":"'7.WEF Influence-Mine'!$DZ236","v":0},{"$f":"'7.WEF Influence-Mine'!$DZ276","v":0},{"$f":"IF(FG24>=$D$7,\"B:\"&'3.WEF Status-Base'!$AO23&\": \",)&IF(FH24<>0,\"1.\"&'7.WEF Influence-Mine'!$EA116&\" \",)&IF(FI24<>0,\"2.\"&'7.WEF Influence-Mine'!$EA156&\" \",)&IF(FJ24<>0,\"3.\"&'7.WEF Influence-Mine'!$EA196&\" \",)&IF(FK24<>0,\"4.\"&'7.WEF Influence-Mine'!$EA236&\" \",)&IF(FL24<>0,\"5.\"&'7.WEF Influence-Mine'!$EA276&\" \",)","v":""},null,null,null,null,null,null,{"$f":"'3.WEF Status-Base'!AQ23","v":0},{"$f":"'7.WEF Influence-Mine'!$ED116","v":0},{"$f":"'7.WEF Influence-Mine'!$ED156","v":0},{"$f":"'7.WEF Influence-Mine'!$ED196","v":0},{"$f":"'7.WEF Influence-Mine'!$ED236","v":0},{"$f":"'7.WEF Influence-Mine'!$ED276","v":0},{"$f":"IF(FT24>=$D$7,\"B:\"&'3.WEF Status-Base'!$AR23&\": \",)&IF(FU24<>0,\"1.\"&'7.WEF Influence-Mine'!$EE116&\" \",)&IF(FV24<>0,\"2.\"&'7.WEF Influence-Mine'!$EE156&\" \",)&IF(FW24<>0,\"3.\"&'7.WEF Influence-Mine'!$EE196&\" \",)&IF(FX24<>0,\"4.\"&'7.WEF Influence-Mine'!$EE236&\" \",)&IF(FY24<>0,\"5.\"&'7.WEF Influence-Mine'!$EE276&\" \",)","v":""},null,null,null,null,null,null,{"$f":"'3.WEF Status-Base'!AT23","v":0},{"$f":"'7.WEF Influence-Mine'!$EH116","v":0},{"$f":"'7.WEF Influence-Mine'!$EH156","v":0},{"$f":"'7.WEF Influence-Mine'!$EH196","v":0},{"$f":"'7.WEF Influence-Mine'!$EH236","v":0},{"$f":"'7.WEF Influence-Mine'!$EH276","v":0},{"$f":"IF(GG24>=$D$7,\"B:\"&'3.WEF Status-Base'!$AU23&\": \",)&IF(GH24<>0,\"1.\"&'7.WEF Influence-Mine'!$EI116&\" \",)&IF(GI24<>0,\"2.\"&'7.WEF Influence-Mine'!$EI156&\" \",)&IF(GJ24<>0,\"3.\"&'7.WEF Influence-Mine'!$EI196&\" \",)&IF(GK24<>0,\"4.\"&'7.WEF Influence-Mine'!$EI236&\" \",)&IF(GL24<>0,\"5.\"&'7.WEF Influence-Mine'!$EI276&\" \",)","v":""},null,null,null,null,null,null,{"$f":"'3.WEF Status-Base'!AW23","v":0},{"$f":"'7.WEF Influence-Mine'!$EL116","v":0},{"$f":"'7.WEF Influence-Mine'!$EL156","v":0},{"$f":"'7.WEF Influence-Mine'!$EL196","v":0},{"$f":"'7.WEF Influence-Mine'!$EL236","v":0},{"$f":"'7.WEF Influence-Mine'!$EL276","v":0},{"$f":"IF(GT24>=$D$7,\"B:\"&'3.WEF Status-Base'!$AX23&\": \",)&IF(GU24<>0,\"1.\"&'7.WEF Influence-Mine'!$EM116&\" \",)&IF(GV24<>0,\"2.\"&'7.WEF Influence-Mine'!$EM156&\" \",)&IF(GW24<>0,\"3.\"&'7.WEF Influence-Mine'!$EM196&\" \",)&IF(GX24<>0,\"4.\"&'7.WEF Influence-Mine'!$EM236&\" \",)&IF(GY24<>0,\"5.\"&'7.WEF Influence-Mine'!$EM276&\" \",)","v":""},null,null,null,null,null,null,{"$f":"'3.WEF Status-Base'!AZ23","v":0},{"$f":"'7.WEF Influence-Mine'!$EP116","v":0},{"$f":"'7.WEF Influence-Mine'!$EP156","v":0},{"$f":"'7.WEF Influence-Mine'!$EP196","v":0},{"$f":"'7.WEF Influence-Mine'!$EP236","v":0},{"$f":"'7.WEF Influence-Mine'!$EP276","v":0},{"$f":"IF(HG24>=$D$7,\"B:\"&'3.WEF Status-Base'!$BA23&\": \",)&IF(HH24<>0,\"1.\"&'7.WEF Influence-Mine'!$EQ116&\" \",)&IF(HI24<>0,\"2.\"&'7.WEF Influence-Mine'!$EQ156&\" \",)&IF(HJ24<>0,\"3.\"&'7.WEF Influence-Mine'!$EQ196&\" \",)&IF(HK24<>0,\"4.\"&'7.WEF Influence-Mine'!$EQ236&\" \",)&IF(HL24<>0,\"5.\"&'7.WEF Influence-Mine'!$EQ276&\" \",)","v":""},null,null,null,null,null,null,{"$f":"'3.WEF Status-Base'!BC23","v":0},{"$f":"'7.WEF Influence-Mine'!$ET116","v":0},{"$f":"'7.WEF Influence-Mine'!$ET156","v":0},{"$f":"'7.WEF Influence-Mine'!$ET196","v":0},{"$f":"'7.WEF Influence-Mine'!$ET236","v":0},{"$f":"'7.WEF Influence-Mine'!$ET276","v":0},{"$f":"IF(HT24>=$D$7,\"B:\"&'3.WEF Status-Base'!$BD23&\": \",)&IF(HU24<>0,\"1.\"&'7.WEF Influence-Mine'!$EU116&\" \",)&IF(HV24<>0,\"2.\"&'7.WEF Influence-Mine'!$EU156&\" \",)&IF(HW24<>0,\"3.\"&'7.WEF Influence-Mine'!$EU196&\" \",)&IF(HX24<>0,\"4.\"&'7.WEF Influence-Mine'!$EU236&\" \",)&IF(HY24<>0,\"5.\"&'7.WEF Influence-Mine'!$EU276&\" \",)","v":""},null,null,null,null,null,null,{"$f":"'7.WEF Influence-Mine'!EV116&\" : \"&'7.WEF Influence-Mine'!EV156&\" : \"&'7.WEF Influence-Mine'!EV196&\" : \"&'7.WEF Influence-Mine'!EV236&\" : \"&'7.WEF Influence-Mine'!EV276","v":"0 : 0 : 0 : 0 : 0"}]
[15,"     Waste removal/disposal",{"$f":"'3.WEF Status-Base'!B24","v":0},0,{"$f":"MIN($H25:$L25,$U25:$Y25,$AH25:$AL25,$AU25:$AY25,$BH25:$BL25,$BU25:$BY25,$CH25:$CL25,$CU25:$CY25,$DH25:$DL25,$DU25:$DY25,$EH25:$EL25,$EU25:$EY25,$FH25:$FL25,$FU25:$FY25,$GH25:$GL25,$GU25:$GY25,$HH25:$HL25,$HU25:$HY25)","v":0},null,{"$f":"'3.WEF Status-Base'!D24","v":0},{"$f":"'7.WEF Influence-Mine'!$CD117","v":0},{"$f":"'7.WEF Influence-Mine'!$CD157","v":0},{"$f":"'7.WEF Influence-Mine'!$CD197","v":0},{"$f":"'7.WEF Influence-Mine'!$CD237","v":0},{"$f":"'7.WEF Influence-Mine'!$CD277","v":0},{"$f":"IF(G25>=$D$7,\"B:\"&'3.WEF Status-Base'!$E24&\": \",)&IF(H25<>0,\"1. \"&'7.WEF Influence-Mine'!$CE117&\" \",)&IF(I25<>0,\"2. \"&'7.WEF Influence-Mine'!$CE157&\" \",)&IF(J25<>0,\"3. \"&'7.WEF Influence-Mine'!$CE197&\" \",)&IF(K25<>0,\"4. \"&'7.WEF Influence-Mine'!$CE237&\" \",)&IF(L25<>0,\"5. \"&'7.WEF Influence-Mine'!$CE277&\" \",)","v":""},null,null,null,null,null,null,{"$f":"'3.WEF Status-Base'!G24","v":0},{"$f":"'7.WEF Influence-Mine'!$CH117","v":0},{"$f":"'7.WEF Influence-Mine'!$CH157","v":0},{"$f":"'7.WEF Influence-Mine'!$CH197","v":0},{"$f":"'7.WEF Influence-Mine'!$CH237","v":0},{"$f":"'7.WEF Influence-Mine'!$CH277","v":0},{"$f":"IF(T25>=$D$7,\"B:\"&'3.WEF Status-Base'!$H24&\": \",)&IF(U25<>0,\"1.\"&'7.WEF Influence-Mine'!$CI117&\" \",)&IF(V25<>0,\"2.\"&'7.WEF Influence-Mine'!$CI157&\" \",)&IF(W25<>0,\"3.\"&'7.WEF Influence-Mine'!$CI197&\" \",)&IF(X25<>0,\"4.\"&'7.WEF Influence-Mine'!$CI237&\" \",)&IF(Y25<>0,\"5.\"&'7.WEF Influence-Mine'!$CI277&\" \",)","v":""},null,null,null,null,null,null,{"$f":"'3.WEF Status-Base'!J24","v":0},{"$f":"'7.WEF Influence-Mine'!$CL117","v":0},{"$f":"'7.WEF Influence-Mine'!$CL157","v":0},{"$f":"'7.WEF Influence-Mine'!$CL197","v":0},{"$f":"'7.WEF Influence-Mine'!$CL237","v":0},{"$f":"'7.WEF Influence-Mine'!$CL277","v":0},{"$f":"IF(AG25>=$D$7,\"B:\"&'3.WEF Status-Base'!$K24&\": \",)&IF(AH25<>0,\"1.\"&'7.WEF Influence-Mine'!$CM117&\" \",)&IF(AI25<>0,\"2.\"&'7.WEF Influence-Mine'!$CM157&\" \",)&IF(AJ25<>0,\"3.\"&'7.WEF Influence-Mine'!$CM197&\" \",)&IF(AK25<>0,\"4.\"&'7.WEF Influence-Mine'!$CM237&\" \",)&IF(AL25<>0,\"5.\"&'7.WEF Influence-Mine'!$CM277&\" \",)","v":""},null,null,null,null,null,null,{"$f":"'3.WEF Status-Base'!M24","v":0},{"$f":"'7.WEF Influence-Mine'!$CP117","v":0},{"$f":"'7.WEF Influence-Mine'!$CP157","v":0},{"$f":"'7.WEF Influence-Mine'!$CP197","v":0},{"$f":"'7.WEF Influence-Mine'!$CP237","v":0},{"$f":"'7.WEF Influence-Mine'!$CP277","v":0},{"$f":"IF(AT25>=$D$7,\"B:\"&'3.WEF Status-Base'!$N24&\": \",)&IF(AU25<>0,\"1.\"&'7.WEF Influence-Mine'!$CQ117&\" \",)&IF(AV25<>0,\"2.\"&'7.WEF Influence-Mine'!$CQ157&\" \",)&IF(AW25<>0,\"3.\"&'7.WEF Influence-Mine'!$CQ197&\" \",)&IF(AX25<>0,\"4.\"&'7.WEF Influence-Mine'!$CQ237&\" \",)&IF(AY25<>0,\"5.\"&'7.WEF Influence-Mine'!$CQ277&\" \",)","v":""},null,null,null,null,null,null,{"$f":"'3.WEF Status-Base'!P24","v":0},{"$f":"'7.WEF Influence-Mine'!$CT117","v":0},{"$f":"'7.WEF Influence-Mine'!$CT157","v":0},{"$f":"'7.WEF Influence-Mine'!$CT197","v":0},{"$f":"'7.WEF Influence-Mine'!$CT237","v":0},{"$f":"'7.WEF Influence-Mine'!$CT277","v":0},{"$f":"IF(BG25>=$D$7,\"B:\"&'3.WEF Status-Base'!$Q24&\": \",)&IF(BH25<>0,\"1.\"&'7.WEF Influence-Mine'!$CU117&\" \",)&IF(BI25<>0,\"2.\"&'7.WEF Influence-Mine'!$CU157&\" \",)&IF(BJ25<>0,\"3.\"&'7.WEF Influence-Mine'!$CU197&\" \",)&IF(BK25<>0,\"4.\"&'7.WEF Influence-Mine'!$CU237&\" \",)&IF(BL25<>0,\"5.\"&'7.WEF Influence-Mine'!$CU277&\" \",)","v":""},null,null,null,null,null,null,{"$f":"'3.WEF Status-Base'!S24","v":0},{"$f":"'7.WEF Influence-Mine'!$CX117","v":0},{"$f":"'7.WEF Influence-Mine'!$CX157","v":0},{"$f":"'7.WEF Influence-Mine'!$CX197","v":0},{"$f":"'7.WEF Influence-Mine'!$CX237","v":0},{"$f":"'7.WEF Influence-Mine'!$CX277","v":0},{"$f":"IF(BT25>=$D$7,\"B:\"&'3.WEF Status-Base'!$T24&\": \",)&IF(BU25<>0,\"1.\"&'7.WEF Influence-Mine'!$CY117&\" \",)&IF(BV25<>0,\"2.\"&'7.WEF Influence-Mine'!$CY157&\" \",)&IF(BW25<>0,\"3.\"&'7.WEF Influence-Mine'!$CY197&\" \",)&IF(BX25<>0,\"4.\"&'7.WEF Influence-Mine'!$CY237&\" \",)&IF(BY25<>0,\"5.\"&'7.WEF Influence-Mine'!$CY277&\" \",)","v":""},null,null,null,null,null,null,{"$f":"'3.WEF Status-Base'!V24","v":0},{"$f":"'7.WEF Influence-Mine'!$DB117","v":0},{"$f":"'7.WEF Influence-Mine'!$DB157","v":0},{"$f":"'7.WEF Influence-Mine'!$DB197","v":0},{"$f":"'7.WEF Influence-Mine'!$DB237","v":0},{"$f":"'7.WEF Influence-Mine'!$DB277","v":0},{"$f":"IF(CG25>=$D$7,\"B:\"&'3.WEF Status-Base'!$W24&\": \",)&IF(CH25<>0,\"1.\"&'7.WEF Influence-Mine'!$DC117&\" \",)&IF(CI25<>0,\"2.\"&'7.WEF Influence-Mine'!$DC157&\" \",)&IF(CJ25<>0,\"3.\"&'7.WEF Influence-Mine'!$DC197&\" \",)&IF(CK25<>0,\"4.\"&'7.WEF Influence-Mine'!$DC237&\" \",)&IF(CL25<>0,\"5.\"&'7.WEF Influence-Mine'!$DC277&\" \",)","v":""},null,null,null,null,null,null,{"$f":"'3.WEF Status-Base'!Y24","v":0},{"$f":"'7.WEF Influence-Mine'!$DF117","v":0},{"$f":"'7.WEF Influence-Mine'!$DF157","v":0},{"$f":"'7.WEF Influence-Mine'!$DF197","v":0},{"$f":"'7.WEF Influence-Mine'!$DF237","v":0},{"$f":"'7.WEF Influence-Mine'!$DF277","v":0},{"$f":"IF(CT25>=$D$7,\"B:\"&'3.WEF Status-Base'!$Z24&\": \",)&IF(CU25<>0,\"1.\"&'7.WEF Influence-Mine'!$DG117&\" \",)&IF(CV25<>0,\"2.\"&'7.WEF Influence-Mine'!$DG157&\" \",)&IF(CW25<>0,\"3.\"&'7.WEF Influence-Mine'!$DG197&\" \",)&IF(CX25<>0,\"4.\"&'7.WEF Influence-Mine'!$DG237&\" \",)&IF(CY25<>0,\"5.\"&'7.WEF Influence-Mine'!$DG277&\" \",)","v":""},null,null,null,null,null,null,{"$f":"'3.WEF Status-Base'!AB24","v":0},{"$f":"'7.WEF Influence-Mine'!$DJ117","v":0},{"$f":"'7.WEF Influence-Mine'!$DJ157","v":0},{"$f":"'7.WEF Influence-Mine'!$DJ197","v":0},{"$f":"'7.WEF Influence-Mine'!$DJ237","v":0},{"$f":"'7.WEF Influence-Mine'!$DJ277","v":0},{"$f":"IF(DG25>=$D$7,\"B:\"&'3.WEF Status-Base'!$AC24&\": \",)&IF(DH25<>0,\"1.\"&'7.WEF Influence-Mine'!$DK117&\" \",)&IF(DI25<>0,\"2.\"&'7.WEF Influence-Mine'!$DK157&\" \",)&IF(DJ25<>0,\"3.\"&'7.WEF Influence-Mine'!$DK197&\" \",)&IF(DK25<>0,\"4.\"&'7.WEF Influence-Mine'!$DK237&\" \",)&IF(DL25<>0,\"5.\"&'7.WEF Influence-Mine'!$DK277&\" \",)","v":""},null,null,null,null,null,null,{"$f":"'3.WEF Status-Base'!AE24","v":0},{"$f":"'7.WEF Influence-Mine'!$DN117","v":0},{"$f":"'7.WEF Influence-Mine'!$DN157","v":0},{"$f":"'7.WEF Influence-Mine'!$DN197","v":0},{"$f":"'7.WEF Influence-Mine'!$DN237","v":0},{"$f":"'7.WEF Influence-Mine'!$DN277","v":0},{"$f":"IF(DT25>=$D$7,\"B:\"&'3.WEF Status-Base'!$AF24&\": \",)&IF(DU25<>0,\"1.\"&'7.WEF Influence-Mine'!$DO117&\" \",)&IF(DV25<>0,\"2.\"&'7.WEF Influence-Mine'!$DO157&\" \",)&IF(DW25<>0,\"3.\"&'7.WEF Influence-Mine'!$DO197&\" \",)&IF(DX25<>0,\"4.\"&'7.WEF Influence-Mine'!$DO237&\" \",)&IF(DY25<>0,\"5.\"&'7.WEF Influence-Mine'!$DO277&\" \",)","v":""},null,null,null,null,null,null,{"$f":"'3.WEF Status-Base'!AH24","v":0},{"$f":"'7.WEF Influence-Mine'!$DR117","v":0},{"$f":"'7.WEF Influence-Mine'!$DR157","v":0},{"$f":"'7.WEF Influence-Mine'!$DR197","v":0},{"$f":"'7.WEF Influence-Mine'!$DR237","v":0},{"$f":"'7.WEF Influence-Mine'!$DR277","v":0},{"$f":"IF(EG25>=$D$7,\"B:\"&'3.WEF Status-Base'!$AI24&\": \",)&IF(EH25<>0,\"1.\"&'7.WEF Influence-Mine'!$DS117&\" \",)&IF(EI25<>0,\"2.\"&'7.WEF Influence-Mine'!$DS157&\" \",)&IF(EJ25<>0,\"3.\"&'7.WEF Influence-Mine'!$DS197&\" \",)&IF(EK25<>0,\"4.\"&'7.WEF Influence-Mine'!$DS237&\" \",)&IF(EL25<>0,\"5.\"&'7.WEF Influence-Mine'!$DS277&\" \",)","v":""},null,null,null,null,null,null,{"$f":"'3.WEF Status-Base'!AK24","v":0},{"$f":"'7.WEF Influence-Mine'!$DV117","v":0},{"$f":"'7.WEF Influence-Mine'!$DV157","v":0},{"$f":"'7.WEF Influence-Mine'!$DV197","v":0},{"$f":"'7.WEF Influence-Mine'!$DV237","v":0},{"$f":"'7.WEF Influence-Mine'!$DV277","v":0},{"$f":"IF(ET25>=$D$7,\"B:\"&'3.WEF Status-Base'!$AL24&\": \",)&IF(EU25<>0,\"1.\"&'7.WEF Influence-Mine'!$DW117&\" \",)&IF(EV25<>0,\"2.\"&'7.WEF Influence-Mine'!$DW157&\" \",)&IF(EW25<>0,\"3.\"&'7.WEF Influence-Mine'!$DW197&\" \",)&IF(EX25<>0,\"4.\"&'7.WEF Influence-Mine'!$DW237&\" \",)&IF(EY25<>0,\"5.\"&'7.WEF Influence-Mine'!$DW277&\" \",)","v":""},null,null,null,null,null,null,{"$f":"'3.WEF Status-Base'!AN24","v":0},{"$f":"'7.WEF Influence-Mine'!$DZ117","v":0},{"$f":"'7.WEF Influence-Mine'!$DZ157","v":0},{"$f":"'7.WEF Influence-Mine'!$DZ197","v":0},{"$f":"'7.WEF Influence-Mine'!$DZ237","v":0},{"$f":"'7.WEF Influence-Mine'!$DZ277","v":0},{"$f":"IF(FG25>=$D$7,\"B:\"&'3.WEF Status-Base'!$AO24&\": \",)&IF(FH25<>0,\"1.\"&'7.WEF Influence-Mine'!$EA117&\" \",)&IF(FI25<>0,\"2.\"&'7.WEF Influence-Mine'!$EA157&\" \",)&IF(FJ25<>0,\"3.\"&'7.WEF Influence-Mine'!$EA197&\" \",)&IF(FK25<>0,\"4.\"&'7.WEF Influence-Mine'!$EA237&\" \",)&IF(FL25<>0,\"5.\"&'7.WEF Influence-Mine'!$EA277&\" \",)","v":""},null,null,null,null,null,null,{"$f":"'3.WEF Status-Base'!AQ24","v":0},{"$f":"'7.WEF Influence-Mine'!$ED117","v":0},{"$f":"'7.WEF Influence-Mine'!$ED157","v":0},{"$f":"'7.WEF Influence-Mine'!$ED197","v":0},{"$f":"'7.WEF Influence-Mine'!$ED237","v":0},{"$f":"'7.WEF Influence-Mine'!$ED277","v":0},{"$f":"IF(FT25>=$D$7,\"B:\"&'3.WEF Status-Base'!$AR24&\": \",)&IF(FU25<>0,\"1.\"&'7.WEF Influence-Mine'!$EE117&\" \",)&IF(FV25<>0,\"2.\"&'7.WEF Influence-Mine'!$EE157&\" \",)&IF(FW25<>0,\"3.\"&'7.WEF Influence-Mine'!$EE197&\" \",)&IF(FX25<>0,\"4.\"&'7.WEF Influence-Mine'!$EE237&\" \",)&IF(FY25<>0,\"5.\"&'7.WEF Influence-Mine'!$EE277&\" \",)","v":""},null,null,null,null,null,null,{"$f":"'3.WEF Status-Base'!AT24","v":0},{"$f":"'7.WEF Influence-Mine'!$EH117","v":0},{"$f":"'7.WEF Influence-Mine'!$EH157","v":0},{"$f":"'7.WEF Influence-Mine'!$EH197","v":0},{"$f":"'7.WEF Influence-Mine'!$EH237","v":0},{"$f":"'7.WEF Influence-Mine'!$EH277","v":0},{"$f":"IF(GG25>=$D$7,\"B:\"&'3.WEF Status-Base'!$AU24&\": \",)&IF(GH25<>0,\"1.\"&'7.WEF Influence-Mine'!$EI117&\" \",)&IF(GI25<>0,\"2.\"&'7.WEF Influence-Mine'!$EI157&\" \",)&IF(GJ25<>0,\"3.\"&'7.WEF Influence-Mine'!$EI197&\" \",)&IF(GK25<>0,\"4.\"&'7.WEF Influence-Mine'!$EI237&\" \",)&IF(GL25<>0,\"5.\"&'7.WEF Influence-Mine'!$EI277&\" \",)","v":""},null,null,null,null,null,null,{"$f":"'3.WEF Status-Base'!AW24","v":0},{"$f":"'7.WEF Influence-Mine'!$EL117","v":0},{"$f":"'7.WEF Influence-Mine'!$EL157","v":0},{"$f":"'7.WEF Influence-Mine'!$EL197","v":0},{"$f":"'7.WEF Influence-Mine'!$EL237","v":0},{"$f":"'7.WEF Influence-Mine'!$EL277","v":0},{"$f":"IF(GT25>=$D$7,\"B:\"&'3.WEF Status-Base'!$AX24&\": \",)&IF(GU25<>0,\"1.\"&'7.WEF Influence-Mine'!$EM117&\" \",)&IF(GV25<>0,\"2.\"&'7.WEF Influence-Mine'!$EM157&\" \",)&IF(GW25<>0,\"3.\"&'7.WEF Influence-Mine'!$EM197&\" \",)&IF(GX25<>0,\"4.\"&'7.WEF Influence-Mine'!$EM237&\" \",)&IF(GY25<>0,\"5.\"&'7.WEF Influence-Mine'!$EM277&\" \",)","v":""},null,null,null,null,null,null,{"$f":"'3.WEF Status-Base'!AZ24","v":0},{"$f":"'7.WEF Influence-Mine'!$EP117","v":0},{"$f":"'7.WEF Influence-Mine'!$EP157","v":0},{"$f":"'7.WEF Influence-Mine'!$EP197","v":0},{"$f":"'7.WEF Influence-Mine'!$EP237","v":0},{"$f":"'7.WEF Influence-Mine'!$EP277","v":0},{"$f":"IF(HG25>=$D$7,\"B:\"&'3.WEF Status-Base'!$BA24&\": \",)&IF(HH25<>0,\"1.\"&'7.WEF Influence-Mine'!$EQ117&\" \",)&IF(HI25<>0,\"2.\"&'7.WEF Influence-Mine'!$EQ157&\" \",)&IF(HJ25<>0,\"3.\"&'7.WEF Influence-Mine'!$EQ197&\" \",)&IF(HK25<>0,\"4.\"&'7.WEF Influence-Mine'!$EQ237&\" \",)&IF(HL25<>0,\"5.\"&'7.WEF Influence-Mine'!$EQ277&\" \",)","v":""},null,null,null,null,null,null,{"$f":"'3.WEF Status-Base'!BC24","v":0},{"$f":"'7.WEF Influence-Mine'!$ET117","v":0},{"$f":"'7.WEF Influence-Mine'!$ET157","v":0},{"$f":"'7.WEF Influence-Mine'!$ET197","v":0},{"$f":"'7.WEF Influence-Mine'!$ET237","v":0},{"$f":"'7.WEF Influence-Mine'!$ET277","v":0},{"$f":"IF(HT25>=$D$7,\"B:\"&'3.WEF Status-Base'!$BD24&\": \",)&IF(HU25<>0,\"1.\"&'7.WEF Influence-Mine'!$EU117&\" \",)&IF(HV25<>0,\"2.\"&'7.WEF Influence-Mine'!$EU157&\" \",)&IF(HW25<>0,\"3.\"&'7.WEF Influence-Mine'!$EU197&\" \",)&IF(HX25<>0,\"4.\"&'7.WEF Influence-Mine'!$EU237&\" \",)&IF(HY25<>0,\"5.\"&'7.WEF Influence-Mine'!$EU277&\" \",)","v":""},null,null,null,null,null,null,{"$f":"'7.WEF Influence-Mine'!EV117&\" : \"&'7.WEF Influence-Mine'!EV157&\" : \"&'7.WEF Influence-Mine'!EV197&\" : \"&'7.WEF Influence-Mine'!EV237&\" : \"&'7.WEF Influence-Mine'!EV277","v":"0 : 0 : 0 : 0 : 0"}]
[16,"Natural Infrastructure","x","x","x"]
[17,"     Air quality maintenance",{"$f":"'3.WEF Status-Base'!B26","v":0},0,{"$f":"MIN($H27:$L27,$U27:$Y27,$AH27:$AL27,$AU27:$AY27,$BH27:$BL27,$BU27:$BY27,$CH27:$CL27,$CU27:$CY27,$DH27:$DL27,$DU27:$DY27,$EH27:$EL27,$EU27:$EY27,$FH27:$FL27,$FU27:$FY27,$GH27:$GL27,$GU27:$GY27,$HH27:$HL27,$HU27:$HY27)","v":0},null,{"$f":"'3.WEF Status-Base'!D26","v":0},{"$f":"'7.WEF Influence-Mine'!$CD119","v":0},{"$f":"'7.WEF Influence-Mine'!$CD159","v":0},{"$f":"'7.WEF Influence-Mine'!$CD199","v":0},{"$f":"'7.WEF Influence-Mine'!$CD239","v":0},{"$f":"'7.WEF Influence-Mine'!$CD279","v":0},{"$f":"IF(G27>=$D$7,\"B:\"&'3.WEF Status-Base'!$E26&\": \",)&IF(H27<>0,\"1. \"&'7.WEF Influence-Mine'!$CE119&\" \",)&IF(I27<>0,\"2. \"&'7.WEF Influence-Mine'!$CE159&\" \",)&IF(J27<>0,\"3. \"&'7.WEF Influence-Mine'!$CE199&\" \",)&IF(K27<>0,\"4. \"&'7.WEF Influence-Mine'!$CE239&\" \",)&IF(L27<>0,\"5. \"&'7.WEF Influence-Mine'!$CE279&\" \",)","v":""},null,null,null,null,null,null,{"$f":"'3.WEF Status-Base'!G26","v":0},{"$f":"'7.WEF Influence-Mine'!$CH119","v":0},{"$f":"'7.WEF Influence-Mine'!$CH159","v":0},{"$f":"'7.WEF Influence-Mine'!$CH199","v":0},{"$f":"'7.WEF Influence-Mine'!$CH239","v":0},{"$f":"'7.WEF Influence-Mine'!$CH279","v":0},{"$f":"IF(T27>=$D$7,\"B:\"&'3.WEF Status-Base'!$H26&\": \",)&IF(U27<>0,\"1.\"&'7.WEF Influence-Mine'!$CI119&\" \",)&IF(V27<>0,\"2.\"&'7.WEF Influence-Mine'!$CI159&\" \",)&IF(W27<>0,\"3.\"&'7.WEF Influence-Mine'!$CI199&\" \",)&IF(X27<>0,\"4.\"&'7.WEF Influence-Mine'!$CI239&\" \",)&IF(Y27<>0,\"5.\"&'7.WEF Influence-Mine'!$CI279&\" \",)","v":""},null,null,null,null,null,null,{"$f":"'3.WEF Status-Base'!J26","v":0},{"$f":"'7.WEF Influence-Mine'!$CL119","v":0},{"$f":"'7.WEF Influence-Mine'!$CL159","v":0},{"$f":"'7.WEF Influence-Mine'!$CL199","v":0},{"$f":"'7.WEF Influence-Mine'!$CL239","v":0},{"$f":"'7.WEF Influence-Mine'!$CL279","v":0},{"$f":"IF(AG27>=$D$7,\"B:\"&'3.WEF Status-Base'!$K26&\": \",)&IF(AH27<>0,\"1.\"&'7.WEF Influence-Mine'!$CM119&\" \",)&IF(AI27<>0,\"2.\"&'7.WEF Influence-Mine'!$CM159&\" \",)&IF(AJ27<>0,\"3.\"&'7.WEF Influence-Mine'!$CM199&\" \",)&IF(AK27<>0,\"4.\"&'7.WEF Influence-Mine'!$CM239&\" \",)&IF(AL27<>0,\"5.\"&'7.WEF Influence-Mine'!$CM279&\" \",)","v":""},null,null,null,null,null,null,{"$f":"'3.WEF Status-Base'!M26","v":0},{"$f":"'7.WEF Influence-Mine'!$CP119","v":0},{"$f":"'7.WEF Influence-Mine'!$CP159","v":0},{"$f":"'7.WEF Influence-Mine'!$CP199","v":0},{"$f":"'7.WEF Influence-Mine'!$CP239","v":0},{"$f":"'7.WEF Influence-Mine'!$CP279","v":0},{"$f":"IF(AT27>=$D$7,\"B:\"&'3.WEF Status-Base'!$N26&\": \",)&IF(AU27<>0,\"1.\"&'7.WEF Influence-Mine'!$CQ119&\" \",)&IF(AV27<>0,\"2.\"&'7.WEF Influence-Mine'!$CQ159&\" \",)&IF(AW27<>0,\"3.\"&'7.WEF Influence-Mine'!$CQ199&\" \",)&IF(AX27<>0,\"4.\"&'7.WEF Influence-Mine'!$CQ239&\" \",)&IF(AY27<>0,\"5.\"&'7.WEF Influence-Mine'!$CQ279&\" \",)","v":""},null,null,null,null,null,null,{"$f":"'3.WEF Status-Base'!P26","v":0},{"$f":"'7.WEF Influence-Mine'!$CT119","v":0},{"$f":"'7.WEF Influence-Mine'!$CT159","v":0},{"$f":"'7.WEF Influence-Mine'!$CT199","v":0},{"$f":"'7.WEF Influence-Mine'!$CT239","v":0},{"$f":"'7.WEF Influence-Mine'!$CT279","v":0},{"$f":"IF(BG27>=$D$7,\"B:\"&'3.WEF Status-Base'!$Q26&\": \",)&IF(BH27<>0,\"1.\"&'7.WEF Influence-Mine'!$CU119&\" \",)&IF(BI27<>0,\"2.\"&'7.WEF Influence-Mine'!$CU159&\" \",)&IF(BJ27<>0,\"3.\"&'7.WEF Influence-Mine'!$CU199&\" \",)&IF(BK27<>0,\"4.\"&'7.WEF Influence-Mine'!$CU239&\" \",)&IF(BL27<>0,\"5.\"&'7.WEF Influence-Mine'!$CU279&\" \",)","v":""},null,null,null,null,null,null,{"$f":"'3.WEF Status-Base'!S26","v":0},{"$f":"'7.WEF Influence-Mine'!$CX119","v":0},{"$f":"'7.WEF Influence-Mine'!$CX159","v":0},{"$f":"'7.WEF Influence-Mine'!$CX199","v":0},{"$f":"'7.WEF Influence-Mine'!$CX239","v":0},{"$f":"'7.WEF Influence-Mine'!$CX279","v":0},{"$f":"IF(BT27>=$D$7,\"B:\"&'3.WEF Status-Base'!$T26&\": \",)&IF(BU27<>0,\"1.\"&'7.WEF Influence-Mine'!$CY119&\" \",)&IF(BV27<>0,\"2.\"&'7.WEF Influence-Mine'!$CY159&\" \",)&IF(BW27<>0,\"3.\"&'7.WEF Influence-Mine'!$CY199&\" \",)&IF(BX27<>0,\"4.\"&'7.WEF Influence-Mine'!$CY239&\" \",)&IF(BY27<>0,\"5.\"&'7.WEF Influence-Mine'!$CY279&\" \",)","v":""},null,null,null,null,null,null,{"$f":"'3.WEF Status-Base'!V26","v":0},{"$f":"'7.WEF Influence-Mine'!$DB119","v":0},{"$f":"'7.WEF Influence-Mine'!$DB159","v":0},{"$f":"'7.WEF Influence-Mine'!$DB199","v":0},{"$f":"'7.WEF Influence-Mine'!$DB239","v":0},{"$f":"'7.WEF Influence-Mine'!$DB279","v":0},{"$f":"IF(CG27>=$D$7,\"B:\"&'3.WEF Status-Base'!$W26&\": \",)&IF(CH27<>0,\"1.\"&'7.WEF Influence-Mine'!$DC119&\" \",)&IF(CI27<>0,\"2.\"&'7.WEF Influence-Mine'!$DC159&\" \",)&IF(CJ27<>0,\"3.\"&'7.WEF Influence-Mine'!$DC199&\" \",)&IF(CK27<>0,\"4.\"&'7.WEF Influence-Mine'!$DC239&\" \",)&IF(CL27<>0,\"5.\"&'7.WEF Influence-Mine'!$DC279&\" \",)","v":""},null,null,null,null,null,null,{"$f":"'3.WEF Status-Base'!Y26","v":0},{"$f":"'7.WEF Influence-Mine'!$DF119","v":0},{"$f":"'7.WEF Influence-Mine'!$DF159","v":0},{"$f":"'7.WEF Influence-Mine'!$DF199","v":0},{"$f":"'7.WEF Influence-Mine'!$DF239","v":0},{"$f":"'7.WEF Influence-Mine'!$DF279","v":0},{"$f":"IF(CT27>=$D$7,\"B:\"&'3.WEF Status-Base'!$Z26&\": \",)&IF(CU27<>0,\"1.\"&'7.WEF Influence-Mine'!$DG119&\" \",)&IF(CV27<>0,\"2.\"&'7.WEF Influence-Mine'!$DG159&\" \",)&IF(CW27<>0,\"3.\"&'7.WEF Influence-Mine'!$DG199&\" \",)&IF(CX27<>0,\"4.\"&'7.WEF Influence-Mine'!$DG239&\" \",)&IF(CY27<>0,\"5.\"&'7.WEF Influence-Mine'!$DG279&\" \",)","v":""},null,null,null,null,null,null,{"$f":"'3.WEF Status-Base'!AB26","v":0},{"$f":"'7.WEF Influence-Mine'!$DJ119","v":0},{"$f":"'7.WEF Influence-Mine'!$DJ159","v":0},{"$f":"'7.WEF Influence-Mine'!$DJ199","v":0},{"$f":"'7.WEF Influence-Mine'!$DJ239","v":0},{"$f":"'7.WEF Influence-Mine'!$DJ279","v":0},{"$f":"IF(DG27>=$D$7,\"B:\"&'3.WEF Status-Base'!$AC26&\": \",)&IF(DH27<>0,\"1.\"&'7.WEF Influence-Mine'!$DK119&\" \",)&IF(DI27<>0,\"2.\"&'7.WEF Influence-Mine'!$DK159&\" \",)&IF(DJ27<>0,\"3.\"&'7.WEF Influence-Mine'!$DK199&\" \",)&IF(DK27<>0,\"4.\"&'7.WEF Influence-Mine'!$DK239&\" \",)&IF(DL27<>0,\"5.\"&'7.WEF Influence-Mine'!$DK279&\" \",)","v":""},null,null,null,null,null,null,{"$f":"'3.WEF Status-Base'!AE26","v":0},{"$f":"'7.WEF Influence-Mine'!$DN119","v":0},{"$f":"'7.WEF Influence-Mine'!$DN159","v":0},{"$f":"'7.WEF Influence-Mine'!$DN199","v":0},{"$f":"'7.WEF Influence-Mine'!$DN239","v":0},{"$f":"'7.WEF Influence-Mine'!$DN279","v":0},{"$f":"IF(DT27>=$D$7,\"B:\"&'3.WEF Status-Base'!$AF26&\": \",)&IF(DU27<>0,\"1.\"&'7.WEF Influence-Mine'!$DO119&\" \",)&IF(DV27<>0,\"2.\"&'7.WEF Influence-Mine'!$DO159&\" \",)&IF(DW27<>0,\"3.\"&'7.WEF Influence-Mine'!$DO199&\" \",)&IF(DX27<>0,\"4.\"&'7.WEF Influence-Mine'!$DO239&\" \",)&IF(DY27<>0,\"5.\"&'7.WEF Influence-Mine'!$DO279&\" \",)","v":""},null,null,null,null,null,null,{"$f":"'3.WEF Status-Base'!AH26","v":0},{"$f":"'7.WEF Influence-Mine'!$DR119","v":0},{"$f":"'7.WEF Influence-Mine'!$DR159","v":0},{"$f":"'7.WEF Influence-Mine'!$DR199","v":0},{"$f":"'7.WEF Influence-Mine'!$DR239","v":0},{"$f":"'7.WEF Influence-Mine'!$DR279","v":0},{"$f":"IF(EG27>=$D$7,\"B:\"&'3.WEF Status-Base'!$AI26&\": \",)&IF(EH27<>0,\"1.\"&'7.WEF Influence-Mine'!$DS119&\" \",)&IF(EI27<>0,\"2.\"&'7.WEF Influence-Mine'!$DS159&\" \",)&IF(EJ27<>0,\"3.\"&'7.WEF Influence-Mine'!$DS199&\" \",)&IF(EK27<>0,\"4.\"&'7.WEF Influence-Mine'!$DS239&\" \",)&IF(EL27<>0,\"5.\"&'7.WEF Influence-Mine'!$DS279&\" \",)","v":""},null,null,null,null,null,null,{"$f":"'3.WEF Status-Base'!AK26","v":0},{"$f":"'7.WEF Influence-Mine'!$DV119","v":0},{"$f":"'7.WEF Influence-Mine'!$DV159","v":0},{"$f":"'7.WEF Influence-Mine'!$DV199","v":0},{"$f":"'7.WEF Influence-Mine'!$DV239","v":0},{"$f":"'7.WEF Influence-Mine'!$DV279","v":0},{"$f":"IF(ET27>=$D$7,\"B:\"&'3.WEF Status-Base'!$AL26&\": \",)&IF(EU27<>0,\"1.\"&'7.WEF Influence-Mine'!$DW119&\" \",)&IF(EV27<>0,\"2.\"&'7.WEF Influence-Mine'!$DW159&\" \",)&IF(EW27<>0,\"3.\"&'7.WEF Influence-Mine'!$DW199&\" \",)&IF(EX27<>0,\"4.\"&'7.WEF Influence-Mine'!$DW239&\" \",)&IF(EY27<>0,\"5.\"&'7.WEF Influence-Mine'!$DW279&\" \",)","v":""},null,null,null,null,null,null,{"$f":"'3.WEF Status-Base'!AN26","v":0},{"$f":"'7.WEF Influence-Mine'!$DZ119","v":0},{"$f":"'7.WEF Influence-Mine'!$DZ159","v":0},{"$f":"'7.WEF Influence-Mine'!$DZ199","v":0},{"$f":"'7.WEF Influence-Mine'!$DZ239","v":0},{"$f":"'7.WEF Influence-Mine'!$DZ279","v":0},{"$f":"IF(FG27>=$D$7,\"B:\"&'3.WEF Status-Base'!$AO26&\": \",)&IF(FH27<>0,\"1.\"&'7.WEF Influence-Mine'!$EA119&\" \",)&IF(FI27<>0,\"2.\"&'7.WEF Influence-Mine'!$EA159&\" \",)&IF(FJ27<>0,\"3.\"&'7.WEF Influence-Mine'!$EA199&\" \",)&IF(FK27<>0,\"4.\"&'7.WEF Influence-Mine'!$EA239&\" \",)&IF(FL27<>0,\"5.\"&'7.WEF Influence-Mine'!$EA279&\" \",)","v":""},null,null,null,null,null,null,{"$f":"'3.WEF Status-Base'!AQ26","v":0},{"$f":"'7.WEF Influence-Mine'!$ED119","v":0},{"$f":"'7.WEF Influence-Mine'!$ED159","v":0},{"$f":"'7.WEF Influence-Mine'!$ED199","v":0},{"$f":"'7.WEF Influence-Mine'!$ED239","v":0},{"$f":"'7.WEF Influence-Mine'!$ED279","v":0},{"$f":"IF(FT27>=$D$7,\"B:\"&'3.WEF Status-Base'!$AR26&\": \",)&IF(FU27<>0,\"1.\"&'7.WEF Influence-Mine'!$EE119&\" \",)&IF(FV27<>0,\"2.\"&'7.WEF Influence-Mine'!$EE159&\" \",)&IF(FW27<>0,\"3.\"&'7.WEF Influence-Mine'!$EE199&\" \",)&IF(FX27<>0,\"4.\"&'7.WEF Influence-Mine'!$EE239&\" \",)&IF(FY27<>0,\"5.\"&'7.WEF Influence-Mine'!$EE279&\" \",)","v":""},null,null,null,null,null,null,{"$f":"'3.WEF Status-Base'!AT26","v":0},{"$f":"'7.WEF Influence-Mine'!$EH119","v":0},{"$f":"'7.WEF Influence-Mine'!$EH159","v":0},{"$f":"'7.WEF Influence-Mine'!$EH199","v":0},{"$f":"'7.WEF Influence-Mine'!$EH239","v":0},{"$f":"'7.WEF Influence-Mine'!$EH279","v":0},{"$f":"IF(GG27>=$D$7,\"B:\"&'3.WEF Status-Base'!$AU26&\": \",)&IF(GH27<>0,\"1.\"&'7.WEF Influence-Mine'!$EI119&\" \",)&IF(GI27<>0,\"2.\"&'7.WEF Influence-Mine'!$EI159&\" \",)&IF(GJ27<>0,\"3.\"&'7.WEF Influence-Mine'!$EI199&\" \",)&IF(GK27<>0,\"4.\"&'7.WEF Influence-Mine'!$EI239&\" \",)&IF(GL27<>0,\"5.\"&'7.WEF Influence-Mine'!$EI279&\" \",)","v":""},null,null,null,null,null,null,{"$f":"'3.WEF Status-Base'!AW26","v":0},{"$f":"'7.WEF Influence-Mine'!$EL119","v":0},{"$f":"'7.WEF Influence-Mine'!$EL159","v":0},{"$f":"'7.WEF Influence-Mine'!$EL199","v":0},{"$f":"'7.WEF Influence-Mine'!$EL239","v":0},{"$f":"'7.WEF Influence-Mine'!$EL279","v":0},{"$f":"IF(GT27>=$D$7,\"B:\"&'3.WEF Status-Base'!$AX26&\": \",)&IF(GU27<>0,\"1.\"&'7.WEF Influence-Mine'!$EM119&\" \",)&IF(GV27<>0,\"2.\"&'7.WEF Influence-Mine'!$EM159&\" \",)&IF(GW27<>0,\"3.\"&'7.WEF Influence-Mine'!$EM199&\" \",)&IF(GX27<>0,\"4.\"&'7.WEF Influence-Mine'!$EM239&\" \",)&IF(GY27<>0,\"5.\"&'7.WEF Influence-Mine'!$EM279&\" \",)","v":""},null,null,null,null,null,null,{"$f":"'3.WEF Status-Base'!AZ26","v":0},{"$f":"'7.WEF Influence-Mine'!$EP119","v":0},{"$f":"'7.WEF Influence-Mine'!$EP159","v":0},{"$f":"'7.WEF Influence-Mine'!$EP199","v":0},{"$f":"'7.WEF Influence-Mine'!$EP239","v":0},{"$f":"'7.WEF Influence-Mine'!$EP279","v":0},{"$f":"IF(HG27>=$D$7,\"B:\"&'3.WEF Status-Base'!$BA26&\": \",)&IF(HH27<>0,\"1.\"&'7.WEF Influence-Mine'!$EQ119&\" \",)&IF(HI27<>0,\"2.\"&'7.WEF Influence-Mine'!$EQ159&\" \",)&IF(HJ27<>0,\"3.\"&'7.WEF Influence-Mine'!$EQ199&\" \",)&IF(HK27<>0,\"4.\"&'7.WEF Influence-Mine'!$EQ239&\" \",)&IF(HL27<>0,\"5.\"&'7.WEF Influence-Mine'!$EQ279&\" \",)","v":""},null,null,null,null,null,null,{"$f":"'3.WEF Status-Base'!BC26","v":0},{"$f":"'7.WEF Influence-Mine'!$ET119","v":0},{"$f":"'7.WEF Influence-Mine'!$ET159","v":0},{"$f":"'7.WEF Influence-Mine'!$ET199","v":0},{"$f":"'7.WEF Influence-Mine'!$ET239","v":0},{"$f":"'7.WEF Influence-Mine'!$ET279","v":0},{"$f":"IF(HT27>=$D$7,\"B:\"&'3.WEF Status-Base'!$BD26&\": \",)&IF(HU27<>0,\"1.\"&'7.WEF Influence-Mine'!$EU119&\" \",)&IF(HV27<>0,\"2.\"&'7.WEF Influence-Mine'!$EU159&\" \",)&IF(HW27<>0,\"3.\"&'7.WEF Influence-Mine'!$EU199&\" \",)&IF(HX27<>0,\"4.\"&'7.WEF Influence-Mine'!$EU239&\" \",)&IF(HY27<>0,\"5.\"&'7.WEF Influence-Mine'!$EU279&\" \",)","v":""},null,null,null,null,null,null,{"$f":"'7.WEF Influence-Mine'!EV119&\" : \"&'7.WEF Influence-Mine'!EV159&\" : \"&'7.WEF Influence-Mine'!EV199&\" : \"&'7.WEF Influence-Mine'!EV239&\" : \"&'7.WEF Influence-Mine'!EV279","v":"0 : 0 : 0 : 0 : 0"}]
[18,"     Erosion control",{"$f":"'3.WEF Status-Base'!B27","v":0},0,0,null,{"$f":"'3.WEF Status-Base'!D27","v":0},{"$f":"'7.WEF Influence-Mine'!$CD120","v":0},{"$f":"'7.WEF Influence-Mine'!$CD160","v":0},{"$f":"'7.WEF Influence-Mine'!$CD200","v":0},{"$f":"'7.WEF Influence-Mine'!$CD240","v":0},{"$f":"'7.WEF Influence-Mine'!$CD280","v":0},{"$f":"IF(G28>=$D$7,\"B:\"&'3.WEF Status-Base'!$E27&\": \",)&IF(H28<>0,\"1. \"&'7.WEF Influence-Mine'!$CE120&\" \",)&IF(I28<>0,\"2. \"&'7.WEF Influence-Mine'!$CE160&\" \",)&IF(J28<>0,\"3. \"&'7.WEF Influence-Mine'!$CE200&\" \",)&IF(K28<>0,\"4. \"&'7.WEF Influence-Mine'!$CE240&\" \",)&IF(L28<>0,\"5. \"&'7.WEF Influence-Mine'!$CE280&\" \",)","v":""},null,null,null,null,null,null,{"$f":"'3.WEF Status-Base'!G27","v":0},{"$f":"'7.WEF Influence-Mine'!$CH120","v":0},{"$f":"'7.WEF Influence-Mine'!$CH160","v":0},{"$f":"'7.WEF Influence-Mine'!$CH200","v":0},{"$f":"'7.WEF Influence-Mine'!$CH240","v":0},{"$f":"'7.WEF Influence-Mine'!$CH280","v":0},{"$f":"IF(T28>=$D$7,\"B:\"&'3.WEF Status-Base'!$H27&\": \",)&IF(U28<>0,\"1.\"&'7.WEF Influence-Mine'!$CI120&\" \",)&IF(V28<>0,\"2.\"&'7.WEF Influence-Mine'!$CI160&\" \",)&IF(W28<>0,\"3.\"&'7.WEF Influence-Mine'!$CI200&\" \",)&IF(X28<>0,\"4.\"&'7.WEF Influence-Mine'!$CI240&\" \",)&IF(Y28<>0,\"5.\"&'7.WEF Influence-Mine'!$CI280&\" \",)","v":""},null,null,null,null,null,null,{"$f":"'3.WEF Status-Base'!J27","v":0},{"$f":"'7.WEF Influence-Mine'!$CL120","v":0},{"$f":"'7.WEF Influence-Mine'!$CL160","v":0},{"$f":"'7.WEF Influence-Mine'!$CL200","v":0},{"$f":"'7.WEF Influence-Mine'!$CL240","v":0},{"$f":"'7.WEF Influence-Mine'!$CL280","v":0},{"$f":"IF(AG28>=$D$7,\"B:\"&'3.WEF Status-Base'!$K27&\": \",)&IF(AH28<>0,\"1.\"&'7.WEF Influence-Mine'!$CM120&\" \",)&IF(AI28<>0,\"2.\"&'7.WEF Influence-Mine'!$CM160&\" \",)&IF(AJ28<>0,\"3.\"&'7.WEF Influence-Mine'!$CM200&\" \",)&IF(AK28<>0,\"4.\"&'7.WEF Influence-Mine'!$CM240&\" \",)&IF(AL28<>0,\"5.\"&'7.WEF Influence-Mine'!$CM280&\" \",)","v":""},null,null,null,null,null,null,{"$f":"'3.WEF Status-Base'!M27","v":0},{"$f":"'7.WEF Influence-Mine'!$CP120","v":0},{"$f":"'7.WEF Influence-Mine'!$CP160","v":0},{"$f":"'7.WEF Influence-Mine'!$CP200","v":0},{"$f":"'7.WEF Influence-Mine'!$CP240","v":0},{"$f":"'7.WEF Influence-Mine'!$CP280","v":0},{"$f":"IF(AT28>=$D$7,\"B:\"&'3.WEF Status-Base'!$N27&\": \",)&IF(AU28<>0,\"1.\"&'7.WEF Influence-Mine'!$CQ120&\" \",)&IF(AV28<>0,\"2.\"&'7.WEF Influence-Mine'!$CQ160&\" \",)&IF(AW28<>0,\"3.\"&'7.WEF Influence-Mine'!$CQ200&\" \",)&IF(AX28<>0,\"4.\"&'7.WEF Influence-Mine'!$CQ240&\" \",)&IF(AY28<>0,\"5.\"&'7.WEF Influence-Mine'!$CQ280&\" \",)","v":""},null,null,null,null,null,null,{"$f":"'3.WEF Status-Base'!P27","v":0},{"$f":"'7.WEF Influence-Mine'!$CT120","v":0},{"$f":"'7.WEF Influence-Mine'!$CT160","v":0},{"$f":"'7.WEF Influence-Mine'!$CT200","v":0},{"$f":"'7.WEF Influence-Mine'!$CT240","v":0},{"$f":"'7.WEF Influence-Mine'!$CT280","v":0},{"$f":"IF(BG28>=$D$7,\"B:\"&'3.WEF Status-Base'!$Q27&\": \",)&IF(BH28<>0,\"1.\"&'7.WEF Influence-Mine'!$CU120&\" \",)&IF(BI28<>0,\"2.\"&'7.WEF Influence-Mine'!$CU160&\" \",)&IF(BJ28<>0,\"3.\"&'7.WEF Influence-Mine'!$CU200&\" \",)&IF(BK28<>0,\"4.\"&'7.WEF Influence-Mine'!$CU240&\" \",)&IF(BL28<>0,\"5.\"&'7.WEF Influence-Mine'!$CU280&\" \",)","v":""},null,null,null,null,null,null,{"$f":"'3.WEF Status-Base'!S27","v":0},{"$f":"'7.WEF Influence-Mine'!$CX120","v":0},{"$f":"'7.WEF Influence-Mine'!$CX160","v":0},{"$f":"'7.WEF Influence-Mine'!$CX200","v":0},{"$f":"'7.WEF Influence-Mine'!$CX240","v":0},{"$f":"'7.WEF Influence-Mine'!$CX280","v":0},{"$f":"IF(BT28>=$D$7,\"B:\"&'3.WEF Status-Base'!$T27&\": \",)&IF(BU28<>0,\"1.\"&'7.WEF Influence-Mine'!$CY120&\" \",)&IF(BV28<>0,\"2.\"&'7.WEF Influence-Mine'!$CY160&\" \",)&IF(BW28<>0,\"3.\"&'7.WEF Influence-Mine'!$CY200&\" \",)&IF(BX28<>0,\"4.\"&'7.WEF Influence-Mine'!$CY240&\" \",)&IF(BY28<>0,\"5.\"&'7.WEF Influence-Mine'!$CY280&\" \",)","v":""},null,null,null,null,null,null,{"$f":"'3.WEF Status-Base'!V27","v":0},{"$f":"'7.WEF Influence-Mine'!$DB120","v":0},{"$f":"'7.WEF Influence-Mine'!$DB160","v":0},{"$f":"'7.WEF Influence-Mine'!$DB200","v":0},{"$f":"'7.WEF Influence-Mine'!$DB240","v":0},{"$f":"'7.WEF Influence-Mine'!$DB280","v":0},{"$f":"IF(CG28>=$D$7,\"B:\"&'3.WEF Status-Base'!$W27&\": \",)&IF(CH28<>0,\"1.\"&'7.WEF Influence-Mine'!$DC120&\" \",)&IF(CI28<>0,\"2.\"&'7.WEF Influence-Mine'!$DC160&\" \",)&IF(CJ28<>0,\"3.\"&'7.WEF Influence-Mine'!$DC200&\" \",)&IF(CK28<>0,\"4.\"&'7.WEF Influence-Mine'!$DC240&\" \",)&IF(CL28<>0,\"5.\"&'7.WEF Influence-Mine'!$DC280&\" \",)","v":""},null,null,null,null,null,null,{"$f":"'3.WEF Status-Base'!Y27","v":0},{"$f":"'7.WEF Influence-Mine'!$DF120","v":0},{"$f":"'7.WEF Influence-Mine'!$DF160","v":0},{"$f":"'7.WEF Influence-Mine'!$DF200","v":0},{"$f":"'7.WEF Influence-Mine'!$DF240","v":0},{"$f":"'7.WEF Influence-Mine'!$DF280","v":0},{"$f":"IF(CT28>=$D$7,\"B:\"&'3.WEF Status-Base'!$Z27&\": \",)&IF(CU28<>0,\"1.\"&'7.WEF Influence-Mine'!$DG120&\" \",)&IF(CV28<>0,\"2.\"&'7.WEF Influence-Mine'!$DG160&\" \",)&IF(CW28<>0,\"3.\"&'7.WEF Influence-Mine'!$DG200&\" \",)&IF(CX28<>0,\"4.\"&'7.WEF Influence-Mine'!$DG240&\" \",)&IF(CY28<>0,\"5.\"&'7.WEF Influence-Mine'!$DG280&\" \",)","v":""},null,null,null,null,null,null,{"$f":"'3.WEF Status-Base'!AB27","v":0},{"$f":"'7.WEF Influence-Mine'!$DJ120","v":0},{"$f":"'7.WEF Influence-Mine'!$DJ160","v":0},{"$f":"'7.WEF Influence-Mine'!$DJ200","v":0},{"$f":"'7.WEF Influence-Mine'!$DJ240","v":0},{"$f":"'7.WEF Influence-Mine'!$DJ280","v":0},{"$f":"IF(DG28>=$D$7,\"B:\"&'3.WEF Status-Base'!$AC27&\": \",)&IF(DH28<>0,\"1.\"&'7.WEF Influence-Mine'!$DK120&\" \",)&IF(DI28<>0,\"2.\"&'7.WEF Influence-Mine'!$DK160&\" \",)&IF(DJ28<>0,\"3.\"&'7.WEF Influence-Mine'!$DK200&\" \",)&IF(DK28<>0,\"4.\"&'7.WEF Influence-Mine'!$DK240&\" \",)&IF(DL28<>0,\"5.\"&'7.WEF Influence-Mine'!$DK280&\" \",)","v":""},null,null,null,null,null,null,{"$f":"'3.WEF Status-Base'!AE27","v":0},{"$f":"'7.WEF Influence-Mine'!$DN120","v":0},{"$f":"'7.WEF Influence-Mine'!$DN160","v":0},{"$f":"'7.WEF Influence-Mine'!$DN200","v":0},{"$f":"'7.WEF Influence-Mine'!$DN240","v":0},{"$f":"'7.WEF Influence-Mine'!$DN280","v":0},{"$f":"IF(DT28>=$D$7,\"B:\"&'3.WEF Status-Base'!$AF27&\": \",)&IF(DU28<>0,\"1.\"&'7.WEF Influence-Mine'!$DO120&\" \",)&IF(DV28<>0,\"2.\"&'7.WEF Influence-Mine'!$DO160&\" \",)&IF(DW28<>0,\"3.\"&'7.WEF Influence-Mine'!$DO200&\" \",)&IF(DX28<>0,\"4.\"&'7.WEF Influence-Mine'!$DO240&\" \",)&IF(DY28<>0,\"5.\"&'7.WEF Influence-Mine'!$DO280&\" \",)","v":""},null,null,null,null,null,null,{"$f":"'3.WEF Status-Base'!AH27","v":0},{"$f":"'7.WEF Influence-Mine'!$DR120","v":0},{"$f":"'7.WEF Influence-Mine'!$DR160","v":0},{"$f":"'7.WEF Influence-Mine'!$DR200","v":0},{"$f":"'7.WEF Influence-Mine'!$DR240","v":0},{"$f":"'7.WEF Influence-Mine'!$DR280","v":0},{"$f":"IF(EG28>=$D$7,\"B:\"&'3.WEF Status-Base'!$AI27&\": \",)&IF(EH28<>0,\"1.\"&'7.WEF Influence-Mine'!$DS120&\" \",)&IF(EI28<>0,\"2.\"&'7.WEF Influence-Mine'!$DS160&\" \",)&IF(EJ28<>0,\"3.\"&'7.WEF Influence-Mine'!$DS200&\" \",)&IF(EK28<>0,\"4.\"&'7.WEF Influence-Mine'!$DS240&\" \",)&IF(EL28<>0,\"5.\"&'7.WEF Influence-Mine'!$DS280&\" \",)","v":""},null,null,null,null,null,null,{"$f":"'3.WEF Status-Base'!AK27","v":0},{"$f":"'7.WEF Influence-Mine'!$DV120","v":0},{"$f":"'7.WEF Influence-Mine'!$DV160","v":0},{"$f":"'7.WEF Influence-Mine'!$DV200","v":0},{"$f":"'7.WEF Influence-Mine'!$DV240","v":0},{"$f":"'7.WEF Influence-Mine'!$DV280","v":0},{"$f":"IF(ET28>=$D$7,\"B:\"&'3.WEF Status-Base'!$AL27&\": \",)&IF(EU28<>0,\"1.\"&'7.WEF Influence-Mine'!$DW120&\" \",)&IF(EV28<>0,\"2.\"&'7.WEF Influence-Mine'!$DW160&\" \",)&IF(EW28<>0,\"3.\"&'7.WEF Influence-Mine'!$DW200&\" \",)&IF(EX28<>0,\"4.\"&'7.WEF Influence-Mine'!$DW240&\" \",)&IF(EY28<>0,\"5.\"&'7.WEF Influence-Mine'!$DW280&\" \",)","v":""},null,null,null,null,null,null,{"$f":"'3.WEF Status-Base'!AN27","v":0},{"$f":"'7.WEF Influence-Mine'!$DZ120","v":0},{"$f":"'7.WEF Influence-Mine'!$DZ160","v":0},{"$f":"'7.WEF Influence-Mine'!$DZ200","v":0},{"$f":"'7.WEF Influence-Mine'!$DZ240","v":0},{"$f":"'7.WEF Influence-Mine'!$DZ280","v":0},{"$f":"IF(FG28>=$D$7,\"B:\"&'3.WEF Status-Base'!$AO27&\": \",)&IF(FH28<>0,\"1.\"&'7.WEF Influence-Mine'!$EA120&\" \",)&IF(FI28<>0,\"2.\"&'7.WEF Influence-Mine'!$EA160&\" \",)&IF(FJ28<>0,\"3.\"&'7.WEF Influence-Mine'!$EA200&\" \",)&IF(FK28<>0,\"4.\"&'7.WEF Influence-Mine'!$EA240&\" \",)&IF(FL28<>0,\"5.\"&'7.WEF Influence-Mine'!$EA280&\" \",)","v":""},null,null,null,null,null,null,{"$f":"'3.WEF Status-Base'!AQ27","v":0},{"$f":"'7.WEF Influence-Mine'!$ED120","v":0},{"$f":"'7.WEF Influence-Mine'!$ED160","v":0},{"$f":"'7.WEF Influence-Mine'!$ED200","v":0},{"$f":"'7.WEF Influence-Mine'!$ED240","v":0},{"$f":"'7.WEF Influence-Mine'!$ED280","v":0},{"$f":"IF(FT28>=$D$7,\"B:\"&'3.WEF Status-Base'!$AR27&\": \",)&IF(FU28<>0,\"1.\"&'7.WEF Influence-Mine'!$EE120&\" \",)&IF(FV28<>0,\"2.\"&'7.WEF Influence-Mine'!$EE160&\" \",)&IF(FW28<>0,\"3.\"&'7.WEF Influence-Mine'!$EE200&\" \",)&IF(FX28<>0,\"4.\"&'7.WEF Influence-Mine'!$EE240&\" \",)&IF(FY28<>0,\"5.\"&'7.WEF Influence-Mine'!$EE280&\" \",)","v":""},null,null,null,null,null,null,{"$f":"'3.WEF Status-Base'!AT27","v":0},{"$f":"'7.WEF Influence-Mine'!$EH120","v":0},{"$f":"'7.WEF Influence-Mine'!$EH160","v":0},{"$f":"'7.WEF Influence-Mine'!$EH200","v":0},{"$f":"'7.WEF Influence-Mine'!$EH240","v":0},{"$f":"'7.WEF Influence-Mine'!$EH280","v":0},{"$f":"IF(GG28>=$D$7,\"B:\"&'3.WEF Status-Base'!$AU27&\": \",)&IF(GH28<>0,\"1.\"&'7.WEF Influence-Mine'!$EI120&\" \",)&IF(GI28<>0,\"2.\"&'7.WEF Influence-Mine'!$EI160&\" \",)&IF(GJ28<>0,\"3.\"&'7.WEF Influence-Mine'!$EI200&\" \",)&IF(GK28<>0,\"4.\"&'7.WEF Influence-Mine'!$EI240&\" \",)&IF(GL28<>0,\"5.\"&'7.WEF Influence-Mine'!$EI280&\" \",)","v":""},null,null,null,null,null,null,{"$f":"'3.WEF Status-Base'!AW27","v":0},{"$f":"'7.WEF Influence-Mine'!$EL120","v":0},{"$f":"'7.WEF Influence-Mine'!$EL160","v":0},{"$f":"'7.WEF Influence-Mine'!$EL200","v":0},{"$f":"'7.WEF Influence-Mine'!$EL240","v":0},{"$f":"'7.WEF Influence-Mine'!$EL280","v":0},{"$f":"IF(GT28>=$D$7,\"B:\"&'3.WEF Status-Base'!$AX27&\": \",)&IF(GU28<>0,\"1.\"&'7.WEF Influence-Mine'!$EM120&\" \",)&IF(GV28<>0,\"2.\"&'7.WEF Influence-Mine'!$EM160&\" \",)&IF(GW28<>0,\"3.\"&'7.WEF Influence-Mine'!$EM200&\" \",)&IF(GX28<>0,\"4.\"&'7.WEF Influence-Mine'!$EM240&\" \",)&IF(GY28<>0,\"5.\"&'7.WEF Influence-Mine'!$EM280&\" \",)","v":""},null,null,null,null,null,null,{"$f":"'3.WEF Status-Base'!AZ27","v":0},{"$f":"'7.WEF Influence-Mine'!$EP120","v":0},{"$f":"'7.WEF Influence-Mine'!$EP160","v":0},{"$f":"'7.WEF Influence-Mine'!$EP200","v":0},{"$f":"'7.WEF Influence-Mine'!$EP240","v":0},{"$f":"'7.WEF Influence-Mine'!$EP280","v":0},{"$f":"IF(HG28>=$D$7,\"B:\"&'3.WEF Status-Base'!$BA27&\": \",)&IF(HH28<>0,\"1.\"&'7.WEF Influence-Mine'!$EQ120&\" \",)&IF(HI28<>0,\"2.\"&'7.WEF Influence-Mine'!$EQ160&\" \",)&IF(HJ28<>0,\"3.\"&'7.WEF Influence-Mine'!$EQ200&\" \",)&IF(HK28<>0,\"4.\"&'7.WEF Influence-Mine'!$EQ240&\" \",)&IF(HL28<>0,\"5.\"&'7.WEF Influence-Mine'!$EQ280&\" \",)","v":""},null,null,null,null,null,null,{"$f":"'3.WEF Status-Base'!BC27","v":0},{"$f":"'7.WEF Influence-Mine'!$ET120","v":0},{"$f":"'7.WEF Influence-Mine'!$ET160","v":0},{"$f":"'7.WEF Influence-Mine'!$ET200","v":0},{"$f":"'7.WEF Influence-Mine'!$ET240","v":0},{"$f":"'7.WEF Influence-Mine'!$ET280","v":0},{"$f":"IF(HT28>=$D$7,\"B:\"&'3.WEF Status-Base'!$BD27&\": \",)&IF(HU28<>0,\"1.\"&'7.WEF Influence-Mine'!$EU120&\" \",)&IF(HV28<>0,\"2.\"&'7.WEF Influence-Mine'!$EU160&\" \",)&IF(HW28<>0,\"3.\"&'7.WEF Influence-Mine'!$EU200&\" \",)&IF(HX28<>0,\"4.\"&'7.WEF Influence-Mine'!$EU240&\" \",)&IF(HY28<>0,\"5.\"&'7.WEF Influence-Mine'!$EU280&\" \",)","v":""},null,null,null,null,null,null,{"$f":"'7.WEF Influence-Mine'!EV120&\" : \"&'7.WEF Influence-Mine'!EV160&\" : \"&'7.WEF Influence-Mine'!EV200&\" : \"&'7.WEF Influence-Mine'!EV240&\" : \"&'7.WEF Influence-Mine'!EV280","v":"0 : 0 : 0 : 0 : 0"}]
[19,"     Water purification and treatment",{"$f":"'3.WEF Status-Base'!B28","v":0},0,0,null,{"$f":"'3.WEF Status-Base'!D28","v":0},{"$f":"'7.WEF Influence-Mine'!$CD121","v":0},{"$f":"'7.WEF Influence-Mine'!$CD161","v":0},{"$f":"'7.WEF Influence-Mine'!$CD201","v":0},{"$f":"'7.WEF Influence-Mine'!$CD241","v":0},{"$f":"'7.WEF Influence-Mine'!$CD281","v":0},{"$f":"IF(G29>=$D$7,\"B:\"&'3.WEF Status-Base'!$E28&\": \",)&IF(H29<>0,\"1. \"&'7.WEF Influence-Mine'!$CE121&\" \",)&IF(I29<>0,\"2. \"&'7.WEF Influence-Mine'!$CE161&\" \",)&IF(J29<>0,\"3. \"&'7.WEF Influence-Mine'!$CE201&\" \",)&IF(K29<>0,\"4. \"&'7.WEF Influence-Mine'!$CE241&\" \",)&IF(L29<>0,\"5. \"&'7.WEF Influence-Mine'!$CE281&\" \",)","v":""},null,null,null,null,null,null,{"$f":"'3.WEF Status-Base'!G28","v":0},{"$f":"'7.WEF Influence-Mine'!$CH121","v":0},{"$f":"'7.WEF Influence-Mine'!$CH161","v":0},{"$f":"'7.WEF Influence-Mine'!$CH201","v":0},{"$f":"'7.WEF Influence-Mine'!$CH241","v":0},{"$f":"'7.WEF Influence-Mine'!$CH281","v":0},{"$f":"IF(T29>=$D$7,\"B:\"&'3.WEF Status-Base'!$H28&\": \",)&IF(U29<>0,\"1.\"&'7.WEF Influence-Mine'!$CI121&\" \",)&IF(V29<>0,\"2.\"&'7.WEF Influence-Mine'!$CI161&\" \",)&IF(W29<>0,\"3.\"&'7.WEF Influence-Mine'!$CI201&\" \",)&IF(X29<>0,\"4.\"&'7.WEF Influence-Mine'!$CI241&\" \",)&IF(Y29<>0,\"5.\"&'7.WEF Influence-Mine'!$CI281&\" \",)","v":""},null,null,null,null,null,null,{"$f":"'3.WEF Status-Base'!J28","v":0},{"$f":"'7.WEF Influence-Mine'!$CL121","v":0},{"$f":"'7.WEF Influence-Mine'!$CL161","v":0},{"$f":"'7.WEF Influence-Mine'!$CL201","v":0},{"$f":"'7.WEF Influence-Mine'!$CL241","v":0},{"$f":"'7.WEF Influence-Mine'!$CL281","v":0},{"$f":"IF(AG29>=$D$7,\"B:\"&'3.WEF Status-Base'!$K28&\": \",)&IF(AH29<>0,\"1.\"&'7.WEF Influence-Mine'!$CM121&\" \",)&IF(AI29<>0,\"2.\"&'7.WEF Influence-Mine'!$CM161&\" \",)&IF(AJ29<>0,\"3.\"&'7.WEF Influence-Mine'!$CM201&\" \",)&IF(AK29<>0,\"4.\"&'7.WEF Influence-Mine'!$CM241&\" \",)&IF(AL29<>0,\"5.\"&'7.WEF Influence-Mine'!$CM281&\" \",)","v":""},null,null,null,null,null,null,{"$f":"'3.WEF Status-Base'!M28","v":0},{"$f":"'7.WEF Influence-Mine'!$CP121","v":0},{"$f":"'7.WEF Influence-Mine'!$CP161","v":0},{"$f":"'7.WEF Influence-Mine'!$CP201","v":0},{"$f":"'7.WEF Influence-Mine'!$CP241","v":0},{"$f":"'7.WEF Influence-Mine'!$CP281","v":0},{"$f":"IF(AT29>=$D$7,\"B:\"&'3.WEF Status-Base'!$N28&\": \",)&IF(AU29<>0,\"1.\"&'7.WEF Influence-Mine'!$CQ121&\" \",)&IF(AV29<>0,\"2.\"&'7.WEF Influence-Mine'!$CQ161&\" \",)&IF(AW29<>0,\"3.\"&'7.WEF Influence-Mine'!$CQ201&\" \",)&IF(AX29<>0,\"4.\"&'7.WEF Influence-Mine'!$CQ241&\" \",)&IF(AY29<>0,\"5.\"&'7.WEF Influence-Mine'!$CQ281&\" \",)","v":""},null,null,null,null,null,null,{"$f":"'3.WEF Status-Base'!P28","v":0},{"$f":"'7.WEF Influence-Mine'!$CT121","v":0},{"$f":"'7.WEF Influence-Mine'!$CT161","v":0},{"$f":"'7.WEF Influence-Mine'!$CT201","v":0},{"$f":"'7.WEF Influence-Mine'!$CT241","v":0},{"$f":"'7.WEF Influence-Mine'!$CT281","v":0},{"$f":"IF(BG29>=$D$7,\"B:\"&'3.WEF Status-Base'!$Q28&\": \",)&IF(BH29<>0,\"1.\"&'7.WEF Influence-Mine'!$CU121&\" \",)&IF(BI29<>0,\"2.\"&'7.WEF Influence-Mine'!$CU161&\" \",)&IF(BJ29<>0,\"3.\"&'7.WEF Influence-Mine'!$CU201&\" \",)&IF(BK29<>0,\"4.\"&'7.WEF Influence-Mine'!$CU241&\" \",)&IF(BL29<>0,\"5.\"&'7.WEF Influence-Mine'!$CU281&\" \",)","v":""},null,null,null,null,null,null,{"$f":"'3.WEF Status-Base'!S28","v":0},{"$f":"'7.WEF Influence-Mine'!$CX121","v":0},{"$f":"'7.WEF Influence-Mine'!$CX161","v":0},{"$f":"'7.WEF Influence-Mine'!$CX201","v":0},{"$f":"'7.WEF Influence-Mine'!$CX241","v":0},{"$f":"'7.WEF Influence-Mine'!$CX281","v":0},{"$f":"IF(BT29>=$D$7,\"B:\"&'3.WEF Status-Base'!$T28&\": \",)&IF(BU29<>0,\"1.\"&'7.WEF Influence-Mine'!$CY121&\" \",)&IF(BV29<>0,\"2.\"&'7.WEF Influence-Mine'!$CY161&\" \",)&IF(BW29<>0,\"3.\"&'7.WEF Influence-Mine'!$CY201&\" \",)&IF(BX29<>0,\"4.\"&'7.WEF Influence-Mine'!$CY241&\" \",)&IF(BY29<>0,\"5.\"&'7.WEF Influence-Mine'!$CY281&\" \",)","v":""},null,null,null,null,null,null,{"$f":"'3.WEF Status-Base'!V28","v":0},{"$f":"'7.WEF Influence-Mine'!$DB121","v":0},{"$f":"'7.WEF Influence-Mine'!$DB161","v":0},{"$f":"'7.WEF Influence-Mine'!$DB201","v":0},{"$f":"'7.WEF Influence-Mine'!$DB241","v":0},{"$f":"'7.WEF Influence-Mine'!$DB281","v":0},{"$f":"IF(CG29>=$D$7,\"B:\"&'3.WEF Status-Base'!$W28&\": \",)&IF(CH29<>0,\"1.\"&'7.WEF Influence-Mine'!$DC121&\" \",)&IF(CI29<>0,\"2.\"&'7.WEF Influence-Mine'!$DC161&\" \",)&IF(CJ29<>0,\"3.\"&'7.WEF Influence-Mine'!$DC201&\" \",)&IF(CK29<>0,\"4.\"&'7.WEF Influence-Mine'!$DC241&\" \",)&IF(CL29<>0,\"5.\"&'7.WEF Influence-Mine'!$DC281&\" \",)","v":""},null,null,null,null,null,null,{"$f":"'3.WEF Status-Base'!Y28","v":0},{"$f":"'7.WEF Influence-Mine'!$DF121","v":0},{"$f":"'7.WEF Influence-Mine'!$DF161","v":0},{"$f":"'7.WEF Influence-Mine'!$DF201","v":0},{"$f":"'7.WEF Influence-Mine'!$DF241","v":0},{"$f":"'7.WEF Influence-Mine'!$DF281","v":0},{"$f":"IF(CT29>=$D$7,\"B:\"&'3.WEF Status-Base'!$Z28&\": \",)&IF(CU29<>0,\"1.\"&'7.WEF Influence-Mine'!$DG121&\" \",)&IF(CV29<>0,\"2.\"&'7.WEF Influence-Mine'!$DG161&\" \",)&IF(CW29<>0,\"3.\"&'7.WEF Influence-Mine'!$DG201&\" \",)&IF(CX29<>0,\"4.\"&'7.WEF Influence-Mine'!$DG241&\" \",)&IF(CY29<>0,\"5.\"&'7.WEF Influence-Mine'!$DG281&\" \",)","v":""},null,null,null,null,null,null,{"$f":"'3.WEF Status-Base'!AB28","v":0},{"$f":"'7.WEF Influence-Mine'!$DJ121","v":0},{"$f":"'7.WEF Influence-Mine'!$DJ161","v":0},{"$f":"'7.WEF Influence-Mine'!$DJ201","v":0},{"$f":"'7.WEF Influence-Mine'!$DJ241","v":0},{"$f":"'7.WEF Influence-Mine'!$DJ281","v":0},{"$f":"IF(DG29>=$D$7,\"B:\"&'3.WEF Status-Base'!$AC28&\": \",)&IF(DH29<>0,\"1.\"&'7.WEF Influence-Mine'!$DK121&\" \",)&IF(DI29<>0,\"2.\"&'7.WEF Influence-Mine'!$DK161&\" \",)&IF(DJ29<>0,\"3.\"&'7.WEF Influence-Mine'!$DK201&\" \",)&IF(DK29<>0,\"4.\"&'7.WEF Influence-Mine'!$DK241&\" \",)&IF(DL29<>0,\"5.\"&'7.WEF Influence-Mine'!$DK281&\" \",)","v":""},null,null,null,null,null,null,{"$f":"'3.WEF Status-Base'!AE28","v":0},{"$f":"'7.WEF Influence-Mine'!$DN121","v":0},{"$f":"'7.WEF Influence-Mine'!$DN161","v":0},{"$f":"'7.WEF Influence-Mine'!$DN201","v":0},{"$f":"'7.WEF Influence-Mine'!$DN241","v":0},{"$f":"'7.WEF Influence-Mine'!$DN281","v":0},{"$f":"IF(DT29>=$D$7,\"B:\"&'3.WEF Status-Base'!$AF28&\": \",)&IF(DU29<>0,\"1.\"&'7.WEF Influence-Mine'!$DO121&\" \",)&IF(DV29<>0,\"2.\"&'7.WEF Influence-Mine'!$DO161&\" \",)&IF(DW29<>0,\"3.\"&'7.WEF Influence-Mine'!$DO201&\" \",)&IF(DX29<>0,\"4.\"&'7.WEF Influence-Mine'!$DO241&\" \",)&IF(DY29<>0,\"5.\"&'7.WEF Influence-Mine'!$DO281&\" \",)","v":""},null,null,null,null,null,null,{"$f":"'3.WEF Status-Base'!AH28","v":0},{"$f":"'7.WEF Influence-Mine'!$DR121","v":0},{"$f":"'7.WEF Influence-Mine'!$DR161","v":0},{"$f":"'7.WEF Influence-Mine'!$DR201","v":0},{"$f":"'7.WEF Influence-Mine'!$DR241","v":0},{"$f":"'7.WEF Influence-Mine'!$DR281","v":0},{"$f":"IF(EG29>=$D$7,\"B:\"&'3.WEF Status-Base'!$AI28&\": \",)&IF(EH29<>0,\"1.\"&'7.WEF Influence-Mine'!$DS121&\" \",)&IF(EI29<>0,\"2.\"&'7.WEF Influence-Mine'!$DS161&\" \",)&IF(EJ29<>0,\"3.\"&'7.WEF Influence-Mine'!$DS201&\" \",)&IF(EK29<>0,\"4.\"&'7.WEF Influence-Mine'!$DS241&\" \",)&IF(EL29<>0,\"5.\"&'7.WEF Influence-Mine'!$DS281&\" \",)","v":""},null,null,null,null,null,null,{"$f":"'3.WEF Status-Base'!AK28","v":0},{"$f":"'7.WEF Influence-Mine'!$DV121","v":0},{"$f":"'7.WEF Influence-Mine'!$DV161","v":0},{"$f":"'7.WEF Influence-Mine'!$DV201","v":0},{"$f":"'7.WEF Influence-Mine'!$DV241","v":0},{"$f":"'7.WEF Influence-Mine'!$DV281","v":0},{"$f":"IF(ET29>=$D$7,\"B:\"&'3.WEF Status-Base'!$AL28&\": \",)&IF(EU29<>0,\"1.\"&'7.WEF Influence-Mine'!$DW121&\" \",)&IF(EV29<>0,\"2.\"&'7.WEF Influence-Mine'!$DW161&\" \",)&IF(EW29<>0,\"3.\"&'7.WEF Influence-Mine'!$DW201&\" \",)&IF(EX29<>0,\"4.\"&'7.WEF Influence-Mine'!$DW241&\" \",)&IF(EY29<>0,\"5.\"&'7.WEF Influence-Mine'!$DW281&\" \",)","v":""},null,null,null,null,null,null,{"$f":"'3.WEF Status-Base'!AN28","v":0},{"$f":"'7.WEF Influence-Mine'!$DZ121","v":0},{"$f":"'7.WEF Influence-Mine'!$DZ161","v":0},{"$f":"'7.WEF Influence-Mine'!$DZ201","v":0},{"$f":"'7.WEF Influence-Mine'!$DZ241","v":0},{"$f":"'7.WEF Influence-Mine'!$DZ281","v":0},{"$f":"IF(FG29>=$D$7,\"B:\"&'3.WEF Status-Base'!$AO28&\": \",)&IF(FH29<>0,\"1.\"&'7.WEF Influence-Mine'!$EA121&\" \",)&IF(FI29<>0,\"2.\"&'7.WEF Influence-Mine'!$EA161&\" \",)&IF(FJ29<>0,\"3.\"&'7.WEF Influence-Mine'!$EA201&\" \",)&IF(FK29<>0,\"4.\"&'7.WEF Influence-Mine'!$EA241&\" \",)&IF(FL29<>0,\"5.\"&'7.WEF Influence-Mine'!$EA281&\" \",)","v":""},null,null,null,null,null,null,{"$f":"'3.WEF Status-Base'!AQ28","v":0},{"$f":"'7.WEF Influence-Mine'!$ED121","v":0},{"$f":"'7.WEF Influence-Mine'!$ED161","v":0},{"$f":"'7.WEF Influence-Mine'!$ED201","v":0},{"$f":"'7.WEF Influence-Mine'!$ED241","v":0},{"$f":"'7.WEF Influence-Mine'!$ED281","v":0},{"$f":"IF(FT29>=$D$7,\"B:\"&'3.WEF Status-Base'!$AR28&\": \",)&IF(FU29<>0,\"1.\"&'7.WEF Influence-Mine'!$EE121&\" \",)&IF(FV29<>0,\"2.\"&'7.WEF Influence-Mine'!$EE161&\" \",)&IF(FW29<>0,\"3.\"&'7.WEF Influence-Mine'!$EE201&\" \",)&IF(FX29<>0,\"4.\"&'7.WEF Influence-Mine'!$EE241&\" \",)&IF(FY29<>0,\"5.\"&'7.WEF Influence-Mine'!$EE281&\" \",)","v":""},null,null,null,null,null,null,{"$f":"'3.WEF Status-Base'!AT28","v":0},{"$f":"'7.WEF Influence-Mine'!$EH121","v":0},{"$f":"'7.WEF Influence-Mine'!$EH161","v":0},{"$f":"'7.WEF Influence-Mine'!$EH201","v":0},{"$f":"'7.WEF Influence-Mine'!$EH241","v":0},{"$f":"'7.WEF Influence-Mine'!$EH281","v":0},{"$f":"IF(GG29>=$D$7,\"B:\"&'3.WEF Status-Base'!$AU28&\": \",)&IF(GH29<>0,\"1.\"&'7.WEF Influence-Mine'!$EI121&\" \",)&IF(GI29<>0,\"2.\"&'7.WEF Influence-Mine'!$EI161&\" \",)&IF(GJ29<>0,\"3.\"&'7.WEF Influence-Mine'!$EI201&\" \",)&IF(GK29<>0,\"4.\"&'7.WEF Influence-Mine'!$EI241&\" \",)&IF(GL29<>0,\"5.\"&'7.WEF Influence-Mine'!$EI281&\" \",)","v":""},null,null,null,null,null,null,{"$f":"'3.WEF Status-Base'!AW28","v":0},{"$f":"'7.WEF Influence-Mine'!$EL121","v":0},{"$f":"'7.WEF Influence-Mine'!$EL161","v":0},{"$f":"'7.WEF Influence-Mine'!$EL201","v":0},{"$f":"'7.WEF Influence-Mine'!$EL241","v":0},{"$f":"'7.WEF Influence-Mine'!$EL281","v":0},{"$f":"IF(GT29>=$D$7,\"B:\"&'3.WEF Status-Base'!$AX28&\": \",)&IF(GU29<>0,\"1.\"&'7.WEF Influence-Mine'!$EM121&\" \",)&IF(GV29<>0,\"2.\"&'7.WEF Influence-Mine'!$EM161&\" \",)&IF(GW29<>0,\"3.\"&'7.WEF Influence-Mine'!$EM201&\" \",)&IF(GX29<>0,\"4.\"&'7.WEF Influence-Mine'!$EM241&\" \",)&IF(GY29<>0,\"5.\"&'7.WEF Influence-Mine'!$EM281&\" \",)","v":""},null,null,null,null,null,null,{"$f":"'3.WEF Status-Base'!AZ28","v":0},{"$f":"'7.WEF Influence-Mine'!$EP121","v":0},{"$f":"'7.WEF Influence-Mine'!$EP161","v":0},{"$f":"'7.WEF Influence-Mine'!$EP201","v":0},{"$f":"'7.WEF Influence-Mine'!$EP241","v":0},{"$f":"'7.WEF Influence-Mine'!$EP281","v":0},{"$f":"IF(HG29>=$D$7,\"B:\"&'3.WEF Status-Base'!$BA28&\": \",)&IF(HH29<>0,\"1.\"&'7.WEF Influence-Mine'!$EQ121&\" \",)&IF(HI29<>0,\"2.\"&'7.WEF Influence-Mine'!$EQ161&\" \",)&IF(HJ29<>0,\"3.\"&'7.WEF Influence-Mine'!$EQ201&\" \",)&IF(HK29<>0,\"4.\"&'7.WEF Influence-Mine'!$EQ241&\" \",)&IF(HL29<>0,\"5.\"&'7.WEF Influence-Mine'!$EQ281&\" \",)","v":""},null,null,null,null,null,null,{"$f":"'3.WEF Status-Base'!BC28","v":0},{"$f":"'7.WEF Influence-Mine'!$ET121","v":0},{"$f":"'7.WEF Influence-Mine'!$ET161","v":0},{"$f":"'7.WEF Influence-Mine'!$ET201","v":0},{"$f":"'7.WEF Influence-Mine'!$ET241","v":0},{"$f":"'7.WEF Influence-Mine'!$ET281","v":0},{"$f":"IF(HT29>=$D$7,\"B:\"&'3.WEF Status-Base'!$BD28&\": \",)&IF(HU29<>0,\"1.\"&'7.WEF Influence-Mine'!$EU121&\" \",)&IF(HV29<>0,\"2.\"&'7.WEF Influence-Mine'!$EU161&\" \",)&IF(HW29<>0,\"3.\"&'7.WEF Influence-Mine'!$EU201&\" \",)&IF(HX29<>0,\"4.\"&'7.WEF Influence-Mine'!$EU241&\" \",)&IF(HY29<>0,\"5.\"&'7.WEF Influence-Mine'!$EU281&\" \",)","v":""},null,null,null,null,null,null,{"$f":"'7.WEF Influence-Mine'!EV121&\" : \"&'7.WEF Influence-Mine'!EV161&\" : \"&'7.WEF Influence-Mine'!EV201&\" : \"&'7.WEF Influence-Mine'!EV241&\" : \"&'7.WEF Influence-Mine'!EV281","v":"0 : 0 : 0 : 0 : 0"}]
[20,"     Biological control",{"$f":"'3.WEF Status-Base'!B29","v":0},0,0,null,{"$f":"'3.WEF Status-Base'!D29","v":0},{"$f":"'7.WEF Influence-Mine'!$CD122","v":0},{"$f":"'7.WEF Influence-Mine'!$CD162","v":0},{"$f":"'7.WEF Influence-Mine'!$CD202","v":0},{"$f":"'7.WEF Influence-Mine'!$CD242","v":0},{"$f":"'7.WEF Influence-Mine'!$CD282","v":0},{"$f":"IF(G30>=$D$7,\"B:\"&'3.WEF Status-Base'!$E29&\": \",)&IF(H30<>0,\"1. \"&'7.WEF Influence-Mine'!$CE122&\" \",)&IF(I30<>0,\"2. \"&'7.WEF Influence-Mine'!$CE162&\" \",)&IF(J30<>0,\"3. \"&'7.WEF Influence-Mine'!$CE202&\" \",)&IF(K30<>0,\"4. \"&'7.WEF Influence-Mine'!$CE242&\" \",)&IF(L30<>0,\"5. \"&'7.WEF Influence-Mine'!$CE282&\" \",)","v":""},null,null,null,null,null,null,{"$f":"'3.WEF Status-Base'!G29","v":0},{"$f":"'7.WEF Influence-Mine'!$CH122","v":0},{"$f":"'7.WEF Influence-Mine'!$CH162","v":0},{"$f":"'7.WEF Influence-Mine'!$CH202","v":0},{"$f":"'7.WEF Influence-Mine'!$CH242","v":0},{"$f":"'7.WEF Influence-Mine'!$CH282","v":0},{"$f":"IF(T30>=$D$7,\"B:\"&'3.WEF Status-Base'!$H29&\": \",)&IF(U30<>0,\"1.\"&'7.WEF Influence-Mine'!$CI122&\" \",)&IF(V30<>0,\"2.\"&'7.WEF Influence-Mine'!$CI162&\" \",)&IF(W30<>0,\"3.\"&'7.WEF Influence-Mine'!$CI202&\" \",)&IF(X30<>0,\"4.\"&'7.WEF Influence-Mine'!$CI242&\" \",)&IF(Y30<>0,\"5.\"&'7.WEF Influence-Mine'!$CI282&\" \",)","v":""},null,null,null,null,null,null,{"$f":"'3.WEF Status-Base'!J29","v":0},{"$f":"'7.WEF Influence-Mine'!$CL122","v":0},{"$f":"'7.WEF Influence-Mine'!$CL162","v":0},{"$f":"'7.WEF Influence-Mine'!$CL202","v":0},{"$f":"'7.WEF Influence-Mine'!$CL242","v":0},{"$f":"'7.WEF Influence-Mine'!$CL282","v":0},{"$f":"IF(AG30>=$D$7,\"B:\"&'3.WEF Status-Base'!$K29&\": \",)&IF(AH30<>0,\"1.\"&'7.WEF Influence-Mine'!$CM122&\" \",)&IF(AI30<>0,\"2.\"&'7.WEF Influence-Mine'!$CM162&\" \",)&IF(AJ30<>0,\"3.\"&'7.WEF Influence-Mine'!$CM202&\" \",)&IF(AK30<>0,\"4.\"&'7.WEF Influence-Mine'!$CM242&\" \",)&IF(AL30<>0,\"5.\"&'7.WEF Influence-Mine'!$CM282&\" \",)","v":""},null,null,null,null,null,null,{"$f":"'3.WEF Status-Base'!M29","v":0},{"$f":"'7.WEF Influence-Mine'!$CP122","v":0},{"$f":"'7.WEF Influence-Mine'!$CP162","v":0},{"$f":"'7.WEF Influence-Mine'!$CP202","v":0},{"$f":"'7.WEF Influence-Mine'!$CP242","v":0},{"$f":"'7.WEF Influence-Mine'!$CP282","v":0},{"$f":"IF(AT30>=$D$7,\"B:\"&'3.WEF Status-Base'!$N29&\": \",)&IF(AU30<>0,\"1.\"&'7.WEF Influence-Mine'!$CQ122&\" \",)&IF(AV30<>0,\"2.\"&'7.WEF Influence-Mine'!$CQ162&\" \",)&IF(AW30<>0,\"3.\"&'7.WEF Influence-Mine'!$CQ202&\" \",)&IF(AX30<>0,\"4.\"&'7.WEF Influence-Mine'!$CQ242&\" \",)&IF(AY30<>0,\"5.\"&'7.WEF Influence-Mine'!$CQ282&\" \",)","v":""},null,null,null,null,null,null,{"$f":"'3.WEF Status-Base'!P29","v":0},{"$f":"'7.WEF Influence-Mine'!$CT122","v":0},{"$f":"'7.WEF Influence-Mine'!$CT162","v":0},{"$f":"'7.WEF Influence-Mine'!$CT202","v":0},{"$f":"'7.WEF Influence-Mine'!$CT242","v":0},{"$f":"'7.WEF Influence-Mine'!$CT282","v":0},{"$f":"IF(BG30>=$D$7,\"B:\"&'3.WEF Status-Base'!$Q29&\": \",)&IF(BH30<>0,\"1.\"&'7.WEF Influence-Mine'!$CU122&\" \",)&IF(BI30<>0,\"2.\"&'7.WEF Influence-Mine'!$CU162&\" \",)&IF(BJ30<>0,\"3.\"&'7.WEF Influence-Mine'!$CU202&\" \",)&IF(BK30<>0,\"4.\"&'7.WEF Influence-Mine'!$CU242&\" \",)&IF(BL30<>0,\"5.\"&'7.WEF Influence-Mine'!$CU282&\" \",)","v":""},null,null,null,null,null,null,{"$f":"'3.WEF Status-Base'!S29","v":0},{"$f":"'7.WEF Influence-Mine'!$CX122","v":0},{"$f":"'7.WEF Influence-Mine'!$CX162","v":0},{"$f":"'7.WEF Influence-Mine'!$CX202","v":0},{"$f":"'7.WEF Influence-Mine'!$CX242","v":0},{"$f":"'7.WEF Influence-Mine'!$CX282","v":0},{"$f":"IF(BT30>=$D$7,\"B:\"&'3.WEF Status-Base'!$T29&\": \",)&IF(BU30<>0,\"1.\"&'7.WEF Influence-Mine'!$CY122&\" \",)&IF(BV30<>0,\"2.\"&'7.WEF Influence-Mine'!$CY162&\" \",)&IF(BW30<>0,\"3.\"&'7.WEF Influence-Mine'!$CY202&\" \",)&IF(BX30<>0,\"4.\"&'7.WEF Influence-Mine'!$CY242&\" \",)&IF(BY30<>0,\"5.\"&'7.WEF Influence-Mine'!$CY282&\" \",)","v":""},null,null,null,null,null,null,{"$f":"'3.WEF Status-Base'!V29","v":0},{"$f":"'7.WEF Influence-Mine'!$DB122","v":0},{"$f":"'7.WEF Influence-Mine'!$DB162","v":0},{"$f":"'7.WEF Influence-Mine'!$DB202","v":0},{"$f":"'7.WEF Influence-Mine'!$DB242","v":0},{"$f":"'7.WEF Influence-Mine'!$DB282","v":0},{"$f":"IF(CG30>=$D$7,\"B:\"&'3.WEF Status-Base'!$W29&\": \",)&IF(CH30<>0,\"1.\"&'7.WEF Influence-Mine'!$DC122&\" \",)&IF(CI30<>0,\"2.\"&'7.WEF Influence-Mine'!$DC162&\" \",)&IF(CJ30<>0,\"3.\"&'7.WEF Influence-Mine'!$DC202&\" \",)&IF(CK30<>0,\"4.\"&'7.WEF Influence-Mine'!$DC242&\" \",)&IF(CL30<>0,\"5.\"&'7.WEF Influence-Mine'!$DC282&\" \",)","v":""},null,null,null,null,null,null,{"$f":"'3.WEF Status-Base'!Y29","v":0},{"$f":"'7.WEF Influence-Mine'!$DF122","v":0},{"$f":"'7.WEF Influence-Mine'!$DF162","v":0},{"$f":"'7.WEF Influence-Mine'!$DF202","v":0},{"$f":"'7.WEF Influence-Mine'!$DF242","v":0},{"$f":"'7.WEF Influence-Mine'!$DF282","v":0},{"$f":"IF(CT30>=$D$7,\"B:\"&'3.WEF Status-Base'!$Z29&\": \",)&IF(CU30<>0,\"1.\"&'7.WEF Influence-Mine'!$DG122&\" \",)&IF(CV30<>0,\"2.\"&'7.WEF Influence-Mine'!$DG162&\" \",)&IF(CW30<>0,\"3.\"&'7.WEF Influence-Mine'!$DG202&\" \",)&IF(CX30<>0,\"4.\"&'7.WEF Influence-Mine'!$DG242&\" \",)&IF(CY30<>0,\"5.\"&'7.WEF Influence-Mine'!$DG282&\" \",)","v":""},null,null,null,null,null,null,{"$f":"'3.WEF Status-Base'!AB29","v":0},{"$f":"'7.WEF Influence-Mine'!$DJ122","v":0},{"$f":"'7.WEF Influence-Mine'!$DJ162","v":0},{"$f":"'7.WEF Influence-Mine'!$DJ202","v":0},{"$f":"'7.WEF Influence-Mine'!$DJ242","v":0},{"$f":"'7.WEF Influence-Mine'!$DJ282","v":0},{"$f":"IF(DG30>=$D$7,\"B:\"&'3.WEF Status-Base'!$AC29&\": \",)&IF(DH30<>0,\"1.\"&'7.WEF Influence-Mine'!$DK122&\" \",)&IF(DI30<>0,\"2.\"&'7.WEF Influence-Mine'!$DK162&\" \",)&IF(DJ30<>0,\"3.\"&'7.WEF Influence-Mine'!$DK202&\" \",)&IF(DK30<>0,\"4.\"&'7.WEF Influence-Mine'!$DK242&\" \",)&IF(DL30<>0,\"5.\"&'7.WEF Influence-Mine'!$DK282&\" \",)","v":""},null,null,null,null,null,null,{"$f":"'3.WEF Status-Base'!AE29","v":0},{"$f":"'7.WEF Influence-Mine'!$DN122","v":0},{"$f":"'7.WEF Influence-Mine'!$DN162","v":0},{"$f":"'7.WEF Influence-Mine'!$DN202","v":0},{"$f":"'7.WEF Influence-Mine'!$DN242","v":0},{"$f":"'7.WEF Influence-Mine'!$DN282","v":0},{"$f":"IF(DT30>=$D$7,\"B:\"&'3.WEF Status-Base'!$AF29&\": \",)&IF(DU30<>0,\"1.\"&'7.WEF Influence-Mine'!$DO122&\" \",)&IF(DV30<>0,\"2.\"&'7.WEF Influence-Mine'!$DO162&\" \",)&IF(DW30<>0,\"3.\"&'7.WEF Influence-Mine'!$DO202&\" \",)&IF(DX30<>0,\"4.\"&'7.WEF Influence-Mine'!$DO242&\" \",)&IF(DY30<>0,\"5.\"&'7.WEF Influence-Mine'!$DO282&\" \",)","v":""},null,null,null,null,null,null,{"$f":"'3.WEF Status-Base'!AH29","v":0},{"$f":"'7.WEF Influence-Mine'!$DR122","v":0},{"$f":"'7.WEF Influence-Mine'!$DR162","v":0},{"$f":"'7.WEF Influence-Mine'!$DR202","v":0},{"$f":"'7.WEF Influence-Mine'!$DR242","v":0},{"$f":"'7.WEF Influence-Mine'!$DR282","v":0},{"$f":"IF(EG30>=$D$7,\"B:\"&'3.WEF Status-Base'!$AI29&\": \",)&IF(EH30<>0,\"1.\"&'7.WEF Influence-Mine'!$DS122&\" \",)&IF(EI30<>0,\"2.\"&'7.WEF Influence-Mine'!$DS162&\" \",)&IF(EJ30<>0,\"3.\"&'7.WEF Influence-Mine'!$DS202&\" \",)&IF(EK30<>0,\"4.\"&'7.WEF Influence-Mine'!$DS242&\" \",)&IF(EL30<>0,\"5.\"&'7.WEF Influence-Mine'!$DS282&\" \",)","v":""},null,null,null,null,null,null,{"$f":"'3.WEF Status-Base'!AK29","v":0},{"$f":"'7.WEF Influence-Mine'!$DV122","v":0},{"$f":"'7.WEF Influence-Mine'!$DV162","v":0},{"$f":"'7.WEF Influence-Mine'!$DV202","v":0},{"$f":"'7.WEF Influence-Mine'!$DV242","v":0},{"$f":"'7.WEF Influence-Mine'!$DV282","v":0},{"$f":"IF(ET30>=$D$7,\"B:\"&'3.WEF Status-Base'!$AL29&\": \",)&IF(EU30<>0,\"1.\"&'7.WEF Influence-Mine'!$DW122&\" \",)&IF(EV30<>0,\"2.\"&'7.WEF Influence-Mine'!$DW162&\" \",)&IF(EW30<>0,\"3.\"&'7.WEF Influence-Mine'!$DW202&\" \",)&IF(EX30<>0,\"4.\"&'7.WEF Influence-Mine'!$DW242&\" \",)&IF(EY30<>0,\"5.\"&'7.WEF Influence-Mine'!$DW282&\" \",)","v":""},null,null,null,null,null,null,{"$f":"'3.WEF Status-Base'!AN29","v":0},{"$f":"'7.WEF Influence-Mine'!$DZ122","v":0},{"$f":"'7.WEF Influence-Mine'!$DZ162","v":0},{"$f":"'7.WEF Influence-Mine'!$DZ202","v":0},{"$f":"'7.WEF Influence-Mine'!$DZ242","v":0},{"$f":"'7.WEF Influence-Mine'!$DZ282","v":0},{"$f":"IF(FG30>=$D$7,\"B:\"&'3.WEF Status-Base'!$AO29&\": \",)&IF(FH30<>0,\"1.\"&'7.WEF Influence-Mine'!$EA122&\" \",)&IF(FI30<>0,\"2.\"&'7.WEF Influence-Mine'!$EA162&\" \",)&IF(FJ30<>0,\"3.\"&'7.WEF Influence-Mine'!$EA202&\" \",)&IF(FK30<>0,\"4.\"&'7.WEF Influence-Mine'!$EA242&\" \",)&IF(FL30<>0,\"5.\"&'7.WEF Influence-Mine'!$EA282&\" \",)","v":""},null,null,null,null,null,null,{"$f":"'3.WEF Status-Base'!AQ29","v":0},{"$f":"'7.WEF Influence-Mine'!$ED122","v":0},{"$f":"'7.WEF Influence-Mine'!$ED162","v":0},{"$f":"'7.WEF Influence-Mine'!$ED202","v":0},{"$f":"'7.WEF Influence-Mine'!$ED242","v":0},{"$f":"'7.WEF Influence-Mine'!$ED282","v":0},{"$f":"IF(FT30>=$D$7,\"B:\"&'3.WEF Status-Base'!$AR29&\": \",)&IF(FU30<>0,\"1.\"&'7.WEF Influence-Mine'!$EE122&\" \",)&IF(FV30<>0,\"2.\"&'7.WEF Influence-Mine'!$EE162&\" \",)&IF(FW30<>0,\"3.\"&'7.WEF Influence-Mine'!$EE202&\" \",)&IF(FX30<>0,\"4.\"&'7.WEF Influence-Mine'!$EE242&\" \",)&IF(FY30<>0,\"5.\"&'7.WEF Influence-Mine'!$EE282&\" \",)","v":""},null,null,null,null,null,null,{"$f":"'3.WEF Status-Base'!AT29","v":0},{"$f":"'7.WEF Influence-Mine'!$EH122","v":0},{"$f":"'7.WEF Influence-Mine'!$EH162","v":0},{"$f":"'7.WEF Influence-Mine'!$EH202","v":0},{"$f":"'7.WEF Influence-Mine'!$EH242","v":0},{"$f":"'7.WEF Influence-Mine'!$EH282","v":0},{"$f":"IF(GG30>=$D$7,\"B:\"&'3.WEF Status-Base'!$AU29&\": \",)&IF(GH30<>0,\"1.\"&'7.WEF Influence-Mine'!$EI122&\" \",)&IF(GI30<>0,\"2.\"&'7.WEF Influence-Mine'!$EI162&\" \",)&IF(GJ30<>0,\"3.\"&'7.WEF Influence-Mine'!$EI202&\" \",)&IF(GK30<>0,\"4.\"&'7.WEF Influence-Mine'!$EI242&\" \",)&IF(GL30<>0,\"5.\"&'7.WEF Influence-Mine'!$EI282&\" \",)","v":""},null,null,null,null,null,null,{"$f":"'3.WEF Status-Base'!AW29","v":0},{"$f":"'7.WEF Influence-Mine'!$EL122","v":0},{"$f":"'7.WEF Influence-Mine'!$EL162","v":0},{"$f":"'7.WEF Influence-Mine'!$EL202","v":0},{"$f":"'7.WEF Influence-Mine'!$EL242","v":0},{"$f":"'7.WEF Influence-Mine'!$EL282","v":0},{"$f":"IF(GT30>=$D$7,\"B:\"&'3.WEF Status-Base'!$AX29&\": \",)&IF(GU30<>0,\"1.\"&'7.WEF Influence-Mine'!$EM122&\" \",)&IF(GV30<>0,\"2.\"&'7.WEF Influence-Mine'!$EM162&\" \",)&IF(GW30<>0,\"3.\"&'7.WEF Influence-Mine'!$EM202&\" \",)&IF(GX30<>0,\"4.\"&'7.WEF Influence-Mine'!$EM242&\" \",)&IF(GY30<>0,\"5.\"&'7.WEF Influence-Mine'!$EM282&\" \",)","v":""},null,null,null,null,null,null,{"$f":"'3.WEF Status-Base'!AZ29","v":0},{"$f":"'7.WEF Influence-Mine'!$EP122","v":0},{"$f":"'7.WEF Influence-Mine'!$EP162","v":0},{"$f":"'7.WEF Influence-Mine'!$EP202","v":0},{"$f":"'7.WEF Influence-Mine'!$EP242","v":0},{"$f":"'7.WEF Influence-Mine'!$EP282","v":0},{"$f":"IF(HG30>=$D$7,\"B:\"&'3.WEF Status-Base'!$BA29&\": \",)&IF(HH30<>0,\"1.\"&'7.WEF Influence-Mine'!$EQ122&\" \",)&IF(HI30<>0,\"2.\"&'7.WEF Influence-Mine'!$EQ162&\" \",)&IF(HJ30<>0,\"3.\"&'7.WEF Influence-Mine'!$EQ202&\" \",)&IF(HK30<>0,\"4.\"&'7.WEF Influence-Mine'!$EQ242&\" \",)&IF(HL30<>0,\"5.\"&'7.WEF Influence-Mine'!$EQ282&\" \",)","v":""},null,null,null,null,null,null,{"$f":"'3.WEF Status-Base'!BC29","v":0},{"$f":"'7.WEF Influence-Mine'!$ET122","v":0},{"$f":"'7.WEF Influence-Mine'!$ET162","v":0},{"$f":"'7.WEF Influence-Mine'!$ET202","v":0},{"$f":"'7.WEF Influence-Mine'!$ET242","v":0},{"$f":"'7.WEF Influence-Mine'!$ET282","v":0},{"$f":"IF(HT30>=$D$7,\"B:\"&'3.WEF Status-Base'!$BD29&\": \",)&IF(HU30<>0,\"1.\"&'7.WEF Influence-Mine'!$EU122&\" \",)&IF(HV30<>0,\"2.\"&'7.WEF Influence-Mine'!$EU162&\" \",)&IF(HW30<>0,\"3.\"&'7.WEF Influence-Mine'!$EU202&\" \",)&IF(HX30<>0,\"4.\"&'7.WEF Influence-Mine'!$EU242&\" \",)&IF(HY30<>0,\"5.\"&'7.WEF Influence-Mine'!$EU282&\" \",)","v":""},null,null,null,null,null,null,{"$f":"'7.WEF Influence-Mine'!EV122&\" : \"&'7.WEF Influence-Mine'!EV162&\" : \"&'7.WEF Influence-Mine'!EV202&\" : \"&'7.WEF Influence-Mine'!EV242&\" : \"&'7.WEF Influence-Mine'!EV282","v":"0 : 0 : 0 : 0 : 0"}]
[21,"     Pollination",{"$f":"'3.WEF Status-Base'!B30","v":0},0,0,null,{"$f":"'3.WEF Status-Base'!D30","v":0},{"$f":"'7.WEF Influence-Mine'!$CD123","v":0},{"$f":"'7.WEF Influence-Mine'!$CD163","v":0},{"$f":"'7.WEF Influence-Mine'!$CD203","v":0},{"$f":"'7.WEF Influence-Mine'!$CD243","v":0},{"$f":"'7.WEF Influence-Mine'!$CD283","v":0},{"$f":"IF(G31>=$D$7,\"B:\"&'3.WEF Status-Base'!$E30&\": \",)&IF(H31<>0,\"1. \"&'7.WEF Influence-Mine'!$CE123&\" \",)&IF(I31<>0,\"2. \"&'7.WEF Influence-Mine'!$CE163&\" \",)&IF(J31<>0,\"3. \"&'7.WEF Influence-Mine'!$CE203&\" \",)&IF(K31<>0,\"4. \"&'7.WEF Influence-Mine'!$CE243&\" \",)&IF(L31<>0,\"5. \"&'7.WEF Influence-Mine'!$CE283&\" \",)","v":""},null,null,null,null,null,null,{"$f":"'3.WEF Status-Base'!G30","v":0},{"$f":"'7.WEF Influence-Mine'!$CH123","v":0},{"$f":"'7.WEF Influence-Mine'!$CH163","v":0},{"$f":"'7.WEF Influence-Mine'!$CH203","v":0},{"$f":"'7.WEF Influence-Mine'!$CH243","v":0},{"$f":"'7.WEF Influence-Mine'!$CH283","v":0},{"$f":"IF(T31>=$D$7,\"B:\"&'3.WEF Status-Base'!$H30&\": \",)&IF(U31<>0,\"1.\"&'7.WEF Influence-Mine'!$CI123&\" \",)&IF(V31<>0,\"2.\"&'7.WEF Influence-Mine'!$CI163&\" \",)&IF(W31<>0,\"3.\"&'7.WEF Influence-Mine'!$CI203&\" \",)&IF(X31<>0,\"4.\"&'7.WEF Influence-Mine'!$CI243&\" \",)&IF(Y31<>0,\"5.\"&'7.WEF Influence-Mine'!$CI283&\" \",)","v":""},null,null,null,null,null,null,{"$f":"'3.WEF Status-Base'!J30","v":0},{"$f":"'7.WEF Influence-Mine'!$CL123","v":0},{"$f":"'7.WEF Influence-Mine'!$CL163","v":0},{"$f":"'7.WEF Influence-Mine'!$CL203","v":0},{"$f":"'7.WEF Influence-Mine'!$CL243","v":0},{"$f":"'7.WEF Influence-Mine'!$CL283","v":0},{"$f":"IF(AG31>=$D$7,\"B:\"&'3.WEF Status-Base'!$K30&\": \",)&IF(AH31<>0,\"1.\"&'7.WEF Influence-Mine'!$CM123&\" \",)&IF(AI31<>0,\"2.\"&'7.WEF Influence-Mine'!$CM163&\" \",)&IF(AJ31<>0,\"3.\"&'7.WEF Influence-Mine'!$CM203&\" \",)&IF(AK31<>0,\"4.\"&'7.WEF Influence-Mine'!$CM243&\" \",)&IF(AL31<>0,\"5.\"&'7.WEF Influence-Mine'!$CM283&\" \",)","v":""},null,null,null,null,null,null,{"$f":"'3.WEF Status-Base'!M30","v":0},{"$f":"'7.WEF Influence-Mine'!$CP123","v":0},{"$f":"'7.WEF Influence-Mine'!$CP163","v":0},{"$f":"'7.WEF Influence-Mine'!$CP203","v":0},{"$f":"'7.WEF Influence-Mine'!$CP243","v":0},{"$f":"'7.WEF Influence-Mine'!$CP283","v":0},{"$f":"IF(AT31>=$D$7,\"B:\"&'3.WEF Status-Base'!$N30&\": \",)&IF(AU31<>0,\"1.\"&'7.WEF Influence-Mine'!$CQ123&\" \",)&IF(AV31<>0,\"2.\"&'7.WEF Influence-Mine'!$CQ163&\" \",)&IF(AW31<>0,\"3.\"&'7.WEF Influence-Mine'!$CQ203&\" \",)&IF(AX31<>0,\"4.\"&'7.WEF Influence-Mine'!$CQ243&\" \",)&IF(AY31<>0,\"5.\"&'7.WEF Influence-Mine'!$CQ283&\" \",)","v":""},null,null,null,null,null,null,{"$f":"'3.WEF Status-Base'!P30","v":0},{"$f":"'7.WEF Influence-Mine'!$CT123","v":0},{"$f":"'7.WEF Influence-Mine'!$CT163","v":0},{"$f":"'7.WEF Influence-Mine'!$CT203","v":0},{"$f":"'7.WEF Influence-Mine'!$CT243","v":0},{"$f":"'7.WEF Influence-Mine'!$CT283","v":0},{"$f":"IF(BG31>=$D$7,\"B:\"&'3.WEF Status-Base'!$Q30&\": \",)&IF(BH31<>0,\"1.\"&'7.WEF Influence-Mine'!$CU123&\" \",)&IF(BI31<>0,\"2.\"&'7.WEF Influence-Mine'!$CU163&\" \",)&IF(BJ31<>0,\"3.\"&'7.WEF Influence-Mine'!$CU203&\" \",)&IF(BK31<>0,\"4.\"&'7.WEF Influence-Mine'!$CU243&\" \",)&IF(BL31<>0,\"5.\"&'7.WEF Influence-Mine'!$CU283&\" \",)","v":""},null,null,null,null,null,null,{"$f":"'3.WEF Status-Base'!S30","v":0},{"$f":"'7.WEF Influence-Mine'!$CX123","v":0},{"$f":"'7.WEF Influence-Mine'!$CX163","v":0},{"$f":"'7.WEF Influence-Mine'!$CX203","v":0},{"$f":"'7.WEF Influence-Mine'!$CX243","v":0},{"$f":"'7.WEF Influence-Mine'!$CX283","v":0},{"$f":"IF(BT31>=$D$7,\"B:\"&'3.WEF Status-Base'!$T30&\": \",)&IF(BU31<>0,\"1.\"&'7.WEF Influence-Mine'!$CY123&\" \",)&IF(BV31<>0,\"2.\"&'7.WEF Influence-Mine'!$CY163&\" \",)&IF(BW31<>0,\"3.\"&'7.WEF Influence-Mine'!$CY203&\" \",)&IF(BX31<>0,\"4.\"&'7.WEF Influence-Mine'!$CY243&\" \",)&IF(BY31<>0,\"5.\"&'7.WEF Influence-Mine'!$CY283&\" \",)","v":""},null,null,null,null,null,null,{"$f":"'3.WEF Status-Base'!V30","v":0},{"$f":"'7.WEF Influence-Mine'!$DB123","v":0},{"$f":"'7.WEF Influence-Mine'!$DB163","v":0},{"$f":"'7.WEF Influence-Mine'!$DB203","v":0},{"$f":"'7.WEF Influence-Mine'!$DB243","v":0},{"$f":"'7.WEF Influence-Mine'!$DB283","v":0},{"$f":"IF(CG31>=$D$7,\"B:\"&'3.WEF Status-Base'!$W30&\": \",)&IF(CH31<>0,\"1.\"&'7.WEF Influence-Mine'!$DC123&\" \",)&IF(CI31<>0,\"2.\"&'7.WEF Influence-Mine'!$DC163&\" \",)&IF(CJ31<>0,\"3.\"&'7.WEF Influence-Mine'!$DC203&\" \",)&IF(CK31<>0,\"4.\"&'7.WEF Influence-Mine'!$DC243&\" \",)&IF(CL31<>0,\"5.\"&'7.WEF Influence-Mine'!$DC283&\" \",)","v":""},null,null,null,null,null,null,{"$f":"'3.WEF Status-Base'!Y30","v":0},{"$f":"'7.WEF Influence-Mine'!$DF123","v":0},{"$f":"'7.WEF Influence-Mine'!$DF163","v":0},{"$f":"'7.WEF Influence-Mine'!$DF203","v":0},{"$f":"'7.WEF Influence-Mine'!$DF243","v":0},{"$f":"'7.WEF Influence-Mine'!$DF283","v":0},{"$f":"IF(CT31>=$D$7,\"B:\"&'3.WEF Status-Base'!$Z30&\": \",)&IF(CU31<>0,\"1.\"&'7.WEF Influence-Mine'!$DG123&\" \",)&IF(CV31<>0,\"2.\"&'7.WEF Influence-Mine'!$DG163&\" \",)&IF(CW31<>0,\"3.\"&'7.WEF Influence-Mine'!$DG203&\" \",)&IF(CX31<>0,\"4.\"&'7.WEF Influence-Mine'!$DG243&\" \",)&IF(CY31<>0,\"5.\"&'7.WEF Influence-Mine'!$DG283&\" \",)","v":""},null,null,null,null,null,null,{"$f":"'3.WEF Status-Base'!AB30","v":0},{"$f":"'7.WEF Influence-Mine'!$DJ123","v":0},{"$f":"'7.WEF Influence-Mine'!$DJ163","v":0},{"$f":"'7.WEF Influence-Mine'!$DJ203","v":0},{"$f":"'7.WEF Influence-Mine'!$DJ243","v":0},{"$f":"'7.WEF Influence-Mine'!$DJ283","v":0},{"$f":"IF(DG31>=$D$7,\"B:\"&'3.WEF Status-Base'!$AC30&\": \",)&IF(DH31<>0,\"1.\"&'7.WEF Influence-Mine'!$DK123&\" \",)&IF(DI31<>0,\"2.\"&'7.WEF Influence-Mine'!$DK163&\" \",)&IF(DJ31<>0,\"3.\"&'7.WEF Influence-Mine'!$DK203&\" \",)&IF(DK31<>0,\"4.\"&'7.WEF Influence-Mine'!$DK243&\" \",)&IF(DL31<>0,\"5.\"&'7.WEF Influence-Mine'!$DK283&\" \",)","v":""},null,null,null,null,null,null,{"$f":"'3.WEF Status-Base'!AE30","v":0},{"$f":"'7.WEF Influence-Mine'!$DN123","v":0},{"$f":"'7.WEF Influence-Mine'!$DN163","v":0},{"$f":"'7.WEF Influence-Mine'!$DN203","v":0},{"$f":"'7.WEF Influence-Mine'!$DN243","v":0},{"$f":"'7.WEF Influence-Mine'!$DN283","v":0},{"$f":"IF(DT31>=$D$7,\"B:\"&'3.WEF Status-Base'!$AF30&\": \",)&IF(DU31<>0,\"1.\"&'7.WEF Influence-Mine'!$DO123&\" \",)&IF(DV31<>0,\"2.\"&'7.WEF Influence-Mine'!$DO163&\" \",)&IF(DW31<>0,\"3.\"&'7.WEF Influence-Mine'!$DO203&\" \",)&IF(DX31<>0,\"4.\"&'7.WEF Influence-Mine'!$DO243&\" \",)&IF(DY31<>0,\"5.\"&'7.WEF Influence-Mine'!$DO283&\" \",)","v":""},null,null,null,null,null,null,{"$f":"'3.WEF Status-Base'!AH30","v":0},{"$f":"'7.WEF Influence-Mine'!$DR123","v":0},{"$f":"'7.WEF Influence-Mine'!$DR163","v":0},{"$f":"'7.WEF Influence-Mine'!$DR203","v":0},{"$f":"'7.WEF Influence-Mine'!$DR243","v":0},{"$f":"'7.WEF Influence-Mine'!$DR283","v":0},{"$f":"IF(EG31>=$D$7,\"B:\"&'3.WEF Status-Base'!$AI30&\": \",)&IF(EH31<>0,\"1.\"&'7.WEF Influence-Mine'!$DS123&\" \",)&IF(EI31<>0,\"2.\"&'7.WEF Influence-Mine'!$DS163&\" \",)&IF(EJ31<>0,\"3.\"&'7.WEF Influence-Mine'!$DS203&\" \",)&IF(EK31<>0,\"4.\"&'7.WEF Influence-Mine'!$DS243&\" \",)&IF(EL31<>0,\"5.\"&'7.WEF Influence-Mine'!$DS283&\" \",)","v":""},null,null,null,null,null,null,{"$f":"'3.WEF Status-Base'!AK30","v":0},{"$f":"'7.WEF Influence-Mine'!$DV123","v":0},{"$f":"'7.WEF Influence-Mine'!$DV163","v":0},{"$f":"'7.WEF Influence-Mine'!$DV203","v":0},{"$f":"'7.WEF Influence-Mine'!$DV243","v":0},{"$f":"'7.WEF Influence-Mine'!$DV283","v":0},{"$f":"IF(ET31>=$D$7,\"B:\"&'3.WEF Status-Base'!$AL30&\": \",)&IF(EU31<>0,\"1.\"&'7.WEF Influence-Mine'!$DW123&\" \",)&IF(EV31<>0,\"2.\"&'7.WEF Influence-Mine'!$DW163&\" \",)&IF(EW31<>0,\"3.\"&'7.WEF Influence-Mine'!$DW203&\" \",)&IF(EX31<>0,\"4.\"&'7.WEF Influence-Mine'!$DW243&\" \",)&IF(EY31<>0,\"5.\"&'7.WEF Influence-Mine'!$DW283&\" \",)","v":""},null,null,null,null,null,null,{"$f":"'3.WEF Status-Base'!AN30","v":0},{"$f":"'7.WEF Influence-Mine'!$DZ123","v":0},{"$f":"'7.WEF Influence-Mine'!$DZ163","v":0},{"$f":"'7.WEF Influence-Mine'!$DZ203","v":0},{"$f":"'7.WEF Influence-Mine'!$DZ243","v":0},{"$f":"'7.WEF Influence-Mine'!$DZ283","v":0},{"$f":"IF(FG31>=$D$7,\"B:\"&'3.WEF Status-Base'!$AO30&\": \",)&IF(FH31<>0,\"1.\"&'7.WEF Influence-Mine'!$EA123&\" \",)&IF(FI31<>0,\"2.\"&'7.WEF Influence-Mine'!$EA163&\" \",)&IF(FJ31<>0,\"3.\"&'7.WEF Influence-Mine'!$EA203&\" \",)&IF(FK31<>0,\"4.\"&'7.WEF Influence-Mine'!$EA243&\" \",)&IF(FL31<>0,\"5.\"&'7.WEF Influence-Mine'!$EA283&\" \",)","v":""},null,null,null,null,null,null,{"$f":"'3.WEF Status-Base'!AQ30","v":0},{"$f":"'7.WEF Influence-Mine'!$ED123","v":0},{"$f":"'7.WEF Influence-Mine'!$ED163","v":0},{"$f":"'7.WEF Influence-Mine'!$ED203","v":0},{"$f":"'7.WEF Influence-Mine'!$ED243","v":0},{"$f":"'7.WEF Influence-Mine'!$ED283","v":0},{"$f":"IF(FT31>=$D$7,\"B:\"&'3.WEF Status-Base'!$AR30&\": \",)&IF(FU31<>0,\"1.\"&'7.WEF Influence-Mine'!$EE123&\" \",)&IF(FV31<>0,\"2.\"&'7.WEF Influence-Mine'!$EE163&\" \",)&IF(FW31<>0,\"3.\"&'7.WEF Influence-Mine'!$EE203&\" \",)&IF(FX31<>0,\"4.\"&'7.WEF Influence-Mine'!$EE243&\" \",)&IF(FY31<>0,\"5.\"&'7.WEF Influence-Mine'!$EE283&\" \",)","v":""},null,null,null,null,null,null,{"$f":"'3.WEF Status-Base'!AT30","v":0},{"$f":"'7.WEF Influence-Mine'!$EH123","v":0},{"$f":"'7.WEF Influence-Mine'!$EH163","v":0},{"$f":"'7.WEF Influence-Mine'!$EH203","v":0},{"$f":"'7.WEF Influence-Mine'!$EH243","v":0},{"$f":"'7.WEF Influence-Mine'!$EH283","v":0},{"$f":"IF(GG31>=$D$7,\"B:\"&'3.WEF Status-Base'!$AU30&\": \",)&IF(GH31<>0,\"1.\"&'7.WEF Influence-Mine'!$EI123&\" \",)&IF(GI31<>0,\"2.\"&'7.WEF Influence-Mine'!$EI163&\" \",)&IF(GJ31<>0,\"3.\"&'7.WEF Influence-Mine'!$EI203&\" \",)&IF(GK31<>0,\"4.\"&'7.WEF Influence-Mine'!$EI243&\" \",)&IF(GL31<>0,\"5.\"&'7.WEF Influence-Mine'!$EI283&\" \",)","v":""},null,null,null,null,null,null,{"$f":"'3.WEF Status-Base'!AW30","v":0},{"$f":"'7.WEF Influence-Mine'!$EL123","v":0},{"$f":"'7.WEF Influence-Mine'!$EL163","v":0},{"$f":"'7.WEF Influence-Mine'!$EL203","v":0},{"$f":"'7.WEF Influence-Mine'!$EL243","v":0},{"$f":"'7.WEF Influence-Mine'!$EL283","v":0},{"$f":"IF(GT31>=$D$7,\"B:\"&'3.WEF Status-Base'!$AX30&\": \",)&IF(GU31<>0,\"1.\"&'7.WEF Influence-Mine'!$EM123&\" \",)&IF(GV31<>0,\"2.\"&'7.WEF Influence-Mine'!$EM163&\" \",)&IF(GW31<>0,\"3.\"&'7.WEF Influence-Mine'!$EM203&\" \",)&IF(GX31<>0,\"4.\"&'7.WEF Influence-Mine'!$EM243&\" \",)&IF(GY31<>0,\"5.\"&'7.WEF Influence-Mine'!$EM283&\" \",)","v":""},null,null,null,null,null,null,{"$f":"'3.WEF Status-Base'!AZ30","v":0},{"$f":"'7.WEF Influence-Mine'!$EP123","v":0},{"$f":"'7.WEF Influence-Mine'!$EP163","v":0},{"$f":"'7.WEF Influence-Mine'!$EP203","v":0},{"$f":"'7.WEF Influence-Mine'!$EP243","v":0},{"$f":"'7.WEF Influence-Mine'!$EP283","v":0},{"$f":"IF(HG31>=$D$7,\"B:\"&'3.WEF Status-Base'!$BA30&\": \",)&IF(HH31<>0,\"1.\"&'7.WEF Influence-Mine'!$EQ123&\" \",)&IF(HI31<>0,\"2.\"&'7.WEF Influence-Mine'!$EQ163&\" \",)&IF(HJ31<>0,\"3.\"&'7.WEF Influence-Mine'!$EQ203&\" \",)&IF(HK31<>0,\"4.\"&'7.WEF Influence-Mine'!$EQ243&\" \",)&IF(HL31<>0,\"5.\"&'7.WEF Influence-Mine'!$EQ283&\" \",)","v":""},null,null,null,null,null,null,{"$f":"'3.WEF Status-Base'!BC30","v":0},{"$f":"'7.WEF Influence-Mine'!$ET123","v":0},{"$f":"'7.WEF Influence-Mine'!$ET163","v":0},{"$f":"'7.WEF Influence-Mine'!$ET203","v":0},{"$f":"'7.WEF Influence-Mine'!$ET243","v":0},{"$f":"'7.WEF Influence-Mine'!$ET283","v":0},{"$f":"IF(HT31>=$D$7,\"B:\"&'3.WEF Status-Base'!$BD30&\": \",)&IF(HU31<>0,\"1.\"&'7.WEF Influence-Mine'!$EU123&\" \",)&IF(HV31<>0,\"2.\"&'7.WEF Influence-Mine'!$EU163&\" \",)&IF(HW31<>0,\"3.\"&'7.WEF Influence-Mine'!$EU203&\" \",)&IF(HX31<>0,\"4.\"&'7.WEF Influence-Mine'!$EU243&\" \",)&IF(HY31<>0,\"5.\"&'7.WEF Influence-Mine'!$EU283&\" \",)","v":""},null,null,null,null,null,null,{"$f":"'7.WEF Influence-Mine'!EV123&\" : \"&'7.WEF Influence-Mine'!EV163&\" : \"&'7.WEF Influence-Mine'!EV203&\" : \"&'7.WEF Influence-Mine'!EV243&\" : \"&'7.WEF Influence-Mine'!EV283","v":"0 : 0 : 0 : 0 : 0"}]
[22,"     Storm protection",{"$f":"'3.WEF Status-Base'!B31","v":0},0,0,null,{"$f":"'3.WEF Status-Base'!D31","v":0},{"$f":"'7.WEF Influence-Mine'!$CD124","v":0},{"$f":"'7.WEF Influence-Mine'!$CD164","v":0},{"$f":"'7.WEF Influence-Mine'!$CD204","v":0},{"$f":"'7.WEF Influence-Mine'!$CD244","v":0},{"$f":"'7.WEF Influence-Mine'!$CD284","v":0},{"$f":"IF(G32>=$D$7,\"B:\"&'3.WEF Status-Base'!$E31&\": \",)&IF(H32<>0,\"1. \"&'7.WEF Influence-Mine'!$CE124&\" \",)&IF(I32<>0,\"2. \"&'7.WEF Influence-Mine'!$CE164&\" \",)&IF(J32<>0,\"3. \"&'7.WEF Influence-Mine'!$CE204&\" \",)&IF(K32<>0,\"4. \"&'7.WEF Influence-Mine'!$CE244&\" \",)&IF(L32<>0,\"5. \"&'7.WEF Influence-Mine'!$CE284&\" \",)","v":""},null,null,null,null,null,null,{"$f":"'3.WEF Status-Base'!G31","v":0},{"$f":"'7.WEF Influence-Mine'!$CH124","v":0},{"$f":"'7.WEF Influence-Mine'!$CH164","v":0},{"$f":"'7.WEF Influence-Mine'!$CH204","v":0},{"$f":"'7.WEF Influence-Mine'!$CH244","v":0},{"$f":"'7.WEF Influence-Mine'!$CH284","v":0},{"$f":"IF(T32>=$D$7,\"B:\"&'3.WEF Status-Base'!$H31&\": \",)&IF(U32<>0,\"1.\"&'7.WEF Influence-Mine'!$CI124&\" \",)&IF(V32<>0,\"2.\"&'7.WEF Influence-Mine'!$CI164&\" \",)&IF(W32<>0,\"3.\"&'7.WEF Influence-Mine'!$CI204&\" \",)&IF(X32<>0,\"4.\"&'7.WEF Influence-Mine'!$CI244&\" \",)&IF(Y32<>0,\"5.\"&'7.WEF Influence-Mine'!$CI284&\" \",)","v":""},null,null,null,null,null,null,{"$f":"'3.WEF Status-Base'!J31","v":0},{"$f":"'7.WEF Influence-Mine'!$CL124","v":0},{"$f":"'7.WEF Influence-Mine'!$CL164","v":0},{"$f":"'7.WEF Influence-Mine'!$CL204","v":0},{"$f":"'7.WEF Influence-Mine'!$CL244","v":0},{"$f":"'7.WEF Influence-Mine'!$CL284","v":0},{"$f":"IF(AG32>=$D$7,\"B:\"&'3.WEF Status-Base'!$K31&\": \",)&IF(AH32<>0,\"1.\"&'7.WEF Influence-Mine'!$CM124&\" \",)&IF(AI32<>0,\"2.\"&'7.WEF Influence-Mine'!$CM164&\" \",)&IF(AJ32<>0,\"3.\"&'7.WEF Influence-Mine'!$CM204&\" \",)&IF(AK32<>0,\"4.\"&'7.WEF Influence-Mine'!$CM244&\" \",)&IF(AL32<>0,\"5.\"&'7.WEF Influence-Mine'!$CM284&\" \",)","v":""},null,null,null,null,null,null,{"$f":"'3.WEF Status-Base'!M31","v":0},{"$f":"'7.WEF Influence-Mine'!$CP124","v":0},{"$f":"'7.WEF Influence-Mine'!$CP164","v":0},{"$f":"'7.WEF Influence-Mine'!$CP204","v":0},{"$f":"'7.WEF Influence-Mine'!$CP244","v":0},{"$f":"'7.WEF Influence-Mine'!$CP284","v":0},{"$f":"IF(AT32>=$D$7,\"B:\"&'3.WEF Status-Base'!$N31&\": \",)&IF(AU32<>0,\"1.\"&'7.WEF Influence-Mine'!$CQ124&\" \",)&IF(AV32<>0,\"2.\"&'7.WEF Influence-Mine'!$CQ164&\" \",)&IF(AW32<>0,\"3.\"&'7.WEF Influence-Mine'!$CQ204&\" \",)&IF(AX32<>0,\"4.\"&'7.WEF Influence-Mine'!$CQ244&\" \",)&IF(AY32<>0,\"5.\"&'7.WEF Influence-Mine'!$CQ284&\" \",)","v":""},null,null,null,null,null,null,{"$f":"'3.WEF Status-Base'!P31","v":0},{"$f":"'7.WEF Influence-Mine'!$CT124","v":0},{"$f":"'7.WEF Influence-Mine'!$CT164","v":0},{"$f":"'7.WEF Influence-Mine'!$CT204","v":0},{"$f":"'7.WEF Influence-Mine'!$CT244","v":0},{"$f":"'7.WEF Influence-Mine'!$CT284","v":0},{"$f":"IF(BG32>=$D$7,\"B:\"&'3.WEF Status-Base'!$Q31&\": \",)&IF(BH32<>0,\"1.\"&'7.WEF Influence-Mine'!$CU124&\" \",)&IF(BI32<>0,\"2.\"&'7.WEF Influence-Mine'!$CU164&\" \",)&IF(BJ32<>0,\"3.\"&'7.WEF Influence-Mine'!$CU204&\" \",)&IF(BK32<>0,\"4.\"&'7.WEF Influence-Mine'!$CU244&\" \",)&IF(BL32<>0,\"5.\"&'7.WEF Influence-Mine'!$CU284&\" \",)","v":""},null,null,null,null,null,null,{"$f":"'3.WEF Status-Base'!S31","v":0},{"$f":"'7.WEF Influence-Mine'!$CX124","v":0},{"$f":"'7.WEF Influence-Mine'!$CX164","v":0},{"$f":"'7.WEF Influence-Mine'!$CX204","v":0},{"$f":"'7.WEF Influence-Mine'!$CX244","v":0},{"$f":"'7.WEF Influence-Mine'!$CX284","v":0},{"$f":"IF(BT32>=$D$7,\"B:\"&'3.WEF Status-Base'!$T31&\": \",)&IF(BU32<>0,\"1.\"&'7.WEF Influence-Mine'!$CY124&\" \",)&IF(BV32<>0,\"2.\"&'7.WEF Influence-Mine'!$CY164&\" \",)&IF(BW32<>0,\"3.\"&'7.WEF Influence-Mine'!$CY204&\" \",)&IF(BX32<>0,\"4.\"&'7.WEF Influence-Mine'!$CY244&\" \",)&IF(BY32<>0,\"5.\"&'7.WEF Influence-Mine'!$CY284&\" \",)","v":""},null,null,null,null,null,null,{"$f":"'3.WEF Status-Base'!V31","v":0},{"$f":"'7.WEF Influence-Mine'!$DB124","v":0},{"$f":"'7.WEF Influence-Mine'!$DB164","v":0},{"$f":"'7.WEF Influence-Mine'!$DB204","v":0},{"$f":"'7.WEF Influence-Mine'!$DB244","v":0},{"$f":"'7.WEF Influence-Mine'!$DB284","v":0},{"$f":"IF(CG32>=$D$7,\"B:\"&'3.WEF Status-Base'!$W31&\": \",)&IF(CH32<>0,\"1.\"&'7.WEF Influence-Mine'!$DC124&\" \",)&IF(CI32<>0,\"2.\"&'7.WEF Influence-Mine'!$DC164&\" \",)&IF(CJ32<>0,\"3.\"&'7.WEF Influence-Mine'!$DC204&\" \",)&IF(CK32<>0,\"4.\"&'7.WEF Influence-Mine'!$DC244&\" \",)&IF(CL32<>0,\"5.\"&'7.WEF Influence-Mine'!$DC284&\" \",)","v":""},null,null,null,null,null,null,{"$f":"'3.WEF Status-Base'!Y31","v":0},{"$f":"'7.WEF Influence-Mine'!$DF124","v":0},{"$f":"'7.WEF Influence-Mine'!$DF164","v":0},{"$f":"'7.WEF Influence-Mine'!$DF204","v":0},{"$f":"'7.WEF Influence-Mine'!$DF244","v":0},{"$f":"'7.WEF Influence-Mine'!$DF284","v":0},{"$f":"IF(CT32>=$D$7,\"B:\"&'3.WEF Status-Base'!$Z31&\": \",)&IF(CU32<>0,\"1.\"&'7.WEF Influence-Mine'!$DG124&\" \",)&IF(CV32<>0,\"2.\"&'7.WEF Influence-Mine'!$DG164&\" \",)&IF(CW32<>0,\"3.\"&'7.WEF Influence-Mine'!$DG204&\" \",)&IF(CX32<>0,\"4.\"&'7.WEF Influence-Mine'!$DG244&\" \",)&IF(CY32<>0,\"5.\"&'7.WEF Influence-Mine'!$DG284&\" \",)","v":""},null,null,null,null,null,null,{"$f":"'3.WEF Status-Base'!AB31","v":0},{"$f":"'7.WEF Influence-Mine'!$DJ124","v":0},{"$f":"'7.WEF Influence-Mine'!$DJ164","v":0},{"$f":"'7.WEF Influence-Mine'!$DJ204","v":0},{"$f":"'7.WEF Influence-Mine'!$DJ244","v":0},{"$f":"'7.WEF Influence-Mine'!$DJ284","v":0},{"$f":"IF(DG32>=$D$7,\"B:\"&'3.WEF Status-Base'!$AC31&\": \",)&IF(DH32<>0,\"1.\"&'7.WEF Influence-Mine'!$DK124&\" \",)&IF(DI32<>0,\"2.\"&'7.WEF Influence-Mine'!$DK164&\" \",)&IF(DJ32<>0,\"3.\"&'7.WEF Influence-Mine'!$DK204&\" \",)&IF(DK32<>0,\"4.\"&'7.WEF Influence-Mine'!$DK244&\" \",)&IF(DL32<>0,\"5.\"&'7.WEF Influence-Mine'!$DK284&\" \",)","v":""},null,null,null,null,null,null,{"$f":"'3.WEF Status-Base'!AE31","v":0},{"$f":"'7.WEF Influence-Mine'!$DN124","v":0},{"$f":"'7.WEF Influence-Mine'!$DN164","v":0},{"$f":"'7.WEF Influence-Mine'!$DN204","v":0},{"$f":"'7.WEF Influence-Mine'!$DN244","v":0},{"$f":"'7.WEF Influence-Mine'!$DN284","v":0},{"$f":"IF(DT32>=$D$7,\"B:\"&'3.WEF Status-Base'!$AF31&\": \",)&IF(DU32<>0,\"1.\"&'7.WEF Influence-Mine'!$DO124&\" \",)&IF(DV32<>0,\"2.\"&'7.WEF Influence-Mine'!$DO164&\" \",)&IF(DW32<>0,\"3.\"&'7.WEF Influence-Mine'!$DO204&\" \",)&IF(DX32<>0,\"4.\"&'7.WEF Influence-Mine'!$DO244&\" \",)&IF(DY32<>0,\"5.\"&'7.WEF Influence-Mine'!$DO284&\" \",)","v":""},null,null,null,null,null,null,{"$f":"'3.WEF Status-Base'!AH31","v":0},{"$f":"'7.WEF Influence-Mine'!$DR124","v":0},{"$f":"'7.WEF Influence-Mine'!$DR164","v":0},{"$f":"'7.WEF Influence-Mine'!$DR204","v":0},{"$f":"'7.WEF Influence-Mine'!$DR244","v":0},{"$f":"'7.WEF Influence-Mine'!$DR284","v":0},{"$f":"IF(EG32>=$D$7,\"B:\"&'3.WEF Status-Base'!$AI31&\": \",)&IF(EH32<>0,\"1.\"&'7.WEF Influence-Mine'!$DS124&\" \",)&IF(EI32<>0,\"2.\"&'7.WEF Influence-Mine'!$DS164&\" \",)&IF(EJ32<>0,\"3.\"&'7.WEF Influence-Mine'!$DS204&\" \",)&IF(EK32<>0,\"4.\"&'7.WEF Influence-Mine'!$DS244&\" \",)&IF(EL32<>0,\"5.\"&'7.WEF Influence-Mine'!$DS284&\" \",)","v":""},null,null,null,null,null,null,{"$f":"'3.WEF Status-Base'!AK31","v":0},{"$f":"'7.WEF Influence-Mine'!$DV124","v":0},{"$f":"'7.WEF Influence-Mine'!$DV164","v":0},{"$f":"'7.WEF Influence-Mine'!$DV204","v":0},{"$f":"'7.WEF Influence-Mine'!$DV244","v":0},{"$f":"'7.WEF Influence-Mine'!$DV284","v":0},{"$f":"IF(ET32>=$D$7,\"B:\"&'3.WEF Status-Base'!$AL31&\": \",)&IF(EU32<>0,\"1.\"&'7.WEF Influence-Mine'!$DW124&\" \",)&IF(EV32<>0,\"2.\"&'7.WEF Influence-Mine'!$DW164&\" \",)&IF(EW32<>0,\"3.\"&'7.WEF Influence-Mine'!$DW204&\" \",)&IF(EX32<>0,\"4.\"&'7.WEF Influence-Mine'!$DW244&\" \",)&IF(EY32<>0,\"5.\"&'7.WEF Influence-Mine'!$DW284&\" \",)","v":""},null,null,null,null,null,null,{"$f":"'3.WEF Status-Base'!AN31","v":0},{"$f":"'7.WEF Influence-Mine'!$DZ124","v":0},{"$f":"'7.WEF Influence-Mine'!$DZ164","v":0},{"$f":"'7.WEF Influence-Mine'!$DZ204","v":0},{"$f":"'7.WEF Influence-Mine'!$DZ244","v":0},{"$f":"'7.WEF Influence-Mine'!$DZ284","v":0},{"$f":"IF(FG32>=$D$7,\"B:\"&'3.WEF Status-Base'!$AO31&\": \",)&IF(FH32<>0,\"1.\"&'7.WEF Influence-Mine'!$EA124&\" \",)&IF(FI32<>0,\"2.\"&'7.WEF Influence-Mine'!$EA164&\" \",)&IF(FJ32<>0,\"3.\"&'7.WEF Influence-Mine'!$EA204&\" \",)&IF(FK32<>0,\"4.\"&'7.WEF Influence-Mine'!$EA244&\" \",)&IF(FL32<>0,\"5.\"&'7.WEF Influence-Mine'!$EA284&\" \",)","v":""},null,null,null,null,null,null,{"$f":"'3.WEF Status-Base'!AQ31","v":0},{"$f":"'7.WEF Influence-Mine'!$ED124","v":0},{"$f":"'7.WEF Influence-Mine'!$ED164","v":0},{"$f":"'7.WEF Influence-Mine'!$ED204","v":0},{"$f":"'7.WEF Influence-Mine'!$ED244","v":0},{"$f":"'7.WEF Influence-Mine'!$ED284","v":0},{"$f":"IF(FT32>=$D$7,\"B:\"&'3.WEF Status-Base'!$AR31&\": \",)&IF(FU32<>0,\"1.\"&'7.WEF Influence-Mine'!$EE124&\" \",)&IF(FV32<>0,\"2.\"&'7.WEF Influence-Mine'!$EE164&\" \",)&IF(FW32<>0,\"3.\"&'7.WEF Influence-Mine'!$EE204&\" \",)&IF(FX32<>0,\"4.\"&'7.WEF Influence-Mine'!$EE244&\" \",)&IF(FY32<>0,\"5.\"&'7.WEF Influence-Mine'!$EE284&\" \",)","v":""},null,null,null,null,null,null,{"$f":"'3.WEF Status-Base'!AT31","v":0},{"$f":"'7.WEF Influence-Mine'!$EH124","v":0},{"$f":"'7.WEF Influence-Mine'!$EH164","v":0},{"$f":"'7.WEF Influence-Mine'!$EH204","v":0},{"$f":"'7.WEF Influence-Mine'!$EH244","v":0},{"$f":"'7.WEF Influence-Mine'!$EH284","v":0},{"$f":"IF(GG32>=$D$7,\"B:\"&'3.WEF Status-Base'!$AU31&\": \",)&IF(GH32<>0,\"1.\"&'7.WEF Influence-Mine'!$EI124&\" \",)&IF(GI32<>0,\"2.\"&'7.WEF Influence-Mine'!$EI164&\" \",)&IF(GJ32<>0,\"3.\"&'7.WEF Influence-Mine'!$EI204&\" \",)&IF(GK32<>0,\"4.\"&'7.WEF Influence-Mine'!$EI244&\" \",)&IF(GL32<>0,\"5.\"&'7.WEF Influence-Mine'!$EI284&\" \",)","v":""},null,null,null,null,null,null,{"$f":"'3.WEF Status-Base'!AW31","v":0},{"$f":"'7.WEF Influence-Mine'!$EL124","v":0},{"$f":"'7.WEF Influence-Mine'!$EL164","v":0},{"$f":"'7.WEF Influence-Mine'!$EL204","v":0},{"$f":"'7.WEF Influence-Mine'!$EL244","v":0},{"$f":"'7.WEF Influence-Mine'!$EL284","v":0},{"$f":"IF(GT32>=$D$7,\"B:\"&'3.WEF Status-Base'!$AX31&\": \",)&IF(GU32<>0,\"1.\"&'7.WEF Influence-Mine'!$EM124&\" \",)&IF(GV32<>0,\"2.\"&'7.WEF Influence-Mine'!$EM164&\" \",)&IF(GW32<>0,\"3.\"&'7.WEF Influence-Mine'!$EM204&\" \",)&IF(GX32<>0,\"4.\"&'7.WEF Influence-Mine'!$EM244&\" \",)&IF(GY32<>0,\"5.\"&'7.WEF Influence-Mine'!$EM284&\" \",)","v":""},null,null,null,null,null,null,{"$f":"'3.WEF Status-Base'!AZ31","v":0},{"$f":"'7.WEF Influence-Mine'!$EP124","v":0},{"$f":"'7.WEF Influence-Mine'!$EP164","v":0},{"$f":"'7.WEF Influence-Mine'!$EP204","v":0},{"$f":"'7.WEF Influence-Mine'!$EP244","v":0},{"$f":"'7.WEF Influence-Mine'!$EP284","v":0},{"$f":"IF(HG32>=$D$7,\"B:\"&'3.WEF Status-Base'!$BA31&\": \",)&IF(HH32<>0,\"1.\"&'7.WEF Influence-Mine'!$EQ124&\" \",)&IF(HI32<>0,\"2.\"&'7.WEF Influence-Mine'!$EQ164&\" \",)&IF(HJ32<>0,\"3.\"&'7.WEF Influence-Mine'!$EQ204&\" \",)&IF(HK32<>0,\"4.\"&'7.WEF Influence-Mine'!$EQ244&\" \",)&IF(HL32<>0,\"5.\"&'7.WEF Influence-Mine'!$EQ284&\" \",)","v":""},null,null,null,null,null,null,{"$f":"'3.WEF Status-Base'!BC31","v":0},{"$f":"'7.WEF Influence-Mine'!$ET124","v":0},{"$f":"'7.WEF Influence-Mine'!$ET164","v":0},{"$f":"'7.WEF Influence-Mine'!$ET204","v":0},{"$f":"'7.WEF Influence-Mine'!$ET244","v":0},{"$f":"'7.WEF Influence-Mine'!$ET284","v":0},{"$f":"IF(HT32>=$D$7,\"B:\"&'3.WEF Status-Base'!$BD31&\": \",)&IF(HU32<>0,\"1.\"&'7.WEF Influence-Mine'!$EU124&\" \",)&IF(HV32<>0,\"2.\"&'7.WEF Influence-Mine'!$EU164&\" \",)&IF(HW32<>0,\"3.\"&'7.WEF Influence-Mine'!$EU204&\" \",)&IF(HX32<>0,\"4.\"&'7.WEF Influence-Mine'!$EU244&\" \",)&IF(HY32<>0,\"5.\"&'7.WEF Influence-Mine'!$EU284&\" \",)","v":""},null,null,null,null,null,null,{"$f":"'7.WEF Influence-Mine'!EV124&\" : \"&'7.WEF Influence-Mine'!EV164&\" : \"&'7.WEF Influence-Mine'!EV204&\" : \"&'7.WEF Influence-Mine'!EV244&\" : \"&'7.WEF Influence-Mine'!EV284","v":"0 : 0 : 0 : 0 : 0"}]
[23,"Supporting Institutions and Policies","X","X","X"]
[24,"Institutions","x","x","x"]
[25,"     Utility boards",{"$f":"'3.WEF Status-Base'!B34","v":0},{"$f":"MAX($H35:$L35,$U35:$Y35,$AH35:$AL35,$AU35:$AY35,$BH35:$BL35,$BU35:$BY35,$CH35:$CL35,$CU35:$CY35,$DH35:$DL35,$DU35:$DY35,$EH35:$EL35,$EU35:$EY35,$FH35:$FL35,$FU35:$FY35,$GH35:$GL35,$GU35:$GY35,$HH35:$HL35,$HU35:$HY35)","v":0},{"$f":"MIN($H35:$L35,$U35:$Y35,$AH35:$AL35,$AU35:$AY35,$BH35:$BL35,$BU35:$BY35,$CH35:$CL35,$CU35:$CY35,$DH35:$DL35,$DU35:$DY35,$EH35:$EL35,$EU35:$EY35,$FH35:$FL35,$FU35:$FY35,$GH35:$GL35,$GU35:$GY35,$HH35:$HL35,$HU35:$HY35)","v":0},null,{"$f":"'3.WEF Status-Base'!D34","v":0},{"$f":"'7.WEF Influence-Mine'!$CD127","v":0},{"$f":"'7.WEF Influence-Mine'!$CD167","v":0},{"$f":"'7.WEF Influence-Mine'!$CD207","v":0},{"$f":"'7.WEF Influence-Mine'!$CD247","v":0},{"$f":"'7.WEF Influence-Mine'!$CD287","v":0},{"$f":"IF(G35>=$D$7,\"B:\"&'3.WEF Status-Base'!$E34&\": \",)&IF(H35<>0,\"1. \"&'7.WEF Influence-Mine'!$CE127&\" \",)&IF(I35<>0,\"2. \"&'7.WEF Influence-Mine'!$CE167&\" \",)&IF(J35<>0,\"3. \"&'7.WEF Influence-Mine'!$CE207&\" \",)&IF(K35<>0,\"4. \"&'7.WEF Influence-Mine'!$CE247&\" \",)&IF(L35<>0,\"5. \"&'7.WEF Influence-Mine'!$CE287&\" \",)","v":""},null,null,null,null,null,null,{"$f":"'3.WEF Status-Base'!G34","v":0},{"$f":"'7.WEF Influence-Mine'!$CH127","v":0},{"$f":"'7.WEF Influence-Mine'!$CH167","v":0},{"$f":"'7.WEF Influence-Mine'!$CH207","v":0},{"$f":"'7.WEF Influence-Mine'!$CH247","v":0},{"$f":"'7.WEF Influence-Mine'!$CH287","v":0},{"$f":"IF(T35>=$D$7,\"B:\"&'3.WEF Status-Base'!$H34&\": \",)&IF(U35<>0,\"1.\"&'7.WEF Influence-Mine'!$CI127&\" \",)&IF(V35<>0,\"2.\"&'7.WEF Influence-Mine'!$CI167&\" \",)&IF(W35<>0,\"3.\"&'7.WEF Influence-Mine'!$CI207&\" \",)&IF(X35<>0,\"4.\"&'7.WEF Influence-Mine'!$CI247&\" \",)&IF(Y35<>0,\"5.\"&'7.WEF Influence-Mine'!$CI287&\" \",)","v":""},null,null,null,null,null,null,{"$f":"'3.WEF Status-Base'!J34","v":0},{"$f":"'7.WEF Influence-Mine'!$CL127","v":0},{"$f":"'7.WEF Influence-Mine'!$CL167","v":0},{"$f":"'7.WEF Influence-Mine'!$CL207","v":0},{"$f":"'7.WEF Influence-Mine'!$CL247","v":0},{"$f":"'7.WEF Influence-Mine'!$CL287","v":0},{"$f":"IF(AG35>=$D$7,\"B:\"&'3.WEF Status-Base'!$K34&\": \",)&IF(AH35<>0,\"1.\"&'7.WEF Influence-Mine'!$CM127&\" \",)&IF(AI35<>0,\"2.\"&'7.WEF Influence-Mine'!$CM167&\" \",)&IF(AJ35<>0,\"3.\"&'7.WEF Influence-Mine'!$CM207&\" \",)&IF(AK35<>0,\"4.\"&'7.WEF Influence-Mine'!$CM247&\" \",)&IF(AL35<>0,\"5.\"&'7.WEF Influence-Mine'!$CM287&\" \",)","v":""},null,null,null,null,null,null,{"$f":"'3.WEF Status-Base'!M34","v":0},{"$f":"'7.WEF Influence-Mine'!$CP127","v":0},{"$f":"'7.WEF Influence-Mine'!$CP167","v":0},{"$f":"'7.WEF Influence-Mine'!$CP207","v":0},{"$f":"'7.WEF Influence-Mine'!$CP247","v":0},{"$f":"'7.WEF Influence-Mine'!$CP287","v":0},{"$f":"IF(AT35>=$D$7,\"B:\"&'3.WEF Status-Base'!$N34&\": \",)&IF(AU35<>0,\"1.\"&'7.WEF Influence-Mine'!$CQ127&\" \",)&IF(AV35<>0,\"2.\"&'7.WEF Influence-Mine'!$CQ167&\" \",)&IF(AW35<>0,\"3.\"&'7.WEF Influence-Mine'!$CQ207&\" \",)&IF(AX35<>0,\"4.\"&'7.WEF Influence-Mine'!$CQ247&\" \",)&IF(AY35<>0,\"5.\"&'7.WEF Influence-Mine'!$CQ287&\" \",)","v":""},null,null,null,null,null,null,{"$f":"'3.WEF Status-Base'!P34","v":0},{"$f":"'7.WEF Influence-Mine'!$CT127","v":0},{"$f":"'7.WEF Influence-Mine'!$CT167","v":0},{"$f":"'7.WEF Influence-Mine'!$CT207","v":0},{"$f":"'7.WEF Influence-Mine'!$CT247","v":0},{"$f":"'7.WEF Influence-Mine'!$CT287","v":0},{"$f":"IF(BG35>=$D$7,\"B:\"&'3.WEF Status-Base'!$Q34&\": \",)&IF(BH35<>0,\"1.\"&'7.WEF Influence-Mine'!$CU127&\" \",)&IF(BI35<>0,\"2.\"&'7.WEF Influence-Mine'!$CU167&\" \",)&IF(BJ35<>0,\"3.\"&'7.WEF Influence-Mine'!$CU207&\" \",)&IF(BK35<>0,\"4.\"&'7.WEF Influence-Mine'!$CU247&\" \",)&IF(BL35<>0,\"5.\"&'7.WEF Influence-Mine'!$CU287&\" \",)","v":""},null,null,null,null,null,null,{"$f":"'3.WEF Status-Base'!S34","v":0},{"$f":"'7.WEF Influence-Mine'!$CX127","v":0},{"$f":"'7.WEF Influence-Mine'!$CX167","v":0},{"$f":"'7.WEF Influence-Mine'!$CX207","v":0},{"$f":"'7.WEF Influence-Mine'!$CX247","v":0},{"$f":"'7.WEF Influence-Mine'!$CX287","v":0},{"$f":"IF(BT35>=$D$7,\"B:\"&'3.WEF Status-Base'!$T34&\": \",)&IF(BU35<>0,\"1.\"&'7.WEF Influence-Mine'!$CY127&\" \",)&IF(BV35<>0,\"2.\"&'7.WEF Influence-Mine'!$CY167&\" \",)&IF(BW35<>0,\"3.\"&'7.WEF Influence-Mine'!$CY207&\" \",)&IF(BX35<>0,\"4.\"&'7.WEF Influence-Mine'!$CY247&\" \",)&IF(BY35<>0,\"5.\"&'7.WEF Influence-Mine'!$CY287&\" \",)","v":""},null,null,null,null,null,null,{"$f":"'3.WEF Status-Base'!V34","v":0},{"$f":"'7.WEF Influence-Mine'!$DB127","v":0},{"$f":"'7.WEF Influence-Mine'!$DB167","v":0},{"$f":"'7.WEF Influence-Mine'!$DB207","v":0},{"$f":"'7.WEF Influence-Mine'!$DB247","v":0},{"$f":"'7.WEF Influence-Mine'!$DB287","v":0},{"$f":"IF(CG35>=$D$7,\"B:\"&'3.WEF Status-Base'!$W34&\": \",)&IF(CH35<>0,\"1.\"&'7.WEF Influence-Mine'!$DC127&\" \",)&IF(CI35<>0,\"2.\"&'7.WEF Influence-Mine'!$DC167&\" \",)&IF(CJ35<>0,\"3.\"&'7.WEF Influence-Mine'!$DC207&\" \",)&IF(CK35<>0,\"4.\"&'7.WEF Influence-Mine'!$DC247&\" \",)&IF(CL35<>0,\"5.\"&'7.WEF Influence-Mine'!$DC287&\" \",)","v":""},null,null,null,null,null,null,{"$f":"'3.WEF Status-Base'!Y34","v":0},{"$f":"'7.WEF Influence-Mine'!$DF127","v":0},{"$f":"'7.WEF Influence-Mine'!$DF167","v":0},{"$f":"'7.WEF Influence-Mine'!$DF207","v":0},{"$f":"'7.WEF Influence-Mine'!$DF247","v":0},{"$f":"'7.WEF Influence-Mine'!$DF287","v":0},{"$f":"IF(CT35>=$D$7,\"B:\"&'3.WEF Status-Base'!$Z34&\": \",)&IF(CU35<>0,\"1.\"&'7.WEF Influence-Mine'!$DG127&\" \",)&IF(CV35<>0,\"2.\"&'7.WEF Influence-Mine'!$DG167&\" \",)&IF(CW35<>0,\"3.\"&'7.WEF Influence-Mine'!$DG207&\" \",)&IF(CX35<>0,\"4.\"&'7.WEF Influence-Mine'!$DG247&\" \",)&IF(CY35<>0,\"5.\"&'7.WEF Influence-Mine'!$DG287&\" \",)","v":""},null,null,null,null,null,null,{"$f":"'3.WEF Status-Base'!AB34","v":0},{"$f":"'7.WEF Influence-Mine'!$DJ127","v":0},{"$f":"'7.WEF Influence-Mine'!$DJ167","v":0},{"$f":"'7.WEF Influence-Mine'!$DJ207","v":0},{"$f":"'7.WEF Influence-Mine'!$DJ247","v":0},{"$f":"'7.WEF Influence-Mine'!$DJ287","v":0},{"$f":"IF(DG35>=$D$7,\"B:\"&'3.WEF Status-Base'!$AC34&\": \",)&IF(DH35<>0,\"1.\"&'7.WEF Influence-Mine'!$DK127&\" \",)&IF(DI35<>0,\"2.\"&'7.WEF Influence-Mine'!$DK167&\" \",)&IF(DJ35<>0,\"3.\"&'7.WEF Influence-Mine'!$DK207&\" \",)&IF(DK35<>0,\"4.\"&'7.WEF Influence-Mine'!$DK247&\" \",)&IF(DL35<>0,\"5.\"&'7.WEF Influence-Mine'!$DK287&\" \",)","v":""},null,null,null,null,null,null,{"$f":"'3.WEF Status-Base'!AE34","v":0},{"$f":"'7.WEF Influence-Mine'!$DN127","v":0},{"$f":"'7.WEF Influence-Mine'!$DN167","v":0},{"$f":"'7.WEF Influence-Mine'!$DN207","v":0},{"$f":"'7.WEF Influence-Mine'!$DN247","v":0},{"$f":"'7.WEF Influence-Mine'!$DN287","v":0},{"$f":"IF(DT35>=$D$7,\"B:\"&'3.WEF Status-Base'!$AF34&\": \",)&IF(DU35<>0,\"1.\"&'7.WEF Influence-Mine'!$DO127&\" \",)&IF(DV35<>0,\"2.\"&'7.WEF Influence-Mine'!$DO167&\" \",)&IF(DW35<>0,\"3.\"&'7.WEF Influence-Mine'!$DO207&\" \",)&IF(DX35<>0,\"4.\"&'7.WEF Influence-Mine'!$DO247&\" \",)&IF(DY35<>0,\"5.\"&'7.WEF Influence-Mine'!$DO287&\" \",)","v":""},null,null,null,null,null,null,{"$f":"'3.WEF Status-Base'!AH34","v":0},{"$f":"'7.WEF Influence-Mine'!$DR127","v":0},{"$f":"'7.WEF Influence-Mine'!$DR167","v":0},{"$f":"'7.WEF Influence-Mine'!$DR207","v":0},{"$f":"'7.WEF Influence-Mine'!$DR247","v":0},{"$f":"'7.WEF Influence-Mine'!$DR287","v":0},{"$f":"IF(EG35>=$D$7,\"B:\"&'3.WEF Status-Base'!$AI34&\": \",)&IF(EH35<>0,\"1.\"&'7.WEF Influence-Mine'!$DS127&\" \",)&IF(EI35<>0,\"2.\"&'7.WEF Influence-Mine'!$DS167&\" \",)&IF(EJ35<>0,\"3.\"&'7.WEF Influence-Mine'!$DS207&\" \",)&IF(EK35<>0,\"4.\"&'7.WEF Influence-Mine'!$DS247&\" \",)&IF(EL35<>0,\"5.\"&'7.WEF Influence-Mine'!$DS287&\" \",)","v":""},null,null,null,null,null,null,{"$f":"'3.WEF Status-Base'!AK34","v":0},{"$f":"'7.WEF Influence-Mine'!$DV127","v":0},{"$f":"'7.WEF Influence-Mine'!$DV167","v":0},{"$f":"'7.WEF Influence-Mine'!$DV207","v":0},{"$f":"'7.WEF Influence-Mine'!$DV247","v":0},{"$f":"'7.WEF Influence-Mine'!$DV287","v":0},{"$f":"IF(ET35>=$D$7,\"B:\"&'3.WEF Status-Base'!$AL34&\": \",)&IF(EU35<>0,\"1.\"&'7.WEF Influence-Mine'!$DW127&\" \",)&IF(EV35<>0,\"2.\"&'7.WEF Influence-Mine'!$DW167&\" \",)&IF(EW35<>0,\"3.\"&'7.WEF Influence-Mine'!$DW207&\" \",)&IF(EX35<>0,\"4.\"&'7.WEF Influence-Mine'!$DW247&\" \",)&IF(EY35<>0,\"5.\"&'7.WEF Influence-Mine'!$DW287&\" \",)","v":""},null,null,null,null,null,null,{"$f":"'3.WEF Status-Base'!AN34","v":0},{"$f":"'7.WEF Influence-Mine'!$DZ127","v":0},{"$f":"'7.WEF Influence-Mine'!$DZ167","v":0},{"$f":"'7.WEF Influence-Mine'!$DZ207","v":0},{"$f":"'7.WEF Influence-Mine'!$DZ247","v":0},{"$f":"'7.WEF Influence-Mine'!$DZ287","v":0},{"$f":"IF(FG35>=$D$7,\"B:\"&'3.WEF Status-Base'!$AO34&\": \",)&IF(FH35<>0,\"1.\"&'7.WEF Influence-Mine'!$EA127&\" \",)&IF(FI35<>0,\"2.\"&'7.WEF Influence-Mine'!$EA167&\" \",)&IF(FJ35<>0,\"3.\"&'7.WEF Influence-Mine'!$EA207&\" \",)&IF(FK35<>0,\"4.\"&'7.WEF Influence-Mine'!$EA247&\" \",)&IF(FL35<>0,\"5.\"&'7.WEF Influence-Mine'!$EA287&\" \",)","v":""},null,null,null,null,null,null,{"$f":"'3.WEF Status-Base'!AQ34","v":0},{"$f":"'7.WEF Influence-Mine'!$ED127","v":0},{"$f":"'7.WEF Influence-Mine'!$ED167","v":0},{"$f":"'7.WEF Influence-Mine'!$ED207","v":0},{"$f":"'7.WEF Influence-Mine'!$ED247","v":0},{"$f":"'7.WEF Influence-Mine'!$ED287","v":0},{"$f":"IF(FT35>=$D$7,\"B:\"&'3.WEF Status-Base'!$AR34&\": \",)&IF(FU35<>0,\"1.\"&'7.WEF Influence-Mine'!$EE127&\" \",)&IF(FV35<>0,\"2.\"&'7.WEF Influence-Mine'!$EE167&\" \",)&IF(FW35<>0,\"3.\"&'7.WEF Influence-Mine'!$EE207&\" \",)&IF(FX35<>0,\"4.\"&'7.WEF Influence-Mine'!$EE247&\" \",)&IF(FY35<>0,\"5.\"&'7.WEF Influence-Mine'!$EE287&\" \",)","v":""},null,null,null,null,null,null,{"$f":"'3.WEF Status-Base'!AT34","v":0},{"$f":"'7.WEF Influence-Mine'!$EH127","v":0},{"$f":"'7.WEF Influence-Mine'!$EH167","v":0},{"$f":"'7.WEF Influence-Mine'!$EH207","v":0},{"$f":"'7.WEF Influence-Mine'!$EH247","v":0},{"$f":"'7.WEF Influence-Mine'!$EH287","v":0},{"$f":"IF(GG35>=$D$7,\"B:\"&'3.WEF Status-Base'!$AU34&\": \",)&IF(GH35<>0,\"1.\"&'7.WEF Influence-Mine'!$EI127&\" \",)&IF(GI35<>0,\"2.\"&'7.WEF Influence-Mine'!$EI167&\" \",)&IF(GJ35<>0,\"3.\"&'7.WEF Influence-Mine'!$EI207&\" \",)&IF(GK35<>0,\"4.\"&'7.WEF Influence-Mine'!$EI247&\" \",)&IF(GL35<>0,\"5.\"&'7.WEF Influence-Mine'!$EI287&\" \",)","v":""},null,null,null,null,null,null,{"$f":"'3.WEF Status-Base'!AW34","v":0},{"$f":"'7.WEF Influence-Mine'!$EL127","v":0},{"$f":"'7.WEF Influence-Mine'!$EL167","v":0},{"$f":"'7.WEF Influence-Mine'!$EL207","v":0},{"$f":"'7.WEF Influence-Mine'!$EL247","v":0},{"$f":"'7.WEF Influence-Mine'!$EL287","v":0},{"$f":"IF(GT35>=$D$7,\"B:\"&'3.WEF Status-Base'!$AX34&\": \",)&IF(GU35<>0,\"1.\"&'7.WEF Influence-Mine'!$EM127&\" \",)&IF(GV35<>0,\"2.\"&'7.WEF Influence-Mine'!$EM167&\" \",)&IF(GW35<>0,\"3.\"&'7.WEF Influence-Mine'!$EM207&\" \",)&IF(GX35<>0,\"4.\"&'7.WEF Influence-Mine'!$EM247&\" \",)&IF(GY35<>0,\"5.\"&'7.WEF Influence-Mine'!$EM287&\" \",)","v":""},null,null,null,null,null,null,{"$f":"'3.WEF Status-Base'!AZ34","v":0},{"$f":"'7.WEF Influence-Mine'!$EP127","v":0},{"$f":"'7.WEF Influence-Mine'!$EP167","v":0},{"$f":"'7.WEF Influence-Mine'!$EP207","v":0},{"$f":"'7.WEF Influence-Mine'!$EP247","v":0},{"$f":"'7.WEF Influence-Mine'!$EP287","v":0},{"$f":"IF(HG35>=$D$7,\"B:\"&'3.WEF Status-Base'!$BA34&\": \",)&IF(HH35<>0,\"1.\"&'7.WEF Influence-Mine'!$EQ127&\" \",)&IF(HI35<>0,\"2.\"&'7.WEF Influence-Mine'!$EQ167&\" \",)&IF(HJ35<>0,\"3.\"&'7.WEF Influence-Mine'!$EQ207&\" \",)&IF(HK35<>0,\"4.\"&'7.WEF Influence-Mine'!$EQ247&\" \",)&IF(HL35<>0,\"5.\"&'7.WEF Influence-Mine'!$EQ287&\" \",)","v":""},null,null,null,null,null,null,{"$f":"'3.WEF Status-Base'!BC34","v":0},{"$f":"'7.WEF Influence-Mine'!$ET127","v":0},{"$f":"'7.WEF Influence-Mine'!$ET167","v":0},{"$f":"'7.WEF Influence-Mine'!$ET207","v":0},{"$f":"'7.WEF Influence-Mine'!$ET247","v":0},{"$f":"'7.WEF Influence-Mine'!$ET287","v":0},{"$f":"IF(HT35>=$D$7,\"B:\"&'3.WEF Status-Base'!$BD34&\": \",)&IF(HU35<>0,\"1.\"&'7.WEF Influence-Mine'!$EU127&\" \",)&IF(HV35<>0,\"2.\"&'7.WEF Influence-Mine'!$EU167&\" \",)&IF(HW35<>0,\"3.\"&'7.WEF Influence-Mine'!$EU207&\" \",)&IF(HX35<>0,\"4.\"&'7.WEF Influence-Mine'!$EU247&\" \",)&IF(HY35<>0,\"5.\"&'7.WEF Influence-Mine'!$EU287&\" \",)","v":""},null,null,null,null,null,null,{"$f":"'7.WEF Influence-Mine'!EV127&\" : \"&'7.WEF Influence-Mine'!EV167&\" : \"&'7.WEF Influence-Mine'!EV207&\" : \"&'7.WEF Influence-Mine'!EV247&\" : \"&'7.WEF Influence-Mine'!EV287","v":"0 : 0 : 0 : 0 : 0"}]
[26,"     Resource Coops",{"$f":"'3.WEF Status-Base'!B35","v":0},0,{"$f":"MIN($H36:$L36,$U36:$Y36,$AH36:$AL36,$AU36:$AY36,$BH36:$BL36,$BU36:$BY36,$CH36:$CL36,$CU36:$CY36,$DH36:$DL36,$DU36:$DY36,$EH36:$EL36,$EU36:$EY36,$FH36:$FL36,$FU36:$FY36,$GH36:$GL36,$GU36:$GY36,$HH36:$HL36,$HU36:$HY36)","v":0},null,{"$f":"'3.WEF Status-Base'!D35","v":0},{"$f":"'7.WEF Influence-Mine'!$CD128","v":0},{"$f":"'7.WEF Influence-Mine'!$CD168","v":0},{"$f":"'7.WEF Influence-Mine'!$CD208","v":0},{"$f":"'7.WEF Influence-Mine'!$CD248","v":0},{"$f":"'7.WEF Influence-Mine'!$CD288","v":0},{"$f":"IF(G36>=$D$7,\"B:\"&'3.WEF Status-Base'!$E35&\": \",)&IF(H36<>0,\"1. \"&'7.WEF Influence-Mine'!$CE128&\" \",)&IF(I36<>0,\"2. \"&'7.WEF Influence-Mine'!$CE168&\" \",)&IF(J36<>0,\"3. \"&'7.WEF Influence-Mine'!$CE208&\" \",)&IF(K36<>0,\"4. \"&'7.WEF Influence-Mine'!$CE248&\" \",)&IF(L36<>0,\"5. \"&'7.WEF Influence-Mine'!$CE288&\" \",)","v":""},null,null,null,null,null,null,{"$f":"'3.WEF Status-Base'!G35","v":0},{"$f":"'7.WEF Influence-Mine'!$CH128","v":0},{"$f":"'7.WEF Influence-Mine'!$CH168","v":0},{"$f":"'7.WEF Influence-Mine'!$CH208","v":0},{"$f":"'7.WEF Influence-Mine'!$CH248","v":0},{"$f":"'7.WEF Influence-Mine'!$CH288","v":0},{"$f":"IF(T36>=$D$7,\"B:\"&'3.WEF Status-Base'!$H35&\": \",)&IF(U36<>0,\"1.\"&'7.WEF Influence-Mine'!$CI128&\" \",)&IF(V36<>0,\"2.\"&'7.WEF Influence-Mine'!$CI168&\" \",)&IF(W36<>0,\"3.\"&'7.WEF Influence-Mine'!$CI208&\" \",)&IF(X36<>0,\"4.\"&'7.WEF Influence-Mine'!$CI248&\" \",)&IF(Y36<>0,\"5.\"&'7.WEF Influence-Mine'!$CI288&\" \",)","v":""},null,null,null,null,null,null,{"$f":"'3.WEF Status-Base'!J35","v":0},{"$f":"'7.WEF Influence-Mine'!$CL128","v":0},{"$f":"'7.WEF Influence-Mine'!$CL168","v":0},{"$f":"'7.WEF Influence-Mine'!$CL208","v":0},{"$f":"'7.WEF Influence-Mine'!$CL248","v":0},{"$f":"'7.WEF Influence-Mine'!$CL288","v":0},{"$f":"IF(AG36>=$D$7,\"B:\"&'3.WEF Status-Base'!$K35&\": \",)&IF(AH36<>0,\"1.\"&'7.WEF Influence-Mine'!$CM128&\" \",)&IF(AI36<>0,\"2.\"&'7.WEF Influence-Mine'!$CM168&\" \",)&IF(AJ36<>0,\"3.\"&'7.WEF Influence-Mine'!$CM208&\" \",)&IF(AK36<>0,\"4.\"&'7.WEF Influence-Mine'!$CM248&\" \",)&IF(AL36<>0,\"5.\"&'7.WEF Influence-Mine'!$CM288&\" \",)","v":""},null,null,null,null,null,null,{"$f":"'3.WEF Status-Base'!M35","v":0},{"$f":"'7.WEF Influence-Mine'!$CP128","v":0},{"$f":"'7.WEF Influence-Mine'!$CP168","v":0},{"$f":"'7.WEF Influence-Mine'!$CP208","v":0},{"$f":"'7.WEF Influence-Mine'!$CP248","v":0},{"$f":"'7.WEF Influence-Mine'!$CP288","v":0},{"$f":"IF(AT36>=$D$7,\"B:\"&'3.WEF Status-Base'!$N35&\": \",)&IF(AU36<>0,\"1.\"&'7.WEF Influence-Mine'!$CQ128&\" \",)&IF(AV36<>0,\"2.\"&'7.WEF Influence-Mine'!$CQ168&\" \",)&IF(AW36<>0,\"3.\"&'7.WEF Influence-Mine'!$CQ208&\" \",)&IF(AX36<>0,\"4.\"&'7.WEF Influence-Mine'!$CQ248&\" \",)&IF(AY36<>0,\"5.\"&'7.WEF Influence-Mine'!$CQ288&\" \",)","v":""},null,null,null,null,null,null,{"$f":"'3.WEF Status-Base'!P35","v":0},{"$f":"'7.WEF Influence-Mine'!$CT128","v":0},{"$f":"'7.WEF Influence-Mine'!$CT168","v":0},{"$f":"'7.WEF Influence-Mine'!$CT208","v":0},{"$f":"'7.WEF Influence-Mine'!$CT248","v":0},{"$f":"'7.WEF Influence-Mine'!$CT288","v":0},{"$f":"IF(BG36>=$D$7,\"B:\"&'3.WEF Status-Base'!$Q35&\": \",)&IF(BH36<>0,\"1.\"&'7.WEF Influence-Mine'!$CU128&\" \",)&IF(BI36<>0,\"2.\"&'7.WEF Influence-Mine'!$CU168&\" \",)&IF(BJ36<>0,\"3.\"&'7.WEF Influence-Mine'!$CU208&\" \",)&IF(BK36<>0,\"4.\"&'7.WEF Influence-Mine'!$CU248&\" \",)&IF(BL36<>0,\"5.\"&'7.WEF Influence-Mine'!$CU288&\" \",)","v":""},null,null,null,null,null,null,{"$f":"'3.WEF Status-Base'!S35","v":0},{"$f":"'7.WEF Influence-Mine'!$CX128","v":0},{"$f":"'7.WEF Influence-Mine'!$CX168","v":0},{"$f":"'7.WEF Influence-Mine'!$CX208","v":0},{"$f":"'7.WEF Influence-Mine'!$CX248","v":0},{"$f":"'7.WEF Influence-Mine'!$CX288","v":0},{"$f":"IF(BT36>=$D$7,\"B:\"&'3.WEF Status-Base'!$T35&\": \",)&IF(BU36<>0,\"1.\"&'7.WEF Influence-Mine'!$CY128&\" \",)&IF(BV36<>0,\"2.\"&'7.WEF Influence-Mine'!$CY168&\" \",)&IF(BW36<>0,\"3.\"&'7.WEF Influence-Mine'!$CY208&\" \",)&IF(BX36<>0,\"4.\"&'7.WEF Influence-Mine'!$CY248&\" \",)&IF(BY36<>0,\"5.\"&'7.WEF Influence-Mine'!$CY288&\" \",)","v":""},null,null,null,null,null,null,{"$f":"'3.WEF Status-Base'!V35","v":0},{"$f":"'7.WEF Influence-Mine'!$DB128","v":0},{"$f":"'7.WEF Influence-Mine'!$DB168","v":0},{"$f":"'7.WEF Influence-Mine'!$DB208","v":0},{"$f":"'7.WEF Influence-Mine'!$DB248","v":0},{"$f":"'7.WEF Influence-Mine'!$DB288","v":0},{"$f":"IF(CG36>=$D$7,\"B:\"&'3.WEF Status-Base'!$W35&\": \",)&IF(CH36<>0,\"1.\"&'7.WEF Influence-Mine'!$DC128&\" \",)&IF(CI36<>0,\"2.\"&'7.WEF Influence-Mine'!$DC168&\" \",)&IF(CJ36<>0,\"3.\"&'7.WEF Influence-Mine'!$DC208&\" \",)&IF(CK36<>0,\"4.\"&'7.WEF Influence-Mine'!$DC248&\" \",)&IF(CL36<>0,\"5.\"&'7.WEF Influence-Mine'!$DC288&\" \",)","v":""},null,null,null,null,null,null,{"$f":"'3.WEF Status-Base'!Y35","v":0},{"$f":"'7.WEF Influence-Mine'!$DF128","v":0},{"$f":"'7.WEF Influence-Mine'!$DF168","v":0},{"$f":"'7.WEF Influence-Mine'!$DF208","v":0},{"$f":"'7.WEF Influence-Mine'!$DF248","v":0},{"$f":"'7.WEF Influence-Mine'!$DF288","v":0},{"$f":"IF(CT36>=$D$7,\"B:\"&'3.WEF Status-Base'!$Z35&\": \",)&IF(CU36<>0,\"1.\"&'7.WEF Influence-Mine'!$DG128&\" \",)&IF(CV36<>0,\"2.\"&'7.WEF Influence-Mine'!$DG168&\" \",)&IF(CW36<>0,\"3.\"&'7.WEF Influence-Mine'!$DG208&\" \",)&IF(CX36<>0,\"4.\"&'7.WEF Influence-Mine'!$DG248&\" \",)&IF(CY36<>0,\"5.\"&'7.WEF Influence-Mine'!$DG288&\" \",)","v":""},null,null,null,null,null,null,{"$f":"'3.WEF Status-Base'!AB35","v":0},{"$f":"'7.WEF Influence-Mine'!$DJ128","v":0},{"$f":"'7.WEF Influence-Mine'!$DJ168","v":0},{"$f":"'7.WEF Influence-Mine'!$DJ208","v":0},{"$f":"'7.WEF Influence-Mine'!$DJ248","v":0},{"$f":"'7.WEF Influence-Mine'!$DJ288","v":0},{"$f":"IF(DG36>=$D$7,\"B:\"&'3.WEF Status-Base'!$AC35&\": \",)&IF(DH36<>0,\"1.\"&'7.WEF Influence-Mine'!$DK128&\" \",)&IF(DI36<>0,\"2.\"&'7.WEF Influence-Mine'!$DK168&\" \",)&IF(DJ36<>0,\"3.\"&'7.WEF Influence-Mine'!$DK208&\" \",)&IF(DK36<>0,\"4.\"&'7.WEF Influence-Mine'!$DK248&\" \",)&IF(DL36<>0,\"5.\"&'7.WEF Influence-Mine'!$DK288&\" \",)","v":""},null,null,null,null,null,null,{"$f":"'3.WEF Status-Base'!AE35","v":0},{"$f":"'7.WEF Influence-Mine'!$DN128","v":0},{"$f":"'7.WEF Influence-Mine'!$DN168","v":0},{"$f":"'7.WEF Influence-Mine'!$DN208","v":0},{"$f":"'7.WEF Influence-Mine'!$DN248","v":0},{"$f":"'7.WEF Influence-Mine'!$DN288","v":0},{"$f":"IF(DT36>=$D$7,\"B:\"&'3.WEF Status-Base'!$AF35&\": \",)&IF(DU36<>0,\"1.\"&'7.WEF Influence-Mine'!$DO128&\" \",)&IF(DV36<>0,\"2.\"&'7.WEF Influence-Mine'!$DO168&\" \",)&IF(DW36<>0,\"3.\"&'7.WEF Influence-Mine'!$DO208&\" \",)&IF(DX36<>0,\"4.\"&'7.WEF Influence-Mine'!$DO248&\" \",)&IF(DY36<>0,\"5.\"&'7.WEF Influence-Mine'!$DO288&\" \",)","v":""},null,null,null,null,null,null,{"$f":"'3.WEF Status-Base'!AH35","v":0},{"$f":"'7.WEF Influence-Mine'!$DR128","v":0},{"$f":"'7.WEF Influence-Mine'!$DR168","v":0},{"$f":"'7.WEF Influence-Mine'!$DR208","v":0},{"$f":"'7.WEF Influence-Mine'!$DR248","v":0},{"$f":"'7.WEF Influence-Mine'!$DR288","v":0},{"$f":"IF(EG36>=$D$7,\"B:\"&'3.WEF Status-Base'!$AI35&\": \",)&IF(EH36<>0,\"1.\"&'7.WEF Influence-Mine'!$DS128&\" \",)&IF(EI36<>0,\"2.\"&'7.WEF Influence-Mine'!$DS168&\" \",)&IF(EJ36<>0,\"3.\"&'7.WEF Influence-Mine'!$DS208&\" \",)&IF(EK36<>0,\"4.\"&'7.WEF Influence-Mine'!$DS248&\" \",)&IF(EL36<>0,\"5.\"&'7.WEF Influence-Mine'!$DS288&\" \",)","v":""},null,null,null,null,null,null,{"$f":"'3.WEF Status-Base'!AK35","v":0},{"$f":"'7.WEF Influence-Mine'!$DV128","v":0},{"$f":"'7.WEF Influence-Mine'!$DV168","v":0},{"$f":"'7.WEF Influence-Mine'!$DV208","v":0},{"$f":"'7.WEF Influence-Mine'!$DV248","v":0},{"$f":"'7.WEF Influence-Mine'!$DV288","v":0},{"$f":"IF(ET36>=$D$7,\"B:\"&'3.WEF Status-Base'!$AL35&\": \",)&IF(EU36<>0,\"1.\"&'7.WEF Influence-Mine'!$DW128&\" \",)&IF(EV36<>0,\"2.\"&'7.WEF Influence-Mine'!$DW168&\" \",)&IF(EW36<>0,\"3.\"&'7.WEF Influence-Mine'!$DW208&\" \",)&IF(EX36<>0,\"4.\"&'7.WEF Influence-Mine'!$DW248&\" \",)&IF(EY36<>0,\"5.\"&'7.WEF Influence-Mine'!$DW288&\" \",)","v":""},null,null,null,null,null,null,{"$f":"'3.WEF Status-Base'!AN35","v":0},{"$f":"'7.WEF Influence-Mine'!$DZ128","v":0},{"$f":"'7.WEF Influence-Mine'!$DZ168","v":0},{"$f":"'7.WEF Influence-Mine'!$DZ208","v":0},{"$f":"'7.WEF Influence-Mine'!$DZ248","v":0},{"$f":"'7.WEF Influence-Mine'!$DZ288","v":0},{"$f":"IF(FG36>=$D$7,\"B:\"&'3.WEF Status-Base'!$AO35&\": \",)&IF(FH36<>0,\"1.\"&'7.WEF Influence-Mine'!$EA128&\" \",)&IF(FI36<>0,\"2.\"&'7.WEF Influence-Mine'!$EA168&\" \",)&IF(FJ36<>0,\"3.\"&'7.WEF Influence-Mine'!$EA208&\" \",)&IF(FK36<>0,\"4.\"&'7.WEF Influence-Mine'!$EA248&\" \",)&IF(FL36<>0,\"5.\"&'7.WEF Influence-Mine'!$EA288&\" \",)","v":""},null,null,null,null,null,null,{"$f":"'3.WEF Status-Base'!AQ35","v":0},{"$f":"'7.WEF Influence-Mine'!$ED128","v":0},{"$f":"'7.WEF Influence-Mine'!$ED168","v":0},{"$f":"'7.WEF Influence-Mine'!$ED208","v":0},{"$f":"'7.WEF Influence-Mine'!$ED248","v":0},{"$f":"'7.WEF Influence-Mine'!$ED288","v":0},{"$f":"IF(FT36>=$D$7,\"B:\"&'3.WEF Status-Base'!$AR35&\": \",)&IF(FU36<>0,\"1.\"&'7.WEF Influence-Mine'!$EE128&\" \",)&IF(FV36<>0,\"2.\"&'7.WEF Influence-Mine'!$EE168&\" \",)&IF(FW36<>0,\"3.\"&'7.WEF Influence-Mine'!$EE208&\" \",)&IF(FX36<>0,\"4.\"&'7.WEF Influence-Mine'!$EE248&\" \",)&IF(FY36<>0,\"5.\"&'7.WEF Influence-Mine'!$EE288&\" \",)","v":""},null,null,null,null,null,null,{"$f":"'3.WEF Status-Base'!AT35","v":0},{"$f":"'7.WEF Influence-Mine'!$EH128","v":0},{"$f":"'7.WEF Influence-Mine'!$EH168","v":0},{"$f":"'7.WEF Influence-Mine'!$EH208","v":0},{"$f":"'7.WEF Influence-Mine'!$EH248","v":0},{"$f":"'7.WEF Influence-Mine'!$EH288","v":0},{"$f":"IF(GG36>=$D$7,\"B:\"&'3.WEF Status-Base'!$AU35&\": \",)&IF(GH36<>0,\"1.\"&'7.WEF Influence-Mine'!$EI128&\" \",)&IF(GI36<>0,\"2.\"&'7.WEF Influence-Mine'!$EI168&\" \",)&IF(GJ36<>0,\"3.\"&'7.WEF Influence-Mine'!$EI208&\" \",)&IF(GK36<>0,\"4.\"&'7.WEF Influence-Mine'!$EI248&\" \",)&IF(GL36<>0,\"5.\"&'7.WEF Influence-Mine'!$EI288&\" \",)","v":""},null,null,null,null,null,null,{"$f":"'3.WEF Status-Base'!AW35","v":0},{"$f":"'7.WEF Influence-Mine'!$EL128","v":0},{"$f":"'7.WEF Influence-Mine'!$EL168","v":0},{"$f":"'7.WEF Influence-Mine'!$EL208","v":0},{"$f":"'7.WEF Influence-Mine'!$EL248","v":0},{"$f":"'7.WEF Influence-Mine'!$EL288","v":0},{"$f":"IF(GT36>=$D$7,\"B:\"&'3.WEF Status-Base'!$AX35&\": \",)&IF(GU36<>0,\"1.\"&'7.WEF Influence-Mine'!$EM128&\" \",)&IF(GV36<>0,\"2.\"&'7.WEF Influence-Mine'!$EM168&\" \",)&IF(GW36<>0,\"3.\"&'7.WEF Influence-Mine'!$EM208&\" \",)&IF(GX36<>0,\"4.\"&'7.WEF Influence-Mine'!$EM248&\" \",)&IF(GY36<>0,\"5.\"&'7.WEF Influence-Mine'!$EM288&\" \",)","v":""},null,null,null,null,null,null,{"$f":"'3.WEF Status-Base'!AZ35","v":0},{"$f":"'7.WEF Influence-Mine'!$EP128","v":0},{"$f":"'7.WEF Influence-Mine'!$EP168","v":0},{"$f":"'7.WEF Influence-Mine'!$EP208","v":0},{"$f":"'7.WEF Influence-Mine'!$EP248","v":0},{"$f":"'7.WEF Influence-Mine'!$EP288","v":0},{"$f":"IF(HG36>=$D$7,\"B:\"&'3.WEF Status-Base'!$BA35&\": \",)&IF(HH36<>0,\"1.\"&'7.WEF Influence-Mine'!$EQ128&\" \",)&IF(HI36<>0,\"2.\"&'7.WEF Influence-Mine'!$EQ168&\" \",)&IF(HJ36<>0,\"3.\"&'7.WEF Influence-Mine'!$EQ208&\" \",)&IF(HK36<>0,\"4.\"&'7.WEF Influence-Mine'!$EQ248&\" \",)&IF(HL36<>0,\"5.\"&'7.WEF Influence-Mine'!$EQ288&\" \",)","v":""},null,null,null,null,null,null,{"$f":"'3.WEF Status-Base'!BC35","v":0},{"$f":"'7.WEF Influence-Mine'!$ET128","v":0},{"$f":"'7.WEF Influence-Mine'!$ET168","v":0},{"$f":"'7.WEF Influence-Mine'!$ET208","v":0},{"$f":"'7.WEF Influence-Mine'!$ET248","v":0},{"$f":"'7.WEF Influence-Mine'!$ET288","v":0},{"$f":"IF(HT36>=$D$7,\"B:\"&'3.WEF Status-Base'!$BD35&\": \",)&IF(HU36<>0,\"1.\"&'7.WEF Influence-Mine'!$EU128&\" \",)&IF(HV36<>0,\"2.\"&'7.WEF Influence-Mine'!$EU168&\" \",)&IF(HW36<>0,\"3.\"&'7.WEF Influence-Mine'!$EU208&\" \",)&IF(HX36<>0,\"4.\"&'7.WEF Influence-Mine'!$EU248&\" \",)&IF(HY36<>0,\"5.\"&'7.WEF Influence-Mine'!$EU288&\" \",)","v":""},null,null,null,null,null,null,{"$f":"'7.WEF Influence-Mine'!EV128&\" : \"&'7.WEF Influence-Mine'!EV168&\" : \"&'7.WEF Influence-Mine'!EV208&\" : \"&'7.WEF Influence-Mine'!EV248&\" : \"&'7.WEF Influence-Mine'!EV288","v":"0 : 0 : 0 : 0 : 0"}]
[27,"     Safety oversight agencies",{"$f":"'3.WEF Status-Base'!B36","v":0},0,{"$f":"MIN($H37:$L37,$U37:$Y37,$AH37:$AL37,$AU37:$AY37,$BH37:$BL37,$BU37:$BY37,$CH37:$CL37,$CU37:$CY37,$DH37:$DL37,$DU37:$DY37,$EH37:$EL37,$EU37:$EY37,$FH37:$FL37,$FU37:$FY37,$GH37:$GL37,$GU37:$GY37,$HH37:$HL37,$HU37:$HY37)","v":0},null,{"$f":"'3.WEF Status-Base'!D36","v":0},{"$f":"'7.WEF Influence-Mine'!$CD129","v":0},{"$f":"'7.WEF Influence-Mine'!$CD169","v":0},{"$f":"'7.WEF Influence-Mine'!$CD209","v":0},{"$f":"'7.WEF Influence-Mine'!$CD249","v":0},{"$f":"'7.WEF Influence-Mine'!$CD289","v":0},{"$f":"IF(G37>=$D$7,\"B:\"&'3.WEF Status-Base'!$E36&\": \",)&IF(H37<>0,\"1. \"&'7.WEF Influence-Mine'!$CE129&\" \",)&IF(I37<>0,\"2. \"&'7.WEF Influence-Mine'!$CE169&\" \",)&IF(J37<>0,\"3. \"&'7.WEF Influence-Mine'!$CE209&\" \",)&IF(K37<>0,\"4. \"&'7.WEF Influence-Mine'!$CE249&\" \",)&IF(L37<>0,\"5. \"&'7.WEF Influence-Mine'!$CE289&\" \",)","v":""},null,null,null,null,null,null,{"$f":"'3.WEF Status-Base'!G36","v":0},{"$f":"'7.WEF Influence-Mine'!$CH129","v":0},{"$f":"'7.WEF Influence-Mine'!$CH169","v":0},{"$f":"'7.WEF Influence-Mine'!$CH209","v":0},{"$f":"'7.WEF Influence-Mine'!$CH249","v":0},{"$f":"'7.WEF Influence-Mine'!$CH289","v":0},{"$f":"IF(T37>=$D$7,\"B:\"&'3.WEF Status-Base'!$H36&\": \",)&IF(U37<>0,\"1.\"&'7.WEF Influence-Mine'!$CI129&\" \",)&IF(V37<>0,\"2.\"&'7.WEF Influence-Mine'!$CI169&\" \",)&IF(W37<>0,\"3.\"&'7.WEF Influence-Mine'!$CI209&\" \",)&IF(X37<>0,\"4.\"&'7.WEF Influence-Mine'!$CI249&\" \",)&IF(Y37<>0,\"5.\"&'7.WEF Influence-Mine'!$CI289&\" \",)","v":""},null,null,null,null,null,null,{"$f":"'3.WEF Status-Base'!J36","v":0},{"$f":"'7.WEF Influence-Mine'!$CL129","v":0},{"$f":"'7.WEF Influence-Mine'!$CL169","v":0},{"$f":"'7.WEF Influence-Mine'!$CL209","v":0},{"$f":"'7.WEF Influence-Mine'!$CL249","v":0},{"$f":"'7.WEF Influence-Mine'!$CL289","v":0},{"$f":"IF(AG37>=$D$7,\"B:\"&'3.WEF Status-Base'!$K36&\": \",)&IF(AH37<>0,\"1.\"&'7.WEF Influence-Mine'!$CM129&\" \",)&IF(AI37<>0,\"2.\"&'7.WEF Influence-Mine'!$CM169&\" \",)&IF(AJ37<>0,\"3.\"&'7.WEF Influence-Mine'!$CM209&\" \",)&IF(AK37<>0,\"4.\"&'7.WEF Influence-Mine'!$CM249&\" \",)&IF(AL37<>0,\"5.\"&'7.WEF Influence-Mine'!$CM289&\" \",)","v":""},null,null,null,null,null,null,{"$f":"'3.WEF Status-Base'!M36","v":0},{"$f":"'7.WEF Influence-Mine'!$CP129","v":0},{"$f":"'7.WEF Influence-Mine'!$CP169","v":0},{"$f":"'7.WEF Influence-Mine'!$CP209","v":0},{"$f":"'7.WEF Influence-Mine'!$CP249","v":0},{"$f":"'7.WEF Influence-Mine'!$CP289","v":0},{"$f":"IF(AT37>=$D$7,\"B:\"&'3.WEF Status-Base'!$N36&\": \",)&IF(AU37<>0,\"1.\"&'7.WEF Influence-Mine'!$CQ129&\" \",)&IF(AV37<>0,\"2.\"&'7.WEF Influence-Mine'!$CQ169&\" \",)&IF(AW37<>0,\"3.\"&'7.WEF Influence-Mine'!$CQ209&\" \",)&IF(AX37<>0,\"4.\"&'7.WEF Influence-Mine'!$CQ249&\" \",)&IF(AY37<>0,\"5.\"&'7.WEF Influence-Mine'!$CQ289&\" \",)","v":""},null,null,null,null,null,null,{"$f":"'3.WEF Status-Base'!P36","v":0},{"$f":"'7.WEF Influence-Mine'!$CT129","v":0},{"$f":"'7.WEF Influence-Mine'!$CT169","v":0},{"$f":"'7.WEF Influence-Mine'!$CT209","v":0},{"$f":"'7.WEF Influence-Mine'!$CT249","v":0},{"$f":"'7.WEF Influence-Mine'!$CT289","v":0},{"$f":"IF(BG37>=$D$7,\"B:\"&'3.WEF Status-Base'!$Q36&\": \",)&IF(BH37<>0,\"1.\"&'7.WEF Influence-Mine'!$CU129&\" \",)&IF(BI37<>0,\"2.\"&'7.WEF Influence-Mine'!$CU169&\" \",)&IF(BJ37<>0,\"3.\"&'7.WEF Influence-Mine'!$CU209&\" \",)&IF(BK37<>0,\"4.\"&'7.WEF Influence-Mine'!$CU249&\" \",)&IF(BL37<>0,\"5.\"&'7.WEF Influence-Mine'!$CU289&\" \",)","v":""},null,null,null,null,null,null,{"$f":"'3.WEF Status-Base'!S36","v":0},{"$f":"'7.WEF Influence-Mine'!$CX129","v":0},{"$f":"'7.WEF Influence-Mine'!$CX169","v":0},{"$f":"'7.WEF Influence-Mine'!$CX209","v":0},{"$f":"'7.WEF Influence-Mine'!$CX249","v":0},{"$f":"'7.WEF Influence-Mine'!$CX289","v":0},{"$f":"IF(BT37>=$D$7,\"B:\"&'3.WEF Status-Base'!$T36&\": \",)&IF(BU37<>0,\"1.\"&'7.WEF Influence-Mine'!$CY129&\" \",)&IF(BV37<>0,\"2.\"&'7.WEF Influence-Mine'!$CY169&\" \",)&IF(BW37<>0,\"3.\"&'7.WEF Influence-Mine'!$CY209&\" \",)&IF(BX37<>0,\"4.\"&'7.WEF Influence-Mine'!$CY249&\" \",)&IF(BY37<>0,\"5.\"&'7.WEF Influence-Mine'!$CY289&\" \",)","v":""},null,null,null,null,null,null,{"$f":"'3.WEF Status-Base'!V36","v":0},{"$f":"'7.WEF Influence-Mine'!$DB129","v":0},{"$f":"'7.WEF Influence-Mine'!$DB169","v":0},{"$f":"'7.WEF Influence-Mine'!$DB209","v":0},{"$f":"'7.WEF Influence-Mine'!$DB249","v":0},{"$f":"'7.WEF Influence-Mine'!$DB289","v":0},{"$f":"IF(CG37>=$D$7,\"B:\"&'3.WEF Status-Base'!$W36&\": \",)&IF(CH37<>0,\"1.\"&'7.WEF Influence-Mine'!$DC129&\" \",)&IF(CI37<>0,\"2.\"&'7.WEF Influence-Mine'!$DC169&\" \",)&IF(CJ37<>0,\"3.\"&'7.WEF Influence-Mine'!$DC209&\" \",)&IF(CK37<>0,\"4.\"&'7.WEF Influence-Mine'!$DC249&\" \",)&IF(CL37<>0,\"5.\"&'7.WEF Influence-Mine'!$DC289&\" \",)","v":""},null,null,null,null,null,null,{"$f":"'3.WEF Status-Base'!Y36","v":0},{"$f":"'7.WEF Influence-Mine'!$DF129","v":0},{"$f":"'7.WEF Influence-Mine'!$DF169","v":0},{"$f":"'7.WEF Influence-Mine'!$DF209","v":0},{"$f":"'7.WEF Influence-Mine'!$DF249","v":0},{"$f":"'7.WEF Influence-Mine'!$DF289","v":0},{"$f":"IF(CT37>=$D$7,\"B:\"&'3.WEF Status-Base'!$Z36&\": \",)&IF(CU37<>0,\"1.\"&'7.WEF Influence-Mine'!$DG129&\" \",)&IF(CV37<>0,\"2.\"&'7.WEF Influence-Mine'!$DG169&\" \",)&IF(CW37<>0,\"3.\"&'7.WEF Influence-Mine'!$DG209&\" \",)&IF(CX37<>0,\"4.\"&'7.WEF Influence-Mine'!$DG249&\" \",)&IF(CY37<>0,\"5.\"&'7.WEF Influence-Mine'!$DG289&\" \",)","v":""},null,null,null,null,null,null,{"$f":"'3.WEF Status-Base'!AB36","v":0},{"$f":"'7.WEF Influence-Mine'!$DJ129","v":0},{"$f":"'7.WEF Influence-Mine'!$DJ169","v":0},{"$f":"'7.WEF Influence-Mine'!$DJ209","v":0},{"$f":"'7.WEF Influence-Mine'!$DJ249","v":0},{"$f":"'7.WEF Influence-Mine'!$DJ289","v":0},{"$f":"IF(DG37>=$D$7,\"B:\"&'3.WEF Status-Base'!$AC36&\": \",)&IF(DH37<>0,\"1.\"&'7.WEF Influence-Mine'!$DK129&\" \",)&IF(DI37<>0,\"2.\"&'7.WEF Influence-Mine'!$DK169&\" \",)&IF(DJ37<>0,\"3.\"&'7.WEF Influence-Mine'!$DK209&\" \",)&IF(DK37<>0,\"4.\"&'7.WEF Influence-Mine'!$DK249&\" \",)&IF(DL37<>0,\"5.\"&'7.WEF Influence-Mine'!$DK289&\" \",)","v":""},null,null,null,null,null,null,{"$f":"'3.WEF Status-Base'!AE36","v":0},{"$f":"'7.WEF Influence-Mine'!$DN129","v":0},{"$f":"'7.WEF Influence-Mine'!$DN169","v":0},{"$f":"'7.WEF Influence-Mine'!$DN209","v":0},{"$f":"'7.WEF Influence-Mine'!$DN249","v":0},{"$f":"'7.WEF Influence-Mine'!$DN289","v":0},{"$f":"IF(DT37>=$D$7,\"B:\"&'3.WEF Status-Base'!$AF36&\": \",)&IF(DU37<>0,\"1.\"&'7.WEF Influence-Mine'!$DO129&\" \",)&IF(DV37<>0,\"2.\"&'7.WEF Influence-Mine'!$DO169&\" \",)&IF(DW37<>0,\"3.\"&'7.WEF Influence-Mine'!$DO209&\" \",)&IF(DX37<>0,\"4.\"&'7.WEF Influence-Mine'!$DO249&\" \",)&IF(DY37<>0,\"5.\"&'7.WEF Influence-Mine'!$DO289&\" \",)","v":""},null,null,null,null,null,null,{"$f":"'3.WEF Status-Base'!AH36","v":0},{"$f":"'7.WEF Influence-Mine'!$DR129","v":0},{"$f":"'7.WEF Influence-Mine'!$DR169","v":0},{"$f":"'7.WEF Influence-Mine'!$DR209","v":0},{"$f":"'7.WEF Influence-Mine'!$DR249","v":0},{"$f":"'7.WEF Influence-Mine'!$DR289","v":0},{"$f":"IF(EG37>=$D$7,\"B:\"&'3.WEF Status-Base'!$AI36&\": \",)&IF(EH37<>0,\"1.\"&'7.WEF Influence-Mine'!$DS129&\" \",)&IF(EI37<>0,\"2.\"&'7.WEF Influence-Mine'!$DS169&\" \",)&IF(EJ37<>0,\"3.\"&'7.WEF Influence-Mine'!$DS209&\" \",)&IF(EK37<>0,\"4.\"&'7.WEF Influence-Mine'!$DS249&\" \",)&IF(EL37<>0,\"5.\"&'7.WEF Influence-Mine'!$DS289&\" \",)","v":""},null,null,null,null,null,null,{"$f":"'3.WEF Status-Base'!AK36","v":0},{"$f":"'7.WEF Influence-Mine'!$DV129","v":0},{"$f":"'7.WEF Influence-Mine'!$DV169","v":0},{"$f":"'7.WEF Influence-Mine'!$DV209","v":0},{"$f":"'7.WEF Influence-Mine'!$DV249","v":0},{"$f":"'7.WEF Influence-Mine'!$DV289","v":0},{"$f":"IF(ET37>=$D$7,\"B:\"&'3.WEF Status-Base'!$AL36&\": \",)&IF(EU37<>0,\"1.\"&'7.WEF Influence-Mine'!$DW129&\" \",)&IF(EV37<>0,\"2.\"&'7.WEF Influence-Mine'!$DW169&\" \",)&IF(EW37<>0,\"3.\"&'7.WEF Influence-Mine'!$DW209&\" \",)&IF(EX37<>0,\"4.\"&'7.WEF Influence-Mine'!$DW249&\" \",)&IF(EY37<>0,\"5.\"&'7.WEF Influence-Mine'!$DW289&\" \",)","v":""},null,null,null,null,null,null,{"$f":"'3.WEF Status-Base'!AN36","v":0},{"$f":"'7.WEF Influence-Mine'!$DZ129","v":0},{"$f":"'7.WEF Influence-Mine'!$DZ169","v":0},{"$f":"'7.WEF Influence-Mine'!$DZ209","v":0},{"$f":"'7.WEF Influence-Mine'!$DZ249","v":0},{"$f":"'7.WEF Influence-Mine'!$DZ289","v":0},{"$f":"IF(FG37>=$D$7,\"B:\"&'3.WEF Status-Base'!$AO36&\": \",)&IF(FH37<>0,\"1.\"&'7.WEF Influence-Mine'!$EA129&\" \",)&IF(FI37<>0,\"2.\"&'7.WEF Influence-Mine'!$EA169&\" \",)&IF(FJ37<>0,\"3.\"&'7.WEF Influence-Mine'!$EA209&\" \",)&IF(FK37<>0,\"4.\"&'7.WEF Influence-Mine'!$EA249&\" \",)&IF(FL37<>0,\"5.\"&'7.WEF Influence-Mine'!$EA289&\" \",)","v":""},null,null,null,null,null,null,{"$f":"'3.WEF Status-Base'!AQ36","v":0},{"$f":"'7.WEF Influence-Mine'!$ED129","v":0},{"$f":"'7.WEF Influence-Mine'!$ED169","v":0},{"$f":"'7.WEF Influence-Mine'!$ED209","v":0},{"$f":"'7.WEF Influence-Mine'!$ED249","v":0},{"$f":"'7.WEF Influence-Mine'!$ED289","v":0},{"$f":"IF(FT37>=$D$7,\"B:\"&'3.WEF Status-Base'!$AR36&\": \",)&IF(FU37<>0,\"1.\"&'7.WEF Influence-Mine'!$EE129&\" \",)&IF(FV37<>0,\"2.\"&'7.WEF Influence-Mine'!$EE169&\" \",)&IF(FW37<>0,\"3.\"&'7.WEF Influence-Mine'!$EE209&\" \",)&IF(FX37<>0,\"4.\"&'7.WEF Influence-Mine'!$EE249&\" \",)&IF(FY37<>0,\"5.\"&'7.WEF Influence-Mine'!$EE289&\" \",)","v":""},null,null,null,null,null,null,{"$f":"'3.WEF Status-Base'!AT36","v":0},{"$f":"'7.WEF Influence-Mine'!$EH129","v":0},{"$f":"'7.WEF Influence-Mine'!$EH169","v":0},{"$f":"'7.WEF Influence-Mine'!$EH209","v":0},{"$f":"'7.WEF Influence-Mine'!$EH249","v":0},{"$f":"'7.WEF Influence-Mine'!$EH289","v":0},{"$f":"IF(GG37>=$D$7,\"B:\"&'3.WEF Status-Base'!$AU36&\": \",)&IF(GH37<>0,\"1.\"&'7.WEF Influence-Mine'!$EI129&\" \",)&IF(GI37<>0,\"2.\"&'7.WEF Influence-Mine'!$EI169&\" \",)&IF(GJ37<>0,\"3.\"&'7.WEF Influence-Mine'!$EI209&\" \",)&IF(GK37<>0,\"4.\"&'7.WEF Influence-Mine'!$EI249&\" \",)&IF(GL37<>0,\"5.\"&'7.WEF Influence-Mine'!$EI289&\" \",)","v":""},null,null,null,null,null,null,{"$f":"'3.WEF Status-Base'!AW36","v":0},{"$f":"'7.WEF Influence-Mine'!$EL129","v":0},{"$f":"'7.WEF Influence-Mine'!$EL169","v":0},{"$f":"'7.WEF Influence-Mine'!$EL209","v":0},{"$f":"'7.WEF Influence-Mine'!$EL249","v":0},{"$f":"'7.WEF Influence-Mine'!$EL289","v":0},{"$f":"IF(GT37>=$D$7,\"B:\"&'3.WEF Status-Base'!$AX36&\": \",)&IF(GU37<>0,\"1.\"&'7.WEF Influence-Mine'!$EM129&\" \",)&IF(GV37<>0,\"2.\"&'7.WEF Influence-Mine'!$EM169&\" \",)&IF(GW37<>0,\"3.\"&'7.WEF Influence-Mine'!$EM209&\" \",)&IF(GX37<>0,\"4.\"&'7.WEF Influence-Mine'!$EM249&\" \",)&IF(GY37<>0,\"5.\"&'7.WEF Influence-Mine'!$EM289&\" \",)","v":""},null,null,null,null,null,null,{"$f":"'3.WEF Status-Base'!AZ36","v":0},{"$f":"'7.WEF Influence-Mine'!$EP129","v":0},{"$f":"'7.WEF Influence-Mine'!$EP169","v":0},{"$f":"'7.WEF Influence-Mine'!$EP209","v":0},{"$f":"'7.WEF Influence-Mine'!$EP249","v":0},{"$f":"'7.WEF Influence-Mine'!$EP289","v":0},{"$f":"IF(HG37>=$D$7,\"B:\"&'3.WEF Status-Base'!$BA36&\": \",)&IF(HH37<>0,\"1.\"&'7.WEF Influence-Mine'!$EQ129&\" \",)&IF(HI37<>0,\"2.\"&'7.WEF Influence-Mine'!$EQ169&\" \",)&IF(HJ37<>0,\"3.\"&'7.WEF Influence-Mine'!$EQ209&\" \",)&IF(HK37<>0,\"4.\"&'7.WEF Influence-Mine'!$EQ249&\" \",)&IF(HL37<>0,\"5.\"&'7.WEF Influence-Mine'!$EQ289&\" \",)","v":""},null,null,null,null,null,null,{"$f":"'3.WEF Status-Base'!BC36","v":0},{"$f":"'7.WEF Influence-Mine'!$ET129","v":0},{"$f":"'7.WEF Influence-Mine'!$ET169","v":0},{"$f":"'7.WEF Influence-Mine'!$ET209","v":0},{"$f":"'7.WEF Influence-Mine'!$ET249","v":0},{"$f":"'7.WEF Influence-Mine'!$ET289","v":0},{"$f":"IF(HT37>=$D$7,\"B:\"&'3.WEF Status-Base'!$BD36&\": \",)&IF(HU37<>0,\"1.\"&'7.WEF Influence-Mine'!$EU129&\" \",)&IF(HV37<>0,\"2.\"&'7.WEF Influence-Mine'!$EU169&\" \",)&IF(HW37<>0,\"3.\"&'7.WEF Influence-Mine'!$EU209&\" \",)&IF(HX37<>0,\"4.\"&'7.WEF Influence-Mine'!$EU249&\" \",)&IF(HY37<>0,\"5.\"&'7.WEF Influence-Mine'!$EU289&\" \",)","v":""},null,null,null,null,null,null,{"$f":"'7.WEF Influence-Mine'!EV129&\" : \"&'7.WEF Influence-Mine'!EV169&\" : \"&'7.WEF Influence-Mine'!EV209&\" : \"&'7.WEF Influence-Mine'!EV249&\" : \"&'7.WEF Influence-Mine'!EV289","v":"0 : 0 : 0 : 0 : 0"}]
[28,"     Education and training",{"$f":"'3.WEF Status-Base'!B37","v":0},0,{"$f":"MIN($H38:$L38,$U38:$Y38,$AH38:$AL38,$AU38:$AY38,$BH38:$BL38,$BU38:$BY38,$CH38:$CL38,$CU38:$CY38,$DH38:$DL38,$DU38:$DY38,$EH38:$EL38,$EU38:$EY38,$FH38:$FL38,$FU38:$FY38,$GH38:$GL38,$GU38:$GY38,$HH38:$HL38,$HU38:$HY38)","v":0},null,{"$f":"'3.WEF Status-Base'!D37","v":0},{"$f":"'7.WEF Influence-Mine'!$CD130","v":0},{"$f":"'7.WEF Influence-Mine'!$CD170","v":0},{"$f":"'7.WEF Influence-Mine'!$CD210","v":0},{"$f":"'7.WEF Influence-Mine'!$CD250","v":0},{"$f":"'7.WEF Influence-Mine'!$CD290","v":0},{"$f":"IF(G38>=$D$7,\"B:\"&'3.WEF Status-Base'!$E37&\": \",)&IF(H38<>0,\"1. \"&'7.WEF Influence-Mine'!$CE130&\" \",)&IF(I38<>0,\"2. \"&'7.WEF Influence-Mine'!$CE170&\" \",)&IF(J38<>0,\"3. \"&'7.WEF Influence-Mine'!$CE210&\" \",)&IF(K38<>0,\"4. \"&'7.WEF Influence-Mine'!$CE250&\" \",)&IF(L38<>0,\"5. \"&'7.WEF Influence-Mine'!$CE290&\" \",)","v":""},null,null,null,null,null,null,{"$f":"'3.WEF Status-Base'!G37","v":0},{"$f":"'7.WEF Influence-Mine'!$CH130","v":0},{"$f":"'7.WEF Influence-Mine'!$CH170","v":0},{"$f":"'7.WEF Influence-Mine'!$CH210","v":0},{"$f":"'7.WEF Influence-Mine'!$CH250","v":0},{"$f":"'7.WEF Influence-Mine'!$CH290","v":0},{"$f":"IF(T38>=$D$7,\"B:\"&'3.WEF Status-Base'!$H37&\": \",)&IF(U38<>0,\"1.\"&'7.WEF Influence-Mine'!$CI130&\" \",)&IF(V38<>0,\"2.\"&'7.WEF Influence-Mine'!$CI170&\" \",)&IF(W38<>0,\"3.\"&'7.WEF Influence-Mine'!$CI210&\" \",)&IF(X38<>0,\"4.\"&'7.WEF Influence-Mine'!$CI250&\" \",)&IF(Y38<>0,\"5.\"&'7.WEF Influence-Mine'!$CI290&\" \",)","v":""},null,null,null,null,null,null,{"$f":"'3.WEF Status-Base'!J37","v":0},{"$f":"'7.WEF Influence-Mine'!$CL130","v":0},{"$f":"'7.WEF Influence-Mine'!$CL170","v":0},{"$f":"'7.WEF Influence-Mine'!$CL210","v":0},{"$f":"'7.WEF Influence-Mine'!$CL250","v":0},{"$f":"'7.WEF Influence-Mine'!$CL290","v":0},{"$f":"IF(AG38>=$D$7,\"B:\"&'3.WEF Status-Base'!$K37&\": \",)&IF(AH38<>0,\"1.\"&'7.WEF Influence-Mine'!$CM130&\" \",)&IF(AI38<>0,\"2.\"&'7.WEF Influence-Mine'!$CM170&\" \",)&IF(AJ38<>0,\"3.\"&'7.WEF Influence-Mine'!$CM210&\" \",)&IF(AK38<>0,\"4.\"&'7.WEF Influence-Mine'!$CM250&\" \",)&IF(AL38<>0,\"5.\"&'7.WEF Influence-Mine'!$CM290&\" \",)","v":""},null,null,null,null,null,null,{"$f":"'3.WEF Status-Base'!M37","v":0},{"$f":"'7.WEF Influence-Mine'!$CP130","v":0},{"$f":"'7.WEF Influence-Mine'!$CP170","v":0},{"$f":"'7.WEF Influence-Mine'!$CP210","v":0},{"$f":"'7.WEF Influence-Mine'!$CP250","v":0},{"$f":"'7.WEF Influence-Mine'!$CP290","v":0},{"$f":"IF(AT38>=$D$7,\"B:\"&'3.WEF Status-Base'!$N37&\": \",)&IF(AU38<>0,\"1.\"&'7.WEF Influence-Mine'!$CQ130&\" \",)&IF(AV38<>0,\"2.\"&'7.WEF Influence-Mine'!$CQ170&\" \",)&IF(AW38<>0,\"3.\"&'7.WEF Influence-Mine'!$CQ210&\" \",)&IF(AX38<>0,\"4.\"&'7.WEF Influence-Mine'!$CQ250&\" \",)&IF(AY38<>0,\"5.\"&'7.WEF Influence-Mine'!$CQ290&\" \",)","v":""},null,null,null,null,null,null,{"$f":"'3.WEF Status-Base'!P37","v":0},{"$f":"'7.WEF Influence-Mine'!$CT130","v":0},{"$f":"'7.WEF Influence-Mine'!$CT170","v":0},{"$f":"'7.WEF Influence-Mine'!$CT210","v":0},{"$f":"'7.WEF Influence-Mine'!$CT250","v":0},{"$f":"'7.WEF Influence-Mine'!$CT290","v":0},{"$f":"IF(BG38>=$D$7,\"B:\"&'3.WEF Status-Base'!$Q37&\": \",)&IF(BH38<>0,\"1.\"&'7.WEF Influence-Mine'!$CU130&\" \",)&IF(BI38<>0,\"2.\"&'7.WEF Influence-Mine'!$CU170&\" \",)&IF(BJ38<>0,\"3.\"&'7.WEF Influence-Mine'!$CU210&\" \",)&IF(BK38<>0,\"4.\"&'7.WEF Influence-Mine'!$CU250&\" \",)&IF(BL38<>0,\"5.\"&'7.WEF Influence-Mine'!$CU290&\" \",)","v":""},null,null,null,null,null,null,{"$f":"'3.WEF Status-Base'!S37","v":0},{"$f":"'7.WEF Influence-Mine'!$CX130","v":0},{"$f":"'7.WEF Influence-Mine'!$CX170","v":0},{"$f":"'7.WEF Influence-Mine'!$CX210","v":0},{"$f":"'7.WEF Influence-Mine'!$CX250","v":0},{"$f":"'7.WEF Influence-Mine'!$CX290","v":0},{"$f":"IF(BT38>=$D$7,\"B:\"&'3.WEF Status-Base'!$T37&\": \",)&IF(BU38<>0,\"1.\"&'7.WEF Influence-Mine'!$CY130&\" \",)&IF(BV38<>0,\"2.\"&'7.WEF Influence-Mine'!$CY170&\" \",)&IF(BW38<>0,\"3.\"&'7.WEF Influence-Mine'!$CY210&\" \",)&IF(BX38<>0,\"4.\"&'7.WEF Influence-Mine'!$CY250&\" \",)&IF(BY38<>0,\"5.\"&'7.WEF Influence-Mine'!$CY290&\" \",)","v":""},null,null,null,null,null,null,{"$f":"'3.WEF Status-Base'!V37","v":0},{"$f":"'7.WEF Influence-Mine'!$DB130","v":0},{"$f":"'7.WEF Influence-Mine'!$DB170","v":0},{"$f":"'7.WEF Influence-Mine'!$DB210","v":0},{"$f":"'7.WEF Influence-Mine'!$DB250","v":0},{"$f":"'7.WEF Influence-Mine'!$DB290","v":0},{"$f":"IF(CG38>=$D$7,\"B:\"&'3.WEF Status-Base'!$W37&\": \",)&IF(CH38<>0,\"1.\"&'7.WEF Influence-Mine'!$DC130&\" \",)&IF(CI38<>0,\"2.\"&'7.WEF Influence-Mine'!$DC170&\" \",)&IF(CJ38<>0,\"3.\"&'7.WEF Influence-Mine'!$DC210&\" \",)&IF(CK38<>0,\"4.\"&'7.WEF Influence-Mine'!$DC250&\" \",)&IF(CL38<>0,\"5.\"&'7.WEF Influence-Mine'!$DC290&\" \",)","v":""},null,null,null,null,null,null,{"$f":"'3.WEF Status-Base'!Y37","v":0},{"$f":"'7.WEF Influence-Mine'!$DF130","v":0},{"$f":"'7.WEF Influence-Mine'!$DF170","v":0},{"$f":"'7.WEF Influence-Mine'!$DF210","v":0},{"$f":"'7.WEF Influence-Mine'!$DF250","v":0},{"$f":"'7.WEF Influence-Mine'!$DF290","v":0},{"$f":"IF(CT38>=$D$7,\"B:\"&'3.WEF Status-Base'!$Z37&\": \",)&IF(CU38<>0,\"1.\"&'7.WEF Influence-Mine'!$DG130&\" \",)&IF(CV38<>0,\"2.\"&'7.WEF Influence-Mine'!$DG170&\" \",)&IF(CW38<>0,\"3.\"&'7.WEF Influence-Mine'!$DG210&\" \",)&IF(CX38<>0,\"4.\"&'7.WEF Influence-Mine'!$DG250&\" \",)&IF(CY38<>0,\"5.\"&'7.WEF Influence-Mine'!$DG290&\" \",)","v":""},null,null,null,null,null,null,{"$f":"'3.WEF Status-Base'!AB37","v":0},{"$f":"'7.WEF Influence-Mine'!$DJ130","v":0},{"$f":"'7.WEF Influence-Mine'!$DJ170","v":0},{"$f":"'7.WEF Influence-Mine'!$DJ210","v":0},{"$f":"'7.WEF Influence-Mine'!$DJ250","v":0},{"$f":"'7.WEF Influence-Mine'!$DJ290","v":0},{"$f":"IF(DG38>=$D$7,\"B:\"&'3.WEF Status-Base'!$AC37&\": \",)&IF(DH38<>0,\"1.\"&'7.WEF Influence-Mine'!$DK130&\" \",)&IF(DI38<>0,\"2.\"&'7.WEF Influence-Mine'!$DK170&\" \",)&IF(DJ38<>0,\"3.\"&'7.WEF Influence-Mine'!$DK210&\" \",)&IF(DK38<>0,\"4.\"&'7.WEF Influence-Mine'!$DK250&\" \",)&IF(DL38<>0,\"5.\"&'7.WEF Influence-Mine'!$DK290&\" \",)","v":""},null,null,null,null,null,null,{"$f":"'3.WEF Status-Base'!AE37","v":0},{"$f":"'7.WEF Influence-Mine'!$DN130","v":0},{"$f":"'7.WEF Influence-Mine'!$DN170","v":0},{"$f":"'7.WEF Influence-Mine'!$DN210","v":0},{"$f":"'7.WEF Influence-Mine'!$DN250","v":0},{"$f":"'7.WEF Influence-Mine'!$DN290","v":0},{"$f":"IF(DT38>=$D$7,\"B:\"&'3.WEF Status-Base'!$AF37&\": \",)&IF(DU38<>0,\"1.\"&'7.WEF Influence-Mine'!$DO130&\" \",)&IF(DV38<>0,\"2.\"&'7.WEF Influence-Mine'!$DO170&\" \",)&IF(DW38<>0,\"3.\"&'7.WEF Influence-Mine'!$DO210&\" \",)&IF(DX38<>0,\"4.\"&'7.WEF Influence-Mine'!$DO250&\" \",)&IF(DY38<>0,\"5.\"&'7.WEF Influence-Mine'!$DO290&\" \",)","v":""},null,null,null,null,null,null,{"$f":"'3.WEF Status-Base'!AH37","v":0},{"$f":"'7.WEF Influence-Mine'!$DR130","v":0},{"$f":"'7.WEF Influence-Mine'!$DR170","v":0},{"$f":"'7.WEF Influence-Mine'!$DR210","v":0},{"$f":"'7.WEF Influence-Mine'!$DR250","v":0},{"$f":"'7.WEF Influence-Mine'!$DR290","v":0},{"$f":"IF(EG38>=$D$7,\"B:\"&'3.WEF Status-Base'!$AI37&\": \",)&IF(EH38<>0,\"1.\"&'7.WEF Influence-Mine'!$DS130&\" \",)&IF(EI38<>0,\"2.\"&'7.WEF Influence-Mine'!$DS170&\" \",)&IF(EJ38<>0,\"3.\"&'7.WEF Influence-Mine'!$DS210&\" \",)&IF(EK38<>0,\"4.\"&'7.WEF Influence-Mine'!$DS250&\" \",)&IF(EL38<>0,\"5.\"&'7.WEF Influence-Mine'!$DS290&\" \",)","v":""},null,null,null,null,null,null,{"$f":"'3.WEF Status-Base'!AK37","v":0},{"$f":"'7.WEF Influence-Mine'!$DV130","v":0},{"$f":"'7.WEF Influence-Mine'!$DV170","v":0},{"$f":"'7.WEF Influence-Mine'!$DV210","v":0},{"$f":"'7.WEF Influence-Mine'!$DV250","v":0},{"$f":"'7.WEF Influence-Mine'!$DV290","v":0},{"$f":"IF(ET38>=$D$7,\"B:\"&'3.WEF Status-Base'!$AL37&\": \",)&IF(EU38<>0,\"1.\"&'7.WEF Influence-Mine'!$DW130&\" \",)&IF(EV38<>0,\"2.\"&'7.WEF Influence-Mine'!$DW170&\" \",)&IF(EW38<>0,\"3.\"&'7.WEF Influence-Mine'!$DW210&\" \",)&IF(EX38<>0,\"4.\"&'7.WEF Influence-Mine'!$DW250&\" \",)&IF(EY38<>0,\"5.\"&'7.WEF Influence-Mine'!$DW290&\" \",)","v":""},null,null,null,null,null,null,{"$f":"'3.WEF Status-Base'!AN37","v":0},{"$f":"'7.WEF Influence-Mine'!$DZ130","v":0},{"$f":"'7.WEF Influence-Mine'!$DZ170","v":0},{"$f":"'7.WEF Influence-Mine'!$DZ210","v":0},{"$f":"'7.WEF Influence-Mine'!$DZ250","v":0},{"$f":"'7.WEF Influence-Mine'!$DZ290","v":0},{"$f":"IF(FG38>=$D$7,\"B:\"&'3.WEF Status-Base'!$AO37&\": \",)&IF(FH38<>0,\"1.\"&'7.WEF Influence-Mine'!$EA130&\" \",)&IF(FI38<>0,\"2.\"&'7.WEF Influence-Mine'!$EA170&\" \",)&IF(FJ38<>0,\"3.\"&'7.WEF Influence-Mine'!$EA210&\" \",)&IF(FK38<>0,\"4.\"&'7.WEF Influence-Mine'!$EA250&\" \",)&IF(FL38<>0,\"5.\"&'7.WEF Influence-Mine'!$EA290&\" \",)","v":""},null,null,null,null,null,null,{"$f":"'3.WEF Status-Base'!AQ37","v":0},{"$f":"'7.WEF Influence-Mine'!$ED130","v":0},{"$f":"'7.WEF Influence-Mine'!$ED170","v":0},{"$f":"'7.WEF Influence-Mine'!$ED210","v":0},{"$f":"'7.WEF Influence-Mine'!$ED250","v":0},{"$f":"'7.WEF Influence-Mine'!$ED290","v":0},{"$f":"IF(FT38>=$D$7,\"B:\"&'3.WEF Status-Base'!$AR37&\": \",)&IF(FU38<>0,\"1.\"&'7.WEF Influence-Mine'!$EE130&\" \",)&IF(FV38<>0,\"2.\"&'7.WEF Influence-Mine'!$EE170&\" \",)&IF(FW38<>0,\"3.\"&'7.WEF Influence-Mine'!$EE210&\" \",)&IF(FX38<>0,\"4.\"&'7.WEF Influence-Mine'!$EE250&\" \",)&IF(FY38<>0,\"5.\"&'7.WEF Influence-Mine'!$EE290&\" \",)","v":""},null,null,null,null,null,null,{"$f":"'3.WEF Status-Base'!AT37","v":0},{"$f":"'7.WEF Influence-Mine'!$EH130","v":0},{"$f":"'7.WEF Influence-Mine'!$EH170","v":0},{"$f":"'7.WEF Influence-Mine'!$EH210","v":0},{"$f":"'7.WEF Influence-Mine'!$EH250","v":0},{"$f":"'7.WEF Influence-Mine'!$EH290","v":0},{"$f":"IF(GG38>=$D$7,\"B:\"&'3.WEF Status-Base'!$AU37&\": \",)&IF(GH38<>0,\"1.\"&'7.WEF Influence-Mine'!$EI130&\" \",)&IF(GI38<>0,\"2.\"&'7.WEF Influence-Mine'!$EI170&\" \",)&IF(GJ38<>0,\"3.\"&'7.WEF Influence-Mine'!$EI210&\" \",)&IF(GK38<>0,\"4.\"&'7.WEF Influence-Mine'!$EI250&\" \",)&IF(GL38<>0,\"5.\"&'7.WEF Influence-Mine'!$EI290&\" \",)","v":""},null,null,null,null,null,null,{"$f":"'3.WEF Status-Base'!AW37","v":0},{"$f":"'7.WEF Influence-Mine'!$EL130","v":0},{"$f":"'7.WEF Influence-Mine'!$EL170","v":0},{"$f":"'7.WEF Influence-Mine'!$EL210","v":0},{"$f":"'7.WEF Influence-Mine'!$EL250","v":0},{"$f":"'7.WEF Influence-Mine'!$EL290","v":0},{"$f":"IF(GT38>=$D$7,\"B:\"&'3.WEF Status-Base'!$AX37&\": \",)&IF(GU38<>0,\"1.\"&'7.WEF Influence-Mine'!$EM130&\" \",)&IF(GV38<>0,\"2.\"&'7.WEF Influence-Mine'!$EM170&\" \",)&IF(GW38<>0,\"3.\"&'7.WEF Influence-Mine'!$EM210&\" \",)&IF(GX38<>0,\"4.\"&'7.WEF Influence-Mine'!$EM250&\" \",)&IF(GY38<>0,\"5.\"&'7.WEF Influence-Mine'!$EM290&\" \",)","v":""},null,null,null,null,null,null,{"$f":"'3.WEF Status-Base'!AZ37","v":0},{"$f":"'7.WEF Influence-Mine'!$EP130","v":0},{"$f":"'7.WEF Influence-Mine'!$EP170","v":0},{"$f":"'7.WEF Influence-Mine'!$EP210","v":0},{"$f":"'7.WEF Influence-Mine'!$EP250","v":0},{"$f":"'7.WEF Influence-Mine'!$EP290","v":0},{"$f":"IF(HG38>=$D$7,\"B:\"&'3.WEF Status-Base'!$BA37&\": \",)&IF(HH38<>0,\"1.\"&'7.WEF Influence-Mine'!$EQ130&\" \",)&IF(HI38<>0,\"2.\"&'7.WEF Influence-Mine'!$EQ170&\" \",)&IF(HJ38<>0,\"3.\"&'7.WEF Influence-Mine'!$EQ210&\" \",)&IF(HK38<>0,\"4.\"&'7.WEF Influence-Mine'!$EQ250&\" \",)&IF(HL38<>0,\"5.\"&'7.WEF Influence-Mine'!$EQ290&\" \",)","v":""},null,null,null,null,null,null,{"$f":"'3.WEF Status-Base'!BC37","v":0},{"$f":"'7.WEF Influence-Mine'!$ET130","v":0},{"$f":"'7.WEF Influence-Mine'!$ET170","v":0},{"$f":"'7.WEF Influence-Mine'!$ET210","v":0},{"$f":"'7.WEF Influence-Mine'!$ET250","v":0},{"$f":"'7.WEF Influence-Mine'!$ET290","v":0},{"$f":"IF(HT38>=$D$7,\"B:\"&'3.WEF Status-Base'!$BD37&\": \",)&IF(HU38<>0,\"1.\"&'7.WEF Influence-Mine'!$EU130&\" \",)&IF(HV38<>0,\"2.\"&'7.WEF Influence-Mine'!$EU170&\" \",)&IF(HW38<>0,\"3.\"&'7.WEF Influence-Mine'!$EU210&\" \",)&IF(HX38<>0,\"4.\"&'7.WEF Influence-Mine'!$EU250&\" \",)&IF(HY38<>0,\"5.\"&'7.WEF Influence-Mine'!$EU290&\" \",)","v":""},null,null,null,null,null,null,{"$f":"'7.WEF Influence-Mine'!EV130&\" : \"&'7.WEF Influence-Mine'!EV170&\" : \"&'7.WEF Influence-Mine'!EV210&\" : \"&'7.WEF Influence-Mine'!EV250&\" : \"&'7.WEF Influence-Mine'!EV290","v":"0 : 0 : 0 : 0 : 0"}]
[29,"     Law enforcement and security",{"$f":"'3.WEF Status-Base'!B38","v":0},0,{"$f":"MIN($H39:$L39,$U39:$Y39,$AH39:$AL39,$AU39:$AY39,$BH39:$BL39,$BU39:$BY39,$CH39:$CL39,$CU39:$CY39,$DH39:$DL39,$DU39:$DY39,$EH39:$EL39,$EU39:$EY39,$FH39:$FL39,$FU39:$FY39,$GH39:$GL39,$GU39:$GY39,$HH39:$HL39,$HU39:$HY39)","v":0},null,{"$f":"'3.WEF Status-Base'!D38","v":0},{"$f":"'7.WEF Influence-Mine'!$CD131","v":0},{"$f":"'7.WEF Influence-Mine'!$CD171","v":0},{"$f":"'7.WEF Influence-Mine'!$CD211","v":0},{"$f":"'7.WEF Influence-Mine'!$CD251","v":0},{"$f":"'7.WEF Influence-Mine'!$CD291","v":0},{"$f":"IF(G39>=$D$7,\"B:\"&'3.WEF Status-Base'!$E38&\": \",)&IF(H39<>0,\"1. \"&'7.WEF Influence-Mine'!$CE131&\" \",)&IF(I39<>0,\"2. \"&'7.WEF Influence-Mine'!$CE171&\" \",)&IF(J39<>0,\"3. \"&'7.WEF Influence-Mine'!$CE211&\" \",)&IF(K39<>0,\"4. \"&'7.WEF Influence-Mine'!$CE251&\" \",)&IF(L39<>0,\"5. \"&'7.WEF Influence-Mine'!$CE291&\" \",)","v":""},null,null,null,null,null,null,{"$f":"'3.WEF Status-Base'!G38","v":0},{"$f":"'7.WEF Influence-Mine'!$CH131","v":0},{"$f":"'7.WEF Influence-Mine'!$CH171","v":0},{"$f":"'7.WEF Influence-Mine'!$CH211","v":0},{"$f":"'7.WEF Influence-Mine'!$CH251","v":0},{"$f":"'7.WEF Influence-Mine'!$CH291","v":0},{"$f":"IF(T39>=$D$7,\"B:\"&'3.WEF Status-Base'!$H38&\": \",)&IF(U39<>0,\"1.\"&'7.WEF Influence-Mine'!$CI131&\" \",)&IF(V39<>0,\"2.\"&'7.WEF Influence-Mine'!$CI171&\" \",)&IF(W39<>0,\"3.\"&'7.WEF Influence-Mine'!$CI211&\" \",)&IF(X39<>0,\"4.\"&'7.WEF Influence-Mine'!$CI251&\" \",)&IF(Y39<>0,\"5.\"&'7.WEF Influence-Mine'!$CI291&\" \",)","v":""},null,null,null,null,null,null,{"$f":"'3.WEF Status-Base'!J38","v":0},{"$f":"'7.WEF Influence-Mine'!$CL131","v":0},{"$f":"'7.WEF Influence-Mine'!$CL171","v":0},{"$f":"'7.WEF Influence-Mine'!$CL211","v":0},{"$f":"'7.WEF Influence-Mine'!$CL251","v":0},{"$f":"'7.WEF Influence-Mine'!$CL291","v":0},{"$f":"IF(AG39>=$D$7,\"B:\"&'3.WEF Status-Base'!$K38&\": \",)&IF(AH39<>0,\"1.\"&'7.WEF Influence-Mine'!$CM131&\" \",)&IF(AI39<>0,\"2.\"&'7.WEF Influence-Mine'!$CM171&\" \",)&IF(AJ39<>0,\"3.\"&'7.WEF Influence-Mine'!$CM211&\" \",)&IF(AK39<>0,\"4.\"&'7.WEF Influence-Mine'!$CM251&\" \",)&IF(AL39<>0,\"5.\"&'7.WEF Influence-Mine'!$CM291&\" \",)","v":""},null,null,null,null,null,null,{"$f":"'3.WEF Status-Base'!M38","v":0},{"$f":"'7.WEF Influence-Mine'!$CP131","v":0},{"$f":"'7.WEF Influence-Mine'!$CP171","v":0},{"$f":"'7.WEF Influence-Mine'!$CP211","v":0},{"$f":"'7.WEF Influence-Mine'!$CP251","v":0},{"$f":"'7.WEF Influence-Mine'!$CP291","v":0},{"$f":"IF(AT39>=$D$7,\"B:\"&'3.WEF Status-Base'!$N38&\": \",)&IF(AU39<>0,\"1.\"&'7.WEF Influence-Mine'!$CQ131&\" \",)&IF(AV39<>0,\"2.\"&'7.WEF Influence-Mine'!$CQ171&\" \",)&IF(AW39<>0,\"3.\"&'7.WEF Influence-Mine'!$CQ211&\" \",)&IF(AX39<>0,\"4.\"&'7.WEF Influence-Mine'!$CQ251&\" \",)&IF(AY39<>0,\"5.\"&'7.WEF Influence-Mine'!$CQ291&\" \",)","v":""},null,null,null,null,null,null,{"$f":"'3.WEF Status-Base'!P38","v":0},{"$f":"'7.WEF Influence-Mine'!$CT131","v":0},{"$f":"'7.WEF Influence-Mine'!$CT171","v":0},{"$f":"'7.WEF Influence-Mine'!$CT211","v":0},{"$f":"'7.WEF Influence-Mine'!$CT251","v":0},{"$f":"'7.WEF Influence-Mine'!$CT291","v":0},{"$f":"IF(BG39>=$D$7,\"B:\"&'3.WEF Status-Base'!$Q38&\": \",)&IF(BH39<>0,\"1.\"&'7.WEF Influence-Mine'!$CU131&\" \",)&IF(BI39<>0,\"2.\"&'7.WEF Influence-Mine'!$CU171&\" \",)&IF(BJ39<>0,\"3.\"&'7.WEF Influence-Mine'!$CU211&\" \",)&IF(BK39<>0,\"4.\"&'7.WEF Influence-Mine'!$CU251&\" \",)&IF(BL39<>0,\"5.\"&'7.WEF Influence-Mine'!$CU291&\" \",)","v":""},null,null,null,null,null,null,{"$f":"'3.WEF Status-Base'!S38","v":0},{"$f":"'7.WEF Influence-Mine'!$CX131","v":0},{"$f":"'7.WEF Influence-Mine'!$CX171","v":0},{"$f":"'7.WEF Influence-Mine'!$CX211","v":0},{"$f":"'7.WEF Influence-Mine'!$CX251","v":0},{"$f":"'7.WEF Influence-Mine'!$CX291","v":0},{"$f":"IF(BT39>=$D$7,\"B:\"&'3.WEF Status-Base'!$T38&\": \",)&IF(BU39<>0,\"1.\"&'7.WEF Influence-Mine'!$CY131&\" \",)&IF(BV39<>0,\"2.\"&'7.WEF Influence-Mine'!$CY171&\" \",)&IF(BW39<>0,\"3.\"&'7.WEF Influence-Mine'!$CY211&\" \",)&IF(BX39<>0,\"4.\"&'7.WEF Influence-Mine'!$CY251&\" \",)&IF(BY39<>0,\"5.\"&'7.WEF Influence-Mine'!$CY291&\" \",)","v":""},null,null,null,null,null,null,{"$f":"'3.WEF Status-Base'!V38","v":0},{"$f":"'7.WEF Influence-Mine'!$DB131","v":0},{"$f":"'7.WEF Influence-Mine'!$DB171","v":0},{"$f":"'7.WEF Influence-Mine'!$DB211","v":0},{"$f":"'7.WEF Influence-Mine'!$DB251","v":0},{"$f":"'7.WEF Influence-Mine'!$DB291","v":0},{"$f":"IF(CG39>=$D$7,\"B:\"&'3.WEF Status-Base'!$W38&\": \",)&IF(CH39<>0,\"1.\"&'7.WEF Influence-Mine'!$DC131&\" \",)&IF(CI39<>0,\"2.\"&'7.WEF Influence-Mine'!$DC171&\" \",)&IF(CJ39<>0,\"3.\"&'7.WEF Influence-Mine'!$DC211&\" \",)&IF(CK39<>0,\"4.\"&'7.WEF Influence-Mine'!$DC251&\" \",)&IF(CL39<>0,\"5.\"&'7.WEF Influence-Mine'!$DC291&\" \",)","v":""},null,null,null,null,null,null,{"$f":"'3.WEF Status-Base'!Y38","v":0},{"$f":"'7.WEF Influence-Mine'!$DF131","v":0},{"$f":"'7.WEF Influence-Mine'!$DF171","v":0},{"$f":"'7.WEF Influence-Mine'!$DF211","v":0},{"$f":"'7.WEF Influence-Mine'!$DF251","v":0},{"$f":"'7.WEF Influence-Mine'!$DF291","v":0},{"$f":"IF(CT39>=$D$7,\"B:\"&'3.WEF Status-Base'!$Z38&\": \",)&IF(CU39<>0,\"1.\"&'7.WEF Influence-Mine'!$DG131&\" \",)&IF(CV39<>0,\"2.\"&'7.WEF Influence-Mine'!$DG171&\" \",)&IF(CW39<>0,\"3.\"&'7.WEF Influence-Mine'!$DG211&\" \",)&IF(CX39<>0,\"4.\"&'7.WEF Influence-Mine'!$DG251&\" \",)&IF(CY39<>0,\"5.\"&'7.WEF Influence-Mine'!$DG291&\" \",)","v":""},null,null,null,null,null,null,{"$f":"'3.WEF Status-Base'!AB38","v":0},{"$f":"'7.WEF Influence-Mine'!$DJ131","v":0},{"$f":"'7.WEF Influence-Mine'!$DJ171","v":0},{"$f":"'7.WEF Influence-Mine'!$DJ211","v":0},{"$f":"'7.WEF Influence-Mine'!$DJ251","v":0},{"$f":"'7.WEF Influence-Mine'!$DJ291","v":0},{"$f":"IF(DG39>=$D$7,\"B:\"&'3.WEF Status-Base'!$AC38&\": \",)&IF(DH39<>0,\"1.\"&'7.WEF Influence-Mine'!$DK131&\" \",)&IF(DI39<>0,\"2.\"&'7.WEF Influence-Mine'!$DK171&\" \",)&IF(DJ39<>0,\"3.\"&'7.WEF Influence-Mine'!$DK211&\" \",)&IF(DK39<>0,\"4.\"&'7.WEF Influence-Mine'!$DK251&\" \",)&IF(DL39<>0,\"5.\"&'7.WEF Influence-Mine'!$DK291&\" \",)","v":""},null,null,null,null,null,null,{"$f":"'3.WEF Status-Base'!AE38","v":0},{"$f":"'7.WEF Influence-Mine'!$DN131","v":0},{"$f":"'7.WEF Influence-Mine'!$DN171","v":0},{"$f":"'7.WEF Influence-Mine'!$DN211","v":0},{"$f":"'7.WEF Influence-Mine'!$DN251","v":0},{"$f":"'7.WEF Influence-Mine'!$DN291","v":0},{"$f":"IF(DT39>=$D$7,\"B:\"&'3.WEF Status-Base'!$AF38&\": \",)&IF(DU39<>0,\"1.\"&'7.WEF Influence-Mine'!$DO131&\" \",)&IF(DV39<>0,\"2.\"&'7.WEF Influence-Mine'!$DO171&\" \",)&IF(DW39<>0,\"3.\"&'7.WEF Influence-Mine'!$DO211&\" \",)&IF(DX39<>0,\"4.\"&'7.WEF Influence-Mine'!$DO251&\" \",)&IF(DY39<>0,\"5.\"&'7.WEF Influence-Mine'!$DO291&\" \",)","v":""},null,null,null,null,null,null,{"$f":"'3.WEF Status-Base'!AH38","v":0},{"$f":"'7.WEF Influence-Mine'!$DR131","v":0},{"$f":"'7.WEF Influence-Mine'!$DR171","v":0},{"$f":"'7.WEF Influence-Mine'!$DR211","v":0},{"$f":"'7.WEF Influence-Mine'!$DR251","v":0},{"$f":"'7.WEF Influence-Mine'!$DR291","v":0},{"$f":"IF(EG39>=$D$7,\"B:\"&'3.WEF Status-Base'!$AI38&\": \",)&IF(EH39<>0,\"1.\"&'7.WEF Influence-Mine'!$DS131&\" \",)&IF(EI39<>0,\"2.\"&'7.WEF Influence-Mine'!$DS171&\" \",)&IF(EJ39<>0,\"3.\"&'7.WEF Influence-Mine'!$DS211&\" \",)&IF(EK39<>0,\"4.\"&'7.WEF Influence-Mine'!$DS251&\" \",)&IF(EL39<>0,\"5.\"&'7.WEF Influence-Mine'!$DS291&\" \",)","v":""},null,null,null,null,null,null,{"$f":"'3.WEF Status-Base'!AK38","v":0},{"$f":"'7.WEF Influence-Mine'!$DV131","v":0},{"$f":"'7.WEF Influence-Mine'!$DV171","v":0},{"$f":"'7.WEF Influence-Mine'!$DV211","v":0},{"$f":"'7.WEF Influence-Mine'!$DV251","v":0},{"$f":"'7.WEF Influence-Mine'!$DV291","v":0},{"$f":"IF(ET39>=$D$7,\"B:\"&'3.WEF Status-Base'!$AL38&\": \",)&IF(EU39<>0,\"1.\"&'7.WEF Influence-Mine'!$DW131&\" \",)&IF(EV39<>0,\"2.\"&'7.WEF Influence-Mine'!$DW171&\" \",)&IF(EW39<>0,\"3.\"&'7.WEF Influence-Mine'!$DW211&\" \",)&IF(EX39<>0,\"4.\"&'7.WEF Influence-Mine'!$DW251&\" \",)&IF(EY39<>0,\"5.\"&'7.WEF Influence-Mine'!$DW291&\" \",)","v":""},null,null,null,null,null,null,{"$f":"'3.WEF Status-Base'!AN38","v":0},{"$f":"'7.WEF Influence-Mine'!$DZ131","v":0},{"$f":"'7.WEF Influence-Mine'!$DZ171","v":0},{"$f":"'7.WEF Influence-Mine'!$DZ211","v":0},{"$f":"'7.WEF Influence-Mine'!$DZ251","v":0},{"$f":"'7.WEF Influence-Mine'!$DZ291","v":0},{"$f":"IF(FG39>=$D$7,\"B:\"&'3.WEF Status-Base'!$AO38&\": \",)&IF(FH39<>0,\"1.\"&'7.WEF Influence-Mine'!$EA131&\" \",)&IF(FI39<>0,\"2.\"&'7.WEF Influence-Mine'!$EA171&\" \",)&IF(FJ39<>0,\"3.\"&'7.WEF Influence-Mine'!$EA211&\" \",)&IF(FK39<>0,\"4.\"&'7.WEF Influence-Mine'!$EA251&\" \",)&IF(FL39<>0,\"5.\"&'7.WEF Influence-Mine'!$EA291&\" \",)","v":""},null,null,null,null,null,null,{"$f":"'3.WEF Status-Base'!AQ38","v":0},{"$f":"'7.WEF Influence-Mine'!$ED131","v":0},{"$f":"'7.WEF Influence-Mine'!$ED171","v":0},{"$f":"'7.WEF Influence-Mine'!$ED211","v":0},{"$f":"'7.WEF Influence-Mine'!$ED251","v":0},{"$f":"'7.WEF Influence-Mine'!$ED291","v":0},{"$f":"IF(FT39>=$D$7,\"B:\"&'3.WEF Status-Base'!$AR38&\": \",)&IF(FU39<>0,\"1.\"&'7.WEF Influence-Mine'!$EE131&\" \",)&IF(FV39<>0,\"2.\"&'7.WEF Influence-Mine'!$EE171&\" \",)&IF(FW39<>0,\"3.\"&'7.WEF Influence-Mine'!$EE211&\" \",)&IF(FX39<>0,\"4.\"&'7.WEF Influence-Mine'!$EE251&\" \",)&IF(FY39<>0,\"5.\"&'7.WEF Influence-Mine'!$EE291&\" \",)","v":""},null,null,null,null,null,null,{"$f":"'3.WEF Status-Base'!AT38","v":0},{"$f":"'7.WEF Influence-Mine'!$EH131","v":0},{"$f":"'7.WEF Influence-Mine'!$EH171","v":0},{"$f":"'7.WEF Influence-Mine'!$EH211","v":0},{"$f":"'7.WEF Influence-Mine'!$EH251","v":0},{"$f":"'7.WEF Influence-Mine'!$EH291","v":0},{"$f":"IF(GG39>=$D$7,\"B:\"&'3.WEF Status-Base'!$AU38&\": \",)&IF(GH39<>0,\"1.\"&'7.WEF Influence-Mine'!$EI131&\" \",)&IF(GI39<>0,\"2.\"&'7.WEF Influence-Mine'!$EI171&\" \",)&IF(GJ39<>0,\"3.\"&'7.WEF Influence-Mine'!$EI211&\" \",)&IF(GK39<>0,\"4.\"&'7.WEF Influence-Mine'!$EI251&\" \",)&IF(GL39<>0,\"5.\"&'7.WEF Influence-Mine'!$EI291&\" \",)","v":""},null,null,null,null,null,null,{"$f":"'3.WEF Status-Base'!AW38","v":0},{"$f":"'7.WEF Influence-Mine'!$EL131","v":0},{"$f":"'7.WEF Influence-Mine'!$EL171","v":0},{"$f":"'7.WEF Influence-Mine'!$EL211","v":0},{"$f":"'7.WEF Influence-Mine'!$EL251","v":0},{"$f":"'7.WEF Influence-Mine'!$EL291","v":0},{"$f":"IF(GT39>=$D$7,\"B:\"&'3.WEF Status-Base'!$AX38&\": \",)&IF(GU39<>0,\"1.\"&'7.WEF Influence-Mine'!$EM131&\" \",)&IF(GV39<>0,\"2.\"&'7.WEF Influence-Mine'!$EM171&\" \",)&IF(GW39<>0,\"3.\"&'7.WEF Influence-Mine'!$EM211&\" \",)&IF(GX39<>0,\"4.\"&'7.WEF Influence-Mine'!$EM251&\" \",)&IF(GY39<>0,\"5.\"&'7.WEF Influence-Mine'!$EM291&\" \",)","v":""},null,null,null,null,null,null,{"$f":"'3.WEF Status-Base'!AZ38","v":0},{"$f":"'7.WEF Influence-Mine'!$EP131","v":0},{"$f":"'7.WEF Influence-Mine'!$EP171","v":0},{"$f":"'7.WEF Influence-Mine'!$EP211","v":0},{"$f":"'7.WEF Influence-Mine'!$EP251","v":0},{"$f":"'7.WEF Influence-Mine'!$EP291","v":0},{"$f":"IF(HG39>=$D$7,\"B:\"&'3.WEF Status-Base'!$BA38&\": \",)&IF(HH39<>0,\"1.\"&'7.WEF Influence-Mine'!$EQ131&\" \",)&IF(HI39<>0,\"2.\"&'7.WEF Influence-Mine'!$EQ171&\" \",)&IF(HJ39<>0,\"3.\"&'7.WEF Influence-Mine'!$EQ211&\" \",)&IF(HK39<>0,\"4.\"&'7.WEF Influence-Mine'!$EQ251&\" \",)&IF(HL39<>0,\"5.\"&'7.WEF Influence-Mine'!$EQ291&\" \",)","v":""},null,null,null,null,null,null,{"$f":"'3.WEF Status-Base'!BC38","v":0},{"$f":"'7.WEF Influence-Mine'!$ET131","v":0},{"$f":"'7.WEF Influence-Mine'!$ET171","v":0},{"$f":"'7.WEF Influence-Mine'!$ET211","v":0},{"$f":"'7.WEF Influence-Mine'!$ET251","v":0},{"$f":"'7.WEF Influence-Mine'!$ET291","v":0},{"$f":"IF(HT39>=$D$7,\"B:\"&'3.WEF Status-Base'!$BD38&\": \",)&IF(HU39<>0,\"1.\"&'7.WEF Influence-Mine'!$EU131&\" \",)&IF(HV39<>0,\"2.\"&'7.WEF Influence-Mine'!$EU171&\" \",)&IF(HW39<>0,\"3.\"&'7.WEF Influence-Mine'!$EU211&\" \",)&IF(HX39<>0,\"4.\"&'7.WEF Influence-Mine'!$EU251&\" \",)&IF(HY39<>0,\"5.\"&'7.WEF Influence-Mine'!$EU291&\" \",)","v":""},null,null,null,null,null,null,{"$f":"'7.WEF Influence-Mine'!EV131&\" : \"&'7.WEF Influence-Mine'!EV171&\" : \"&'7.WEF Influence-Mine'!EV211&\" : \"&'7.WEF Influence-Mine'!EV251&\" : \"&'7.WEF Influence-Mine'!EV291","v":"0 : 0 : 0 : 0 : 0"}]
[30,"Policies and Plans"]
[31,"     Resource use",{"$f":"'3.WEF Status-Base'!B40","v":0},0,{"$f":"MIN($H41:$L41,$U41:$Y41,$AH41:$AL41,$AU41:$AY41,$BH41:$BL41,$BU41:$BY41,$CH41:$CL41,$CU41:$CY41,$DH41:$DL41,$DU41:$DY41,$EH41:$EL41,$EU41:$EY41,$FH41:$FL41,$FU41:$FY41,$GH41:$GL41,$GU41:$GY41,$HH41:$HL41,$HU41:$HY41)","v":0},null,{"$f":"'3.WEF Status-Base'!D40","v":0},{"$f":"'7.WEF Influence-Mine'!$CD133","v":0},{"$f":"'7.WEF Influence-Mine'!$CD173","v":0},{"$f":"'7.WEF Influence-Mine'!$CD213","v":0},{"$f":"'7.WEF Influence-Mine'!$CD253","v":0},{"$f":"'7.WEF Influence-Mine'!$CD293","v":0},{"$f":"IF(G41>=$D$7,\"B:\"&'3.WEF Status-Base'!$E40&\": \",)&IF(H41<>0,\"1. \"&'7.WEF Influence-Mine'!$CE133&\" \",)&IF(I41<>0,\"2. \"&'7.WEF Influence-Mine'!$CE173&\" \",)&IF(J41<>0,\"3. \"&'7.WEF Influence-Mine'!$CE213&\" \",)&IF(K41<>0,\"4. \"&'7.WEF Influence-Mine'!$CE253&\" \",)&IF(L41<>0,\"5. \"&'7.WEF Influence-Mine'!$CE293&\" \",)","v":""},null,null,null,null,null,null,{"$f":"'3.WEF Status-Base'!G40","v":0},{"$f":"'7.WEF Influence-Mine'!$CH133","v":0},{"$f":"'7.WEF Influence-Mine'!$CH173","v":0},{"$f":"'7.WEF Influence-Mine'!$CH213","v":0},{"$f":"'7.WEF Influence-Mine'!$CH253","v":0},{"$f":"'7.WEF Influence-Mine'!$CH293","v":0},{"$f":"IF(T41>=$D$7,\"B:\"&'3.WEF Status-Base'!$H40&\": \",)&IF(U41<>0,\"1.\"&'7.WEF Influence-Mine'!$CI133&\" \",)&IF(V41<>0,\"2.\"&'7.WEF Influence-Mine'!$CI173&\" \",)&IF(W41<>0,\"3.\"&'7.WEF Influence-Mine'!$CI213&\" \",)&IF(X41<>0,\"4.\"&'7.WEF Influence-Mine'!$CI253&\" \",)&IF(Y41<>0,\"5.\"&'7.WEF Influence-Mine'!$CI293&\" \",)","v":""},null,null,null,null,null,null,{"$f":"'3.WEF Status-Base'!J40","v":0},{"$f":"'7.WEF Influence-Mine'!$CL133","v":0},{"$f":"'7.WEF Influence-Mine'!$CL173","v":0},{"$f":"'7.WEF Influence-Mine'!$CL213","v":0},{"$f":"'7.WEF Influence-Mine'!$CL253","v":0},{"$f":"'7.WEF Influence-Mine'!$CL293","v":0},{"$f":"IF(AG41>=$D$7,\"B:\"&'3.WEF Status-Base'!$K40&\": \",)&IF(AH41<>0,\"1.\"&'7.WEF Influence-Mine'!$CM133&\" \",)&IF(AI41<>0,\"2.\"&'7.WEF Influence-Mine'!$CM173&\" \",)&IF(AJ41<>0,\"3.\"&'7.WEF Influence-Mine'!$CM213&\" \",)&IF(AK41<>0,\"4.\"&'7.WEF Influence-Mine'!$CM253&\" \",)&IF(AL41<>0,\"5.\"&'7.WEF Influence-Mine'!$CM293&\" \",)","v":""},null,null,null,null,null,null,{"$f":"'3.WEF Status-Base'!M40","v":0},{"$f":"'7.WEF Influence-Mine'!$CP133","v":0},{"$f":"'7.WEF Influence-Mine'!$CP173","v":0},{"$f":"'7.WEF Influence-Mine'!$CP213","v":0},{"$f":"'7.WEF Influence-Mine'!$CP253","v":0},{"$f":"'7.WEF Influence-Mine'!$CP293","v":0},{"$f":"IF(AT41>=$D$7,\"B:\"&'3.WEF Status-Base'!$N40&\": \",)&IF(AU41<>0,\"1.\"&'7.WEF Influence-Mine'!$CQ133&\" \",)&IF(AV41<>0,\"2.\"&'7.WEF Influence-Mine'!$CQ173&\" \",)&IF(AW41<>0,\"3.\"&'7.WEF Influence-Mine'!$CQ213&\" \",)&IF(AX41<>0,\"4.\"&'7.WEF Influence-Mine'!$CQ253&\" \",)&IF(AY41<>0,\"5.\"&'7.WEF Influence-Mine'!$CQ293&\" \",)","v":""},null,null,null,null,null,null,{"$f":"'3.WEF Status-Base'!P40","v":0},{"$f":"'7.WEF Influence-Mine'!$CT133","v":0},{"$f":"'7.WEF Influence-Mine'!$CT173","v":0},{"$f":"'7.WEF Influence-Mine'!$CT213","v":0},{"$f":"'7.WEF Influence-Mine'!$CT253","v":0},{"$f":"'7.WEF Influence-Mine'!$CT293","v":0},{"$f":"IF(BG41>=$D$7,\"B:\"&'3.WEF Status-Base'!$Q40&\": \",)&IF(BH41<>0,\"1.\"&'7.WEF Influence-Mine'!$CU133&\" \",)&IF(BI41<>0,\"2.\"&'7.WEF Influence-Mine'!$CU173&\" \",)&IF(BJ41<>0,\"3.\"&'7.WEF Influence-Mine'!$CU213&\" \",)&IF(BK41<>0,\"4.\"&'7.WEF Influence-Mine'!$CU253&\" \",)&IF(BL41<>0,\"5.\"&'7.WEF Influence-Mine'!$CU293&\" \",)","v":""},null,null,null,null,null,null,{"$f":"'3.WEF Status-Base'!S40","v":0},{"$f":"'7.WEF Influence-Mine'!$CX133","v":0},{"$f":"'7.WEF Influence-Mine'!$CX173","v":0},{"$f":"'7.WEF Influence-Mine'!$CX213","v":0},{"$f":"'7.WEF Influence-Mine'!$CX253","v":0},{"$f":"'7.WEF Influence-Mine'!$CX293","v":0},{"$f":"IF(BT41>=$D$7,\"B:\"&'3.WEF Status-Base'!$T40&\": \",)&IF(BU41<>0,\"1.\"&'7.WEF Influence-Mine'!$CY133&\" \",)&IF(BV41<>0,\"2.\"&'7.WEF Influence-Mine'!$CY173&\" \",)&IF(BW41<>0,\"3.\"&'7.WEF Influence-Mine'!$CY213&\" \",)&IF(BX41<>0,\"4.\"&'7.WEF Influence-Mine'!$CY253&\" \",)&IF(BY41<>0,\"5.\"&'7.WEF Influence-Mine'!$CY293&\" \",)","v":""},null,null,null,null,null,null,{"$f":"'3.WEF Status-Base'!V40","v":0},{"$f":"'7.WEF Influence-Mine'!$DB133","v":0},{"$f":"'7.WEF Influence-Mine'!$DB173","v":0},{"$f":"'7.WEF Influence-Mine'!$DB213","v":0},{"$f":"'7.WEF Influence-Mine'!$DB253","v":0},{"$f":"'7.WEF Influence-Mine'!$DB293","v":0},{"$f":"IF(CG41>=$D$7,\"B:\"&'3.WEF Status-Base'!$W40&\": \",)&IF(CH41<>0,\"1.\"&'7.WEF Influence-Mine'!$DC133&\" \",)&IF(CI41<>0,\"2.\"&'7.WEF Influence-Mine'!$DC173&\" \",)&IF(CJ41<>0,\"3.\"&'7.WEF Influence-Mine'!$DC213&\" \",)&IF(CK41<>0,\"4.\"&'7.WEF Influence-Mine'!$DC253&\" \",)&IF(CL41<>0,\"5.\"&'7.WEF Influence-Mine'!$DC293&\" \",)","v":""},null,null,null,null,null,null,{"$f":"'3.WEF Status-Base'!Y40","v":0},{"$f":"'7.WEF Influence-Mine'!$DF133","v":0},{"$f":"'7.WEF Influence-Mine'!$DF173","v":0},{"$f":"'7.WEF Influence-Mine'!$DF213","v":0},{"$f":"'7.WEF Influence-Mine'!$DF253","v":0},{"$f":"'7.WEF Influence-Mine'!$DF293","v":0},{"$f":"IF(CT41>=$D$7,\"B:\"&'3.WEF Status-Base'!$Z40&\": \",)&IF(CU41<>0,\"1.\"&'7.WEF Influence-Mine'!$DG133&\" \",)&IF(CV41<>0,\"2.\"&'7.WEF Influence-Mine'!$DG173&\" \",)&IF(CW41<>0,\"3.\"&'7.WEF Influence-Mine'!$DG213&\" \",)&IF(CX41<>0,\"4.\"&'7.WEF Influence-Mine'!$DG253&\" \",)&IF(CY41<>0,\"5.\"&'7.WEF Influence-Mine'!$DG293&\" \",)","v":""},null,null,null,null,null,null,{"$f":"'3.WEF Status-Base'!AB40","v":0},{"$f":"'7.WEF Influence-Mine'!$DJ133","v":0},{"$f":"'7.WEF Influence-Mine'!$DJ173","v":0},{"$f":"'7.WEF Influence-Mine'!$DJ213","v":0},{"$f":"'7.WEF Influence-Mine'!$DJ253","v":0},{"$f":"'7.WEF Influence-Mine'!$DJ293","v":0},{"$f":"IF(DG41>=$D$7,\"B:\"&'3.WEF Status-Base'!$AC40&\": \",)&IF(DH41<>0,\"1.\"&'7.WEF Influence-Mine'!$DK133&\" \",)&IF(DI41<>0,\"2.\"&'7.WEF Influence-Mine'!$DK173&\" \",)&IF(DJ41<>0,\"3.\"&'7.WEF Influence-Mine'!$DK213&\" \",)&IF(DK41<>0,\"4.\"&'7.WEF Influence-Mine'!$DK253&\" \",)&IF(DL41<>0,\"5.\"&'7.WEF Influence-Mine'!$DK293&\" \",)","v":""},null,null,null,null,null,null,{"$f":"'3.WEF Status-Base'!AE40","v":0},{"$f":"'7.WEF Influence-Mine'!$DN133","v":0},{"$f":"'7.WEF Influence-Mine'!$DN173","v":0},{"$f":"'7.WEF Influence-Mine'!$DN213","v":0},{"$f":"'7.WEF Influence-Mine'!$DN253","v":0},{"$f":"'7.WEF Influence-Mine'!$DN293","v":0},{"$f":"IF(DT41>=$D$7,\"B:\"&'3.WEF Status-Base'!$AF40&\": \",)&IF(DU41<>0,\"1.\"&'7.WEF Influence-Mine'!$DO133&\" \",)&IF(DV41<>0,\"2.\"&'7.WEF Influence-Mine'!$DO173&\" \",)&IF(DW41<>0,\"3.\"&'7.WEF Influence-Mine'!$DO213&\" \",)&IF(DX41<>0,\"4.\"&'7.WEF Influence-Mine'!$DO253&\" \",)&IF(DY41<>0,\"5.\"&'7.WEF Influence-Mine'!$DO293&\" \",)","v":""},null,null,null,null,null,null,{"$f":"'3.WEF Status-Base'!AH40","v":0},{"$f":"'7.WEF Influence-Mine'!$DR133","v":0},{"$f":"'7.WEF Influence-Mine'!$DR173","v":0},{"$f":"'7.WEF Influence-Mine'!$DR213","v":0},{"$f":"'7.WEF Influence-Mine'!$DR253","v":0},{"$f":"'7.WEF Influence-Mine'!$DR293","v":0},{"$f":"IF(EG41>=$D$7,\"B:\"&'3.WEF Status-Base'!$AI40&\": \",)&IF(EH41<>0,\"1.\"&'7.WEF Influence-Mine'!$DS133&\" \",)&IF(EI41<>0,\"2.\"&'7.WEF Influence-Mine'!$DS173&\" \",)&IF(EJ41<>0,\"3.\"&'7.WEF Influence-Mine'!$DS213&\" \",)&IF(EK41<>0,\"4.\"&'7.WEF Influence-Mine'!$DS253&\" \",)&IF(EL41<>0,\"5.\"&'7.WEF Influence-Mine'!$DS293&\" \",)","v":""},null,null,null,null,null,null,{"$f":"'3.WEF Status-Base'!AK40","v":0},{"$f":"'7.WEF Influence-Mine'!$DV133","v":0},{"$f":"'7.WEF Influence-Mine'!$DV173","v":0},{"$f":"'7.WEF Influence-Mine'!$DV213","v":0},{"$f":"'7.WEF Influence-Mine'!$DV253","v":0},{"$f":"'7.WEF Influence-Mine'!$DV293","v":0},{"$f":"IF(ET41>=$D$7,\"B:\"&'3.WEF Status-Base'!$AL40&\": \",)&IF(EU41<>0,\"1.\"&'7.WEF Influence-Mine'!$DW133&\" \",)&IF(EV41<>0,\"2.\"&'7.WEF Influence-Mine'!$DW173&\" \",)&IF(EW41<>0,\"3.\"&'7.WEF Influence-Mine'!$DW213&\" \",)&IF(EX41<>0,\"4.\"&'7.WEF Influence-Mine'!$DW253&\" \",)&IF(EY41<>0,\"5.\"&'7.WEF Influence-Mine'!$DW293&\" \",)","v":""},null,null,null,null,null,null,{"$f":"'3.WEF Status-Base'!AN40","v":0},{"$f":"'7.WEF Influence-Mine'!$DZ133","v":0},{"$f":"'7.WEF Influence-Mine'!$DZ173","v":0},{"$f":"'7.WEF Influence-Mine'!$DZ213","v":0},{"$f":"'7.WEF Influence-Mine'!$DZ253","v":0},{"$f":"'7.WEF Influence-Mine'!$DZ293","v":0},{"$f":"IF(FG41>=$D$7,\"B:\"&'3.WEF Status-Base'!$AO40&\": \",)&IF(FH41<>0,\"1.\"&'7.WEF Influence-Mine'!$EA133&\" \",)&IF(FI41<>0,\"2.\"&'7.WEF Influence-Mine'!$EA173&\" \",)&IF(FJ41<>0,\"3.\"&'7.WEF Influence-Mine'!$EA213&\" \",)&IF(FK41<>0,\"4.\"&'7.WEF Influence-Mine'!$EA253&\" \",)&IF(FL41<>0,\"5.\"&'7.WEF Influence-Mine'!$EA293&\" \",)","v":""},null,null,null,null,null,null,{"$f":"'3.WEF Status-Base'!AQ40","v":0},{"$f":"'7.WEF Influence-Mine'!$ED133","v":0},{"$f":"'7.WEF Influence-Mine'!$ED173","v":0},{"$f":"'7.WEF Influence-Mine'!$ED213","v":0},{"$f":"'7.WEF Influence-Mine'!$ED253","v":0},{"$f":"'7.WEF Influence-Mine'!$ED293","v":0},{"$f":"IF(FT41>=$D$7,\"B:\"&'3.WEF Status-Base'!$AR40&\": \",)&IF(FU41<>0,\"1.\"&'7.WEF Influence-Mine'!$EE133&\" \",)&IF(FV41<>0,\"2.\"&'7.WEF Influence-Mine'!$EE173&\" \",)&IF(FW41<>0,\"3.\"&'7.WEF Influence-Mine'!$EE213&\" \",)&IF(FX41<>0,\"4.\"&'7.WEF Influence-Mine'!$EE253&\" \",)&IF(FY41<>0,\"5.\"&'7.WEF Influence-Mine'!$EE293&\" \",)","v":""},null,null,null,null,null,null,{"$f":"'3.WEF Status-Base'!AT40","v":0},{"$f":"'7.WEF Influence-Mine'!$EH133","v":0},{"$f":"'7.WEF Influence-Mine'!$EH173","v":0},{"$f":"'7.WEF Influence-Mine'!$EH213","v":0},{"$f":"'7.WEF Influence-Mine'!$EH253","v":0},{"$f":"'7.WEF Influence-Mine'!$EH293","v":0},{"$f":"IF(GG41>=$D$7,\"B:\"&'3.WEF Status-Base'!$AU40&\": \",)&IF(GH41<>0,\"1.\"&'7.WEF Influence-Mine'!$EI133&\" \",)&IF(GI41<>0,\"2.\"&'7.WEF Influence-Mine'!$EI173&\" \",)&IF(GJ41<>0,\"3.\"&'7.WEF Influence-Mine'!$EI213&\" \",)&IF(GK41<>0,\"4.\"&'7.WEF Influence-Mine'!$EI253&\" \",)&IF(GL41<>0,\"5.\"&'7.WEF Influence-Mine'!$EI293&\" \",)","v":""},null,null,null,null,null,null,{"$f":"'3.WEF Status-Base'!AW40","v":0},{"$f":"'7.WEF Influence-Mine'!$EL133","v":0},{"$f":"'7.WEF Influence-Mine'!$EL173","v":0},{"$f":"'7.WEF Influence-Mine'!$EL213","v":0},{"$f":"'7.WEF Influence-Mine'!$EL253","v":0},{"$f":"'7.WEF Influence-Mine'!$EL293","v":0},{"$f":"IF(GT41>=$D$7,\"B:\"&'3.WEF Status-Base'!$AX40&\": \",)&IF(GU41<>0,\"1.\"&'7.WEF Influence-Mine'!$EM133&\" \",)&IF(GV41<>0,\"2.\"&'7.WEF Influence-Mine'!$EM173&\" \",)&IF(GW41<>0,\"3.\"&'7.WEF Influence-Mine'!$EM213&\" \",)&IF(GX41<>0,\"4.\"&'7.WEF Influence-Mine'!$EM253&\" \",)&IF(GY41<>0,\"5.\"&'7.WEF Influence-Mine'!$EM293&\" \",)","v":""},null,null,null,null,null,null,{"$f":"'3.WEF Status-Base'!AZ40","v":0},{"$f":"'7.WEF Influence-Mine'!$EP133","v":0},{"$f":"'7.WEF Influence-Mine'!$EP173","v":0},{"$f":"'7.WEF Influence-Mine'!$EP213","v":0},{"$f":"'7.WEF Influence-Mine'!$EP253","v":0},{"$f":"'7.WEF Influence-Mine'!$EP293","v":0},{"$f":"IF(HG41>=$D$7,\"B:\"&'3.WEF Status-Base'!$BA40&\": \",)&IF(HH41<>0,\"1.\"&'7.WEF Influence-Mine'!$EQ133&\" \",)&IF(HI41<>0,\"2.\"&'7.WEF Influence-Mine'!$EQ173&\" \",)&IF(HJ41<>0,\"3.\"&'7.WEF Influence-Mine'!$EQ213&\" \",)&IF(HK41<>0,\"4.\"&'7.WEF Influence-Mine'!$EQ253&\" \",)&IF(HL41<>0,\"5.\"&'7.WEF Influence-Mine'!$EQ293&\" \",)","v":""},null,null,null,null,null,null,{"$f":"'3.WEF Status-Base'!BC40","v":0},{"$f":"'7.WEF Influence-Mine'!$ET133","v":0},{"$f":"'7.WEF Influence-Mine'!$ET173","v":0},{"$f":"'7.WEF Influence-Mine'!$ET213","v":0},{"$f":"'7.WEF Influence-Mine'!$ET253","v":0},{"$f":"'7.WEF Influence-Mine'!$ET293","v":0},{"$f":"IF(HT41>=$D$7,\"B:\"&'3.WEF Status-Base'!$BD40&\": \",)&IF(HU41<>0,\"1.\"&'7.WEF Influence-Mine'!$EU133&\" \",)&IF(HV41<>0,\"2.\"&'7.WEF Influence-Mine'!$EU173&\" \",)&IF(HW41<>0,\"3.\"&'7.WEF Influence-Mine'!$EU213&\" \",)&IF(HX41<>0,\"4.\"&'7.WEF Influence-Mine'!$EU253&\" \",)&IF(HY41<>0,\"5.\"&'7.WEF Influence-Mine'!$EU293&\" \",)","v":""},null,null,null,null,null,null,{"$f":"'7.WEF Influence-Mine'!EV133&\" : \"&'7.WEF Influence-Mine'!EV173&\" : \"&'7.WEF Influence-Mine'!EV213&\" : \"&'7.WEF Influence-Mine'!EV253&\" : \"&'7.WEF Influence-Mine'!EV293","v":"0 : 0 : 0 : 0 : 0"}]
[32,"     Climate change adaptation",{"$f":"'3.WEF Status-Base'!B41","v":0},0,{"$f":"MIN($H42:$L42,$U42:$Y42,$AH42:$AL42,$AU42:$AY42,$BH42:$BL42,$BU42:$BY42,$CH42:$CL42,$CU42:$CY42,$DH42:$DL42,$DU42:$DY42,$EH42:$EL42,$EU42:$EY42,$FH42:$FL42,$FU42:$FY42,$GH42:$GL42,$GU42:$GY42,$HH42:$HL42,$HU42:$HY42)","v":0},null,{"$f":"'3.WEF Status-Base'!D41","v":0},{"$f":"'7.WEF Influence-Mine'!$CD134","v":0},{"$f":"'7.WEF Influence-Mine'!$CD174","v":0},{"$f":"'7.WEF Influence-Mine'!$CD214","v":0},{"$f":"'7.WEF Influence-Mine'!$CD254","v":0},{"$f":"'7.WEF Influence-Mine'!$CD294","v":0},{"$f":"IF(G42>=$D$7,\"B:\"&'3.WEF Status-Base'!$E41&\": \",)&IF(H42<>0,\"1. \"&'7.WEF Influence-Mine'!$CE134&\" \",)&IF(I42<>0,\"2. \"&'7.WEF Influence-Mine'!$CE174&\" \",)&IF(J42<>0,\"3. \"&'7.WEF Influence-Mine'!$CE214&\" \",)&IF(K42<>0,\"4. \"&'7.WEF Influence-Mine'!$CE254&\" \",)&IF(L42<>0,\"5. \"&'7.WEF Influence-Mine'!$CE294&\" \",)","v":""},null,null,null,null,null,null,{"$f":"'3.WEF Status-Base'!G41","v":0},{"$f":"'7.WEF Influence-Mine'!$CH134","v":0},{"$f":"'7.WEF Influence-Mine'!$CH174","v":0},{"$f":"'7.WEF Influence-Mine'!$CH214","v":0},{"$f":"'7.WEF Influence-Mine'!$CH254","v":0},{"$f":"'7.WEF Influence-Mine'!$CH294","v":0},{"$f":"IF(T42>=$D$7,\"B:\"&'3.WEF Status-Base'!$H41&\": \",)&IF(U42<>0,\"1.\"&'7.WEF Influence-Mine'!$CI134&\" \",)&IF(V42<>0,\"2.\"&'7.WEF Influence-Mine'!$CI174&\" \",)&IF(W42<>0,\"3.\"&'7.WEF Influence-Mine'!$CI214&\" \",)&IF(X42<>0,\"4.\"&'7.WEF Influence-Mine'!$CI254&\" \",)&IF(Y42<>0,\"5.\"&'7.WEF Influence-Mine'!$CI294&\" \",)","v":""},null,null,null,null,null,null,{"$f":"'3.WEF Status-Base'!J41","v":0},{"$f":"'7.WEF Influence-Mine'!$CL134","v":0},{"$f":"'7.WEF Influence-Mine'!$CL174","v":0},{"$f":"'7.WEF Influence-Mine'!$CL214","v":0},{"$f":"'7.WEF Influence-Mine'!$CL254","v":0},{"$f":"'7.WEF Influence-Mine'!$CL294","v":0},{"$f":"IF(AG42>=$D$7,\"B:\"&'3.WEF Status-Base'!$K41&\": \",)&IF(AH42<>0,\"1.\"&'7.WEF Influence-Mine'!$CM134&\" \",)&IF(AI42<>0,\"2.\"&'7.WEF Influence-Mine'!$CM174&\" \",)&IF(AJ42<>0,\"3.\"&'7.WEF Influence-Mine'!$CM214&\" \",)&IF(AK42<>0,\"4.\"&'7.WEF Influence-Mine'!$CM254&\" \",)&IF(AL42<>0,\"5.\"&'7.WEF Influence-Mine'!$CM294&\" \",)","v":""},null,null,null,null,null,null,{"$f":"'3.WEF Status-Base'!M41","v":0},{"$f":"'7.WEF Influence-Mine'!$CP134","v":0},{"$f":"'7.WEF Influence-Mine'!$CP174","v":0},{"$f":"'7.WEF Influence-Mine'!$CP214","v":0},{"$f":"'7.WEF Influence-Mine'!$CP254","v":0},{"$f":"'7.WEF Influence-Mine'!$CP294","v":0},{"$f":"IF(AT42>=$D$7,\"B:\"&'3.WEF Status-Base'!$N41&\": \",)&IF(AU42<>0,\"1.\"&'7.WEF Influence-Mine'!$CQ134&\" \",)&IF(AV42<>0,\"2.\"&'7.WEF Influence-Mine'!$CQ174&\" \",)&IF(AW42<>0,\"3.\"&'7.WEF Influence-Mine'!$CQ214&\" \",)&IF(AX42<>0,\"4.\"&'7.WEF Influence-Mine'!$CQ254&\" \",)&IF(AY42<>0,\"5.\"&'7.WEF Influence-Mine'!$CQ294&\" \",)","v":""},null,null,null,null,null,null,{"$f":"'3.WEF Status-Base'!P41","v":0},{"$f":"'7.WEF Influence-Mine'!$CT134","v":0},{"$f":"'7.WEF Influence-Mine'!$CT174","v":0},{"$f":"'7.WEF Influence-Mine'!$CT214","v":0},{"$f":"'7.WEF Influence-Mine'!$CT254","v":0},{"$f":"'7.WEF Influence-Mine'!$CT294","v":0},{"$f":"IF(BG42>=$D$7,\"B:\"&'3.WEF Status-Base'!$Q41&\": \",)&IF(BH42<>0,\"1.\"&'7.WEF Influence-Mine'!$CU134&\" \",)&IF(BI42<>0,\"2.\"&'7.WEF Influence-Mine'!$CU174&\" \",)&IF(BJ42<>0,\"3.\"&'7.WEF Influence-Mine'!$CU214&\" \",)&IF(BK42<>0,\"4.\"&'7.WEF Influence-Mine'!$CU254&\" \",)&IF(BL42<>0,\"5.\"&'7.WEF Influence-Mine'!$CU294&\" \",)","v":""},null,null,null,null,null,null,{"$f":"'3.WEF Status-Base'!S41","v":0},{"$f":"'7.WEF Influence-Mine'!$CX134","v":0},{"$f":"'7.WEF Influence-Mine'!$CX174","v":0},{"$f":"'7.WEF Influence-Mine'!$CX214","v":0},{"$f":"'7.WEF Influence-Mine'!$CX254","v":0},{"$f":"'7.WEF Influence-Mine'!$CX294","v":0},{"$f":"IF(BT42>=$D$7,\"B:\"&'3.WEF Status-Base'!$T41&\": \",)&IF(BU42<>0,\"1.\"&'7.WEF Influence-Mine'!$CY134&\" \",)&IF(BV42<>0,\"2.\"&'7.WEF Influence-Mine'!$CY174&\" \",)&IF(BW42<>0,\"3.\"&'7.WEF Influence-Mine'!$CY214&\" \",)&IF(BX42<>0,\"4.\"&'7.WEF Influence-Mine'!$CY254&\" \",)&IF(BY42<>0,\"5.\"&'7.WEF Influence-Mine'!$CY294&\" \",)","v":""},null,null,null,null,null,null,{"$f":"'3.WEF Status-Base'!V41","v":0},{"$f":"'7.WEF Influence-Mine'!$DB134","v":0},{"$f":"'7.WEF Influence-Mine'!$DB174","v":0},{"$f":"'7.WEF Influence-Mine'!$DB214","v":0},{"$f":"'7.WEF Influence-Mine'!$DB254","v":0},{"$f":"'7.WEF Influence-Mine'!$DB294","v":0},{"$f":"IF(CG42>=$D$7,\"B:\"&'3.WEF Status-Base'!$W41&\": \",)&IF(CH42<>0,\"1.\"&'7.WEF Influence-Mine'!$DC134&\" \",)&IF(CI42<>0,\"2.\"&'7.WEF Influence-Mine'!$DC174&\" \",)&IF(CJ42<>0,\"3.\"&'7.WEF Influence-Mine'!$DC214&\" \",)&IF(CK42<>0,\"4.\"&'7.WEF Influence-Mine'!$DC254&\" \",)&IF(CL42<>0,\"5.\"&'7.WEF Influence-Mine'!$DC294&\" \",)","v":""},null,null,null,null,null,null,{"$f":"'3.WEF Status-Base'!Y41","v":0},{"$f":"'7.WEF Influence-Mine'!$DF134","v":0},{"$f":"'7.WEF Influence-Mine'!$DF174","v":0},{"$f":"'7.WEF Influence-Mine'!$DF214","v":0},{"$f":"'7.WEF Influence-Mine'!$DF254","v":0},{"$f":"'7.WEF Influence-Mine'!$DF294","v":0},{"$f":"IF(CT42>=$D$7,\"B:\"&'3.WEF Status-Base'!$Z41&\": \",)&IF(CU42<>0,\"1.\"&'7.WEF Influence-Mine'!$DG134&\" \",)&IF(CV42<>0,\"2.\"&'7.WEF Influence-Mine'!$DG174&\" \",)&IF(CW42<>0,\"3.\"&'7.WEF Influence-Mine'!$DG214&\" \",)&IF(CX42<>0,\"4.\"&'7.WEF Influence-Mine'!$DG254&\" \",)&IF(CY42<>0,\"5.\"&'7.WEF Influence-Mine'!$DG294&\" \",)","v":""},null,null,null,null,null,null,{"$f":"'3.WEF Status-Base'!AB41","v":0},{"$f":"'7.WEF Influence-Mine'!$DJ134","v":0},{"$f":"'7.WEF Influence-Mine'!$DJ174","v":0},{"$f":"'7.WEF Influence-Mine'!$DJ214","v":0},{"$f":"'7.WEF Influence-Mine'!$DJ254","v":0},{"$f":"'7.WEF Influence-Mine'!$DJ294","v":0},{"$f":"IF(DG42>=$D$7,\"B:\"&'3.WEF Status-Base'!$AC41&\": \",)&IF(DH42<>0,\"1.\"&'7.WEF Influence-Mine'!$DK134&\" \",)&IF(DI42<>0,\"2.\"&'7.WEF Influence-Mine'!$DK174&\" \",)&IF(DJ42<>0,\"3.\"&'7.WEF Influence-Mine'!$DK214&\" \",)&IF(DK42<>0,\"4.\"&'7.WEF Influence-Mine'!$DK254&\" \",)&IF(DL42<>0,\"5.\"&'7.WEF Influence-Mine'!$DK294&\" \",)","v":""},null,null,null,null,null,null,{"$f":"'3.WEF Status-Base'!AE41","v":0},{"$f":"'7.WEF Influence-Mine'!$DN134","v":0},{"$f":"'7.WEF Influence-Mine'!$DN174","v":0},{"$f":"'7.WEF Influence-Mine'!$DN214","v":0},{"$f":"'7.WEF Influence-Mine'!$DN254","v":0},{"$f":"'7.WEF Influence-Mine'!$DN294","v":0},{"$f":"IF(DT42>=$D$7,\"B:\"&'3.WEF Status-Base'!$AF41&\": \",)&IF(DU42<>0,\"1.\"&'7.WEF Influence-Mine'!$DO134&\" \",)&IF(DV42<>0,\"2.\"&'7.WEF Influence-Mine'!$DO174&\" \",)&IF(DW42<>0,\"3.\"&'7.WEF Influence-Mine'!$DO214&\" \",)&IF(DX42<>0,\"4.\"&'7.WEF Influence-Mine'!$DO254&\" \",)&IF(DY42<>0,\"5.\"&'7.WEF Influence-Mine'!$DO294&\" \",)","v":""},null,null,null,null,null,null,{"$f":"'3.WEF Status-Base'!AH41","v":0},{"$f":"'7.WEF Influence-Mine'!$DR134","v":0},{"$f":"'7.WEF Influence-Mine'!$DR174","v":0},{"$f":"'7.WEF Influence-Mine'!$DR214","v":0},{"$f":"'7.WEF Influence-Mine'!$DR254","v":0},{"$f":"'7.WEF Influence-Mine'!$DR294","v":0},{"$f":"IF(EG42>=$D$7,\"B:\"&'3.WEF Status-Base'!$AI41&\": \",)&IF(EH42<>0,\"1.\"&'7.WEF Influence-Mine'!$DS134&\" \",)&IF(EI42<>0,\"2.\"&'7.WEF Influence-Mine'!$DS174&\" \",)&IF(EJ42<>0,\"3.\"&'7.WEF Influence-Mine'!$DS214&\" \",)&IF(EK42<>0,\"4.\"&'7.WEF Influence-Mine'!$DS254&\" \",)&IF(EL42<>0,\"5.\"&'7.WEF Influence-Mine'!$DS294&\" \",)","v":""},null,null,null,null,null,null,{"$f":"'3.WEF Status-Base'!AK41","v":0},{"$f":"'7.WEF Influence-Mine'!$DV134","v":0},{"$f":"'7.WEF Influence-Mine'!$DV174","v":0},{"$f":"'7.WEF Influence-Mine'!$DV214","v":0},{"$f":"'7.WEF Influence-Mine'!$DV254","v":0},{"$f":"'7.WEF Influence-Mine'!$DV294","v":0},{"$f":"IF(ET42>=$D$7,\"B:\"&'3.WEF Status-Base'!$AL41&\": \",)&IF(EU42<>0,\"1.\"&'7.WEF Influence-Mine'!$DW134&\" \",)&IF(EV42<>0,\"2.\"&'7.WEF Influence-Mine'!$DW174&\" \",)&IF(EW42<>0,\"3.\"&'7.WEF Influence-Mine'!$DW214&\" \",)&IF(EX42<>0,\"4.\"&'7.WEF Influence-Mine'!$DW254&\" \",)&IF(EY42<>0,\"5.\"&'7.WEF Influence-Mine'!$DW294&\" \",)","v":""},null,null,null,null,null,null,{"$f":"'3.WEF Status-Base'!AN41","v":0},{"$f":"'7.WEF Influence-Mine'!$DZ134","v":0},{"$f":"'7.WEF Influence-Mine'!$DZ174","v":0},{"$f":"'7.WEF Influence-Mine'!$DZ214","v":0},{"$f":"'7.WEF Influence-Mine'!$DZ254","v":0},{"$f":"'7.WEF Influence-Mine'!$DZ294","v":0},{"$f":"IF(FG42>=$D$7,\"B:\"&'3.WEF Status-Base'!$AO41&\": \",)&IF(FH42<>0,\"1.\"&'7.WEF Influence-Mine'!$EA134&\" \",)&IF(FI42<>0,\"2.\"&'7.WEF Influence-Mine'!$EA174&\" \",)&IF(FJ42<>0,\"3.\"&'7.WEF Influence-Mine'!$EA214&\" \",)&IF(FK42<>0,\"4.\"&'7.WEF Influence-Mine'!$EA254&\" \",)&IF(FL42<>0,\"5.\"&'7.WEF Influence-Mine'!$EA294&\" \",)","v":""},null,null,null,null,null,null,{"$f":"'3.WEF Status-Base'!AQ41","v":0},{"$f":"'7.WEF Influence-Mine'!$ED134","v":0},{"$f":"'7.WEF Influence-Mine'!$ED174","v":0},{"$f":"'7.WEF Influence-Mine'!$ED214","v":0},{"$f":"'7.WEF Influence-Mine'!$ED254","v":0},{"$f":"'7.WEF Influence-Mine'!$ED294","v":0},{"$f":"IF(FT42>=$D$7,\"B:\"&'3.WEF Status-Base'!$AR41&\": \",)&IF(FU42<>0,\"1.\"&'7.WEF Influence-Mine'!$EE134&\" \",)&IF(FV42<>0,\"2.\"&'7.WEF Influence-Mine'!$EE174&\" \",)&IF(FW42<>0,\"3.\"&'7.WEF Influence-Mine'!$EE214&\" \",)&IF(FX42<>0,\"4.\"&'7.WEF Influence-Mine'!$EE254&\" \",)&IF(FY42<>0,\"5.\"&'7.WEF Influence-Mine'!$EE294&\" \",)","v":""},null,null,null,null,null,null,{"$f":"'3.WEF Status-Base'!AT41","v":0},{"$f":"'7.WEF Influence-Mine'!$EH134","v":0},{"$f":"'7.WEF Influence-Mine'!$EH174","v":0},{"$f":"'7.WEF Influence-Mine'!$EH214","v":0},{"$f":"'7.WEF Influence-Mine'!$EH254","v":0},{"$f":"'7.WEF Influence-Mine'!$EH294","v":0},{"$f":"IF(GG42>=$D$7,\"B:\"&'3.WEF Status-Base'!$AU41&\": \",)&IF(GH42<>0,\"1.\"&'7.WEF Influence-Mine'!$EI134&\" \",)&IF(GI42<>0,\"2.\"&'7.WEF Influence-Mine'!$EI174&\" \",)&IF(GJ42<>0,\"3.\"&'7.WEF Influence-Mine'!$EI214&\" \",)&IF(GK42<>0,\"4.\"&'7.WEF Influence-Mine'!$EI254&\" \",)&IF(GL42<>0,\"5.\"&'7.WEF Influence-Mine'!$EI294&\" \",)","v":""},null,null,null,null,null,null,{"$f":"'3.WEF Status-Base'!AW41","v":0},{"$f":"'7.WEF Influence-Mine'!$EL134","v":0},{"$f":"'7.WEF Influence-Mine'!$EL174","v":0},{"$f":"'7.WEF Influence-Mine'!$EL214","v":0},{"$f":"'7.WEF Influence-Mine'!$EL254","v":0},{"$f":"'7.WEF Influence-Mine'!$EL294","v":0},{"$f":"IF(GT42>=$D$7,\"B:\"&'3.WEF Status-Base'!$AX41&\": \",)&IF(GU42<>0,\"1.\"&'7.WEF Influence-Mine'!$EM134&\" \",)&IF(GV42<>0,\"2.\"&'7.WEF Influence-Mine'!$EM174&\" \",)&IF(GW42<>0,\"3.\"&'7.WEF Influence-Mine'!$EM214&\" \",)&IF(GX42<>0,\"4.\"&'7.WEF Influence-Mine'!$EM254&\" \",)&IF(GY42<>0,\"5.\"&'7.WEF Influence-Mine'!$EM294&\" \",)","v":""},null,null,null,null,null,null,{"$f":"'3.WEF Status-Base'!AZ41","v":0},{"$f":"'7.WEF Influence-Mine'!$EP134","v":0},{"$f":"'7.WEF Influence-Mine'!$EP174","v":0},{"$f":"'7.WEF Influence-Mine'!$EP214","v":0},{"$f":"'7.WEF Influence-Mine'!$EP254","v":0},{"$f":"'7.WEF Influence-Mine'!$EP294","v":0},{"$f":"IF(HG42>=$D$7,\"B:\"&'3.WEF Status-Base'!$BA41&\": \",)&IF(HH42<>0,\"1.\"&'7.WEF Influence-Mine'!$EQ134&\" \",)&IF(HI42<>0,\"2.\"&'7.WEF Influence-Mine'!$EQ174&\" \",)&IF(HJ42<>0,\"3.\"&'7.WEF Influence-Mine'!$EQ214&\" \",)&IF(HK42<>0,\"4.\"&'7.WEF Influence-Mine'!$EQ254&\" \",)&IF(HL42<>0,\"5.\"&'7.WEF Influence-Mine'!$EQ294&\" \",)","v":""},null,null,null,null,null,null,{"$f":"'3.WEF Status-Base'!BC41","v":0},{"$f":"'7.WEF Influence-Mine'!$ET134","v":0},{"$f":"'7.WEF Influence-Mine'!$ET174","v":0},{"$f":"'7.WEF Influence-Mine'!$ET214","v":0},{"$f":"'7.WEF Influence-Mine'!$ET254","v":0},{"$f":"'7.WEF Influence-Mine'!$ET294","v":0},{"$f":"IF(HT42>=$D$7,\"B:\"&'3.WEF Status-Base'!$BD41&\": \",)&IF(HU42<>0,\"1.\"&'7.WEF Influence-Mine'!$EU134&\" \",)&IF(HV42<>0,\"2.\"&'7.WEF Influence-Mine'!$EU174&\" \",)&IF(HW42<>0,\"3.\"&'7.WEF Influence-Mine'!$EU214&\" \",)&IF(HX42<>0,\"4.\"&'7.WEF Influence-Mine'!$EU254&\" \",)&IF(HY42<>0,\"5.\"&'7.WEF Influence-Mine'!$EU294&\" \",)","v":""},null,null,null,null,null,null,{"$f":"'7.WEF Influence-Mine'!EV134&\" : \"&'7.WEF Influence-Mine'!EV174&\" : \"&'7.WEF Influence-Mine'!EV214&\" : \"&'7.WEF Influence-Mine'!EV254&\" : \"&'7.WEF Influence-Mine'!EV294","v":"0 : 0 : 0 : 0 : 0"}]
[33,"     Disaster recovery and risk management ",{"$f":"'3.WEF Status-Base'!B42","v":0},0,{"$f":"MIN($H43:$L43,$U43:$Y43,$AH43:$AL43,$AU43:$AY43,$BH43:$BL43,$BU43:$BY43,$CH43:$CL43,$CU43:$CY43,$DH43:$DL43,$DU43:$DY43,$EH43:$EL43,$EU43:$EY43,$FH43:$FL43,$FU43:$FY43,$GH43:$GL43,$GU43:$GY43,$HH43:$HL43,$HU43:$HY43)","v":0},null,{"$f":"'3.WEF Status-Base'!D42","v":0},{"$f":"'7.WEF Influence-Mine'!$CD135","v":0},{"$f":"'7.WEF Influence-Mine'!$CD175","v":0},{"$f":"'7.WEF Influence-Mine'!$CD215","v":0},{"$f":"'7.WEF Influence-Mine'!$CD255","v":0},{"$f":"'7.WEF Influence-Mine'!$CD295","v":0},{"$f":"IF(G43>=$D$7,\"B:\"&'3.WEF Status-Base'!$E42&\": \",)&IF(H43<>0,\"1. \"&'7.WEF Influence-Mine'!$CE135&\" \",)&IF(I43<>0,\"2. \"&'7.WEF Influence-Mine'!$CE175&\" \",)&IF(J43<>0,\"3. \"&'7.WEF Influence-Mine'!$CE215&\" \",)&IF(K43<>0,\"4. \"&'7.WEF Influence-Mine'!$CE255&\" \",)&IF(L43<>0,\"5. \"&'7.WEF Influence-Mine'!$CE295&\" \",)","v":""},null,null,null,null,null,null,{"$f":"'3.WEF Status-Base'!G42","v":0},{"$f":"'7.WEF Influence-Mine'!$CH135","v":0},{"$f":"'7.WEF Influence-Mine'!$CH175","v":0},{"$f":"'7.WEF Influence-Mine'!$CH215","v":0},{"$f":"'7.WEF Influence-Mine'!$CH255","v":0},{"$f":"'7.WEF Influence-Mine'!$CH295","v":0},{"$f":"IF(T43>=$D$7,\"B:\"&'3.WEF Status-Base'!$H42&\": \",)&IF(U43<>0,\"1.\"&'7.WEF Influence-Mine'!$CI135&\" \",)&IF(V43<>0,\"2.\"&'7.WEF Influence-Mine'!$CI175&\" \",)&IF(W43<>0,\"3.\"&'7.WEF Influence-Mine'!$CI215&\" \",)&IF(X43<>0,\"4.\"&'7.WEF Influence-Mine'!$CI255&\" \",)&IF(Y43<>0,\"5.\"&'7.WEF Influence-Mine'!$CI295&\" \",)","v":""},null,null,null,null,null,null,{"$f":"'3.WEF Status-Base'!J42","v":0},{"$f":"'7.WEF Influence-Mine'!$CL135","v":0},{"$f":"'7.WEF Influence-Mine'!$CL175","v":0},{"$f":"'7.WEF Influence-Mine'!$CL215","v":0},{"$f":"'7.WEF Influence-Mine'!$CL255","v":0},{"$f":"'7.WEF Influence-Mine'!$CL295","v":0},{"$f":"IF(AG43>=$D$7,\"B:\"&'3.WEF Status-Base'!$K42&\": \",)&IF(AH43<>0,\"1.\"&'7.WEF Influence-Mine'!$CM135&\" \",)&IF(AI43<>0,\"2.\"&'7.WEF Influence-Mine'!$CM175&\" \",)&IF(AJ43<>0,\"3.\"&'7.WEF Influence-Mine'!$CM215&\" \",)&IF(AK43<>0,\"4.\"&'7.WEF Influence-Mine'!$CM255&\" \",)&IF(AL43<>0,\"5.\"&'7.WEF Influence-Mine'!$CM295&\" \",)","v":""},null,null,null,null,null,null,{"$f":"'3.WEF Status-Base'!M42","v":0},{"$f":"'7.WEF Influence-Mine'!$CP135","v":0},{"$f":"'7.WEF Influence-Mine'!$CP175","v":0},{"$f":"'7.WEF Influence-Mine'!$CP215","v":0},{"$f":"'7.WEF Influence-Mine'!$CP255","v":0},{"$f":"'7.WEF Influence-Mine'!$CP295","v":0},{"$f":"IF(AT43>=$D$7,\"B:\"&'3.WEF Status-Base'!$N42&\": \",)&IF(AU43<>0,\"1.\"&'7.WEF Influence-Mine'!$CQ135&\" \",)&IF(AV43<>0,\"2.\"&'7.WEF Influence-Mine'!$CQ175&\" \",)&IF(AW43<>0,\"3.\"&'7.WEF Influence-Mine'!$CQ215&\" \",)&IF(AX43<>0,\"4.\"&'7.WEF Influence-Mine'!$CQ255&\" \",)&IF(AY43<>0,\"5.\"&'7.WEF Influence-Mine'!$CQ295&\" \",)","v":""},null,null,null,null,null,null,{"$f":"'3.WEF Status-Base'!P42","v":0},{"$f":"'7.WEF Influence-Mine'!$CT135","v":0},{"$f":"'7.WEF Influence-Mine'!$CT175","v":0},{"$f":"'7.WEF Influence-Mine'!$CT215","v":0},{"$f":"'7.WEF Influence-Mine'!$CT255","v":0},{"$f":"'7.WEF Influence-Mine'!$CT295","v":0},{"$f":"IF(BG43>=$D$7,\"B:\"&'3.WEF Status-Base'!$Q42&\": \",)&IF(BH43<>0,\"1.\"&'7.WEF Influence-Mine'!$CU135&\" \",)&IF(BI43<>0,\"2.\"&'7.WEF Influence-Mine'!$CU175&\" \",)&IF(BJ43<>0,\"3.\"&'7.WEF Influence-Mine'!$CU215&\" \",)&IF(BK43<>0,\"4.\"&'7.WEF Influence-Mine'!$CU255&\" \",)&IF(BL43<>0,\"5.\"&'7.WEF Influence-Mine'!$CU295&\" \",)","v":""},null,null,null,null,null,null,{"$f":"'3.WEF Status-Base'!S42","v":0},{"$f":"'7.WEF Influence-Mine'!$CX135","v":0},{"$f":"'7.WEF Influence-Mine'!$CX175","v":0},{"$f":"'7.WEF Influence-Mine'!$CX215","v":0},{"$f":"'7.WEF Influence-Mine'!$CX255","v":0},{"$f":"'7.WEF Influence-Mine'!$CX295","v":0},{"$f":"IF(BT43>=$D$7,\"B:\"&'3.WEF Status-Base'!$T42&\": \",)&IF(BU43<>0,\"1.\"&'7.WEF Influence-Mine'!$CY135&\" \",)&IF(BV43<>0,\"2.\"&'7.WEF Influence-Mine'!$CY175&\" \",)&IF(BW43<>0,\"3.\"&'7.WEF Influence-Mine'!$CY215&\" \",)&IF(BX43<>0,\"4.\"&'7.WEF Influence-Mine'!$CY255&\" \",)&IF(BY43<>0,\"5.\"&'7.WEF Influence-Mine'!$CY295&\" \",)","v":""},null,null,null,null,null,null,{"$f":"'3.WEF Status-Base'!V42","v":0},{"$f":"'7.WEF Influence-Mine'!$DB135","v":0},{"$f":"'7.WEF Influence-Mine'!$DB175","v":0},{"$f":"'7.WEF Influence-Mine'!$DB215","v":0},{"$f":"'7.WEF Influence-Mine'!$DB255","v":0},{"$f":"'7.WEF Influence-Mine'!$DB295","v":0},{"$f":"IF(CG43>=$D$7,\"B:\"&'3.WEF Status-Base'!$W42&\": \",)&IF(CH43<>0,\"1.\"&'7.WEF Influence-Mine'!$DC135&\" \",)&IF(CI43<>0,\"2.\"&'7.WEF Influence-Mine'!$DC175&\" \",)&IF(CJ43<>0,\"3.\"&'7.WEF Influence-Mine'!$DC215&\" \",)&IF(CK43<>0,\"4.\"&'7.WEF Influence-Mine'!$DC255&\" \",)&IF(CL43<>0,\"5.\"&'7.WEF Influence-Mine'!$DC295&\" \",)","v":""},null,null,null,null,null,null,{"$f":"'3.WEF Status-Base'!Y42","v":0},{"$f":"'7.WEF Influence-Mine'!$DF135","v":0},{"$f":"'7.WEF Influence-Mine'!$DF175","v":0},{"$f":"'7.WEF Influence-Mine'!$DF215","v":0},{"$f":"'7.WEF Influence-Mine'!$DF255","v":0},{"$f":"'7.WEF Influence-Mine'!$DF295","v":0},{"$f":"IF(CT43>=$D$7,\"B:\"&'3.WEF Status-Base'!$Z42&\": \",)&IF(CU43<>0,\"1.\"&'7.WEF Influence-Mine'!$DG135&\" \",)&IF(CV43<>0,\"2.\"&'7.WEF Influence-Mine'!$DG175&\" \",)&IF(CW43<>0,\"3.\"&'7.WEF Influence-Mine'!$DG215&\" \",)&IF(CX43<>0,\"4.\"&'7.WEF Influence-Mine'!$DG255&\" \",)&IF(CY43<>0,\"5.\"&'7.WEF Influence-Mine'!$DG295&\" \",)","v":""},null,null,null,null,null,null,{"$f":"'3.WEF Status-Base'!AB42","v":0},{"$f":"'7.WEF Influence-Mine'!$DJ135","v":0},{"$f":"'7.WEF Influence-Mine'!$DJ175","v":0},{"$f":"'7.WEF Influence-Mine'!$DJ215","v":0},{"$f":"'7.WEF Influence-Mine'!$DJ255","v":0},{"$f":"'7.WEF Influence-Mine'!$DJ295","v":0},{"$f":"IF(DG43>=$D$7,\"B:\"&'3.WEF Status-Base'!$AC42&\": \",)&IF(DH43<>0,\"1.\"&'7.WEF Influence-Mine'!$DK135&\" \",)&IF(DI43<>0,\"2.\"&'7.WEF Influence-Mine'!$DK175&\" \",)&IF(DJ43<>0,\"3.\"&'7.WEF Influence-Mine'!$DK215&\" \",)&IF(DK43<>0,\"4.\"&'7.WEF Influence-Mine'!$DK255&\" \",)&IF(DL43<>0,\"5.\"&'7.WEF Influence-Mine'!$DK295&\" \",)","v":""},null,null,null,null,null,null,{"$f":"'3.WEF Status-Base'!AE42","v":0},{"$f":"'7.WEF Influence-Mine'!$DN135","v":0},{"$f":"'7.WEF Influence-Mine'!$DN175","v":0},{"$f":"'7.WEF Influence-Mine'!$DN215","v":0},{"$f":"'7.WEF Influence-Mine'!$DN255","v":0},{"$f":"'7.WEF Influence-Mine'!$DN295","v":0},{"$f":"IF(DT43>=$D$7,\"B:\"&'3.WEF Status-Base'!$AF42&\": \",)&IF(DU43<>0,\"1.\"&'7.WEF Influence-Mine'!$DO135&\" \",)&IF(DV43<>0,\"2.\"&'7.WEF Influence-Mine'!$DO175&\" \",)&IF(DW43<>0,\"3.\"&'7.WEF Influence-Mine'!$DO215&\" \",)&IF(DX43<>0,\"4.\"&'7.WEF Influence-Mine'!$DO255&\" \",)&IF(DY43<>0,\"5.\"&'7.WEF Influence-Mine'!$DO295&\" \",)","v":""},null,null,null,null,null,null,{"$f":"'3.WEF Status-Base'!AH42","v":0},{"$f":"'7.WEF Influence-Mine'!$DR135","v":0},{"$f":"'7.WEF Influence-Mine'!$DR175","v":0},{"$f":"'7.WEF Influence-Mine'!$DR215","v":0},{"$f":"'7.WEF Influence-Mine'!$DR255","v":0},{"$f":"'7.WEF Influence-Mine'!$DR295","v":0},{"$f":"IF(EG43>=$D$7,\"B:\"&'3.WEF Status-Base'!$AI42&\": \",)&IF(EH43<>0,\"1.\"&'7.WEF Influence-Mine'!$DS135&\" \",)&IF(EI43<>0,\"2.\"&'7.WEF Influence-Mine'!$DS175&\" \",)&IF(EJ43<>0,\"3.\"&'7.WEF Influence-Mine'!$DS215&\" \",)&IF(EK43<>0,\"4.\"&'7.WEF Influence-Mine'!$DS255&\" \",)&IF(EL43<>0,\"5.\"&'7.WEF Influence-Mine'!$DS295&\" \",)","v":""},null,null,null,null,null,null,{"$f":"'3.WEF Status-Base'!AK42","v":0},{"$f":"'7.WEF Influence-Mine'!$DV135","v":0},{"$f":"'7.WEF Influence-Mine'!$DV175","v":0},{"$f":"'7.WEF Influence-Mine'!$DV215","v":0},{"$f":"'7.WEF Influence-Mine'!$DV255","v":0},{"$f":"'7.WEF Influence-Mine'!$DV295","v":0},{"$f":"IF(ET43>=$D$7,\"B:\"&'3.WEF Status-Base'!$AL42&\": \",)&IF(EU43<>0,\"1.\"&'7.WEF Influence-Mine'!$DW135&\" \",)&IF(EV43<>0,\"2.\"&'7.WEF Influence-Mine'!$DW175&\" \",)&IF(EW43<>0,\"3.\"&'7.WEF Influence-Mine'!$DW215&\" \",)&IF(EX43<>0,\"4.\"&'7.WEF Influence-Mine'!$DW255&\" \",)&IF(EY43<>0,\"5.\"&'7.WEF Influence-Mine'!$DW295&\" \",)","v":""},null,null,null,null,null,null,{"$f":"'3.WEF Status-Base'!AN42","v":0},{"$f":"'7.WEF Influence-Mine'!$DZ135","v":0},{"$f":"'7.WEF Influence-Mine'!$DZ175","v":0},{"$f":"'7.WEF Influence-Mine'!$DZ215","v":0},{"$f":"'7.WEF Influence-Mine'!$DZ255","v":0},{"$f":"'7.WEF Influence-Mine'!$DZ295","v":0},{"$f":"IF(FG43>=$D$7,\"B:\"&'3.WEF Status-Base'!$AO42&\": \",)&IF(FH43<>0,\"1.\"&'7.WEF Influence-Mine'!$EA135&\" \",)&IF(FI43<>0,\"2.\"&'7.WEF Influence-Mine'!$EA175&\" \",)&IF(FJ43<>0,\"3.\"&'7.WEF Influence-Mine'!$EA215&\" \",)&IF(FK43<>0,\"4.\"&'7.WEF Influence-Mine'!$EA255&\" \",)&IF(FL43<>0,\"5.\"&'7.WEF Influence-Mine'!$EA295&\" \",)","v":""},null,null,null,null,null,null,{"$f":"'3.WEF Status-Base'!AQ42","v":0},{"$f":"'7.WEF Influence-Mine'!$ED135","v":0},{"$f":"'7.WEF Influence-Mine'!$ED175","v":0},{"$f":"'7.WEF Influence-Mine'!$ED215","v":0},{"$f":"'7.WEF Influence-Mine'!$ED255","v":0},{"$f":"'7.WEF Influence-Mine'!$ED295","v":0},{"$f":"IF(FT43>=$D$7,\"B:\"&'3.WEF Status-Base'!$AR42&\": \",)&IF(FU43<>0,\"1.\"&'7.WEF Influence-Mine'!$EE135&\" \",)&IF(FV43<>0,\"2.\"&'7.WEF Influence-Mine'!$EE175&\" \",)&IF(FW43<>0,\"3.\"&'7.WEF Influence-Mine'!$EE215&\" \",)&IF(FX43<>0,\"4.\"&'7.WEF Influence-Mine'!$EE255&\" \",)&IF(FY43<>0,\"5.\"&'7.WEF Influence-Mine'!$EE295&\" \",)","v":""},null,null,null,null,null,null,{"$f":"'3.WEF Status-Base'!AT42","v":0},{"$f":"'7.WEF Influence-Mine'!$EH135","v":0},{"$f":"'7.WEF Influence-Mine'!$EH175","v":0},{"$f":"'7.WEF Influence-Mine'!$EH215","v":0},{"$f":"'7.WEF Influence-Mine'!$EH255","v":0},{"$f":"'7.WEF Influence-Mine'!$EH295","v":0},{"$f":"IF(GG43>=$D$7,\"B:\"&'3.WEF Status-Base'!$AU42&\": \",)&IF(GH43<>0,\"1.\"&'7.WEF Influence-Mine'!$EI135&\" \",)&IF(GI43<>0,\"2.\"&'7.WEF Influence-Mine'!$EI175&\" \",)&IF(GJ43<>0,\"3.\"&'7.WEF Influence-Mine'!$EI215&\" \",)&IF(GK43<>0,\"4.\"&'7.WEF Influence-Mine'!$EI255&\" \",)&IF(GL43<>0,\"5.\"&'7.WEF Influence-Mine'!$EI295&\" \",)","v":""},null,null,null,null,null,null,{"$f":"'3.WEF Status-Base'!AW42","v":0},{"$f":"'7.WEF Influence-Mine'!$EL135","v":0},{"$f":"'7.WEF Influence-Mine'!$EL175","v":0},{"$f":"'7.WEF Influence-Mine'!$EL215","v":0},{"$f":"'7.WEF Influence-Mine'!$EL255","v":0},{"$f":"'7.WEF Influence-Mine'!$EL295","v":0},{"$f":"IF(GT43>=$D$7,\"B:\"&'3.WEF Status-Base'!$AX42&\": \",)&IF(GU43<>0,\"1.\"&'7.WEF Influence-Mine'!$EM135&\" \",)&IF(GV43<>0,\"2.\"&'7.WEF Influence-Mine'!$EM175&\" \",)&IF(GW43<>0,\"3.\"&'7.WEF Influence-Mine'!$EM215&\" \",)&IF(GX43<>0,\"4.\"&'7.WEF Influence-Mine'!$EM255&\" \",)&IF(GY43<>0,\"5.\"&'7.WEF Influence-Mine'!$EM295&\" \",)","v":""},null,null,null,null,null,null,{"$f":"'3.WEF Status-Base'!AZ42","v":0},{"$f":"'7.WEF Influence-Mine'!$EP135","v":0},{"$f":"'7.WEF Influence-Mine'!$EP175","v":0},{"$f":"'7.WEF Influence-Mine'!$EP215","v":0},{"$f":"'7.WEF Influence-Mine'!$EP255","v":0},{"$f":"'7.WEF Influence-Mine'!$EP295","v":0},{"$f":"IF(HG43>=$D$7,\"B:\"&'3.WEF Status-Base'!$BA42&\": \",)&IF(HH43<>0,\"1.\"&'7.WEF Influence-Mine'!$EQ135&\" \",)&IF(HI43<>0,\"2.\"&'7.WEF Influence-Mine'!$EQ175&\" \",)&IF(HJ43<>0,\"3.\"&'7.WEF Influence-Mine'!$EQ215&\" \",)&IF(HK43<>0,\"4.\"&'7.WEF Influence-Mine'!$EQ255&\" \",)&IF(HL43<>0,\"5.\"&'7.WEF Influence-Mine'!$EQ295&\" \",)","v":""},null,null,null,null,null,null,{"$f":"'3.WEF Status-Base'!BC42","v":0},{"$f":"'7.WEF Influence-Mine'!$ET135","v":0},{"$f":"'7.WEF Influence-Mine'!$ET175","v":0},{"$f":"'7.WEF Influence-Mine'!$ET215","v":0},{"$f":"'7.WEF Influence-Mine'!$ET255","v":0},{"$f":"'7.WEF Influence-Mine'!$ET295","v":0},{"$f":"IF(HT43>=$D$7,\"B:\"&'3.WEF Status-Base'!$BD42&\": \",)&IF(HU43<>0,\"1.\"&'7.WEF Influence-Mine'!$EU135&\" \",)&IF(HV43<>0,\"2.\"&'7.WEF Influence-Mine'!$EU175&\" \",)&IF(HW43<>0,\"3.\"&'7.WEF Influence-Mine'!$EU215&\" \",)&IF(HX43<>0,\"4.\"&'7.WEF Influence-Mine'!$EU255&\" \",)&IF(HY43<>0,\"5.\"&'7.WEF Influence-Mine'!$EU295&\" \",)","v":""},null,null,null,null,null,null,{"$f":"'7.WEF Influence-Mine'!EV135&\" : \"&'7.WEF Influence-Mine'!EV175&\" : \"&'7.WEF Influence-Mine'!EV215&\" : \"&'7.WEF Influence-Mine'!EV255&\" : \"&'7.WEF Influence-Mine'!EV295","v":"0 : 0 : 0 : 0 : 0"}]
[34,"     R&D and innovation",{"$f":"'3.WEF Status-Base'!B43","v":0},0,{"$f":"MIN($H44:$L44,$U44:$Y44,$AH44:$AL44,$AU44:$AY44,$BH44:$BL44,$BU44:$BY44,$CH44:$CL44,$CU44:$CY44,$DH44:$DL44,$DU44:$DY44,$EH44:$EL44,$EU44:$EY44,$FH44:$FL44,$FU44:$FY44,$GH44:$GL44,$GU44:$GY44,$HH44:$HL44,$HU44:$HY44)","v":0},null,{"$f":"'3.WEF Status-Base'!D43","v":0},{"$f":"'7.WEF Influence-Mine'!$CD136","v":0},{"$f":"'7.WEF Influence-Mine'!$CD176","v":0},{"$f":"'7.WEF Influence-Mine'!$CD216","v":0},{"$f":"'7.WEF Influence-Mine'!$CD256","v":0},{"$f":"'7.WEF Influence-Mine'!$CD296","v":0},{"$f":"IF(G44>=$D$7,\"B:\"&'3.WEF Status-Base'!$E43&\": \",)&IF(H44<>0,\"1. \"&'7.WEF Influence-Mine'!$CE136&\" \",)&IF(I44<>0,\"2. \"&'7.WEF Influence-Mine'!$CE176&\" \",)&IF(J44<>0,\"3. \"&'7.WEF Influence-Mine'!$CE216&\" \",)&IF(K44<>0,\"4. \"&'7.WEF Influence-Mine'!$CE256&\" \",)&IF(L44<>0,\"5. \"&'7.WEF Influence-Mine'!$CE296&\" \",)","v":""},null,null,null,null,null,null,{"$f":"'3.WEF Status-Base'!G43","v":0},{"$f":"'7.WEF Influence-Mine'!$CH136","v":0},{"$f":"'7.WEF Influence-Mine'!$CH176","v":0},{"$f":"'7.WEF Influence-Mine'!$CH216","v":0},{"$f":"'7.WEF Influence-Mine'!$CH256","v":0},{"$f":"'7.WEF Influence-Mine'!$CH296","v":0},{"$f":"IF(T44>=$D$7,\"B:\"&'3.WEF Status-Base'!$H43&\": \",)&IF(U44<>0,\"1.\"&'7.WEF Influence-Mine'!$CI136&\" \",)&IF(V44<>0,\"2.\"&'7.WEF Influence-Mine'!$CI176&\" \",)&IF(W44<>0,\"3.\"&'7.WEF Influence-Mine'!$CI216&\" \",)&IF(X44<>0,\"4.\"&'7.WEF Influence-Mine'!$CI256&\" \",)&IF(Y44<>0,\"5.\"&'7.WEF Influence-Mine'!$CI296&\" \",)","v":""},null,null,null,null,null,null,{"$f":"'3.WEF Status-Base'!J43","v":0},{"$f":"'7.WEF Influence-Mine'!$CL136","v":0},{"$f":"'7.WEF Influence-Mine'!$CL176","v":0},{"$f":"'7.WEF Influence-Mine'!$CL216","v":0},{"$f":"'7.WEF Influence-Mine'!$CL256","v":0},{"$f":"'7.WEF Influence-Mine'!$CL296","v":0},{"$f":"IF(AG44>=$D$7,\"B:\"&'3.WEF Status-Base'!$K43&\": \",)&IF(AH44<>0,\"1.\"&'7.WEF Influence-Mine'!$CM136&\" \",)&IF(AI44<>0,\"2.\"&'7.WEF Influence-Mine'!$CM176&\" \",)&IF(AJ44<>0,\"3.\"&'7.WEF Influence-Mine'!$CM216&\" \",)&IF(AK44<>0,\"4.\"&'7.WEF Influence-Mine'!$CM256&\" \",)&IF(AL44<>0,\"5.\"&'7.WEF Influence-Mine'!$CM296&\" \",)","v":""},null,null,null,null,null,null,{"$f":"'3.WEF Status-Base'!M43","v":0},{"$f":"'7.WEF Influence-Mine'!$CP136","v":0},{"$f":"'7.WEF Influence-Mine'!$CP176","v":0},{"$f":"'7.WEF Influence-Mine'!$CP216","v":0},{"$f":"'7.WEF Influence-Mine'!$CP256","v":0},{"$f":"'7.WEF Influence-Mine'!$CP296","v":0},{"$f":"IF(AT44>=$D$7,\"B:\"&'3.WEF Status-Base'!$N43&\": \",)&IF(AU44<>0,\"1.\"&'7.WEF Influence-Mine'!$CQ136&\" \",)&IF(AV44<>0,\"2.\"&'7.WEF Influence-Mine'!$CQ176&\" \",)&IF(AW44<>0,\"3.\"&'7.WEF Influence-Mine'!$CQ216&\" \",)&IF(AX44<>0,\"4.\"&'7.WEF Influence-Mine'!$CQ256&\" \",)&IF(AY44<>0,\"5.\"&'7.WEF Influence-Mine'!$CQ296&\" \",)","v":""},null,null,null,null,null,null,{"$f":"'3.WEF Status-Base'!P43","v":0},{"$f":"'7.WEF Influence-Mine'!$CT136","v":0},{"$f":"'7.WEF Influence-Mine'!$CT176","v":0},{"$f":"'7.WEF Influence-Mine'!$CT216","v":0},{"$f":"'7.WEF Influence-Mine'!$CT256","v":0},{"$f":"'7.WEF Influence-Mine'!$CT296","v":0},{"$f":"IF(BG44>=$D$7,\"B:\"&'3.WEF Status-Base'!$Q43&\": \",)&IF(BH44<>0,\"1.\"&'7.WEF Influence-Mine'!$CU136&\" \",)&IF(BI44<>0,\"2.\"&'7.WEF Influence-Mine'!$CU176&\" \",)&IF(BJ44<>0,\"3.\"&'7.WEF Influence-Mine'!$CU216&\" \",)&IF(BK44<>0,\"4.\"&'7.WEF Influence-Mine'!$CU256&\" \",)&IF(BL44<>0,\"5.\"&'7.WEF Influence-Mine'!$CU296&\" \",)","v":""},null,null,null,null,null,null,{"$f":"'3.WEF Status-Base'!S43","v":0},{"$f":"'7.WEF Influence-Mine'!$CX136","v":0},{"$f":"'7.WEF Influence-Mine'!$CX176","v":0},{"$f":"'7.WEF Influence-Mine'!$CX216","v":0},{"$f":"'7.WEF Influence-Mine'!$CX256","v":0},{"$f":"'7.WEF Influence-Mine'!$CX296","v":0},{"$f":"IF(BT44>=$D$7,\"B:\"&'3.WEF Status-Base'!$T43&\": \",)&IF(BU44<>0,\"1.\"&'7.WEF Influence-Mine'!$CY136&\" \",)&IF(BV44<>0,\"2.\"&'7.WEF Influence-Mine'!$CY176&\" \",)&IF(BW44<>0,\"3.\"&'7.WEF Influence-Mine'!$CY216&\" \",)&IF(BX44<>0,\"4.\"&'7.WEF Influence-Mine'!$CY256&\" \",)&IF(BY44<>0,\"5.\"&'7.WEF Influence-Mine'!$CY296&\" \",)","v":""},null,null,null,null,null,null,{"$f":"'3.WEF Status-Base'!V43","v":0},{"$f":"'7.WEF Influence-Mine'!$DB136","v":0},{"$f":"'7.WEF Influence-Mine'!$DB176","v":0},{"$f":"'7.WEF Influence-Mine'!$DB216","v":0},{"$f":"'7.WEF Influence-Mine'!$DB256","v":0},{"$f":"'7.WEF Influence-Mine'!$DB296","v":0},{"$f":"IF(CG44>=$D$7,\"B:\"&'3.WEF Status-Base'!$W43&\": \",)&IF(CH44<>0,\"1.\"&'7.WEF Influence-Mine'!$DC136&\" \",)&IF(CI44<>0,\"2.\"&'7.WEF Influence-Mine'!$DC176&\" \",)&IF(CJ44<>0,\"3.\"&'7.WEF Influence-Mine'!$DC216&\" \",)&IF(CK44<>0,\"4.\"&'7.WEF Influence-Mine'!$DC256&\" \",)&IF(CL44<>0,\"5.\"&'7.WEF Influence-Mine'!$DC296&\" \",)","v":""},null,null,null,null,null,null,{"$f":"'3.WEF Status-Base'!Y43","v":0},{"$f":"'7.WEF Influence-Mine'!$DF136","v":0},{"$f":"'7.WEF Influence-Mine'!$DF176","v":0},{"$f":"'7.WEF Influence-Mine'!$DF216","v":0},{"$f":"'7.WEF Influence-Mine'!$DF256","v":0},{"$f":"'7.WEF Influence-Mine'!$DF296","v":0},{"$f":"IF(CT44>=$D$7,\"B:\"&'3.WEF Status-Base'!$Z43&\": \",)&IF(CU44<>0,\"1.\"&'7.WEF Influence-Mine'!$DG136&\" \",)&IF(CV44<>0,\"2.\"&'7.WEF Influence-Mine'!$DG176&\" \",)&IF(CW44<>0,\"3.\"&'7.WEF Influence-Mine'!$DG216&\" \",)&IF(CX44<>0,\"4.\"&'7.WEF Influence-Mine'!$DG256&\" \",)&IF(CY44<>0,\"5.\"&'7.WEF Influence-Mine'!$DG296&\" \",)","v":""},null,null,null,null,null,null,{"$f":"'3.WEF Status-Base'!AB43","v":0},{"$f":"'7.WEF Influence-Mine'!$DJ136","v":0},{"$f":"'7.WEF Influence-Mine'!$DJ176","v":0},{"$f":"'7.WEF Influence-Mine'!$DJ216","v":0},{"$f":"'7.WEF Influence-Mine'!$DJ256","v":0},{"$f":"'7.WEF Influence-Mine'!$DJ296","v":0},{"$f":"IF(DG44>=$D$7,\"B:\"&'3.WEF Status-Base'!$AC43&\": \",)&IF(DH44<>0,\"1.\"&'7.WEF Influence-Mine'!$DK136&\" \",)&IF(DI44<>0,\"2.\"&'7.WEF Influence-Mine'!$DK176&\" \",)&IF(DJ44<>0,\"3.\"&'7.WEF Influence-Mine'!$DK216&\" \",)&IF(DK44<>0,\"4.\"&'7.WEF Influence-Mine'!$DK256&\" \",)&IF(DL44<>0,\"5.\"&'7.WEF Influence-Mine'!$DK296&\" \",)","v":""},null,null,null,null,null,null,{"$f":"'3.WEF Status-Base'!AE43","v":0},{"$f":"'7.WEF Influence-Mine'!$DN136","v":0},{"$f":"'7.WEF Influence-Mine'!$DN176","v":0},{"$f":"'7.WEF Influence-Mine'!$DN216","v":0},{"$f":"'7.WEF Influence-Mine'!$DN256","v":0},{"$f":"'7.WEF Influence-Mine'!$DN296","v":0},{"$f":"IF(DT44>=$D$7,\"B:\"&'3.WEF Status-Base'!$AF43&\": \",)&IF(DU44<>0,\"1.\"&'7.WEF Influence-Mine'!$DO136&\" \",)&IF(DV44<>0,\"2.\"&'7.WEF Influence-Mine'!$DO176&\" \",)&IF(DW44<>0,\"3.\"&'7.WEF Influence-Mine'!$DO216&\" \",)&IF(DX44<>0,\"4.\"&'7.WEF Influence-Mine'!$DO256&\" \",)&IF(DY44<>0,\"5.\"&'7.WEF Influence-Mine'!$DO296&\" \",)","v":""},null,null,null,null,null,null,{"$f":"'3.WEF Status-Base'!AH43","v":0},{"$f":"'7.WEF Influence-Mine'!$DR136","v":0},{"$f":"'7.WEF Influence-Mine'!$DR176","v":0},{"$f":"'7.WEF Influence-Mine'!$DR216","v":0},{"$f":"'7.WEF Influence-Mine'!$DR256","v":0},{"$f":"'7.WEF Influence-Mine'!$DR296","v":0},{"$f":"IF(EG44>=$D$7,\"B:\"&'3.WEF Status-Base'!$AI43&\": \",)&IF(EH44<>0,\"1.\"&'7.WEF Influence-Mine'!$DS136&\" \",)&IF(EI44<>0,\"2.\"&'7.WEF Influence-Mine'!$DS176&\" \",)&IF(EJ44<>0,\"3.\"&'7.WEF Influence-Mine'!$DS216&\" \",)&IF(EK44<>0,\"4.\"&'7.WEF Influence-Mine'!$DS256&\" \",)&IF(EL44<>0,\"5.\"&'7.WEF Influence-Mine'!$DS296&\" \",)","v":""},null,null,null,null,null,null,{"$f":"'3.WEF Status-Base'!AK43","v":0},{"$f":"'7.WEF Influence-Mine'!$DV136","v":0},{"$f":"'7.WEF Influence-Mine'!$DV176","v":0},{"$f":"'7.WEF Influence-Mine'!$DV216","v":0},{"$f":"'7.WEF Influence-Mine'!$DV256","v":0},{"$f":"'7.WEF Influence-Mine'!$DV296","v":0},{"$f":"IF(ET44>=$D$7,\"B:\"&'3.WEF Status-Base'!$AL43&\": \",)&IF(EU44<>0,\"1.\"&'7.WEF Influence-Mine'!$DW136&\" \",)&IF(EV44<>0,\"2.\"&'7.WEF Influence-Mine'!$DW176&\" \",)&IF(EW44<>0,\"3.\"&'7.WEF Influence-Mine'!$DW216&\" \",)&IF(EX44<>0,\"4.\"&'7.WEF Influence-Mine'!$DW256&\" \",)&IF(EY44<>0,\"5.\"&'7.WEF Influence-Mine'!$DW296&\" \",)","v":""},null,null,null,null,null,null,{"$f":"'3.WEF Status-Base'!AN43","v":0},{"$f":"'7.WEF Influence-Mine'!$DZ136","v":0},{"$f":"'7.WEF Influence-Mine'!$DZ176","v":0},{"$f":"'7.WEF Influence-Mine'!$DZ216","v":0},{"$f":"'7.WEF Influence-Mine'!$DZ256","v":0},{"$f":"'7.WEF Influence-Mine'!$DZ296","v":0},{"$f":"IF(FG44>=$D$7,\"B:\"&'3.WEF Status-Base'!$AO43&\": \",)&IF(FH44<>0,\"1.\"&'7.WEF Influence-Mine'!$EA136&\" \",)&IF(FI44<>0,\"2.\"&'7.WEF Influence-Mine'!$EA176&\" \",)&IF(FJ44<>0,\"3.\"&'7.WEF Influence-Mine'!$EA216&\" \",)&IF(FK44<>0,\"4.\"&'7.WEF Influence-Mine'!$EA256&\" \",)&IF(FL44<>0,\"5.\"&'7.WEF Influence-Mine'!$EA296&\" \",)","v":""},null,null,null,null,null,null,{"$f":"'3.WEF Status-Base'!AQ43","v":0},{"$f":"'7.WEF Influence-Mine'!$ED136","v":0},{"$f":"'7.WEF Influence-Mine'!$ED176","v":0},{"$f":"'7.WEF Influence-Mine'!$ED216","v":0},{"$f":"'7.WEF Influence-Mine'!$ED256","v":0},{"$f":"'7.WEF Influence-Mine'!$ED296","v":0},{"$f":"IF(FT44>=$D$7,\"B:\"&'3.WEF Status-Base'!$AR43&\": \",)&IF(FU44<>0,\"1.\"&'7.WEF Influence-Mine'!$EE136&\" \",)&IF(FV44<>0,\"2.\"&'7.WEF Influence-Mine'!$EE176&\" \",)&IF(FW44<>0,\"3.\"&'7.WEF Influence-Mine'!$EE216&\" \",)&IF(FX44<>0,\"4.\"&'7.WEF Influence-Mine'!$EE256&\" \",)&IF(FY44<>0,\"5.\"&'7.WEF Influence-Mine'!$EE296&\" \",)","v":""},null,null,null,null,null,null,{"$f":"'3.WEF Status-Base'!AT43","v":0},{"$f":"'7.WEF Influence-Mine'!$EH136","v":0},{"$f":"'7.WEF Influence-Mine'!$EH176","v":0},{"$f":"'7.WEF Influence-Mine'!$EH216","v":0},{"$f":"'7.WEF Influence-Mine'!$EH256","v":0},{"$f":"'7.WEF Influence-Mine'!$EH296","v":0},{"$f":"IF(GG44>=$D$7,\"B:\"&'3.WEF Status-Base'!$AU43&\": \",)&IF(GH44<>0,\"1.\"&'7.WEF Influence-Mine'!$EI136&\" \",)&IF(GI44<>0,\"2.\"&'7.WEF Influence-Mine'!$EI176&\" \",)&IF(GJ44<>0,\"3.\"&'7.WEF Influence-Mine'!$EI216&\" \",)&IF(GK44<>0,\"4.\"&'7.WEF Influence-Mine'!$EI256&\" \",)&IF(GL44<>0,\"5.\"&'7.WEF Influence-Mine'!$EI296&\" \",)","v":""},null,null,null,null,null,null,{"$f":"'3.WEF Status-Base'!AW43","v":0},{"$f":"'7.WEF Influence-Mine'!$EL136","v":0},{"$f":"'7.WEF Influence-Mine'!$EL176","v":0},{"$f":"'7.WEF Influence-Mine'!$EL216","v":0},{"$f":"'7.WEF Influence-Mine'!$EL256","v":0},{"$f":"'7.WEF Influence-Mine'!$EL296","v":0},{"$f":"IF(GT44>=$D$7,\"B:\"&'3.WEF Status-Base'!$AX43&\": \",)&IF(GU44<>0,\"1.\"&'7.WEF Influence-Mine'!$EM136&\" \",)&IF(GV44<>0,\"2.\"&'7.WEF Influence-Mine'!$EM176&\" \",)&IF(GW44<>0,\"3.\"&'7.WEF Influence-Mine'!$EM216&\" \",)&IF(GX44<>0,\"4.\"&'7.WEF Influence-Mine'!$EM256&\" \",)&IF(GY44<>0,\"5.\"&'7.WEF Influence-Mine'!$EM296&\" \",)","v":""},null,null,null,null,null,null,{"$f":"'3.WEF Status-Base'!AZ43","v":0},{"$f":"'7.WEF Influence-Mine'!$EP136","v":0},{"$f":"'7.WEF Influence-Mine'!$EP176","v":0},{"$f":"'7.WEF Influence-Mine'!$EP216","v":0},{"$f":"'7.WEF Influence-Mine'!$EP256","v":0},{"$f":"'7.WEF Influence-Mine'!$EP296","v":0},{"$f":"IF(HG44>=$D$7,\"B:\"&'3.WEF Status-Base'!$BA43&\": \",)&IF(HH44<>0,\"1.\"&'7.WEF Influence-Mine'!$EQ136&\" \",)&IF(HI44<>0,\"2.\"&'7.WEF Influence-Mine'!$EQ176&\" \",)&IF(HJ44<>0,\"3.\"&'7.WEF Influence-Mine'!$EQ216&\" \",)&IF(HK44<>0,\"4.\"&'7.WEF Influence-Mine'!$EQ256&\" \",)&IF(HL44<>0,\"5.\"&'7.WEF Influence-Mine'!$EQ296&\" \",)","v":""},null,null,null,null,null,null,{"$f":"'3.WEF Status-Base'!BC43","v":0},{"$f":"'7.WEF Influence-Mine'!$ET136","v":0},{"$f":"'7.WEF Influence-Mine'!$ET176","v":0},{"$f":"'7.WEF Influence-Mine'!$ET216","v":0},{"$f":"'7.WEF Influence-Mine'!$ET256","v":0},{"$f":"'7.WEF Influence-Mine'!$ET296","v":0},{"$f":"IF(HT44>=$D$7,\"B:\"&'3.WEF Status-Base'!$BD43&\": \",)&IF(HU44<>0,\"1.\"&'7.WEF Influence-Mine'!$EU136&\" \",)&IF(HV44<>0,\"2.\"&'7.WEF Influence-Mine'!$EU176&\" \",)&IF(HW44<>0,\"3.\"&'7.WEF Influence-Mine'!$EU216&\" \",)&IF(HX44<>0,\"4.\"&'7.WEF Influence-Mine'!$EU256&\" \",)&IF(HY44<>0,\"5.\"&'7.WEF Influence-Mine'!$EU296&\" \",)","v":""},null,null,null,null,null,null,{"$f":"'7.WEF Influence-Mine'!EV136&\" : \"&'7.WEF Influence-Mine'!EV176&\" : \"&'7.WEF Influence-Mine'!EV216&\" : \"&'7.WEF Influence-Mine'!EV256&\" : \"&'7.WEF Influence-Mine'!EV296","v":"0 : 0 : 0 : 0 : 0"}]

{"sheet":"9.WEF Mine Diagram","index":10,"n_rows":44,"n_cols":31,"rows_kept":44,"cut":false,"hidden":false,"merged":[[3,1,3,3]]}
[null,"WEF Security"]
[null,"Assessment of the key aspects of water security in terms of access to affordable and reliable water  "]
[null,{"$f":"'2.WEF Inventory Base'!C3","v":"Community A"}]
[null,"User Guidance Notes",null,null,null,null,null,null,null,null,null,null,null,null,null,null,null,null,null,null,null,null,"PALETTE"]
[null,null,null,null,null,null,null,null,null,null,null,null,null,null,null,null,null,null,null,null,null,null,"Source Palette",null,null,null,null,null,null,null,"Use Palette"]
[]
[]
[]
[]
[]
[]
[]
[]
[]
[]
[]
[]
[]
[]
[]
[]
[]
[]
[]
[]
[]
[]
[]
[]
[]
[]
[]
[]
[]
[]
[]
[]
[]
[]
[]
[null,null,null,null,null,null,null,null,null,null,null,null,null,null,null,null,null,null,null,null,null,null,"Source - Use Connections"]
[]
[]
[null,null,null,null,null,null,null,null,null,null,null,null,null,null,null,null,null,null,null,null,null,null,"Source - Source Connections"]

{"sheet":"10.Executive Summary","index":11,"n_rows":18,"n_cols":14,"rows_kept":18,"cut":false,"hidden":false,"merged":[[1,6,1,7],[1,9,1,10],[1,12,1,13],[2,1,3,2],[2,4,3,4],[2,6,2,7],[2,9,2,10],[2,12,2,13],[4,0,9,0],[10,0,13,0],[14,0,15,0],[14,1,15,1],[16,0,17,0],[16,1,17,1]]}
[null,"WEF Security Executive Summary"]
[null,"User Guidance Notes",null,null,null,null,"show / hide",null,null,"show / hide",null,null,"show / hide"]
[null,"Security Component",null,null,"Key Insights",null,"Water ",null,null,"Energy",null,null,"Food"]
[null,null,null,null,null,null,"Source 1: ______________","Source 2: ______________",null,"Source 1: ______________","Source 2: ______________",null,"Source 1: ______________","Source 2: ______________"]
[null,"Availability","Sources\n\nWater:\n\n\nEnergy: \n\n\nFood\n",null,"WEF Connections [& Indicators]: \n\nBenefits and Impacts [& Indicators]: \n\nActions [& Indicators]:",null,"Status & Indicators: …..\n\n\nKey Mining Benefits/Impacts & Indicators: …\n\n\nKey Actions and Indicators:  ….\n","Status & Indicators: …..\n\n\nKey Mining Benefits/Impacts & Indicators: …\n\n\nKey Actions and Indicators:  ….\n",null,"Status & Indicators: …..\n\n\nKey Mining Benefits/Impacts & Indicators: …\n\n\nKey Actions and Indicators:  ….\n","Status & Indicators: …..\n\n\nKey Mining Benefits/Impacts & Indicators: …\n\n\nKey Actions and Indicators:  ….\n",null,"Status & Indicators: …..\n\n\nKey Mining Benefits/Impacts & Indicators: …\n\n\nKey Actions and Indicators:  ….\n","Status & Indicators: …..\n\n\nKey Mining Benefits/Impacts & Indicators: …\n\n\nKey Actions and Indicators:  ….\n"]
[null,null,"Uses",null,"Benefits and Impacts [& Indicators]: \n\nActions [& Indicators]:"]
[null,null,"Processing",null,"Benefits and Impacts [& Indicators]: \n\nActions [& Indicators]:"]
[null,null,"Storage",null,"Benefits and Impacts [& Indicators]: \n\nActions [& Indicators]:"]
[null,null,"Distribution",null,"Benefits and Impacts [& Indicators]: \n\nActions [& Indicators]:"]
[null,null,"Markets",null,"Benefits and Impacts [& Indicators]: \n\nActions [& Indicators]:"]
[null,"Access","Purchasing Power\n",null,"WEF Connections [& Indicators]: \n\nBenefits and Impacts [& Indicators]: \n\nActions [& Indicators]:"]
[null,null,"Aid",null,"Benefits and Impacts [& Indicators]: \n\nActions [& Indicators]:"]
[null,null,"Self-production",null,"Benefits and Impacts [& Indicators]: \n\nActions [& Indicators]:"]
[null,null,"Barter",null,"Benefits and Impacts [& Indicators]: \n\nActions [& Indicators]:"]
[null,"Supporting Infrastructure","Built Infrastructure\n\n",null,"Benefits and Impacts [& Indicators]: \n\nActions [& Indicators]:"]
[null,null,"Natural infrastructure",null,"Benefits and Impacts [& Indicators]: \n\nActions [& Indicators]:"]
[null,"Supporting Institutions and Policies","Institutions",null,"Benefits and Impacts [& Indicators]: \n\nActions [& Indicators]:"]
[null,null,"Policies & Plans",null,"Benefits and Impacts [& Indicators]: \n\nActions [& Indicators]:"]

{"sheet":"Properties","index":12,"n_rows":139,"n_cols":55,"rows_kept":139,"cut":false,"hidden":true,"merged":[[58,1,58,5],[58,7,58,11],[2,0,2,2]]}
["WEF Security"]
["Data Properties"]
["User Guidance"]
["WEF Thresholds (%)"]
["Water",0.05]
["Energy",0.05]
["Food",0.05]
[]
["Data Validation Lists",2,1,0,-1,-2,"?"]
[null,3,2,1,0,"?"]
["WEF Categories"]
["Source No.","No","Adj Row","Parameters"]
["W.1 Surface Water","W.1",1,6]
["W.2 Groundwater","W.2",2,6]
["W.3 Storage Water","W.3",3,6]
["W.4 Rain Water Harvest","W.4",4,6]
["W.5 Imported","W.5",5,6]
["W.6 Other","W.6",6,6,null,null," "]
["E.1 Biomass (Wood)","E.1",1,7]
["E.2 Diesel, Petrol","E.2",2,7]
["E.3 Electric Grid","E.3",3,7]
["E.4 Propane (Gas)","E.4",4,7]
["E.5 Renewable","E.5",5,7]
["E.6 Other","E.6",6,7]
["F.1 Harvested locally","F.1",1,15]
["F.2 Purchased locally","F.2",2,15]
["F.3 Imported","F.3",3,15]
["F.4 Other","F.4",4,15]
[]
["Mining Stage","Index","Load Cols"]
["Operational",0,6]
["Closure",6,80]
[]
["Landuse Types"]
["Alpine"]
["Coastal"]
["Desert"]
["Forest"]
["Grassland"]
["Industrial"]
["Lake"]
["Riparian"]
["Riverine"]
["Urban"]
["Wetlands"]
[]
["Standard Units"]
["M3/yr","Water Vol Unit"]
[]
["Data Matrix","Rows",36,null,"Columns",72]
[]
["Mine Related Activities","Index","Load Rows","Description"]
["Mineral Extraction",1,100,"Surface (pit), Underground (tunnel), Placer, Hydraulic"]
["Mineral Processing",2,140,"Crushing, Screening, Concentrating, Dewatering, Refining"]
["Mine Waste",3,180,"Water rock, Tailings, Waste effluent, Waste water (sanitation), Refuse"]
["Economic Activity",4,220,"Mine employment, Mine-related services, Corporate giving, Volunteering"]
["General Facilities",5,260,"Roads, Mine footprint"]
[]
[null,"Operational",null,null,null,null,null,"Closure"]
["WEF Status Relevant Attributes","Mineral Extraction","Mineral Processing","Mine Waste","Economic Activity","General Facilities",null,"Mineral Extraction","Mineral Processing","Mine Waste","Economic Activity","General Facilities"]
["Availability (Other)","X","X","X","X","X",null,"X","X","X","X","X"]
["Processing/treatment/conversion","X","X","X","X","-",null,"-","-","X","-","-"]
["Timing of delivery (storage)","X","-","-","X","-",null,"-","-","-","-","-"]
["Distribution (water towers)","-","-","-","X","-",null,"-","-","-","-","-"]
["Retail (market prices)","X","X","-","X","X",null,"-","-","-","-","-"]
["Access","X","X","X","X","X",null,"X","X","X","X","X"]
["Purchasing Power (livelihood income, remittances, credit)\n","-","-","-","X","-",null,"-","-","-","X","-"]
["Aid (direct provision, safety nets, subsidies)\n","-","-","-","X","-",null,"-","-","-","X","-"]
["Self-production (water wells, off-grid power, individual/community gardens)\n","-","-","-","X","-",null,"-","-","-","X","-"]
["Barter","-","-","-","X","-",null,"-","-","-","X","-"]
["Supporting Infrastructure","X","X","X","X","X",null,"X","X","X","X","X"]
["Built Infrastructure","X","X","X","X","X",null,"X","X","X","X","X"]
["     Transportation","X","X","X","X","X",null,"-","-","X","-","-"]
["     Communication","-","-","-","X","X",null,"-","-","-","-","-"]
["     Waste removal/disposal","-","X","-","X","X",null,"-","-","X","-","-"]
["Natural Infrastructure","X","X","X","X","X",null,"X","X","X","X","X"]
["     Air quality maintenance","X","X","X","-","X",null,"-","-","-","-","-"]
["     Erosion control","X","-","X","-","-",null,"-","-","X","-","-"]
["     Water purification and treatment","X","X","X","-","-",null,"-","-","X","-","-"]
["     Biological control","X","X","X","-","-",null,"-","-","X","-","-"]
["     Pollination","X","X","X","-","X",null,"-","-","X","-","-"]
["     Storm protection","-","-","-","-","X",null,"-","-","-","-","-"]
["Supporting Institutions and Policies","X","X","X","X","X",null,"X","X","X","X","X"]
["Institutions","X","X","X","X","X",null,"X","X","X","X","X"]
["     Utility boards","-","X","-","X","-",null,"-","-","-","-","-"]
["     Resource Coops","-","-","-","X","-",null,"-","-","-","-","-"]
["     Safety oversight agencies","X","X","X","X","-",null,"-","-","X","-","-"]
["     Education and training","X","X","X","X","-",null,"-","-","X","-","-"]
["     Law enforcement and security","-","X","X","X","X",null,"-","-","X","-","-"]
["Policies and Plans","X","X","X","X","X",null,"X","X","X","X","X"]
["     Resource use","X","X","X","-","X",null,"-","-","-","-","-"]
["     Climate change adaptation","-","-","X","-","-",null,"-","-","X","-","-"]
["     Disaster recovery and risk management ","X","X","X","-","X",null,"-","-","X","-","-"]
["     R&D and innovation","-","X","X","X","X",null,"-","-","X","X","-"]
[]
[]
[]
[]
["Indicatory Guide Matrix "]
["Active Indicator Cells Inventory","Surface Water","Surface Water","Surface Water","Groundwater","Groundwater","Groundwater","Stor","Stor","Stor","RWH","RWH","RWH","Import","Import","Import",{"$f":"'2.WEF Inventory Base'!$B$14","v":"Other"},{"$f":"'2.WEF Inventory Base'!$B$14","v":"Other"},{"$f":"'2.WEF Inventory Base'!$B$14","v":"Other"},"Biomass","Biomass","Biomass","Diesel","Diesel","Diesel","Electricity","Electricity","Electricity","Propane","Propane","Propane","Renewable","Renewable","Renewable","Other","Other","Other","Harvest Locally","Harvest Locally","Harvest Locally","Purchased Locally","Purchased Locally","Purchased Locally","Imported","Imported","Imported","Other","Other","Other","Other","Other","Other","Other","Other","Other"]
["Indicator Type","Stat.","Pres.","Act.","Stat.","Pres.","Act.","Stat.","Pres.","Act.","Stat.","Pres.","Act.","Stat.","Pres.","Act.","Stat.","Pres.","Act.","Stat.","Pres.","Act.","Stat.","Pres.","Act.","Stat.","Pres.","Act.","Stat.","Pres.","Act.","Stat.","Pres.","Act.","Stat.","Pres.","Act.","Stat.","Pres.","Act.","Stat.","Pres.","Act.","Stat.","Pres.","Act.","Stat.","Pres.","Act.","Stat.","Pres.","Act.","Stat.","Pres.","Act."]
["Column in composite sheet",15,16,17,28,29,30,41,42,43,54,55,56,67,68,69,80,81,82,93,94,95,106,107,108,119,120,121,132,133,134,145,146,147,158,159,160,171,172,173,184,185,186,197,198,199,210,211,212,223,224,225,236,237,238]
["Col. Load from IndicatorRef",1,4,7,1,4,7,1,4,7,1,4,7,1,4,7,1,4,7,10,13,16,10,13,16,10,13,16,10,13,16,10,13,16,10,13,16,{"$f":"AI103+9","v":19},{"$f":"AJ103+9","v":22},{"$f":"AK103+9","v":25},19,22,25,19,22,25,19,22,25,19,22,25,19,22,25]
["Change in Use",68,68,68,68,68,68,68,68,68,68,68,68,68,68,68,68,68,68,68,68,68,68,68,68,68,68,68,68,68,68,68,68,68,68,68,68,68,68,68,68,68,68,68,68,68,68,68,68,68,68,68,68,68,68]
["Change in source",5,5,5,5,5,5,5,5,5,5,5,5,5,5,5,5,5,5,5,5,5,5,5,5,5,5,5,5,5,5,5,5,5,5,5,5,5,5,5,5,5,5,5,5,5,5,5,5,5,5,5,5,5,5]
["Availability (Other)"]
["Process/treatment",131,131,131,131,131,131,131,131,131,131,131,131,131,131,131,131,131,131,131,131,131,131,131,131,131,131,131,131,131,131,131,131,131,131,131,131,131,131,131,131,131,131,131,131,131,131,131,131,131,131,131,131,131,131]
["Timing of delivery (storage)",164,164,164,164,164,164,164,164,164,164,164,164,164,164,164,164,164,164,164,164,164,164,164,164,164,164,164,164,164,164,164,164,164,164,164,164,164,164,164,164,164,164,164,164,164,164,164,164,164,164,164,164,164,164]
["Distribution (water towers)",197,197,197,197,197,197,197,197,197,197,197,197,197,197,197,197,197,197,197,197,197,197,197,197,197,197,197,197,197,197,197,197,197,197,197,197,197,197,197,197,197,197,197,197,197,197,197,197,197,197,197,197,197,197]
["Markets",230,230,230,230,230,230,230,230,230,230,230,230,230,230,230,230,230,230,230,230,230,230,230,230,230,230,230,230,230,230,230,230,230,230,230,230,230,230,230,230,230,230,230,230,230,230,230,230,230,230,230,230,230,230]
["Access"]
["Purchasing Power",{"$f":"B110+33","v":263},{"$f":"C110+33","v":263},{"$f":"D110+33","v":263},263,263,263,263,263,263,263,263,263,263,263,263,263,263,263,263,263,263,263,263,263,263,263,263,263,263,263,263,263,263,263,263,263,263,263,263,263,263,263,263,263,263,263,263,263,263,263,263,263,263,263]
["Aid",{"$f":"B112+33","v":296},296,296,296,296,296,296,296,296,296,296,296,296,296,296,296,296,296,296,296,296,296,296,296,296,296,296,296,296,296,296,296,296,296,296,296,296,296,296,296,296,296,296,296,296,296,296,296,296,296,296,296,296,296]
["Self-production",329,329,329,329,329,329,329,329,329,329,329,329,329,329,329,329,329,329,329,329,329,329,329,329,329,329,329,329,329,329,329,329,329,329,329,329,329,329,329,329,329,329,329,329,329,329,329,329,329,329,329,329,329,329]
["Barter",362,362,362,362,362,362,362,362,362,362,362,362,362,362,362,362,362,362,362,362,362,362,362,362,362,362,362,362,362,362,362,362,362,362,362,362,362,362,362,362,362,362,362,362,362,362,362,362,362,362,362,362,362,362]
["Supporting Infrastructure"]
["Built Infrastructure"]
[" Transportation",{"$f":"B115+33","v":395},{"$f":"C115+33","v":395},{"$f":"D115+33","v":395},395,395,395,395,395,395,395,395,395,395,395,395,395,395,395,395,395,395,395,395,395,395,395,395,395,395,395,395,395,395,395,395,395,395,395,395,395,395,395,395,395,395,395,395,395,395,395,395,395,395,395]
[" Communication",{"$f":"B118+33","v":428},428,428,428,428,428,428,428,428,428,428,428,428,428,428,428,428,428,428,428,428,428,428,428,428,428,428,428,428,428,428,428,428,428,428,428,428,428,428,428,428,428,428,428,428,428,428,428,428,428,428,428,428,428]
[" Waste removal/disposal",461,461,461,461,461,461,461,461,461,461,461,461,461,461,461,461,461,461,461,461,461,461,461,461,461,461,461,461,461,461,461,461,461,461,461,461,461,461,461,461,461,461,461,461,461,461,461,461,461,461,461,461,461,461]
["Natural Infrastructure"]
[" Air quality maintenance",{"$f":"B120+33","v":494},{"$f":"C120+33","v":494},{"$f":"D120+33","v":494},494,494,494,494,494,494,494,494,494,494,494,494,494,494,494,494,494,494,494,494,494,494,494,494,494,494,494,494,494,494,494,494,494,494,494,494,494,494,494,494,494,494,494,494,494,494,494,494,494,494,494]
[" Erosion control",{"$f":"B122+33","v":527},527,527,527,527,527,527,527,527,527,527,527,527,527,527,527,527,527,527,527,527,527,527,527,527,527,527,527,527,527,527,527,527,527,527,527,527,527,527,527,527,527,527,527,527,527,527,527,527,527,527,527,527,527]
[" Water purification",560,560,560,560,560,560,560,560,560,560,560,560,560,560,560,560,560,560,560,560,560,560,560,560,560,560,560,560,560,560,560,560,560,560,560,560,560,560,560,560,560,560,560,560,560,560,560,560,560,560,560,560,560,560]
[" Biological control",593,593,593,593,593,593,593,593,593,593,593,593,593,593,593,593,593,593,593,593,593,593,593,593,593,593,593,593,593,593,593,593,593,593,593,593,593,593,593,593,593,593,593,593,593,593,593,593,593,593,593,593,593,593]
[" Pollination",626,626,626,626,626,626,626,626,626,626,626,626,626,626,626,626,626,626,626,626,626,626,626,626,626,626,626,626,626,626,626,626,626,626,626,626,626,626,626,626,626,626,626,626,626,626,626,626,626,626,626,626,626,626]
[" Storm protection",659,659,659,659,659,659,659,659,659,659,659,659,659,659,659,659,659,659,659,659,659,659,659,659,659,659,659,659,659,659,659,659,659,659,659,659,659,659,659,659,659,659,659,659,659,659,659,659,659,659,659,659,659,659]
["Supporting Institutions and Policies"]
["Institutions"]
[" Utility boards",{"$f":"B127+33","v":692},{"$f":"C127+33","v":692},{"$f":"D127+33","v":692},692,692,692,692,692,692,692,692,692,692,692,692,692,692,692,692,692,692,692,692,692,692,692,692,692,692,692,692,692,692,692,692,692,692,692,692,692,692,692,692,692,692,692,692,692,692,692,692,692,692,692]
[" Resource Coops",{"$f":"B130+33","v":725},725,725,725,725,725,725,725,725,725,725,725,725,725,725,725,725,725,725,725,725,725,725,725,725,725,725,725,725,725,725,725,725,725,725,725,725,725,725,725,725,725,725,725,725,725,725,725,725,725,725,725,725,725]
[" Safety oversight agencies",758,758,758,758,758,758,758,758,758,758,758,758,758,758,758,758,758,758,758,758,758,758,758,758,758,758,758,758,758,758,758,758,758,758,758,758,758,758,758,758,758,758,758,758,758,758,758,758,758,758,758,758,758,758]
[" Education & training",791,791,791,791,791,791,791,791,791,791,791,791,791,791,791,791,791,791,791,791,791,791,791,791,791,791,791,791,791,791,791,791,791,791,791,791,791,791,791,791,791,791,791,791,791,791,791,791,791,791,791,791,791,791]
[" Law enforcement & security",824,824,824,824,824,824,824,824,824,824,824,824,824,824,824,824,824,824,824,824,824,824,824,824,824,824,824,824,824,824,824,824,824,824,824,824,824,824,824,824,824,824,824,824,824,824,824,824,824,824,824,824,824,824]
["Policies and Plans"]
[" Resource use",{"$f":"B134+33","v":857},{"$f":"C134+33","v":857},{"$f":"D134+33","v":857},857,857,857,857,857,857,857,857,857,857,857,857,857,857,857,857,857,857,857,857,857,857,857,857,857,857,857,857,857,857,857,857,857,857,857,857,857,857,857,857,857,857,857,857,857,857,857,857,857,857,857]
[" Climate change adaptation",{"$f":"B136+33","v":890},890,890,890,890,890,890,890,890,890,890,890,890,890,890,890,890,890,890,890,890,890,890,890,890,890,890,890,890,890,890,890,890,890,890,890,890,890,890,890,890,890,890,890,890,890,890,890,890,890,890,890,890,890]
[" Disaster recovery & risk management ",923,923,923,923,923,923,923,923,923,923,923,923,923,923,923,923,923,923,923,923,923,923,923,923,923,923,923,923,923,923,923,923,923,923,923,923,923,923,923,923,923,923,923,923,923,923,923,923,923,923,923,923,923,923]
[" RDI",956,956,956,956,956,956,956,956,956,956,956,956,956,956,956,956,956,956,956,956,956,956,956,956,956,956,956,956,956,956,956,956,956,956,956,956,956,956,956,956,956,956,956,956,956,956,956,956,956,956,956,956,956,956]

{"sheet":"IndicatorRef","index":13,"n_rows":989,"n_cols":26,"rows_kept":989,"cut":false,"hidden":true,"merged":[]}
["Indicator Directory",null,null,"Note: see Resource Book for indicator references",null,null,null,null,null,"Indicator Directory",null,null,"Note: see Resource Book for indicator references",null,null,null,null,null,"Indicator Directory",null,null,"Note: see Resource Book for indicator references"]
["Water",null,null,null,null,null,null,null,null,"Energy",null,null,null,null,null,null,null,null,"Food"]
["User Guide"]
["State",null,null,"Pressure",null,null,"Action",null,null,"State",null,null,"Pressure",null,null,"Action",null,null,"State",null,null,"Pressure",null,null,"Action"]
["Change in Source",35,null,"Change in Source",27,null,"Change in Source",2,null,"Change in Source",25,null,"Change in Source",1,null,"Change in Source",0,null,"Change in Source",42,null,"Change in Source",19,null,"Change in Source",1]
["Indicator List","Active",null,"Indicator List","Active",null,"Indicator List","Active",null,"Indicator List","Active",null,"Indicator List","Active",null,"Indicator List","Active",null,"Indicator List","Active",null,"Indicator List","Active",null,"Indicator List","Active"]
["UserDefined",null,null,"UserDefined",null,null,"UserDefined",null,null,"UserDefined",null,null,"UserDefined",null,null,"UserDefined",null,null,"UserDefined",null,null,"UserDefined",null,null,"UserDefined"]
["actual groundwater entering and leaving the country","N",null,"agriculture sector water stress","N",null,"Describe any measures put in place to prevent acid main drainage, if applicable ","N",null,"% land used for new bioenergy production","N",null,"land use and land use change related to bioenergy feedstock production","N",null,null,"N",null,"# of food emergencies vs. food-water vulnerability x capacity","N",null,"% area equipped for full control surface irrigation drained","N",null,"Nutrition programmes","N"]
["actual renewable groundwater resources","N",null,"bacterial numbers and the presence of coliform organisms","N",null,"Describe any measures put in place to prevent tailings dam(s) failure","N",null,"% of increased access to modern energy services due to bioenergy","N",null,null,"N",null,null,"N",null,"% agricultural land classified as having moderate to severe water erosion or wind risk","N",null,"% freshwater withdrawal as % total actual renewable water withdrawal","N",null,null,"N"]
["alkalinity","N",null,"breakdown of substances discharged with liquid effluents","N",null,null,"N",null,"% renewable energy/ total energy","N",null,null,"N",null,null,"N",null,"% area equipped for irrigation actually irrigated","N",null,"% salinized soils by irrigation/arable land","N",null,null,"N"]
["desalinated water produced annually","N",null,"catch pressure","N",null,null,"N",null,"average reserve to production ratio for the three primary fuels (coal, natural gas and oil)","N",null,null,"N",null,null,"N",null,"% of farmers renting out land; % of farmers renting in land","N",null,"aquaculture","N",null,null,"N"]
["desalinated water production","N",null,"contaminant discharges in liquid effluents from energy systems","N",null,null,"N",null,"bioethanol and biodiesel production","N",null,null,"N",null,null,"N",null,"% of the cultivated area equipped for irrigation","N",null,"area salinized by irrigation of total harvested irrigated crop area (ha)","N",null,null,"N"]
["groundwater quality","N",null,"dam density","N",null,null,"N",null,"change in forest area over the last 10 years as a % of total forest area","N",null,null,"N",null,null,"N",null,"aquaculture","N",null,"brackish/saline groundwater at shallow and intermediate depths","N",null,null,"N"]
["groundwater recharge","N",null,"erosion rate or sediment load in river/upstream drainage area","N",null,null,"N",null,"energy imports","N",null,null,"N",null,null,"N",null,"Area certified","N",null,"concentration of anti-biotics in watershed","N",null,null,"N"]
["hygiene (age-standardized disability adjusted life years per 100,000 people for the incidence of diarrhea)","N",null,"feed-water productivity and feed conversion efficiency","N",null,null,"N",null,"enewable energy share in national energy and electricity generation","N",null,null,"N",null,null,"N",null,"area equipped for irrigation by type of irrigation (surface, sprinkler, localized); ","N",null,"concentration of nitrogen, ammonia and phosphorous","N",null,null,"N"]
["Identity, size, protected status, and biodiversity value of water bodies and related habitats significantly affected by the reporting organization’s discharges of water and runoff","N",null,"fertilizer use","N",null,null,"N",null,"primary production of renewable energy","N",null,null,"N",null,null,"N",null,"area that is potentially irrigable","N",null,"cyclones, hurricanes and earthquakes","N",null,null,"N"]
["independence from imported water and goods","N",null,"Llquid effluents","N",null,null,"N",null,"proven recoverable reserves","N",null,null,"N",null,null,"N",null,"average dietary energy supply adequacy","N",null,"direct use of agricultural drainage water","N",null,null,"N"]
["internal renewable water resources","N",null,"non-native species","N",null,null,"N",null,"pump price for gasoline and diesel","N",null,null,"N",null,null,"N",null,"average value of food production","N",null,"direct use of treated municipal wastewater for irrigation purposes/total treated municipal waste water","N",null,null,"N"]
["mercury","N",null,"oil discharges into coastal waters","N",null,null,"N",null,"ratio of hydropower to total energy supply","N",null,null,"N",null,null,"N",null,"cereal import dependency ratio","N",null,"El Niño Southern","N",null,null,"N"]
["net recharge rate of groundwater","N",null,"percentage and total volume of water recycled and reused","N",null,null,"N",null,"self-sufficiency","N",null,null,"N",null,null,"N",null,"cereal yields","N",null,"fertilizer use","N",null,null,"N"]
["nitrate","N",null,"percentage of permitted sites causing downstream and/or underground water quality problems relative to the total number of permitted sites","N",null,null,"N",null,"share of renewable in total primary energy supply","N",null,null,"N",null,null,"N",null,"change in cropland use","N",null,"Oscillation (ENSO); Inundation and floods","N",null,null,"N"]
["nitrogen","N",null,"percentage of total water re-used (e.g. cooling, waste and rain water) relative to the total water withdrawn for source","N",null,null,"N",null,"stocks of critical fuel (e.g., oil, gas, etc.)","N",null,null,"N",null,null,"N",null,"change in freshwater fish production (aquaculture and capture/yr); ","N",null,"pest/locust outbreak","N",null,null,"N"]
["pesticides","N",null,"pollutant loadings attributable to fertilizer and pesticide application for bioenergy feedstock production","N",null,null,"N",null,"total dam capacity (national)","N",null,null,"N",null,null,"N",null,"crop yield gap (actual yield as % of attainable yield);","N",null,"pest management","N",null,null,"N"]
["pH","N",null,"residency time change downstream from dams","N",null,null,"N",null,"total energy production","N",null,null,"N",null,null,"N",null,"cropland per gross production value of agriculture","N",null,"precipitation variability","N",null,null,"N"]
["phosphorous","N",null,"river network fragmentation","N",null,null,"N",null,"total estimated resources","N",null,null,"N",null,null,"N",null,"depth of food deficit","N",null,"share of major ions, metals, nutrients, organic matter and bacteria in watershed","N",null,null,"N"]
["population affected by water-borne disease","N",null,"runoff co-efficient","N",null,null,"N",null,"total jobs in bioenergy sector","N",null,null,"N",null,null,"N",null,"economic value of food products/ reduction of use of non-renewable energy in agriculture","N",null,"use of agricultural pesticides and fertilizers (nitrogen, phosphate, potash","N",null,null,"N"]
["potential acidification","N",null,"thermal impacts from power plant cooling","N",null,null,"N",null,"total primary energy supply","N",null,null,"N",null,null,"N",null,"food imports","N",null,null,"N",null,null,"N"]
["Precipitation","N",null,"total number and volume of significant spills","N",null,null,"N",null,"total primary energy supply per capita","N",null,null,"N",null,null,"N",null,"import quantity index of agricultural products","N",null,null,"N",null,null,"N"]
["relative social water stress index","N",null,"total volume of tailings and disposal methods","N",null,null,"N",null,"transport energy intensities","N",null,null,"N",null,null,"N",null,"livestock diseases / death","N",null,null,"N",null,null,"N"]
["renewable water resources per capita (m3) adjusted by HDI","N",null,"total volume of water discharged into waterways","N",null,null,"N",null,"utilization of total hydropower capacity","N",null,null,"N",null,null,"N",null,"livestock production index","N",null,null,"N",null,null,"N"]
["salinity of groundwater","N",null,"total water discharge by quality and destination","N",null,null,"N",null,"woodfuel production by volume and value","N",null,null,"N",null,null,"N",null,"livestock total per hectare of agricultural area (livestock/ ha)","N",null,null,"N",null,null,"N"]
["sources of drinking water (piped water, well water)","N",null,"total water withdrawal by source","N",null,null,"N",null,"years of energy reserves left","N",null,null,"N",null,null,"N",null,"meteorological data","N",null,null,"N",null,null,"N"]
["surface water actual","N",null,"water pollution as % of BOD emissions","N",null,null,"N",null,null,"N",null,null,"N",null,null,"N",null,"normalized difference vegetation index (NDVI)","N",null,null,"N",null,null,"N"]
["total actual renewable water resources","N",null,"tater sources significantly affected by withdrawal of water","N",null,null,"N",null,null,"N",null,null,"N",null,null,"N",null,"number and % of population which is undernourished","N",null,null,"N",null,null,"N"]
["total actual renewable water resources per capita","N",null,null,"N",null,null,"N",null,null,"N",null,null,"N",null,null,"N",null,"number of farmers with certificates","N",null,null,"N",null,null,"N"]
["total exploitable water resources disagreggated by total regular and irregular renewable surface groundwater;","N",null,null,"N",null,null,"N",null,null,"N",null,null,"N",null,null,"N",null,"off-farm added value","N",null,null,"N",null,null,"N"]
["total groundwater abstraction/exploitable groundwater; ","N",null,null,"N",null,null,"N",null,null,"N",null,null,"N",null,null,"N",null,"on-farm added value","N",null,null,"N",null,null,"N"]
["total suspended solids","N",null,null,"N",null,null,"N",null,null,"N",null,null,"N",null,null,"N",null,"pasture and water shortages","N",null,null,"N",null,null,"N"]
["treated municipal wastewater","N",null,null,"N",null,null,"N",null,null,"N",null,null,"N",null,null,"N",null,"per capita food production variability","N",null,null,"N",null,null,"N"]
["wastewater treatment (%)","N",null,null,"N",null,null,"N",null,null,"N",null,null,"N",null,null,"N",null,"per capita food supply variability","N",null,null,"N",null,null,"N"]
["water distribution losses by water utilities %","N",null,null,"N",null,null,"N",null,null,"N",null,null,"N",null,null,"N",null,"prevalence of food inadequacy","N",null,null,"N",null,null,"N"]
["water supply (%)","N",null,null,"N",null,null,"N",null,null,"N",null,null,"N",null,null,"N",null,"rainfall anomaly and differences","N",null,null,"N",null,null,"N"]
[null,"N",null,null,"N",null,null,"N",null,null,"N",null,null,"N",null,null,"N",null,"seasonal rainfall forecast (medium-term climate outlook)","N",null,null,"N",null,null,"N"]
[null,"N",null,null,"N",null,null,"N",null,null,"N",null,null,"N",null,null,"N",null,"share of dietary energy supply from staples","N",null,null,"N",null,null,"N"]
[null,"N",null,null,"N",null,null,"N",null,null,"N",null,null,"N",null,null,"N",null,"threatened freshwater species","N",null,null,"N",null,null,"N"]
[null,"N",null,null,"N",null,null,"N",null,null,"N",null,null,"N",null,null,"N",null,"total agricultural water managed area. Total area of agriculture","N",null,null,"N",null,null,"N"]
[null,"N",null,null,"N",null,null,"N",null,null,"N",null,null,"N",null,null,"N",null,"value of irrigated output as multiple of value of rain-fed output","N",null,null,"N",null,null,"N"]
[null,"N",null,null,"N",null,null,"N",null,null,"N",null,null,"N",null,null,"N",null,"value of irrigated output as share of total agricultural output","N",null,null,"N",null,null,"N"]
[null,"N",null,null,"N",null,null,"N",null,null,"N",null,null,"N",null,null,"N",null,"yield (kg/ha)","N",null,null,"N",null,null,"N"]
[null,"N",null,null,"N",null,null,"N",null,null,"N",null,null,"N",null,null,"N",null,null,"N",null,null,"N",null,null,"N"]
[null,"N",null,null,"N",null,null,"N",null,null,"N",null,null,"N",null,null,"N",null,null,"N",null,null,"N",null,null,"N"]
[null,"N",null,null,"N",null,null,"N",null,null,"N",null,null,"N",null,null,"N",null,null,"N",null,null,"N",null,null,"N"]
[null,"N",null,null,"N",null,null,"N",null,null,"N",null,null,"N",null,null,"N",null,null,"N",null,null,"N",null,null,"N"]
[null,"N",null,null,"N",null,null,"N",null,null,"N",null,null,"N",null,null,"N",null,null,"N",null,null,"N",null,null,"N"]
[null,"N",null,null,"N",null,null,"N",null,null,"N",null,null,"N",null,null,"N",null,null,"N",null,null,"N",null,null,"N"]
[null,"N",null,null,"N",null,null,"N",null,null,"N",null,null,"N",null,null,"N",null,null,"N",null,null,"N",null,null,"N"]
[null,"N",null,null,"N",null,null,"N",null,null,"N",null,null,"N",null,null,"N",null,null,"N",null,null,"N",null,null,"N"]
[null,"N",null,null,"N",null,null,"N",null,null,"N",null,null,"N",null,null,"N",null,null,"N",null,null,"N",null,null,"N"]
[null,"N",null,null,"N",null,null,"N",null,null,"N",null,null,"N",null,null,"N",null,null,"N",null,null,"N",null,null,"N"]
[null,"N",null,null,"N",null,null,"N",null,null,"N",null,null,"N",null,null,"N",null,null,"N",null,null,"N",null,null,"N"]
[null,"N",null,null,"N",null,null,"N",null,null,"N",null,null,"N",null,null,"N",null,null,"N",null,null,"N",null,null,"N"]
[null,"N",null,null,"N",null,null,"N",null,null,"N",null,null,"N",null,null,"N",null,null,"N",null,null,"N",null,null,"N"]
[null,"N",null,null,"N",null,null,"N",null,null,"N",null,null,"N",null,null,"N",null,null,"N",null,null,"N",null,null,"N"]
[null,"N",null,null,"N",null,null,"N",null,null,"N",null,null,"N",null,null,"N",null,null,"N",null,null,"N",null,null,"N"]
[null,"N",null,null,"N",null,null,"N",null,null,"N",null,null,"N",null,null,"N",null,null,"N",null,null,"N",null,null,"N"]
[null,"N",null,null,"N",null,null,"N",null,null,"N",null,null,"N",null,null,"N",null,null,"N",null,null,"N",null,null,"N"]
[null,"N",null,null,"N",null,null,"N",null,null,"N",null,null,"N",null,null,"N",null,null,"N",null,null,"N",null,null,"N"]
["Change in Use",19,null,"Change in Use",13,null,"Change in Use",1,null,"Change in Use",41,null,"Change in Use",5,null,"Change in Use",1,null,"Change in Use",20,null,"Change in Use",0,null,"Change in Use",0]
["Indicator List","Active",null,"Indicator List","Active",null,"Indicator List","Active",null,"Indicator List","Active",null,"Indicator List","Active",null,"Indicator List","Active",null,"Indicator List","Active",null,"Indicator List","Active",null,"Indicator List","Active"]
["UserDefined",null,null,"UserDefined",null,null,"UserDefined",null,null,"UserDefined",null,null,"UserDefined",null,null,"UserDefined",null,null,"UserDefined",null,null,"UserDefined",null,null,"UserDefined"]
["% annual freshwater withdrawals by sector","N",null,"% of area that is equipped for irrigation","N",null,"Investment in water and sanitation","N",null,"% area equipped for irrigation that is power irrigated","N",null,"Energy saved due to conservation and efficiency improvements","N",null,null,"N",null,"% child mortality under 5 years","N",null,null,"N",null,null,"N"]
["% investment in irrigation/total public spending","N",null,"% total area equipped for full control surface irrigation drained","N",null,null,"N",null,"% energy for transporting water for agriculture","N",null,"forest area damaged by human activity","N",null,null,"N",null,"% children under 5 years malnourished","N",null,null,"N",null,null,"N"]
["agricultural water security index","N",null,"% total cultivated area drained","N",null,null,"N",null,"% household income spent on fuel and electricity","N",null,"fossil fuel energy consumption","N",null,null,"N",null,"% eating 3 meals/day","N",null,null,"N",null,null,"N"]
["agricultural, industrial and municipal withdrawals as % total water withdrawal","N",null,"area equipped for irrigation drained","N",null,null,"N",null,"% households using traditional fuels (disaggregated by fuel)","N",null,"Initiatives to provide energy-efficient or renewable energy based products and services, and reductions in energy requirements as a result of these initiatives","N",null,null,"N",null,"% households being food secure all year","N",null,null,"N",null,null,"N"]
["average household water usage/day","N",null,"area equipped for power irrigation","N",null,null,"N",null,"% households without electricity or commercial energy","N",null,"Initiatives to reduce indirect energy consumption and reductions achieved","N",null,null,"N",null,"% of population meeting energy requirements","N",null,null,"N",null,null,"N"]
["consumption rate (net virtual water consumed relative to water withdrawn for industry)","N",null,"area salinized by irrigation","N",null,null,"N",null,"% population using solid fuels","N",null,null,"N",null,null,"N",null,"% population malnourished","N",null,null,"N",null,null,"N"]
["consumption rate of water","N",null,"Change in hydropower","N",null,null,"N",null,"% population with access to electricity","N",null,null,"N",null,null,"N",null,"Average energy intake","N",null,null,"N",null,null,"N"]
["cooling water required for conventional power plants","N",null,"Changes in agricultural water productivity","N",null,null,"N",null,"% renewable energy used in agriculture as a proportion of total energy used in agriculture","N",null,null,"N",null,null,"N",null,"Dietary energy supply","N",null,null,"N",null,null,"N"]
["cubic meters of water used per unit of value added by sector","N",null,"financial value of industrial goods relative to industrial water withdrawal","N",null,null,"N",null,"agricultural energy intensities","N",null,null,"N",null,null,"N",null,"household dietary diversity and number of meals per day","N",null,null,"N",null,null,"N"]
["desalinated water used for irrigation (km2/yr)","N",null,"Irrigation area","N",null,null,"N",null,"agricultural machinery, tractors in use in agriculture","N",null,null,"N",null,null,"N",null,"Migration patterns","N",null,null,"N",null,null,"N"]
["groundwater abstraction/exploitable groundwater","N",null,"productivity of irrigated agriculture","N",null,null,"N",null,"Annual value of energy exports","N",null,null,"N",null,null,"N",null,"Number of months per year that households declare being food secure","N",null,null,"N",null,null,"N"]
["independence from imported water and goods","N",null,"ratio hydropower/total energy supply","N",null,null,"N",null,"bioenergy used to expand access to modern energy services","N",null,null,"N",null,null,"N",null,"Perceived food insecurity","N",null,null,"N",null,null,"N"]
["relative water consumption compared to supply","N",null,"total hydropower capacity","N",null,"","N",null,"Breakdown by type of the amount of the primary energy used (including natural gas, diesel, LPG, petrol and other fuels)","N",null,null,"N",null,null,"N",null,"Prevalence of anemia","N",null,null,"N",null,null,"N"]
["surface and groundwater withdrawals for agriculture as % total renewable water resources","N",null,null,"N",null,null,"N",null,"Breakdown by type of the amount of the secondary energy (electricity and heat) used and exported","N",null,null,"N",null,null,"N",null,"Prevalence of children receiving minimum acceptable diet","N",null,null,"N",null,null,"N"]
["total freshwater withdrawals by irrigated agriculture","N",null,null,"N",null,null,"N",null,"change in yield/amount of modern energy used for farming","N",null,null,"N",null,null,"N",null,"Prevalence of undernourishment","N",null,null,"N",null,null,"N"]
["Total water withdrawal (Km2/year) by agriculture, industry and municipality","N",null,null,"N",null,null,"N",null,"Direct energy consumption by primary energy source","N",null,null,"N",null,null,"N",null,"Prevalence of wasting; prevalence of malnourished women","N",null,null,"N",null,null,"N"]
["Total water withdrawals","N",null,null,"N",null,null,"N",null,"direct on-farm energy consumption","N",null,null,"N",null,null,"N",null,"Proportion of population below minimum level of dietary energy consumption (MDG indicator)","N",null,null,"N",null,null,"N"]
["Water demand per sector","N",null,null,"N",null,null,"N",null,"direct on-farm energy consumption, per agricultural produce","N",null,null,"N",null,null,"N",null,"Proportion of population with shortfalls of any one of the following essential micronutrients: iron, zinc, iodine, vitamin A, folate, and vitamin B12 ","N",null,null,"N",null,null,"N"]
["water withdrawn for processing feedstock and bioenergy","N",null,null,"N",null,null,"N",null,"direct use of fossil fuel energy in agriculture per unit value output","N",null,null,"N",null,null,"N",null,"Under 5 mortality rate; Prevalence of stunting","N",null,null,"N",null,null,"N"]
[null,"N",null,null,"N",null,null,"N",null,"energy consumed in fisheries per fish product production","N",null,null,"N",null,null,"N",null,"Women dietary diversity index","N",null,null,"N",null,null,"N"]
[null,"N",null,null,"N",null,null,"N",null,"energy use (kg oil equivalent) per $1,000 GDP","N",null,null,"N",null,null,"N",null,null,"N",null,null,"N",null,null,"N"]
[null,"N",null,null,"N",null,null,"N",null,"energy use per capita","N",null,null,"N",null,null,"N",null,null,"N",null,null,"N",null,null,"N"]
[null,"N",null,null,"N",null,null,"N",null,"energy used in agriculture and forestry","N",null,null,"N",null,null,"N",null,null,"N",null,null,"N",null,null,"N"]
[null,"N",null,null,"N",null,null,"N",null,"energy used in agriculture per gross agriculture production","N",null,null,"N",null,null,"N",null,null,"N",null,null,"N",null,null,"N"]
[null,"N",null,null,"N",null,null,"N",null,"forest operations and other","N",null,null,"N",null,null,"N",null,null,"N",null,null,"N",null,null,"N"]
[null,"N",null,null,"N",null,null,"N",null,"household energy intensity","N",null,null,"N",null,null,"N",null,null,"N",null,null,"N",null,null,"N"]
[null,"N",null,null,"N",null,null,"N",null,"household energy use for each income group and corresponding fuel mix","N",null,null,"N",null,null,"N",null,null,"N",null,null,"N",null,null,"N"]
[null,"N",null,null,"N",null,null,"N",null,"Indirect energy consumption by primary source","N",null,null,"N",null,null,"N",null,null,"N",null,null,"N",null,null,"N"]
[null,"N",null,null,"N",null,null,"N",null,"MEPI Index","N",null,null,"N",null,null,"N",null,null,"N",null,null,"N",null,null,"N"]
[null,"N",null,null,"N",null,null,"N",null,"net annual rates of conversion between land-use types caused directly by bioenergy feedstock production","N",null,null,"N",null,null,"N",null,null,"N",null,null,"N",null,null,"N"]
[null,"N",null,null,"N",null,null,"N",null,"Percentage of population using solid fuels for cooking","N",null,null,"N",null,null,"N",null,null,"N",null,null,"N",null,null,"N"]
[null,"N",null,null,"N",null,null,"N",null,"Percentage of renewable energy used relative to total energy consumption","N",null,null,"N",null,null,"N",null,null,"N",null,null,"N",null,null,"N"]
[null,"N",null,null,"N",null,null,"N",null,"ratio of hydropower to total energy supply","N",null,null,"N",null,null,"N",null,null,"N",null,null,"N",null,null,"N"]
[null,"N",null,null,"N",null,null,"N",null,"share of household income spent on fuel and electricity","N",null,null,"N",null,null,"N",null,null,"N",null,null,"N",null,null,"N"]
[null,"N",null,null,"N",null,null,"N",null,"Share of households without electricity or other modern energy services","N",null,null,"N",null,null,"N",null,null,"N",null,null,"N",null,null,"N"]
[null,"N",null,null,"N",null,null,"N",null,"Share of the population with access to modern cooking solutions (%)","N",null,null,"N",null,null,"N",null,null,"N",null,null,"N",null,null,"N"]
[null,"N",null,null,"N",null,null,"N",null,"Share of the population with access to reliable electricity (%)","N",null,null,"N",null,null,"N",null,null,"N",null,null,"N",null,null,"N"]
[null,"N",null,null,"N",null,null,"N",null,"Total primary and secondary energy used","N",null,null,"N",null,null,"N",null,null,"N",null,null,"N",null,null,"N"]
[null,"N",null,null,"N",null,null,"N",null,"total volume of removals from forests","N",null,null,"N",null,null,"N",null,null,"N",null,null,"N",null,null,"N"]
[null,"N",null,null,"N",null,null,"N",null,"utilization of total hydropower capacity","N",null,null,"N",null,null,"N",null,null,"N",null,null,"N",null,null,"N"]
[null,"N",null,null,"N",null,null,"N",null,"woodfuel from forests in volume","N",null,null,"N",null,null,"N",null,null,"N",null,null,"N",null,null,"N"]
[null,"N",null,null,"N",null,null,"N",null,null,"N",null,null,"N",null,null,"N",null,null,"N",null,null,"N",null,null,"N"]
[null,"N",null,null,"N",null,null,"N",null,null,"N",null,null,"N",null,null,"N",null,null,"N",null,null,"N",null,null,"N"]
[null,"N",null,null,"N",null,null,"N",null,null,"N",null,null,"N",null,null,"N",null,null,"N",null,null,"N",null,null,"N"]
[null,"N",null,null,"N",null,null,"N",null,null,"N",null,null,"N",null,null,"N",null,null,"N",null,null,"N",null,null,"N"]
[null,"N",null,null,"N",null,null,"N",null,null,"N",null,null,"N",null,null,"N",null,null,"N",null,null,"N",null,null,"N"]
[null,"N",null,null,"N",null,null,"N",null,null,"N",null,null,"N",null,null,"N",null,null,"N",null,null,"N",null,null,"N"]
[null,"N",null,null,"N",null,null,"N",null,null,"N",null,null,"N",null,null,"N",null,null,"N",null,null,"N",null,null,"N"]
[null,"N",null,null,"N",null,null,"N",null,null,"N",null,null,"N",null,null,"N",null,null,"N",null,null,"N",null,null,"N"]
[null,"N",null,null,"N",null,null,"N",null,null,"N",null,null,"N",null,null,"N",null,null,"N",null,null,"N",null,null,"N"]
[null,"N",null,null,"N",null,null,"N",null,null,"N",null,null,"N",null,null,"N",null,null,"N",null,null,"N",null,null,"N"]
[null,"N",null,null,"N",null,null,"N",null,null,"N",null,null,"N",null,null,"N",null,null,"N",null,null,"N",null,null,"N"]
[null,"N",null,null,"N",null,null,"N",null,null,"N",null,null,"N",null,null,"N",null,null,"N",null,null,"N",null,null,"N"]
[null,"N",null,null,"N",null,null,"N",null,null,"N",null,null,"N",null,null,"N",null,null,"N",null,null,"N",null,null,"N"]
[null,"N",null,null,"N",null,null,"N",null,null,"N",null,null,"N",null,null,"N",null,null,"N",null,null,"N",null,null,"N"]
[null,"N",null,null,"N",null,null,"N",null,null,"N",null,null,"N",null,null,"N",null,null,"N",null,null,"N",null,null,"N"]
[null,"N",null,null,"N",null,null,"N",null,null,"N",null,null,"N",null,null,"N",null,null,"N",null,null,"N",null,null,"N"]
[null,"N",null,null,"N",null,null,"N",null,null,"N",null,null,"N",null,null,"N",null,null,"N",null,null,"N",null,null,"N"]
[null,"N",null,null,"N",null,null,"N",null,null,"N",null,null,"N",null,null,"N",null,null,"N",null,null,"N",null,null,"N"]
[null,"N",null,null,"N",null,null,"N",null,null,"N",null,null,"N",null,null,"N",null,null,"N",null,null,"N",null,null,"N"]
["Processing/treatment/conversion",0,null,"Processing/treatment/conversion",0,null,"Processing/treatment/conversion",0,null,"Processing/treatment/conversion",0,null,"Processing/treatment/conversion",0,null,"Processing/treatment/conversion",0,null,"Processing/treatment/conversion",0,null,"Processing/treatment/conversion",0,null,"Processing/treatment/conversion",0]
["Indicator List","Active",null,"Indicator List","Active",null,"Indicator List","Active",null,"Indicator List","Active",null,"Indicator List","Active",null,"Indicator List","Active",null,"Indicator List","Active",null,"Indicator List","Active",null,"Indicator List","Active"]
["UserDefined",null,null,"UserDefined",null,null,"UserDefined",null,null,"UserDefined",null,null,"UserDefined",null,null,"UserDefined",null,null,"UserDefined",null,null,"UserDefined",null,null,"UserDefined"]
[null,"N",null,null,"N",null,null,"N",null,null,"N",null,null,"N",null,null,"N",null,null,"N",null,null,"N",null,null,"N"]
[null,"N",null,null,"N",null,null,"N",null,null,"N",null,null,"N",null,null,"N",null,null,"N",null,null,"N",null,null,"N"]
[null,"N",null,null,"N",null,null,"N",null,null,"N",null,null,"N",null,null,"N",null,null,"N",null,null,"N",null,null,"N"]
[null,"N",null,null,"N",null,null,"N",null,null,"N",null,null,"N",null,null,"N",null,null,"N",null,null,"N",null,null,"N"]
[null,"N",null,null,"N",null,null,"N",null,null,"N",null,null,"N",null,null,"N",null,null,"N",null,null,"N",null,null,"N"]
[null,"N",null,null,"N",null,null,"N",null,null,"N",null,null,"N",null,null,"N",null,null,"N",null,null,"N",null,null,"N"]
[null,"N",null,null,"N",null,null,"N",null,null,"N",null,null,"N",null,null,"N",null,null,"N",null,null,"N",null,null,"N"]
[null,"N",null,null,"N",null,null,"N",null,null,"N",null,null,"N",null,null,"N",null,null,"N",null,null,"N",null,null,"N"]
[null,"N",null,null,"N",null,null,"N",null,null,"N",null,null,"N",null,null,"N",null,null,"N",null,null,"N",null,null,"N"]
[null,"N",null,null,"N",null,null,"N",null,null,"N",null,null,"N",null,null,"N",null,null,"N",null,null,"N",null,null,"N"]
[null,"N",null,null,"N",null,null,"N",null,null,"N",null,null,"N",null,null,"N",null,null,"N",null,null,"N",null,null,"N"]
[null,"N",null,null,"N",null,null,"N",null,null,"N",null,null,"N",null,null,"N",null,null,"N",null,null,"N",null,null,"N"]
["","N",null,null,"N",null,null,"N",null,null,"N",null,null,"N",null,null,"N",null,null,"N",null,null,"N",null,null,"N"]
[null,"N",null,null,"N",null,null,"N",null,null,"N",null,null,"N",null,null,"N",null,null,"N",null,null,"N",null,null,"N"]
[null,"N",null,null,"N",null,null,"N",null,null,"N",null,null,"N",null,null,"N",null,null,"N",null,null,"N",null,null,"N"]
[null,"N",null,null,"N",null,null,"N",null,null,"N",null,null,"N",null,null,"N",null,null,"N",null,null,"N",null,null,"N"]
[null,"N",null,null,"N",null,null,"N",null,null,"N",null,null,"N",null,null,"N",null,null,"N",null,null,"N",null,null,"N"]
[null,"N",null,null,"N",null,null,"N",null,null,"N",null,null,"N",null,null,"N",null,null,"N",null,null,"N",null,null,"N"]
[null,"N",null,null,"N",null,null,"N",null,null,"N",null,null,"N",null,null,"N",null,null,"N",null,null,"N",null,null,"N"]
[null,"N",null,null,"N",null,null,"N",null,null,"N",null,null,"N",null,null,"N",null,null,"N",null,null,"N",null,null,"N"]
[null,"N",null,null,"N",null,null,"N",null,null,"N",null,null,"N",null,null,"N",null,null,"N",null,null,"N",null,null,"N"]
[null,"N",null,null,"N",null,null,"N",null,null,"N",null,null,"N",null,null,"N",null,null,"N",null,null,"N",null,null,"N"]
[null,"N",null,null,"N",null,null,"N",null,null,"N",null,null,"N",null,null,"N",null,null,"N",null,null,"N",null,null,"N"]
[null,"N",null,null,"N",null,null,"N",null,null,"N",null,null,"N",null,null,"N",null,null,"N",null,null,"N",null,null,"N"]
[null,"N",null,null,"N",null,null,"N",null,null,"N",null,null,"N",null,null,"N",null,null,"N",null,null,"N",null,null,"N"]
[null,"N",null,null,"N",null,null,"N",null,null,"N",null,null,"N",null,null,"N",null,null,"N",null,null,"N",null,null,"N"]
[null,"N",null,null,"N",null,null,"N",null,null,"N",null,null,"N",null,null,"N",null,null,"N",null,null,"N",null,null,"N"]
[null,"N",null,null,"N",null,null,"N",null,null,"N",null,null,"N",null,null,"N",null,null,"N",null,null,"N",null,null,"N"]
[null,"N",null,null,"N",null,null,"N",null,null,"N",null,null,"N",null,null,"N",null,null,"N",null,null,"N",null,null,"N"]
[null,"N",null,null,"N",null,null,"N",null,null,"N",null,null,"N",null,null,"N",null,null,"N",null,null,"N",null,null,"N"]
["Storage",5,null,"Storage",0,null,"Storage",0,null,"Storage",0,null,"Storage",0,null,"Storage",0,null,"Storage",2,null,"Storage",0,null,"Storage",0]
["Indicator List","Active",null,"Indicator List","Active",null,"Indicator List","Active",null,"Indicator List","Active",null,"Indicator List","Active",null,"Indicator List","Active",null,"Indicator List","Active",null,"Indicator List","Active",null,"Indicator List","Active"]
["UserDefined",null,null,"UserDefined",null,null,"UserDefined",null,null,"UserDefined",null,null,"UserDefined",null,null,"UserDefined",null,null,"UserDefined",null,null,"UserDefined",null,null,"UserDefined"]
["% renewable water stored in large dams","N",null,null,"N",null,null,"N",null,null,"N",null,null,"N",null,null,"N",null,"Infrastructure (storage facilities)","N",null,null,"N",null,null,"N"]
["resilience (percentage of renewable water resources stored in large dams)","N",null,null,"N",null,null,"N",null,null,"N",null,null,"N",null,null,"N",null,"Strategic food reserves","N",null,null,"N",null,null,"N"]
["total dam capacity","N",null,null,"N",null,null,"N",null,null,"N",null,null,"N",null,null,"N",null,null,"N",null,null,"N",null,null,"N"]
["total dam capacity per capita","N",null,null,"N",null,null,"N",null,null,"N",null,null,"N",null,null,"N",null,null,"N",null,null,"N",null,null,"N"]
["water storage capacity per person","N",null,null,"N",null,null,"N",null,null,"N",null,null,"N",null,null,"N",null,null,"N",null,null,"N",null,null,"N"]
[null,"N",null,null,"N",null,null,"N",null,null,"N",null,null,"N",null,null,"N",null,null,"N",null,null,"N",null,null,"N"]
[null,"N",null,null,"N",null,null,"N",null,null,"N",null,null,"N",null,null,"N",null,null,"N",null,null,"N",null,null,"N"]
[null,"N",null,null,"N",null,null,"N",null,null,"N",null,null,"N",null,null,"N",null,null,"N",null,null,"N",null,null,"N"]
[null,"N",null,null,"N",null,null,"N",null,null,"N",null,null,"N",null,null,"N",null,null,"N",null,null,"N",null,null,"N"]
[null,"N",null,null,"N",null,null,"N",null,null,"N",null,null,"N",null,null,"N",null,null,"N",null,null,"N",null,null,"N"]
[null,"N",null,null,"N",null,null,"N",null,null,"N",null,null,"N",null,null,"N",null,null,"N",null,null,"N",null,null,"N"]
[null,"N",null,null,"N",null,null,"N",null,null,"N",null,null,"N",null,null,"N",null,null,"N",null,null,"N",null,null,"N"]
["","N",null,null,"N",null,null,"N",null,null,"N",null,null,"N",null,null,"N",null,null,"N",null,null,"N",null,null,"N"]
[null,"N",null,null,"N",null,null,"N",null,null,"N",null,null,"N",null,null,"N",null,null,"N",null,null,"N",null,null,"N"]
[null,"N",null,null,"N",null,null,"N",null,null,"N",null,null,"N",null,null,"N",null,null,"N",null,null,"N",null,null,"N"]
[null,"N",null,null,"N",null,null,"N",null,null,"N",null,null,"N",null,null,"N",null,null,"N",null,null,"N",null,null,"N"]
[null,"N",null,null,"N",null,null,"N",null,null,"N",null,null,"N",null,null,"N",null,null,"N",null,null,"N",null,null,"N"]
[null,"N",null,null,"N",null,null,"N",null,null,"N",null,null,"N",null,null,"N",null,null,"N",null,null,"N",null,null,"N"]
[null,"N",null,null,"N",null,null,"N",null,null,"N",null,null,"N",null,null,"N",null,null,"N",null,null,"N",null,null,"N"]
[null,"N",null,null,"N",null,null,"N",null,null,"N",null,null,"N",null,null,"N",null,null,"N",null,null,"N",null,null,"N"]
[null,"N",null,null,"N",null,null,"N",null,null,"N",null,null,"N",null,null,"N",null,null,"N",null,null,"N",null,null,"N"]
[null,"N",null,null,"N",null,null,"N",null,null,"N",null,null,"N",null,null,"N",null,null,"N",null,null,"N",null,null,"N"]
[null,"N",null,null,"N",null,null,"N",null,null,"N",null,null,"N",null,null,"N",null,null,"N",null,null,"N",null,null,"N"]
[null,"N",null,null,"N",null,null,"N",null,null,"N",null,null,"N",null,null,"N",null,null,"N",null,null,"N",null,null,"N"]
[null,"N",null,null,"N",null,null,"N",null,null,"N",null,null,"N",null,null,"N",null,null,"N",null,null,"N",null,null,"N"]
[null,"N",null,null,"N",null,null,"N",null,null,"N",null,null,"N",null,null,"N",null,null,"N",null,null,"N",null,null,"N"]
[null,"N",null,null,"N",null,null,"N",null,null,"N",null,null,"N",null,null,"N",null,null,"N",null,null,"N",null,null,"N"]
[null,"N",null,null,"N",null,null,"N",null,null,"N",null,null,"N",null,null,"N",null,null,"N",null,null,"N",null,null,"N"]
[null,"N",null,null,"N",null,null,"N",null,null,"N",null,null,"N",null,null,"N",null,null,"N",null,null,"N",null,null,"N"]
[null,"N",null,null,"N",null,null,"N",null,null,"N",null,null,"N",null,null,"N",null,null,"N",null,null,"N",null,null,"N"]
["Distribution",10,null,"Distribution",0,null,"Distribution",1,null,"Distribution",5,null,"Distribution",0,null,"Distribution",0,null,"Distribution",0,null,"Distribution",0,null,"Distribution",0]
["Indicator List","Active",null,"Indicator List","Active",null,"Indicator List","Active",null,"Indicator List","Active",null,"Indicator List","Active",null,"Indicator List","Active",null,"Indicator List","Active",null,"Indicator List","Active",null,"Indicator List","Active"]
["UserDefined",null,null,"UserDefined",null,null,"UserDefined",null,null,"UserDefined",null,null,"UserDefined",null,null,"UserDefined",null,null,"UserDefined",null,null,"UserDefined",null,null,"UserDefined"]
["% improved sanitation facilities","N",null,null,"N",null,"investment in water sanitation","N",null,"% households with access to modern cooking energy","N",null,null,"N",null,null,"N",null,null,"N",null,null,"N",null,null,"N"]
["% population using improved water technologies and sanitation facilities","N",null," ","N",null,null,"N",null,"% households without electricity or commercial energy, or heavily dependent on non-commercial energy","N",null,null,"N",null,null,"N",null,null,"N",null,null,"N",null,null,"N"]
["% population with access to improved water source (urban and rural)","N",null,null,"N",null,null,"N",null,"% population with high-quality connections to the grid","N",null,null,"N",null,null,"N",null,null,"N",null,null,"N",null,null,"N"]
["access to improved sanitation (%)","N",null,null,"N",null,null,"N",null,"% electricity transmission and distribution losses","N",null,null,"N",null,null,"N",null,null,"N",null,null,"N",null,null,"N"]
["access to piped water supply (%)","N",null,null,"N",null,null,"N",null,"Households (or population) without electricity or commercial energy, or heavily dependent on non-commercial energy","N",null,null,"N",null,null,"N",null,null,"N",null,null,"N",null,null,"N"]
["median time to water","N",null,null,"N",null,null,"N",null,null,"N",null,null,"N",null,null,"N",null,null,"N",null,null,"N",null,null,"N"]
["Population connected to drinking water/ sewage","N",null,null,"N",null,null,"N",null,null,"N",null,null,"N",null,null,"N",null,null,"N",null,null,"N",null,null,"N"]
["Population with access to improved water sources/ sanitation","N",null,null,"N",null,null,"N",null,null,"N",null,null,"N",null,null,"N",null,null,"N",null,null,"N",null,null,"N"]
["rural population with access to water supply","N",null,null,"N",null,null,"N",null,null,"N",null,null,"N",null,null,"N",null,null,"N",null,null,"N",null,null,"N"]
["water within 15 minutes","N",null,null,"N",null,null,"N",null,null,"N",null,null,"N",null,null,"N",null,null,"N",null,null,"N",null,null,"N"]
[null,"N",null,null,"N",null,null,"N",null,null,"N",null,null,"N",null,null,"N",null,null,"N",null,null,"N",null,null,"N"]
[null,"N",null,null,"N",null,null,"N",null,null,"N",null,null,"N",null,null,"N",null,null,"N",null,null,"N",null,null,"N"]
[null,"N",null,null,"N",null,null,"N",null,null,"N",null,null,"N",null,null,"N",null,null,"N",null,null,"N",null,null,"N"]
[null,"N",null,null,"N",null,null,"N",null,null,"N",null,null,"N",null,null,"N",null,null,"N",null,null,"N",null,null,"N"]
[null,"N",null,null,"N",null,null,"N",null,null,"N",null,null,"N",null,null,"N",null,null,"N",null,null,"N",null,null,"N"]
[null,"N",null,null,"N",null,null,"N",null,null,"N",null,null,"N",null,null,"N",null,null,"N",null,null,"N",null,null,"N"]
[null,"N",null,null,"N",null,null,"N",null,null,"N",null,null,"N",null,null,"N",null,null,"N",null,null,"N",null,null,"N"]
[null,"N",null,null,"N",null,null,"N",null,null,"N",null,null,"N",null,null,"N",null,null,"N",null,null,"N",null,null,"N"]
[null,"N",null,null,"N",null,null,"N",null,null,"N",null,null,"N",null,null,"N",null,null,"N",null,null,"N",null,null,"N"]
[null,"N",null,null,"N",null,null,"N",null,null,"N",null,null,"N",null,null,"N",null,null,"N",null,null,"N",null,null,"N"]
[null,"N",null,null,"N",null,null,"N",null,null,"N",null,null,"N",null,null,"N",null,null,"N",null,null,"N",null,null,"N"]
[null,"N",null,null,"N",null,null,"N",null,null,"N",null,null,"N",null,null,"N",null,null,"N",null,null,"N",null,null,"N"]
[null,"N",null,null,"N",null,null,"N",null,null,"N",null,null,"N",null,null,"N",null,null,"N",null,null,"N",null,null,"N"]
[null,"N",null,null,"N",null,null,"N",null,null,"N",null,null,"N",null,null,"N",null,null,"N",null,null,"N",null,null,"N"]
[null,"N",null,null,"N",null,null,"N",null,null,"N",null,null,"N",null,null,"N",null,null,"N",null,null,"N",null,null,"N"]
[null,"N",null,null,"N",null,null,"N",null,null,"N",null,null,"N",null,null,"N",null,null,"N",null,null,"N",null,null,"N"]
[null,"N",null,null,"N",null,null,"N",null,null,"N",null,null,"N",null,null,"N",null,null,"N",null,null,"N",null,null,"N"]
[null,"N",null,null,"N",null,null,"N",null,null,"N",null,null,"N",null,null,"N",null,null,"N",null,null,"N",null,null,"N"]
[null,"N",null,null,"N",null,null,"N",null,null,"N",null,null,"N",null,null,"N",null,null,"N",null,null,"N",null,null,"N"]
[null,"N",null,null,"N",null,null,"N",null,null,"N",null,null,"N",null,null,"N",null,null,"N",null,null,"N",null,null,"N"]
["Markets",2,null,"Markets",0,null,"Markets",0,null,"Markets",4,null,"Markets",1,null,"Markets",0,null,"Markets",11,null,"Markets",3,null,"Markets",0]
["Indicator List","Active",null,"Indicator List","Active",null,"Indicator List","Active",null,"Indicator List","Active",null,"Indicator List","Active",null,"Indicator List","Active",null,"Indicator List","Active",null,"Indicator List","Active",null,"Indicator List","Active"]
["UserDefined",null,null,"UserDefined",null,null,"UserDefined",null,null,"UserDefined",null,null,"UserDefined",null,null,"UserDefined",null,null,"UserDefined",null,null,"UserDefined",null,null,"UserDefined"]
["% water expenditure as total of household expenditure; ","N",null,null,"N",null,null,"N",null,"end-use energy prices by fuel and sector; economic value of agricultural products; net energy imports; pump price of gasoline and diesel ($US/liter);","N",null,"Per capita energy subisidies","N",null,null,"N",null,"% increase in food price","N",null,"Growth rate","N",null,null,"N"]
["global corruption report in the water sector","N",null,null,"N",null,null,"N",null,"Energy prices (with and without tax/subsidy)","N",null,null,"N",null,null,"N",null,"average value of food production","N",null,"Inflation rate","N",null,null,"N"]
[null,"N",null,null,"N",null,null,"N",null,"retail price of gasoline/petrol","N",null,null,"N",null,null,"N",null,"Consumer price index (CPI) i.e. real prices, cost of food basket","N",null,"External balance","N",null,null,"N"]
[null,"N",null,null,"N",null,null,"N",null,"stability of electricity prices","N",null,null,"N",null,null,"N",null,"domestic food price index","N",null,null,"N",null,null,"N"]
[null,"N",null,null,"N",null,null,"N",null,null,"N",null,null,"N",null,null,"N",null,"domestic food price index of key food and non-food commodities","N",null,null,"N",null,null,"N"]
[null,"N",null,null,"N",null,null,"N",null,null,"N",null,null,"N",null,null,"N",null,"domestic food price volatility","N",null,null,"N",null,null,"N"]
[null,"N",null,null,"N",null,null,"N",null,null,"N",null,null,"N",null,null,"N",null,"Food price relative to wages","N",null,null,"N",null,null,"N"]
[null,"N",null,null,"N",null,null,"N",null,null,"N",null,null,"N",null,null,"N",null,"Food prices volatility","N",null,null,"N",null,null,"N"]
[null,"N",null,null,"N",null,null,"N",null,null,"N",null,null,"N",null,null,"N",null,"Price difference producers (rural)/consumers (urban)","N",null,null,"N",null,null,"N"]
[null,"N",null,null,"N",null,null,"N",null,null,"N",null,null,"N",null,null,"N",null,"Relative level of consumer prices","N",null,null,"N",null,null,"N"]
[null,"N",null,null,"N",null,null,"N",null,null,"N",null,null,"N",null,null,"N",null,"share of food expenditure for the poor","N",null,null,"N",null,null,"N"]
[null,"N",null,null,"N",null,null,"N",null,null,"N",null,null,"N",null,null,"N",null,null,"N",null,null,"N",null,null,"N"]
[null,"N",null,null,"N",null,null,"N",null,null,"N",null,null,"N",null,null,"N",null,null,"N",null,null,"N",null,null,"N"]
[null,"N",null,null,"N",null,null,"N",null,null,"N",null,null,"N",null,null,"N",null,null,"N",null,null,"N",null,null,"N"]
[null,"N",null,null,"N",null,null,"N",null,null,"N",null,null,"N",null,null,"N",null,null,"N",null,null,"N",null,null,"N"]
[null,"N",null,null,"N",null,null,"N",null,null,"N",null,null,"N",null,null,"N",null,null,"N",null,null,"N",null,null,"N"]
[null,"N",null,null,"N",null,null,"N",null,null,"N",null,null,"N",null,null,"N",null,null,"N",null,null,"N",null,null,"N"]
[null,"N",null,null,"N",null,null,"N",null,null,"N",null,null,"N",null,null,"N",null,null,"N",null,null,"N",null,null,"N"]
[null,"N",null,null,"N",null,null,"N",null,null,"N",null,null,"N",null,null,"N",null,null,"N",null,null,"N",null,null,"N"]
[null,"N",null,null,"N",null,null,"N",null,null,"N",null,null,"N",null,null,"N",null,null,"N",null,null,"N",null,null,"N"]
[null,"N",null,null,"N",null,null,"N",null,null,"N",null,null,"N",null,null,"N",null,null,"N",null,null,"N",null,null,"N"]
[null,"N",null,null,"N",null,null,"N",null,null,"N",null,null,"N",null,null,"N",null,null,"N",null,null,"N",null,null,"N"]
[null,"N",null,null,"N",null,null,"N",null,null,"N",null,null,"N",null,null,"N",null,null,"N",null,null,"N",null,null,"N"]
[null,"N",null,null,"N",null,null,"N",null,null,"N",null,null,"N",null,null,"N",null,null,"N",null,null,"N",null,null,"N"]
[null,"N",null,null,"N",null,null,"N",null,null,"N",null,null,"N",null,null,"N",null,null,"N",null,null,"N",null,null,"N"]
[null,"N",null,null,"N",null,null,"N",null,null,"N",null,null,"N",null,null,"N",null,null,"N",null,null,"N",null,null,"N"]
[null,"N",null,null,"N",null,null,"N",null,null,"N",null,null,"N",null,null,"N",null,null,"N",null,null,"N",null,null,"N"]
[null,"N",null,null,"N",null,null,"N",null,null,"N",null,null,"N",null,null,"N",null,null,"N",null,null,"N",null,null,"N"]
[null,"N",null,null,"N",null,null,"N",null,null,"N",null,null,"N",null,null,"N",null,null,"N",null,null,"N",null,null,"N"]
[null,"N",null,null,"N",null,null,"N",null,null,"N",null,null,"N",null,null,"N",null,null,"N",null,null,"N",null,null,"N"]
["Purchasing Power",27,null,"Purchasing Power",25,null,"Purchasing Power",3,null,"Purchasing Power",27,null,"Purchasing Power",25,null,"Purchasing Power",3,null,"Purchasing Power",27,null,"Purchasing Power",25,null,"Purchasing Power",3]
["Indicator List","Active",null,"Indicator List","Active",null,"Indicator List","Active",null,"Indicator List","Active",null,"Indicator List","Active",null,"Indicator List","Active",null,"Indicator List","Active",null,"Indicator List","Active",null,"Indicator List","Active"]
["UserDefined",null,null,"UserDefined",null,null,"UserDefined",null,null,"UserDefined",null,null,"UserDefined",null,null,"UserDefined",null,null,"UserDefined",null,null,"UserDefined",null,null,"UserDefined"]
["% living above/below poverty threshold","N",null,"% persons/youth that leave the community on a seasonal, semi-permanent (for at least 2 years ) or permanent (5 years of more) basis for employment/economic/subsistence or other reasons","N",null,"Policy and procedures involving consultation and negotiation with employees over changes in the company (e.g. restructuring, redundancies etc.)","N",null,"% living above/below poverty threshold","N",null,"% persons/youth that leave the community on a seasonal, semi-permanent (for at least 2 years ) or permanent (5 years of more) basis for employment/economic/subsistence or other reasons","N",null,"Policy and procedures involving consultation and negotiation with employees over changes in the company (e.g. restructuring, redundancies etc.)","N",null,"% living above/below poverty threshold","N",null,"% persons/youth that leave the community on a seasonal, semi-permanent (for at least 2 years ) or permanent (5 years of more) basis for employment/economic/subsistence or other reasons","N",null,"Policy and procedures involving consultation and negotiation with employees over changes in the company (e.g. restructuring, redundancies etc.)","N"]
["Access to economic and productive resources","N",null,"Composition of governance bodies and breakdown of employees per category according to gender, age group, minority group membership, and other indicators of diversity","N",null,"Policy, practices, and proportion of spending on locally-based suppliers at significant locations of operation ","N",null,"Access to economic and productive resources","N",null,"Composition of governance bodies and breakdown of employees per category according to gender, age group, minority group membership, and other indicators of diversity","N",null,"Policy, practices, and proportion of spending on locally-based suppliers at significant locations of operation ","N",null,"Access to economic and productive resources","N",null,"Composition of governance bodies and breakdown of employees per category according to gender, age group, minority group membership, and other indicators of diversity","N",null,"Policy, practices, and proportion of spending on locally-based suppliers at significant locations of operation ","N"]
["Average annual farm income","N",null,"Employee turnover expressed as percentage of employees leaving company relative to the total number of new employee","N",null,"Procedures for local hiring and proportion of senior management hired from the local community at locations of significant operation","N",null,"Average annual farm income","N",null,"Employee turnover expressed as percentage of employees leaving company relative to the total number of new employee","N",null,"Procedures for local hiring and proportion of senior management hired from the local community at locations of significant operation","N",null,"Average annual farm income","N",null,"Employee turnover expressed as percentage of employees leaving company relative to the total number of new employee","N",null,"Procedures for local hiring and proportion of senior management hired from the local community at locations of significant operation","N"]
["Average annual income","N",null,"Minimum notice period(s) regarding operational changes, including whether it is specified in collective agreements","N",null,null,"N",null,"Average annual income","N",null,"Minimum notice period(s) regarding operational changes, including whether it is specified in collective agreements","N",null,null,"N",null,"Average annual income","N",null,"Minimum notice period(s) regarding operational changes, including whether it is specified in collective agreements","N",null,null,"N"]
["Benefits provided to full-time employees that are not provided to temporary or part-time employees, by major operations","N",null,"Number (and percentage) or company operating sites where artisanal and small-scale mining (ASM) takes place on, or adjacent to, the site; the associated risks and the actions taken to manage and mitigate these risks","N",null,null,"N",null,"Benefits provided to full-time employees that are not provided to temporary or part-time employees, by major operations","N",null,"Number (and percentage) or company operating sites where artisanal and small-scale mining (ASM) takes place on, or adjacent to, the site; the associated risks and the actions taken to manage and mitigate these risks","N",null,null,"N",null,"Benefits provided to full-time employees that are not provided to temporary or part-time employees, by major operations","N",null,"Number (and percentage) or company operating sites where artisanal and small-scale mining (ASM) takes place on, or adjacent to, the site; the associated risks and the actions taken to manage and mitigate these risks","N",null,null,"N"]
["Corresponding fuel mix for each income group (quintiles)","N",null,"Number of strikes and lock-outs exceeding one week’s duration, by country","N",null,null,"N",null,"Corresponding fuel mix for each income group (quintiles)","N",null,"Number of strikes and lock-outs exceeding one week’s duration, by country","N",null,null,"N",null,"Corresponding fuel mix for each income group (quintiles)","N",null,"Number of strikes and lock-outs exceeding one week’s duration, by country","N",null,null,"N"]
["Coverage of the organization’s defined benefit plan obligations","N",null,"Operations identified as having significant risk for incidents of child labor, and measures taken to contribute to the elimination of child labor","N",null,null,"N",null,"Coverage of the organization’s defined benefit plan obligations","N",null,"Operations identified as having significant risk for incidents of child labor, and measures taken to contribute to the elimination of child labor","N",null,null,"N",null,"Coverage of the organization’s defined benefit plan obligations","N",null,"Operations identified as having significant risk for incidents of child labor, and measures taken to contribute to the elimination of child labor","N",null,null,"N"]
["Employment to population ratio","N",null,"Operations identified as having significant risk for incidents of forced or compulsory labor, and measures to contribute to the elimination of forced or compulsory labor","N",null,null,"N",null,"Employment to population ratio","N",null,"Operations identified as having significant risk for incidents of forced or compulsory labor, and measures to contribute to the elimination of forced or compulsory labor","N",null,null,"N",null,"Employment to population ratio","N",null,"Operations identified as having significant risk for incidents of forced or compulsory labor, and measures to contribute to the elimination of forced or compulsory labor","N",null,null,"N"]
["Energy use per household for each income group (quintiles)","N",null,"Operations identified in which the right to exercise freedom of association and collective bargaining may be at significant risk, and actions taken to support these rights","N",null,null,"N",null,"Energy use per household for each income group (quintiles)","N",null,"Operations identified in which the right to exercise freedom of association and collective bargaining may be at significant risk, and actions taken to support these rights","N",null,null,"N",null,"Energy use per household for each income group (quintiles)","N",null,"Operations identified in which the right to exercise freedom of association and collective bargaining may be at significant risk, and actions taken to support these rights","N",null,null,"N"]
["Health, pension and other benefits and redundancy packages provided to employees as percentage of total employment costs ","N",null,"Percentage of contracts that are paid in accordance with agreed terms, with an explanation, if appropriate","N",null,null,"N",null,"Health, pension and other benefits and redundancy packages provided to employees as percentage of total employment costs ","N",null,"Percentage of contracts that are paid in accordance with agreed terms, with an explanation, if appropriate","N",null,null,"N",null,"Health, pension and other benefits and redundancy packages provided to employees as percentage of total employment costs ","N",null,"Percentage of contracts that are paid in accordance with agreed terms, with an explanation, if appropriate","N",null,null,"N"]
["Household buffer capital or assets","N",null,"Percentage of employees covered by collective bargaining agreements","N",null,null,"N",null,"Household buffer capital or assets","N",null,"Percentage of employees covered by collective bargaining agreements","N",null,null,"N",null,"Household buffer capital or assets","N",null,"Percentage of employees covered by collective bargaining agreements","N",null,null,"N"]
["Household income (total and poorest 20% of population)","N",null,"Percentage of employees sourced from local communities relative to the total number of employees","N",null,null,"N",null,"Household income (total and poorest 20% of population)","N",null,"Percentage of employees sourced from local communities relative to the total number of employees","N",null,null,"N",null,"Household income (total and poorest 20% of population)","N",null,"Percentage of employees sourced from local communities relative to the total number of employees","N",null,null,"N"]
["Household income for each income group (quintiles)","N",null,"Percentage of employees that are shareholders in the company","N",null,null,"N",null,"Household income for each income group (quintiles)","N",null,"Percentage of employees that are shareholders in the company","N",null,null,"N",null,"Household income for each income group (quintiles)","N",null,"Percentage of employees that are shareholders in the company","N",null,null,"N"]
["Household income spent on fuel and electricity","N",null,"Percentage of ethnic minorities employed relative to the total number of employees, with an explain of how representative that is of the regional or national population makeup","N",null,null,"N",null,"Household income spent on fuel and electricity","N",null,"Percentage of ethnic minorities employed relative to the total number of employees, with an explain of how representative that is of the regional or national population makeup","N",null,null,"N",null,"Household income spent on fuel and electricity","N",null,"Percentage of ethnic minorities employed relative to the total number of employees, with an explain of how representative that is of the regional or national population makeup","N",null,null,"N"]
["Net employment creation expressed as percentage contribution to employment in a region or country","N",null,"Percentage of ethnic minorities in senior executive and senior and middle management ranks","N",null,null,"N",null,"Net employment creation expressed as percentage contribution to employment in a region or country","N",null,"Percentage of ethnic minorities in senior executive and senior and middle management ranks","N",null,null,"N",null,"Net employment creation expressed as percentage contribution to employment in a region or country","N",null,"Percentage of ethnic minorities in senior executive and senior and middle management ranks","N",null,null,"N"]
["Number of direct employees (on company payroll)","N",null,"Percentage of local suppliers, relative to the total number of suppliers","N",null,null,"N",null,"Number of direct employees (on company payroll)","N",null,"Percentage of local suppliers, relative to the total number of suppliers","N",null,null,"N",null,"Number of direct employees (on company payroll)","N",null,"Percentage of local suppliers, relative to the total number of suppliers","N",null,null,"N"]
["Number of indirect employees (e.g. contractors, consultants) expressed as full-time equivalents","N",null,"Percentage of quarries/mines on sites sacred for indigenous people relative to the total number of quarries/mines","N",null,null,"N",null,"Number of indirect employees (e.g. contractors, consultants) expressed as full-time equivalents","N",null,"Percentage of quarries/mines on sites sacred for indigenous people relative to the total number of quarries/mines","N",null,null,"N",null,"Number of indirect employees (e.g. contractors, consultants) expressed as full-time equivalents","N",null,"Percentage of quarries/mines on sites sacred for indigenous people relative to the total number of quarries/mines","N",null,null,"N"]
["Percentage of indirect relative to direct jobs","N",null,"Percentage of sites with ‘fly-in, fly-out’ operations relative to the total number of sites","N",null,null,"N",null,"Percentage of indirect relative to direct jobs","N",null,"Percentage of sites with ‘fly-in, fly-out’ operations relative to the total number of sites","N",null,null,"N",null,"Percentage of indirect relative to direct jobs","N",null,"Percentage of sites with ‘fly-in, fly-out’ operations relative to the total number of sites","N",null,null,"N"]
["Range of ratios of standard entry level wage compared to local minimum wage at significant locations of operation","N",null,"Percentage of women employed relative to the total number of employees","N",null,null,"N",null,"Range of ratios of standard entry level wage compared to local minimum wage at significant locations of operation","N",null,"Percentage of women employed relative to the total number of employees","N",null,null,"N",null,"Range of ratios of standard entry level wage compared to local minimum wage at significant locations of operation","N",null,"Percentage of women employed relative to the total number of employees","N",null,null,"N"]
["Ratio of basic salary of men to women by employee category","N",null,"Percentage of women in senior executive and senior and middle management ranks","N",null,null,"N",null,"Ratio of basic salary of men to women by employee category","N",null,"Percentage of women in senior executive and senior and middle management ranks","N",null,null,"N",null,"Ratio of basic salary of men to women by employee category","N",null,"Percentage of women in senior executive and senior and middle management ranks","N",null,null,"N"]
["Ratio of lowest wage to national legal minimum, breakdown by country","N",null,"Ranking of the company as an employer in internal surveys","N",null,null,"N",null,"Ratio of lowest wage to national legal minimum, breakdown by country","N",null,"Ranking of the company as an employer in internal surveys","N",null,null,"N",null,"Ratio of lowest wage to national legal minimum, breakdown by country","N",null,"Ranking of the company as an employer in internal surveys","N",null,null,"N"]
["Remittances","N",null,"Specify any verified incidences of non-compliance with child labour national and international laws; Summary of the policy to prevent forced and compulsory labour as specified in ILO Convention No. 29, Article 2","N",null,null,"N",null,"Remittances","N",null,"Specify any verified incidences of non-compliance with child labour national and international laws; Summary of the policy to prevent forced and compulsory labour as specified in ILO Convention No. 29, Article 2","N",null,null,"N",null,"Remittances","N",null,"Specify any verified incidences of non-compliance with child labour national and international laws; Summary of the policy to prevent forced and compulsory labour as specified in ILO Convention No. 29, Article 2","N",null,null,"N"]
["Share of food expenditure in total expenditure for the 20% poorest households; ","N",null,"Statement on whether the company conforms with the International Labour Organization Conventions on the Right to Organize (no. 87&98)","N",null,null,"N",null,"Share of food expenditure in total expenditure for the 20% poorest households; ","N",null,"Statement on whether the company conforms with the International Labour Organization Conventions on the Right to Organize (no. 87&98)","N",null,null,"N",null,"Share of food expenditure in total expenditure for the 20% poorest households; ","N",null,"Statement on whether the company conforms with the International Labour Organization Conventions on the Right to Organize (no. 87&98)","N",null,null,"N"]
["Total costs of employment as percentage of net sales","N",null,"Total number of incidents of discrimination and actions taken","N",null,null,"N",null,"Total costs of employment as percentage of net sales","N",null,"Total number of incidents of discrimination and actions taken","N",null,null,"N",null,"Total costs of employment as percentage of net sales","N",null,"Total number of incidents of discrimination and actions taken","N",null,null,"N"]
["Total number and rate of employee turnover by age group, gender, and region","N",null,"Total number of operations taking place in or adjacent to Indigenous Peoples’ territories, and number and percentage of operations or sites where there are formal agreements with Indigenous Peoples’ communities","N",null,null,"N",null,"Total number and rate of employee turnover by age group, gender, and region","N",null,"Total number of operations taking place in or adjacent to Indigenous Peoples’ territories, and number and percentage of operations or sites where there are formal agreements with Indigenous Peoples’ communities","N",null,null,"N",null,"Total number and rate of employee turnover by age group, gender, and region","N",null,"Total number of operations taking place in or adjacent to Indigenous Peoples’ territories, and number and percentage of operations or sites where there are formal agreements with Indigenous Peoples’ communities","N",null,null,"N"]
["Total payroll costs and benefits (including pension and redundancy payments) broken down by region or country","N",null,null,"N",null,null,"N",null,"Total payroll costs and benefits (including pension and redundancy payments) broken down by region or country","N",null,null,"N",null,null,"N",null,"Total payroll costs and benefits (including pension and redundancy payments) broken down by region or country","N",null,null,"N",null,null,"N"]
["Total workforce by employment type, employment contract, and region","N",null,null,"N",null,null,"N",null,"Total workforce by employment type, employment contract, and region","N",null,null,"N",null,null,"N",null,"Total workforce by employment type, employment contract, and region","N",null,null,"N",null,null,"N"]
[null,"N",null,null,"N",null,null,"N",null,null,"N",null,null,"N",null,null,"N",null,null,"N",null,null,"N",null,null,"N"]
[null,"N",null,null,"N",null,null,"N",null,null,"N",null,null,"N",null,null,"N",null,null,"N",null,null,"N",null,null,"N"]
[null,"N",null,null,"N",null,null,"N",null,null,"N",null,null,"N",null,null,"N",null,null,"N",null,null,"N",null,null,"N"]
["Aid",7,null,"Aid",1,null,"Aid",1,null,"Aid",7,null,"Aid",1,null,"Aid",1,null,"Aid",7,null,"Aid",1,null,"Aid",1]
["Indicator List","Active",null,"Indicator List","Active",null,"Indicator List","Active",null,"Indicator List","Active",null,"Indicator List","Active",null,"Indicator List","Active",null,"Indicator List","Active",null,"Indicator List","Active",null,"Indicator List","Active"]
["UserDefined",null,null,"UserDefined",null,null,"UserDefined",null,null,"UserDefined",null,null,"UserDefined",null,null,"UserDefined",null,null,"UserDefined",null,null,"UserDefined",null,null,"UserDefined"]
["Aid per capita (tons/person); Social protection expenditure (% of GDP)","N",null,"Direct economic value generated and distributed, including revenues, operating costs, employee compensation, donations and other community investments, retained earnings, and payments to capital providers and governments","N",null,"Specify any community projects in which the company has been involved","N",null,"Aid per capita (tons/person); Social protection expenditure (% of GDP)","N",null,"Direct economic value generated and distributed, including revenues, operating costs, employee compensation, donations and other community investments, retained earnings, and payments to capital providers and governments","N",null,"Specify any community projects in which the company has been involved","N",null,"Aid per capita (tons/person); Social protection expenditure (% of GDP)","N",null,"Direct economic value generated and distributed, including revenues, operating costs, employee compensation, donations and other community investments, retained earnings, and payments to capital providers and governments","N",null,"Specify any community projects in which the company has been involved","N"]
["Assistance provided (food, cash, health, etc.)","N",null,null,"N",null,null,"N",null,"Assistance provided (food, cash, health, etc.)","N",null,null,"N",null,null,"N",null,"Assistance provided (food, cash, health, etc.)","N",null,null,"N",null,null,"N"]
["Investments into community projects (e.g. schools, hospitals, infrastructure) as percentage of net sales","N",null,null,"N",null,null,"N",null,"Investments into community projects (e.g. schools, hospitals, infrastructure) as percentage of net sales","N",null,null,"N",null,null,"N",null,"Investments into community projects (e.g. schools, hospitals, infrastructure) as percentage of net sales","N",null,null,"N",null,null,"N"]
["Percentage of revenues that are redistributed to local communities from the relevant areas of operation, relative to the net sales","N",null,null,"N",null,null,"N",null,"Percentage of revenues that are redistributed to local communities from the relevant areas of operation, relative to the net sales","N",null,null,"N",null,null,"N",null,"Percentage of revenues that are redistributed to local communities from the relevant areas of operation, relative to the net sales","N",null,null,"N",null,null,"N"]
["Safety-net programmes","N",null,null,"N",null,null,"N",null,"Safety-net programmes","N",null,null,"N",null,null,"N",null,"Safety-net programmes","N",null,null,"N",null,null,"N"]
["Sector support and social protection measures","N",null,null,"N",null,null,"N",null,"Sector support and social protection measures","N",null,null,"N",null,null,"N",null,"Sector support and social protection measures","N",null,null,"N",null,null,"N"]
["Social protection expenditure (% of GDP)","N",null,null,"N",null,null,"N",null,"Social protection expenditure (% of GDP)","N",null,null,"N",null,null,"N",null,"Social protection expenditure (% of GDP)","N",null,null,"N",null,null,"N"]
[null,"N",null,null,"N",null,null,"N",null,null,"N",null,null,"N",null,null,"N",null,null,"N",null,null,"N",null,null,"N"]
[null,"N",null,null,"N",null,null,"N",null,null,"N",null,null,"N",null,null,"N",null,null,"N",null,null,"N",null,null,"N"]
[null,"N",null,null,"N",null,null,"N",null,null,"N",null,null,"N",null,null,"N",null,null,"N",null,null,"N",null,null,"N"]
[null,"N",null,null,"N",null,null,"N",null,null,"N",null,null,"N",null,null,"N",null,null,"N",null,null,"N",null,null,"N"]
[null,"N",null,null,"N",null,null,"N",null,null,"N",null,null,"N",null,null,"N",null,null,"N",null,null,"N",null,null,"N"]
[null,"N",null,null,"N",null,null,"N",null,null,"N",null,null,"N",null,null,"N",null,null,"N",null,null,"N",null,null,"N"]
[null,"N",null,null,"N",null,null,"N",null,null,"N",null,null,"N",null,null,"N",null,null,"N",null,null,"N",null,null,"N"]
[null,"N",null,null,"N",null,null,"N",null,null,"N",null,null,"N",null,null,"N",null,null,"N",null,null,"N",null,null,"N"]
[null,"N",null,null,"N",null,null,"N",null,null,"N",null,null,"N",null,null,"N",null,null,"N",null,null,"N",null,null,"N"]
[null,"N",null,null,"N",null,null,"N",null,null,"N",null,null,"N",null,null,"N",null,null,"N",null,null,"N",null,null,"N"]
[null,"N",null,null,"N",null,null,"N",null,null,"N",null,null,"N",null,null,"N",null,null,"N",null,null,"N",null,null,"N"]
[null,"N",null,null,"N",null,null,"N",null,null,"N",null,null,"N",null,null,"N",null,null,"N",null,null,"N",null,null,"N"]
[null,"N",null,null,"N",null,null,"N",null,null,"N",null,null,"N",null,null,"N",null,null,"N",null,null,"N",null,null,"N"]
[null,"N",null,null,"N",null,null,"N",null,null,"N",null,null,"N",null,null,"N",null,null,"N",null,null,"N",null,null,"N"]
[null,"N",null,null,"N",null,null,"N",null,null,"N",null,null,"N",null,null,"N",null,null,"N",null,null,"N",null,null,"N"]
[null,"N",null,null,"N",null,null,"N",null,null,"N",null,null,"N",null,null,"N",null,null,"N",null,null,"N",null,null,"N"]
[null,"N",null,null,"N",null,null,"N",null,null,"N",null,null,"N",null,null,"N",null,null,"N",null,null,"N",null,null,"N"]
[null,"N",null,null,"N",null,null,"N",null,null,"N",null,null,"N",null,null,"N",null,null,"N",null,null,"N",null,null,"N"]
[null,"N",null,null,"N",null,null,"N",null,null,"N",null,null,"N",null,null,"N",null,null,"N",null,null,"N",null,null,"N"]
[null,"N",null,null,"N",null,null,"N",null,null,"N",null,null,"N",null,null,"N",null,null,"N",null,null,"N",null,null,"N"]
[null,"N",null,null,"N",null,null,"N",null,null,"N",null,null,"N",null,null,"N",null,null,"N",null,null,"N",null,null,"N"]
[null,"N",null,null,"N",null,null,"N",null,null,"N",null,null,"N",null,null,"N",null,null,"N",null,null,"N",null,null,"N"]
[null,"N",null,null,"N",null,null,"N",null,null,"N",null,null,"N",null,null,"N",null,null,"N",null,null,"N",null,null,"N"]
["Self Production",0,null,"Self Production",2,null,"Self Production",0,null,"Self Production",1,null,"Self Production",2,null,"Self Production",0,null,"Self Production",11,null,"Self Production",2,null,"Self Production",0]
["Indicator List","Active",null,"Indicator List","Active",null,"Indicator List","Active",null,"Indicator List","Active",null,"Indicator List","Active",null,"Indicator List","Active",null,"Indicator List","Active",null,"Indicator List","Active",null,"Indicator List","Active"]
["UserDefined",null,null,"UserDefined",null,null,"UserDefined",null,null,"UserDefined",null,null,"UserDefined",null,null,"UserDefined",null,null,"UserDefined",null,null,"UserDefined",null,null,"UserDefined"]
[null,"N",null,"Sites where resettlements took place, the number of households resettled in each, and how their livelihoods were affected in the process.","N",null,null,"N",null,"Households dependent on traditional fuels ","N",null,"Sites where resettlements took place, the number of households resettled in each, and how their livelihoods were affected in the process.","N",null,null,"N",null,"% community households which use traditional/ subsistence foods as a regular part of their diet, compared to an agreed upon number of years in the past (5, 10 or 25 depending on community history)","N",null,"Sites where resettlements took place, the number of households resettled in each, and how their livelihoods were affected in the process.","N",null,null,"N"]
[null,"N",null,"Number of proposed developments that require resettlement of communities, with a description, if applicable","N",null,null,"N",null,null,"N",null,"Number of proposed developments that require resettlement of communities, with a description, if applicable","N",null,null,"N",null,"% community members who know traditional methods for food gathering/production/preparation including the traditional language, songs, dances, stories and ceremonies associated with these practices","N",null,"Number of proposed developments that require resettlement of communities, with a description, if applicable","N",null,null,"N"]
[null,"N",null,null,"N",null,null,"N",null,null,"N",null,null,"N",null,null,"N",null,"% households producing sufficient food","N",null,null,"N",null,null,"N"]
[null,"N",null,null,"N",null,null,"N",null,null,"N",null,null,"N",null,null,"N",null,"% indigenous youth in a community/tribe/nation who perceive or express that their traditional foods and subsistence practices as relevant in today’s world","N",null,null,"N",null,null,"N"]
[null,"N",null,null,"N",null,null,"N",null,null,"N",null,null,"N",null,null,"N",null,"% lands, territories and natural resources used traditionally for food production (farming, fishing, hunting, gathering, herding) currently being used by Indigenous Peoples compared to benchmarks established in the past","N",null,null,"N",null,null,"N"]
[null,"N",null,null,"N",null,null,"N",null,null,"N",null,null,"N",null,null,"N",null,"% lands, territories and subsistence resources used traditionally by Indigenous Peoples for subsistence and food production to which IPs still have full access","N",null,null,"N",null,null,"N"]
[null,"N",null,null,"N",null,null,"N",null,null,"N",null,null,"N",null,null,"N",null,"% traditional subsistence food resources (plant and animal) which are intact, viable, productive, healthy and free from contamination (toxics, GMO’s etc.)","N",null,null,"N",null,null,"N"]
[null,"N",null,null,"N",null,null,"N",null,null,"N",null,null,"N",null,null,"N",null,"changes in monthly/yearly harvests of food plants and animals used traditionally and reasons for any decrease","N",null,null,"N",null,null,"N"]
[null,"N",null,null,"N",null,null,"N",null,null,"N",null,null,"N",null,null,"N",null,"Household buffer food stock, above a minimum stock","N",null,null,"N",null,null,"N"]
[null,"N",null,null,"N",null,null,"N",null,null,"N",null,null,"N",null,null,"N",null,"Number of traditional food plants and animals which have been declared endangered, have decreased in numbers, and/or have disappeared","N",null,null,"N",null,null,"N"]
[null,"N",null,null,"N",null,null,"N",null,null,"N",null,null,"N",null,null,"N",null,"Staple food production","N",null,null,"N",null,null,"N"]
[null,"N",null,null,"N",null,null,"N",null,null,"N",null,null,"N",null,null,"N",null,null,"N",null,null,"N",null,null,"N"]
[null,"N",null,null,"N",null,null,"N",null,null,"N",null,null,"N",null,null,"N",null,null,"N",null,null,"N",null,null,"N"]
[null,"N",null,null,"N",null,null,"N",null,null,"N",null,null,"N",null,null,"N",null,null,"N",null,null,"N",null,null,"N"]
[null,"N",null,null,"N",null,null,"N",null,null,"N",null,null,"N",null,null,"N",null,null,"N",null,null,"N",null,null,"N"]
[null,"N",null,null,"N",null,null,"N",null,null,"N",null,null,"N",null,null,"N",null,null,"N",null,null,"N",null,null,"N"]
[null,"N",null,null,"N",null,null,"N",null,null,"N",null,null,"N",null,null,"N",null,null,"N",null,null,"N",null,null,"N"]
[null,"N",null,null,"N",null,null,"N",null,null,"N",null,null,"N",null,null,"N",null,null,"N",null,null,"N",null,null,"N"]
[null,"N",null,null,"N",null,null,"N",null,null,"N",null,null,"N",null,null,"N",null,null,"N",null,null,"N",null,null,"N"]
[null,"N",null,null,"N",null,null,"N",null,null,"N",null,null,"N",null,null,"N",null,null,"N",null,null,"N",null,null,"N"]
[null,"N",null,null,"N",null,null,"N",null,null,"N",null,null,"N",null,null,"N",null,null,"N",null,null,"N",null,null,"N"]
[null,"N",null,null,"N",null,null,"N",null,null,"N",null,null,"N",null,null,"N",null,null,"N",null,null,"N",null,null,"N"]
[null,"N",null,null,"N",null,null,"N",null,null,"N",null,null,"N",null,null,"N",null,null,"N",null,null,"N",null,null,"N"]
[null,"N",null,null,"N",null,null,"N",null,null,"N",null,null,"N",null,null,"N",null,null,"N",null,null,"N",null,null,"N"]
[null,"N",null,null,"N",null,null,"N",null,null,"N",null,null,"N",null,null,"N",null,null,"N",null,null,"N",null,null,"N"]
[null,"N",null,null,"N",null,null,"N",null,null,"N",null,null,"N",null,null,"N",null,null,"N",null,null,"N",null,null,"N"]
[null,"N",null,null,"N",null,null,"N",null,null,"N",null,null,"N",null,null,"N",null,null,"N",null,null,"N",null,null,"N"]
[null,"N",null,null,"N",null,null,"N",null,null,"N",null,null,"N",null,null,"N",null,null,"N",null,null,"N",null,null,"N"]
[null,"N",null,null,"N",null,null,"N",null,null,"N",null,null,"N",null,null,"N",null,null,"N",null,null,"N",null,null,"N"]
[null,"N",null,null,"N",null,null,"N",null,null,"N",null,null,"N",null,null,"N",null,null,"N",null,null,"N",null,null,"N"]
["Barter",0,null,"Barter",0,null,"Barter",0,null,"Barter",0,null,"Barter",0,null,"Barter",0,null,"Barter",0,null,"Barter",0,null,"Barter",0]
["Indicator List","Active",null,"Indicator List","Active",null,"Indicator List","Active",null,"Indicator List","Active",null,"Indicator List","Active",null,"Indicator List","Active",null,"Indicator List","Active",null,"Indicator List","Active",null,"Indicator List","Active"]
["UserDefined",null,null,"UserDefined",null,null,"UserDefined",null,null,"UserDefined",null,null,"UserDefined",null,null,"UserDefined",null,null,"UserDefined",null,null,"UserDefined",null,null,"UserDefined"]
[null,"N",null,null,"N",null,null,"N",null,null,"N",null,null,"N",null,null,"N",null,null,"N",null,null,"N",null,null,"N"]
[null,"N",null,null,"N",null,null,"N",null,null,"N",null,null,"N",null,null,"N",null,null,"N",null,null,"N",null,null,"N"]
[null,"N",null,null,"N",null,null,"N",null,null,"N",null,null,"N",null,null,"N",null,null,"N",null,null,"N",null,null,"N"]
[null,"N",null,null,"N",null,null,"N",null,null,"N",null,null,"N",null,null,"N",null,null,"N",null,null,"N",null,null,"N"]
[null,"N",null,null,"N",null,null,"N",null,null,"N",null,null,"N",null,null,"N",null,null,"N",null,null,"N",null,null,"N"]
[null,"N",null,null,"N",null,null,"N",null,null,"N",null,null,"N",null,null,"N",null,null,"N",null,null,"N",null,null,"N"]
[null,"N",null,null,"N",null,null,"N",null,null,"N",null,null,"N",null,null,"N",null,null,"N",null,null,"N",null,null,"N"]
[null,"N",null,null,"N",null,null,"N",null,null,"N",null,null,"N",null,null,"N",null,null,"N",null,null,"N",null,null,"N"]
[null,"N",null,null,"N",null,null,"N",null,null,"N",null,null,"N",null,null,"N",null,null,"N",null,null,"N",null,null,"N"]
[null,"N",null,null,"N",null,null,"N",null,null,"N",null,null,"N",null,null,"N",null,null,"N",null,null,"N",null,null,"N"]
[null,"N",null,null,"N",null,null,"N",null,null,"N",null,null,"N",null,null,"N",null,null,"N",null,null,"N",null,null,"N"]
[null,"N",null,null,"N",null,null,"N",null,null,"N",null,null,"N",null,null,"N",null,null,"N",null,null,"N",null,null,"N"]
[null,"N",null,null,"N",null,null,"N",null,null,"N",null,null,"N",null,null,"N",null,null,"N",null,null,"N",null,null,"N"]
[null,"N",null,null,"N",null,null,"N",null,null,"N",null,null,"N",null,null,"N",null,null,"N",null,null,"N",null,null,"N"]
[null,"N",null,null,"N",null,null,"N",null,null,"N",null,null,"N",null,null,"N",null,null,"N",null,null,"N",null,null,"N"]
[null,"N",null,null,"N",null,null,"N",null,null,"N",null,null,"N",null,null,"N",null,null,"N",null,null,"N",null,null,"N"]
[null,"N",null,null,"N",null,null,"N",null,null,"N",null,null,"N",null,null,"N",null,null,"N",null,null,"N",null,null,"N"]
[null,"N",null,null,"N",null,null,"N",null,null,"N",null,null,"N",null,null,"N",null,null,"N",null,null,"N",null,null,"N"]
[null,"N",null,null,"N",null,null,"N",null,null,"N",null,null,"N",null,null,"N",null,null,"N",null,null,"N",null,null,"N"]
[null,"N",null,null,"N",null,null,"N",null,null,"N",null,null,"N",null,null,"N",null,null,"N",null,null,"N",null,null,"N"]
[null,"N",null,null,"N",null,null,"N",null,null,"N",null,null,"N",null,null,"N",null,null,"N",null,null,"N",null,null,"N"]
[null,"N",null,null,"N",null,null,"N",null,null,"N",null,null,"N",null,null,"N",null,null,"N",null,null,"N",null,null,"N"]
[null,"N",null,null,"N",null,null,"N",null,null,"N",null,null,"N",null,null,"N",null,null,"N",null,null,"N",null,null,"N"]
[null,"N",null,null,"N",null,null,"N",null,null,"N",null,null,"N",null,null,"N",null,null,"N",null,null,"N",null,null,"N"]
[null,"N",null,null,"N",null,null,"N",null,null,"N",null,null,"N",null,null,"N",null,null,"N",null,null,"N",null,null,"N"]
[null,"N",null,null,"N",null,null,"N",null,null,"N",null,null,"N",null,null,"N",null,null,"N",null,null,"N",null,null,"N"]
[null,"N",null,null,"N",null,null,"N",null,null,"N",null,null,"N",null,null,"N",null,null,"N",null,null,"N",null,null,"N"]
[null,"N",null,null,"N",null,null,"N",null,null,"N",null,null,"N",null,null,"N",null,null,"N",null,null,"N",null,null,"N"]
[null,"N",null,null,"N",null,null,"N",null,null,"N",null,null,"N",null,null,"N",null,null,"N",null,null,"N",null,null,"N"]
[null,"N",null,null,"N",null,null,"N",null,null,"N",null,null,"N",null,null,"N",null,null,"N",null,null,"N",null,null,"N"]
["Transportation",2,null,"Transportation",0,null,"Transportation",0,null,"Transportation",3,null,"Transportation",0,null,"Transportation",0,null,"Transportation",3,null,"Transportation",0,null,"Transportation",0]
["Indicator List","Active",null,"Indicator List","Active",null,"Indicator List","Active",null,"Indicator List","Active",null,"Indicator List","Active",null,"Indicator List","Active",null,"Indicator List","Active",null,"Indicator List","Active",null,"Indicator List","Active"]
["UserDefined",null,null,"UserDefined",null,null,"UserDefined",null,null,"UserDefined",null,null,"UserDefined",null,null,"UserDefined",null,null,"UserDefined",null,null,"UserDefined",null,null,"UserDefined"]
["Proportion of urban households with access to reliable public transportation; Access to all-weather road (% access within [x] km distance to road);","N",null,null,"N",null,null,"N",null,"energy associated with transport of a national food basket","N",null,null,"N",null,null,"N",null,"energy associated with transport of a national food basket","N",null,null,"N",null,null,"N"]
["Road density","N",null,null,"N",null,null,"N",null,"Proportion of urban households with access to reliable public transportation; Access to all-weather road (% access within [x] km distance to road);","N",null,null,"N",null,null,"N",null,"Proportion of urban households with access to reliable public transportation; Access to all-weather road (% access within [x] km distance to road);","N",null,null,"N",null,null,"N"]
[null,"N",null,null,"N",null,null,"N",null,"Road density","N",null,null,"N",null,null,"N",null,"Road density","N",null,null,"N",null,null,"N"]
[null,"N",null,null,"N",null,null,"N",null,null,"N",null,null,"N",null,null,"N",null,null,"N",null,null,"N",null,null,"N"]
[null,"N",null,null,"N",null,null,"N",null,null,"N",null,null,"N",null,null,"N",null,null,"N",null,null,"N",null,null,"N"]
[null,"N",null,null,"N",null,null,"N",null,null,"N",null,null,"N",null,null,"N",null,null,"N",null,null,"N",null,null,"N"]
[null,"N",null,null,"N",null,null,"N",null,null,"N",null,null,"N",null,null,"N",null,null,"N",null,null,"N",null,null,"N"]
[null,"N",null,null,"N",null,null,"N",null,null,"N",null,null,"N",null,null,"N",null,null,"N",null,null,"N",null,null,"N"]
[null,"N",null,null,"N",null,null,"N",null,null,"N",null,null,"N",null,null,"N",null,null,"N",null,null,"N",null,null,"N"]
[null,"N",null,null,"N",null,null,"N",null,null,"N",null,null,"N",null,null,"N",null,null,"N",null,null,"N",null,null,"N"]
[null,"N",null,null,"N",null,null,"N",null,null,"N",null,null,"N",null,null,"N",null,null,"N",null,null,"N",null,null,"N"]
[null,"N",null,null,"N",null,null,"N",null,null,"N",null,null,"N",null,null,"N",null,null,"N",null,null,"N",null,null,"N"]
[null,"N",null,null,"N",null,null,"N",null,null,"N",null,null,"N",null,null,"N",null,null,"N",null,null,"N",null,null,"N"]
[null,"N",null,null,"N",null,null,"N",null,null,"N",null,null,"N",null,null,"N",null,null,"N",null,null,"N",null,null,"N"]
[null,"N",null,null,"N",null,null,"N",null,null,"N",null,null,"N",null,null,"N",null,null,"N",null,null,"N",null,null,"N"]
[null,"N",null,null,"N",null,null,"N",null,null,"N",null,null,"N",null,null,"N",null,null,"N",null,null,"N",null,null,"N"]
[null,"N",null,null,"N",null,null,"N",null,null,"N",null,null,"N",null,null,"N",null,null,"N",null,null,"N",null,null,"N"]
[null,"N",null,null,"N",null,null,"N",null,null,"N",null,null,"N",null,null,"N",null,null,"N",null,null,"N",null,null,"N"]
[null,"N",null,null,"N",null,null,"N",null,null,"N",null,null,"N",null,null,"N",null,null,"N",null,null,"N",null,null,"N"]
[null,"N",null,null,"N",null,null,"N",null,null,"N",null,null,"N",null,null,"N",null,null,"N",null,null,"N",null,null,"N"]
[null,"N",null,null,"N",null,null,"N",null,null,"N",null,null,"N",null,null,"N",null,null,"N",null,null,"N",null,null,"N"]
[null,"N",null,null,"N",null,null,"N",null,null,"N",null,null,"N",null,null,"N",null,null,"N",null,null,"N",null,null,"N"]
[null,"N",null,null,"N",null,null,"N",null,null,"N",null,null,"N",null,null,"N",null,null,"N",null,null,"N",null,null,"N"]
[null,"N",null,null,"N",null,null,"N",null,null,"N",null,null,"N",null,null,"N",null,null,"N",null,null,"N",null,null,"N"]
[null,"N",null,null,"N",null,null,"N",null,null,"N",null,null,"N",null,null,"N",null,null,"N",null,null,"N",null,null,"N"]
[null,"N",null,null,"N",null,null,"N",null,null,"N",null,null,"N",null,null,"N",null,null,"N",null,null,"N",null,null,"N"]
[null,"N",null,null,"N",null,null,"N",null,null,"N",null,null,"N",null,null,"N",null,null,"N",null,null,"N",null,null,"N"]
[null,"N",null,null,"N",null,null,"N",null,null,"N",null,null,"N",null,null,"N",null,null,"N",null,null,"N",null,null,"N"]
[null,"N",null,null,"N",null,null,"N",null,null,"N",null,null,"N",null,null,"N",null,null,"N",null,null,"N",null,null,"N"]
[null,"N",null,null,"N",null,null,"N",null,null,"N",null,null,"N",null,null,"N",null,null,"N",null,null,"N",null,null,"N"]
["Communication",4,null,"Communication",0,null,"Communication",0,null,"Communication",4,null,"Communication",0,null,"Communication",0,null,"Communication",4,null,"Communication",0,null,"Communication",0]
["Indicator List","Active",null,"Indicator List","Active",null,"Indicator List","Active",null,"Indicator List","Active",null,"Indicator List","Active",null,"Indicator List","Active",null,"Indicator List","Active",null,"Indicator List","Active",null,"Indicator List","Active"]
["UserDefined",null,null,"UserDefined",null,null,"UserDefined",null,null,"UserDefined",null,null,"UserDefined",null,null,"UserDefined",null,null,"UserDefined",null,null,"UserDefined",null,null,"UserDefined"]
["Number of internet users per population","N",null,null,"N",null,null,"N",null,"Number of internet users per population","N",null,null,"N",null,null,"N",null,"Number of internet users per population","N",null,null,"N",null,null,"N"]
["Fixed telephone lines per 100 population","N",null,null,"N",null,null,"N",null,"Fixed telephone lines per 100 population","N",null,null,"N",null,null,"N",null,"Fixed telephone lines per 100 population","N",null,null,"N",null,null,"N"]
["Mobile cellular telephone subscribers per 100 population","N",null,null,"N",null,null,"N",null,"Mobile cellular telephone subscribers per 100 population","N",null,null,"N",null,null,"N",null,"Mobile cellular telephone subscribers per 100 population","N",null,null,"N",null,null,"N"]
["hard coping capacities (e.g., telecommunications development)","N",null,null,"N",null,null,"N",null,"hard coping capacities (e.g., telecommunications development)","N",null,null,"N",null,null,"N",null,"hard coping capacities (e.g., telecommunications development)","N",null,null,"N",null,null,"N"]
[null,"N",null,null,"N",null,null,"N",null,null,"N",null,null,"N",null,null,"N",null,null,"N",null,null,"N",null,null,"N"]
[null,"N",null,null,"N",null,null,"N",null,null,"N",null,null,"N",null,null,"N",null,null,"N",null,null,"N",null,null,"N"]
[null,"N",null,null,"N",null,null,"N",null,null,"N",null,null,"N",null,null,"N",null,null,"N",null,null,"N",null,null,"N"]
[null,"N",null,null,"N",null,null,"N",null,null,"N",null,null,"N",null,null,"N",null,null,"N",null,null,"N",null,null,"N"]
[null,"N",null,null,"N",null,null,"N",null,null,"N",null,null,"N",null,null,"N",null,null,"N",null,null,"N",null,null,"N"]
[null,"N",null,null,"N",null,null,"N",null,null,"N",null,null,"N",null,null,"N",null,null,"N",null,null,"N",null,null,"N"]
[null,"N",null,null,"N",null,null,"N",null,null,"N",null,null,"N",null,null,"N",null,null,"N",null,null,"N",null,null,"N"]
[null,"N",null,null,"N",null,null,"N",null,null,"N",null,null,"N",null,null,"N",null,null,"N",null,null,"N",null,null,"N"]
[null,"N",null,null,"N",null,null,"N",null,null,"N",null,null,"N",null,null,"N",null,null,"N",null,null,"N",null,null,"N"]
[null,"N",null,null,"N",null,null,"N",null,null,"N",null,null,"N",null,null,"N",null,null,"N",null,null,"N",null,null,"N"]
[null,"N",null,null,"N",null,null,"N",null,null,"N",null,null,"N",null,null,"N",null,null,"N",null,null,"N",null,null,"N"]
[null,"N",null,null,"N",null,null,"N",null,null,"N",null,null,"N",null,null,"N",null,null,"N",null,null,"N",null,null,"N"]
[null,"N",null,null,"N",null,null,"N",null,null,"N",null,null,"N",null,null,"N",null,null,"N",null,null,"N",null,null,"N"]
[null,"N",null,null,"N",null,null,"N",null,null,"N",null,null,"N",null,null,"N",null,null,"N",null,null,"N",null,null,"N"]
[null,"N",null,null,"N",null,null,"N",null,null,"N",null,null,"N",null,null,"N",null,null,"N",null,null,"N",null,null,"N"]
[null,"N",null,null,"N",null,null,"N",null,null,"N",null,null,"N",null,null,"N",null,null,"N",null,null,"N",null,null,"N"]
[null,"N",null,null,"N",null,null,"N",null,null,"N",null,null,"N",null,null,"N",null,null,"N",null,null,"N",null,null,"N"]
[null,"N",null,null,"N",null,null,"N",null,null,"N",null,null,"N",null,null,"N",null,null,"N",null,null,"N",null,null,"N"]
[null,"N",null,null,"N",null,null,"N",null,null,"N",null,null,"N",null,null,"N",null,null,"N",null,null,"N",null,null,"N"]
[null,"N",null,null,"N",null,null,"N",null,null,"N",null,null,"N",null,null,"N",null,null,"N",null,null,"N",null,null,"N"]
[null,"N",null,null,"N",null,null,"N",null,null,"N",null,null,"N",null,null,"N",null,null,"N",null,null,"N",null,null,"N"]
[null,"N",null,null,"N",null,null,"N",null,null,"N",null,null,"N",null,null,"N",null,null,"N",null,null,"N",null,null,"N"]
[null,"N",null,null,"N",null,null,"N",null,null,"N",null,null,"N",null,null,"N",null,null,"N",null,null,"N",null,null,"N"]
[null,"N",null,null,"N",null,null,"N",null,null,"N",null,null,"N",null,null,"N",null,null,"N",null,null,"N",null,null,"N"]
[null,"N",null,null,"N",null,null,"N",null,null,"N",null,null,"N",null,null,"N",null,null,"N",null,null,"N",null,null,"N"]
[null,"N",null,null,"N",null,null,"N",null,null,"N",null,null,"N",null,null,"N",null,null,"N",null,null,"N",null,null,"N"]
["Waste and sanitation",10,null,"Waste and sanitation",19,null,"Waste and sanitation",0,null,"Waste and sanitation",10,null,"Waste and sanitation",19,null,"Waste and sanitation",0,null,"Waste and sanitation",10,null,"Waste and sanitation",19,null,"Waste and sanitation",0]
["Indicator List","Active",null,"Indicator List","Active",null,"Indicator List","Active",null,"Indicator List","Active",null,"Indicator List","Active",null,"Indicator List","Active",null,"Indicator List","Active",null,"Indicator List","Active",null,"Indicator List","Active"]
["UserDefined",null,null,"UserDefined",null,null,"UserDefined",null,null,"UserDefined",null,null,"UserDefined",null,null,"UserDefined",null,null,"UserDefined",null,null,"UserDefined",null,null,"UserDefined"]
["Amount of radioactive waste (cumulative for a selected period of time);","N",null,"Acids and Bases","N",null,null,"N",null,"Amount of radioactive waste (cumulative for a selected period of time);","N",null,"Acids and Bases","N",null,null,"N",null,"Amount of radioactive waste (cumulative for a selected period of time);","N",null,"Acids and Bases","N",null,null,"N"]
["Amount of radioactive waste awaiting disposal","N",null,"Antifreeze","N",null,null,"N",null,"Amount of radioactive waste awaiting disposal","N",null,"Antifreeze","N",null,null,"N",null,"Amount of radioactive waste awaiting disposal","N",null,"Antifreeze","N",null,null,"N"]
["Amount of solid waste","N",null,"Blasting; Solvents and Paints","N",null,null,"N",null,"Amount of solid waste","N",null,"Blasting; Solvents and Paints","N",null,null,"N",null,"Amount of solid waste","N",null,"Blasting; Solvents and Paints","N",null,null,"N"]
["Amount of solid waste properly disposed of","N",null,"Drilling Fluids","N",null,null,"N",null,"Amount of solid waste properly disposed of","N",null,"Drilling Fluids","N",null,null,"N",null,"Amount of solid waste properly disposed of","N",null,"Drilling Fluids","N",null,null,"N"]
["Contaminant discharges in liquid effluents","N",null,"Fuels and Petroleum Products","N",null,null,"N",null,"Contaminant discharges in liquid effluents","N",null,"Fuels and Petroleum Products","N",null,null,"N",null,"Contaminant discharges in liquid effluents","N",null,"Fuels and Petroleum Products","N",null,null,"N"]
["Per capita energy-related CO2 emissions","N",null,"Handling Fuels and Oils on Water","N",null,null,"N",null,"Per capita energy-related CO2 emissions","N",null,"Handling Fuels and Oils on Water","N",null,null,"N",null,"Per capita energy-related CO2 emissions","N",null,"Handling Fuels and Oils on Water","N",null,null,"N"]
["Per capita sulfur dioxide emissions; ","N",null,"Handling of Fuses and Blasting Caps","N",null,null,"N",null,"Per capita sulfur dioxide emissions; ","N",null,"Handling of Fuses and Blasting Caps","N",null,null,"N",null,"Per capita sulfur dioxide emissions; ","N",null,"Handling of Fuses and Blasting Caps","N",null,null,"N"]
["Total amount of solid waste","N",null,"Land Application Disposal (LAD)","N",null,null,"N",null,"Total amount of solid waste","N",null,"Land Application Disposal (LAD)","N",null,null,"N",null,"Total amount of solid waste","N",null,"Land Application Disposal (LAD)","N",null,null,"N"]
["Total volume of radioactive waste","N",null,"Percentage of permitted sites that have a problem of land contamination relative to the total number of permitted sites","N",null,null,"N",null,"Total volume of radioactive waste","N",null,"Percentage of permitted sites that have a problem of land contamination relative to the total number of permitted sites","N",null,null,"N",null,"Total volume of radioactive waste","N",null,"Percentage of permitted sites that have a problem of land contamination relative to the total number of permitted sites","N",null,null,"N"]
["wastewater treatment (%)","N",null,"Pesticides and Herbicides","N",null,null,"N",null,"wastewater treatment (%)","N",null,"Pesticides and Herbicides","N",null,null,"N",null,"wastewater treatment (%)","N",null,"Pesticides and Herbicides","N",null,null,"N"]
[null,"N",null,"Propane and Other Liquefied Petroleum Gases","N",null,null,"N",null,null,"N",null,"Propane and Other Liquefied Petroleum Gases","N",null,null,"N",null,null,"N",null,"Propane and Other Liquefied Petroleum Gases","N",null,null,"N"]
[null,"N",null,"Refuelling Operations","N",null,null,"N",null,null,"N",null,"Refuelling Operations","N",null,null,"N",null,null,"N",null,"Refuelling Operations","N",null,null,"N"]
[null,"N",null,"size of ‘animal waste to energy’ systems in the country","N",null,null,"N",null,null,"N",null,"size of ‘animal waste to energy’ systems in the country","N",null,null,"N",null,null,"N",null,"size of ‘animal waste to energy’ systems in the country","N",null,null,"N"]
[null,"N",null,"Total amounts of overburden, rock, tailings, and sludges and their associated risks","N",null,null,"N",null,null,"N",null,"Total amounts of overburden, rock, tailings, and sludges and their associated risks","N",null,null,"N",null,null,"N",null,"Total amounts of overburden, rock, tailings, and sludges and their associated risks","N",null,null,"N"]
[null,"N",null,"Total weight of waste by type and disposal method","N",null,null,"N",null,null,"N",null,"Total weight of waste by type and disposal method","N",null,null,"N",null,null,"N",null,"Total weight of waste by type and disposal method","N",null,null,"N"]
[null,"N",null,"Transport and Storage of Explosives","N",null,null,"N",null,null,"N",null,"Transport and Storage of Explosives","N",null,null,"N",null,null,"N",null,"Transport and Storage of Explosives","N",null,null,"N"]
[null,"N",null,"Transporting Fuel and Petroleum Products","N",null,null,"N",null,null,"N",null,"Transporting Fuel and Petroleum Products","N",null,null,"N",null,null,"N",null,"Transporting Fuel and Petroleum Products","N",null,null,"N"]
[null,"N",null,"Use of Drums and Other Containers","N",null,null,"N",null,null,"N",null,"Use of Drums and Other Containers","N",null,null,"N",null,null,"N",null,"Use of Drums and Other Containers","N",null,null,"N"]
[null,"N",null,"Weight of transported, imported, exported, or treated waste deemed hazardous under the terms of the Basel Convention Annex I, II, III, and VIII, and percentage of transported waste shipped internationally","N",null,null,"N",null,null,"N",null,"Weight of transported, imported, exported, or treated waste deemed hazardous under the terms of the Basel Convention Annex I, II, III, and VIII, and percentage of transported waste shipped internationally","N",null,null,"N",null,null,"N",null,"Weight of transported, imported, exported, or treated waste deemed hazardous under the terms of the Basel Convention Annex I, II, III, and VIII, and percentage of transported waste shipped internationally","N",null,null,"N"]
[null,"N",null,null,"N",null,null,"N",null,null,"N",null,null,"N",null,null,"N",null,null,"N",null,null,"N",null,null,"N"]
[null,"N",null,null,"N",null,null,"N",null,null,"N",null,null,"N",null,null,"N",null,null,"N",null,null,"N",null,null,"N"]
[null,"N",null,null,"N",null,null,"N",null,null,"N",null,null,"N",null,null,"N",null,null,"N",null,null,"N",null,null,"N"]
[null,"N",null,null,"N",null,null,"N",null,null,"N",null,null,"N",null,null,"N",null,null,"N",null,null,"N",null,null,"N"]
[null,"N",null,null,"N",null,null,"N",null,null,"N",null,null,"N",null,null,"N",null,null,"N",null,null,"N",null,null,"N"]
[null,"N",null,null,"N",null,null,"N",null,null,"N",null,null,"N",null,null,"N",null,null,"N",null,null,"N",null,null,"N"]
[null,"N",null,null,"N",null,null,"N",null,null,"N",null,null,"N",null,null,"N",null,null,"N",null,null,"N",null,null,"N"]
[null,"N",null,null,"N",null,null,"N",null,null,"N",null,null,"N",null,null,"N",null,null,"N",null,null,"N",null,null,"N"]
[null,"N",null,null,"N",null,null,"N",null,null,"N",null,null,"N",null,null,"N",null,null,"N",null,null,"N",null,null,"N"]
[null,"N",null,null,"N",null,null,"N",null,null,"N",null,null,"N",null,null,"N",null,null,"N",null,null,"N",null,null,"N"]
[null,"N",null,null,"N",null,null,"N",null,null,"N",null,null,"N",null,null,"N",null,null,"N",null,null,"N",null,null,"N"]
["Air quality maintenance",1,null,"Air quality maintenance",12,null,"Air quality maintenance",1,null,"Air quality maintenance",1,null,"Air quality maintenance",12,null,"Air quality maintenance",1,null,"Air quality maintenance",1,null,"Air quality maintenance",12,null,"Air quality maintenance",1]
["Indicator List","Active",null,"Indicator List","Active",null,"Indicator List","Active",null,"Indicator List","Active",null,"Indicator List","Active",null,"Indicator List","Active",null,"Indicator List","Active",null,"Indicator List","Active",null,"Indicator List","Active"]
["UserDefined",null,null,"UserDefined",null,null,"UserDefined",null,null,"UserDefined",null,null,"UserDefined",null,null,"UserDefined",null,null,"UserDefined",null,null,"UserDefined",null,null,"UserDefined"]
["Forest as a percent of land area","N",null,"amount of CO2 emissions that can (theoretically) be sequestered by the trees planted by the company","N",null,"Initiatives to reduce greenhouse gas emissions and reductions achieved","N",null,"Forest as a percent of land area","N",null,"amount of CO2 emissions that can (theoretically) be sequestered by the trees planted by the company","N",null,"Initiatives to reduce greenhouse gas emissions and reductions achieved","N",null,"Forest as a percent of land area","N",null,"amount of CO2 emissions that can (theoretically) be sequestered by the trees planted by the company","N",null,"Initiatives to reduce greenhouse gas emissions and reductions achieved","N"]
[null,"N",null,"Emissions of acid gases (NOx, SO2 and other), breakdown by substance","N",null,null,"N",null,null,"N",null,"Emissions of acid gases (NOx, SO2 and other), breakdown by substance","N",null,null,"N",null,null,"N",null,"Emissions of acid gases (NOx, SO2 and other), breakdown by substance","N",null,null,"N"]
[null,"N",null,"Emissions of greenhouse gases (CO2, CH4, N2O, HFCs, PFCs, SF6), breakdown by substance","N",null,null,"N",null,null,"N",null,"Emissions of greenhouse gases (CO2, CH4, N2O, HFCs, PFCs, SF6), breakdown by substance","N",null,null,"N",null,null,"N",null,"Emissions of greenhouse gases (CO2, CH4, N2O, HFCs, PFCs, SF6), breakdown by substance","N",null,null,"N"]
[null,"N",null,"Emissions of ozone depleting substances, breakdown by substance","N",null,null,"N",null,null,"N",null,"Emissions of ozone depleting substances, breakdown by substance","N",null,null,"N",null,null,"N",null,"Emissions of ozone depleting substances, breakdown by substance","N",null,null,"N"]
[null,"N",null,"Emissions of ozone-depleting substances by weight; NO, SO, and other significant air emissions by type and weight","N",null,null,"N",null,null,"N",null,"Emissions of ozone-depleting substances by weight; NO, SO, and other significant air emissions by type and weight","N",null,null,"N",null,null,"N",null,"Emissions of ozone-depleting substances by weight; NO, SO, and other significant air emissions by type and weight","N",null,null,"N"]
[null,"N",null,"Equivalent number of fully grown trees that would be required for sequestration of the total CO2 emissions","N",null,null,"N",null,null,"N",null,"Equivalent number of fully grown trees that would be required for sequestration of the total CO2 emissions","N",null,null,"N",null,null,"N",null,"Equivalent number of fully grown trees that would be required for sequestration of the total CO2 emissions","N",null,null,"N"]
[null,"N",null,"Farmer use of inputs","N",null,null,"N",null,null,"N",null,"Farmer use of inputs","N",null,null,"N",null,null,"N",null,"Farmer use of inputs","N",null,null,"N"]
[null,"N",null,"GHG emissions from energy production and use","N",null,null,"N",null,null,"N",null,"GHG emissions from energy production and use","N",null,null,"N",null,null,"N",null,"GHG emissions from energy production and use","N",null,null,"N"]
[null,"N",null,"Net emissions of CO2 (total CO2 emissions minus CO2 emissions potentially sequestered by trees)","N",null,null,"N",null,null,"N",null,"Net emissions of CO2 (total CO2 emissions minus CO2 emissions potentially sequestered by trees)","N",null,null,"N",null,null,"N",null,"Net emissions of CO2 (total CO2 emissions minus CO2 emissions potentially sequestered by trees)","N",null,null,"N"]
[null,"N",null,"Other relevant indirect greenhouse gas emissions by weight","N",null,null,"N",null,null,"N",null,"Other relevant indirect greenhouse gas emissions by weight","N",null,null,"N",null,null,"N",null,"Other relevant indirect greenhouse gas emissions by weight","N",null,null,"N"]
[null,"N",null,"Total direct and indirect greenhouse gas emissions by weight","N",null,null,"N",null,null,"N",null,"Total direct and indirect greenhouse gas emissions by weight","N",null,null,"N",null,null,"N",null,"Total direct and indirect greenhouse gas emissions by weight","N",null,null,"N"]
[null,"N",null,"Toxic emissions (including heavy metals, dioxins, crystalline silica and others), breakdown by substance; Other emissions - breakdown by substance","N",null,null,"N",null,null,"N",null,"Toxic emissions (including heavy metals, dioxins, crystalline silica and others), breakdown by substance; Other emissions - breakdown by substance","N",null,null,"N",null,null,"N",null,"Toxic emissions (including heavy metals, dioxins, crystalline silica and others), breakdown by substance; Other emissions - breakdown by substance","N",null,null,"N"]
["","N",null,null,"N",null,null,"N",null,null,"N",null,null,"N",null,null,"N",null,null,"N",null,null,"N",null,null,"N"]
[null,"N",null,null,"N",null,null,"N",null,null,"N",null,null,"N",null,null,"N",null,null,"N",null,null,"N",null,null,"N"]
[null,"N",null,null,"N",null,null,"N",null,null,"N",null,null,"N",null,null,"N",null,null,"N",null,null,"N",null,null,"N"]
[null,"N",null,null,"N",null,null,"N",null,null,"N",null,null,"N",null,null,"N",null,null,"N",null,null,"N",null,null,"N"]
[null,"N",null,null,"N",null,null,"N",null,null,"N",null,null,"N",null,null,"N",null,null,"N",null,null,"N",null,null,"N"]
[null,"N",null,null,"N",null,null,"N",null,null,"N",null,null,"N",null,null,"N",null,null,"N",null,null,"N",null,null,"N"]
[null,"N",null,null,"N",null,null,"N",null,null,"N",null,null,"N",null,null,"N",null,null,"N",null,null,"N",null,null,"N"]
[null,"N",null,null,"N",null,null,"N",null,null,"N",null,null,"N",null,null,"N",null,null,"N",null,null,"N",null,null,"N"]
[null,"N",null,null,"N",null,null,"N",null,null,"N",null,null,"N",null,null,"N",null,null,"N",null,null,"N",null,null,"N"]
[null,"N",null,null,"N",null,null,"N",null,null,"N",null,null,"N",null,null,"N",null,null,"N",null,null,"N",null,null,"N"]
[null,"N",null,null,"N",null,null,"N",null,null,"N",null,null,"N",null,null,"N",null,null,"N",null,null,"N",null,null,"N"]
[null,"N",null,null,"N",null,null,"N",null,null,"N",null,null,"N",null,null,"N",null,null,"N",null,null,"N",null,null,"N"]
[null,"N",null,null,"N",null,null,"N",null,null,"N",null,null,"N",null,null,"N",null,null,"N",null,null,"N",null,null,"N"]
[null,"N",null,null,"N",null,null,"N",null,null,"N",null,null,"N",null,null,"N",null,null,"N",null,null,"N",null,null,"N"]
[null,"N",null,null,"N",null,null,"N",null,null,"N",null,null,"N",null,null,"N",null,null,"N",null,null,"N",null,null,"N"]
[null,"N",null,null,"N",null,null,"N",null,null,"N",null,null,"N",null,null,"N",null,null,"N",null,null,"N",null,null,"N"]
[null,"N",null,null,"N",null,null,"N",null,null,"N",null,null,"N",null,null,"N",null,null,"N",null,null,"N",null,null,"N"]
[null,"N",null,null,"N",null,null,"N",null,null,"N",null,null,"N",null,null,"N",null,null,"N",null,null,"N",null,null,"N"]
["Erosion control",0,null,"Erosion control",9,null,"Erosion control",0,null,"Erosion control",0,null,"Erosion control",9,null,"Erosion control",0,null,"Erosion control",0,null,"Erosion control",9,null,"Erosion control",0]
["Indicator List","Active",null,"Indicator List","Active",null,"Indicator List","Active",null,"Indicator List","Active",null,"Indicator List","Active",null,"Indicator List","Active",null,"Indicator List","Active",null,"Indicator List","Active",null,"Indicator List","Active"]
["UserDefined",null,null,"UserDefined",null,null,"UserDefined",null,null,"UserDefined",null,null,"UserDefined",null,null,"UserDefined",null,null,"UserDefined",null,null,"UserDefined",null,null,"UserDefined"]
[null,"N",null,"Clearing of Vegetation","N",null,null,"N",null,null,"N",null,"Clearing of Vegetation","N",null,null,"N",null,null,"N",null,"Clearing of Vegetation","N",null,null,"N"]
[null,"N",null,"Controlling Sediment","N",null,null,"N",null,null,"N",null,"Controlling Sediment","N",null,null,"N",null,null,"N",null,"Controlling Sediment","N",null,null,"N"]
[null,"N",null,"Managing Drainage and Runoff","N",null,null,"N",null,null,"N",null,"Managing Drainage and Runoff","N",null,null,"N",null,null,"N",null,"Managing Drainage and Runoff","N",null,null,"N"]
[null,"N",null,"Managing Soil on Slopes","N",null,null,"N",null,null,"N",null,"Managing Soil on Slopes","N",null,null,"N",null,null,"N",null,"Managing Soil on Slopes","N",null,null,"N"]
[null,"N",null,"Minimizing Disturbances","N",null,null,"N",null,null,"N",null,"Minimizing Disturbances","N",null,null,"N",null,null,"N",null,"Minimizing Disturbances","N",null,null,"N"]
[null,"N",null,"Soil Conservation","N",null,null,"N",null,null,"N",null,"Soil Conservation","N",null,null,"N",null,null,"N",null,"Soil Conservation","N",null,null,"N"]
[null,"N",null,"Soil Stabilization","N",null,null,"N",null,null,"N",null,"Soil Stabilization","N",null,null,"N",null,null,"N",null,"Soil Stabilization","N",null,null,"N"]
[null,"N",null,"Trenches and Pits","N",null,null,"N",null,null,"N",null,"Trenches and Pits","N",null,null,"N",null,null,"N",null,"Trenches and Pits","N",null,null,"N"]
[null,"N",null,"Vegetation Management","N",null,null,"N",null,null,"N",null,"Vegetation Management","N",null,null,"N",null,null,"N",null,"Vegetation Management","N",null,null,"N"]
[null,"N",null,null,"N",null,null,"N",null,null,"N",null,null,"N",null,null,"N",null,null,"N",null,null,"N",null,null,"N"]
[null,"N",null,null,"N",null,null,"N",null,null,"N",null,null,"N",null,null,"N",null,null,"N",null,null,"N",null,null,"N"]
[null,"N",null,null,"N",null,null,"N",null,null,"N",null,null,"N",null,null,"N",null,null,"N",null,null,"N",null,null,"N"]
[null,"N",null,null,"N",null,null,"N",null,null,"N",null,null,"N",null,null,"N",null,null,"N",null,null,"N",null,null,"N"]
[null,"N",null,null,"N",null,null,"N",null,null,"N",null,null,"N",null,null,"N",null,null,"N",null,null,"N",null,null,"N"]
[null,"N",null,null,"N",null,null,"N",null,null,"N",null,null,"N",null,null,"N",null,null,"N",null,null,"N",null,null,"N"]
[null,"N",null,null,"N",null,null,"N",null,null,"N",null,null,"N",null,null,"N",null,null,"N",null,null,"N",null,null,"N"]
[null,"N",null,null,"N",null,null,"N",null,null,"N",null,null,"N",null,null,"N",null,null,"N",null,null,"N",null,null,"N"]
[null,"N",null,null,"N",null,null,"N",null,null,"N",null,null,"N",null,null,"N",null,null,"N",null,null,"N",null,null,"N"]
[null,"N",null,null,"N",null,null,"N",null,null,"N",null,null,"N",null,null,"N",null,null,"N",null,null,"N",null,null,"N"]
[null,"N",null,null,"N",null,null,"N",null,null,"N",null,null,"N",null,null,"N",null,null,"N",null,null,"N",null,null,"N"]
[null,"N",null,null,"N",null,null,"N",null,null,"N",null,null,"N",null,null,"N",null,null,"N",null,null,"N",null,null,"N"]
[null,"N",null,null,"N",null,null,"N",null,null,"N",null,null,"N",null,null,"N",null,null,"N",null,null,"N",null,null,"N"]
[null,"N",null,null,"N",null,null,"N",null,null,"N",null,null,"N",null,null,"N",null,null,"N",null,null,"N",null,null,"N"]
[null,"N",null,null,"N",null,null,"N",null,null,"N",null,null,"N",null,null,"N",null,null,"N",null,null,"N",null,null,"N"]
[null,"N",null,null,"N",null,null,"N",null,null,"N",null,null,"N",null,null,"N",null,null,"N",null,null,"N",null,null,"N"]
[null,"N",null,null,"N",null,null,"N",null,null,"N",null,null,"N",null,null,"N",null,null,"N",null,null,"N",null,null,"N"]
[null,"N",null,null,"N",null,null,"N",null,null,"N",null,null,"N",null,null,"N",null,null,"N",null,null,"N",null,null,"N"]
[null,"N",null,null,"N",null,null,"N",null,null,"N",null,null,"N",null,null,"N",null,null,"N",null,null,"N",null,null,"N"]
[null,"N",null,null,"N",null,null,"N",null,null,"N",null,null,"N",null,null,"N",null,null,"N",null,null,"N",null,null,"N"]
[null,"N",null,null,"N",null,null,"N",null,null,"N",null,null,"N",null,null,"N",null,null,"N",null,null,"N",null,null,"N"]
["Water purification",0,null,"Water purification",3,null,"Water purification",0,null,"Water purification",0,null,"Water purification",3,null,"Water purification",0,null,"Water purification",0,null,"Water purification",3,null,"Water purification",0]
["Indicator List","Active",null,"Indicator List","Active",null,"Indicator List","Active",null,"Indicator List","Active",null,"Indicator List","Active",null,"Indicator List","Active",null,"Indicator List","Active",null,"Indicator List","Active",null,"Indicator List","Active"]
["UserDefined",null,null,"UserDefined",null,null,"UserDefined",null,null,"UserDefined",null,null,"UserDefined",null,null,"UserDefined",null,null,"UserDefined",null,null,"UserDefined",null,null,"UserDefined"]
[null,"N",null,"Farmer use of inputs","N",null,null,"N",null,null,"N",null,"Farmer use of inputs","N",null,null,"N",null,null,"N",null,"Farmer use of inputs","N",null,null,"N"]
[null,"N",null,"soil salinization","N",null,null,"N",null,null,"N",null,"soil salinization","N",null,null,"N",null,null,"N",null,"soil salinization","N",null,null,"N"]
[null,"N",null,"wetland disconnection","N",null,null,"N",null,null,"N",null,"wetland disconnection","N",null,null,"N",null,null,"N",null,"wetland disconnection","N",null,null,"N"]
[null,"N",null,null,"N",null,null,"N",null,null,"N",null,null,"N",null,null,"N",null,null,"N",null,null,"N",null,null,"N"]
[null,"N",null,null,"N",null,null,"N",null,null,"N",null,null,"N",null,null,"N",null,null,"N",null,null,"N",null,null,"N"]
[null,"N",null,null,"N",null,null,"N",null,null,"N",null,null,"N",null,null,"N",null,null,"N",null,null,"N",null,null,"N"]
[null,"N",null,null,"N",null,null,"N",null,null,"N",null,null,"N",null,null,"N",null,null,"N",null,null,"N",null,null,"N"]
[null,"N",null,null,"N",null,null,"N",null,null,"N",null,null,"N",null,null,"N",null,null,"N",null,null,"N",null,null,"N"]
[null,"N",null,null,"N",null,null,"N",null,null,"N",null,null,"N",null,null,"N",null,null,"N",null,null,"N",null,null,"N"]
[null,"N",null,null,"N",null,null,"N",null,null,"N",null,null,"N",null,null,"N",null,null,"N",null,null,"N",null,null,"N"]
[null,"N",null,null,"N",null,null,"N",null,null,"N",null,null,"N",null,null,"N",null,null,"N",null,null,"N",null,null,"N"]
[null,"N",null,null,"N",null,null,"N",null,null,"N",null,null,"N",null,null,"N",null,null,"N",null,null,"N",null,null,"N"]
[null,"N",null,null,"N",null,null,"N",null,null,"N",null,null,"N",null,null,"N",null,null,"N",null,null,"N",null,null,"N"]
[null,"N",null,null,"N",null,null,"N",null,null,"N",null,null,"N",null,null,"N",null,null,"N",null,null,"N",null,null,"N"]
[null,"N",null,null,"N",null,null,"N",null,null,"N",null,null,"N",null,null,"N",null,null,"N",null,null,"N",null,null,"N"]
[null,"N",null,null,"N",null,null,"N",null,null,"N",null,null,"N",null,null,"N",null,null,"N",null,null,"N",null,null,"N"]
[null,"N",null,null,"N",null,null,"N",null,null,"N",null,null,"N",null,null,"N",null,null,"N",null,null,"N",null,null,"N"]
[null,"N",null,null,"N",null,null,"N",null,null,"N",null,null,"N",null,null,"N",null,null,"N",null,null,"N",null,null,"N"]
[null,"N",null,null,"N",null,null,"N",null,null,"N",null,null,"N",null,null,"N",null,null,"N",null,null,"N",null,null,"N"]
[null,"N",null,null,"N",null,null,"N",null,null,"N",null,null,"N",null,null,"N",null,null,"N",null,null,"N",null,null,"N"]
[null,"N",null,null,"N",null,null,"N",null,null,"N",null,null,"N",null,null,"N",null,null,"N",null,null,"N",null,null,"N"]
[null,"N",null,null,"N",null,null,"N",null,null,"N",null,null,"N",null,null,"N",null,null,"N",null,null,"N",null,null,"N"]
[null,"N",null,null,"N",null,null,"N",null,null,"N",null,null,"N",null,null,"N",null,null,"N",null,null,"N",null,null,"N"]
[null,"N",null,null,"N",null,null,"N",null,null,"N",null,null,"N",null,null,"N",null,null,"N",null,null,"N",null,null,"N"]
[null,"N",null,null,"N",null,null,"N",null,null,"N",null,null,"N",null,null,"N",null,null,"N",null,null,"N",null,null,"N"]
[null,"N",null,null,"N",null,null,"N",null,null,"N",null,null,"N",null,null,"N",null,null,"N",null,null,"N",null,null,"N"]
[null,"N",null,null,"N",null,null,"N",null,null,"N",null,null,"N",null,null,"N",null,null,"N",null,null,"N",null,null,"N"]
[null,"N",null,null,"N",null,null,"N",null,null,"N",null,null,"N",null,null,"N",null,null,"N",null,null,"N",null,null,"N"]
[null,"N",null,null,"N",null,null,"N",null,null,"N",null,null,"N",null,null,"N",null,null,"N",null,null,"N",null,null,"N"]
[null,"N",null,null,"N",null,null,"N",null,null,"N",null,null,"N",null,null,"N",null,null,"N",null,null,"N",null,null,"N"]
["Biological control",9,null,"Biological control",12,null,"Biological control",3,null,"Biological control",9,null,"Biological control",12,null,"Biological control",3,null,"Biological control",9,null,"Biological control",12,null,"Biological control",3]
["Indicator List","Active",null,"Indicator List","Active",null,"Indicator List","Active",null,"Indicator List","Active",null,"Indicator List","Active",null,"Indicator List","Active",null,"Indicator List","Active",null,"Indicator List","Active",null,"Indicator List","Active"]
["UserDefined",null,null,"UserDefined",null,null,"UserDefined",null,null,"UserDefined",null,null,"UserDefined",null,null,"UserDefined",null,null,"UserDefined",null,null,"UserDefined",null,null,"UserDefined"]
["Abundance of key species","N",null,"Activities for habitat protected or rehabilitation","N",null,"biodiversity policy","N",null,"Abundance of key species","N",null,"Activities for habitat protected or rehabilitation","N",null,"biodiversity policy","N",null,"Abundance of key species","N",null,"Activities for habitat protected or rehabilitation","N",null,"biodiversity policy","N"]
["Change in threat status of species, and the number of species changing categories between assessments as a result of genuine improvement or deterioration in status","N",null,"Affected soil area","N",null,"site rehabilitation","N",null,"Change in threat status of species, and the number of species changing categories between assessments as a result of genuine improvement or deterioration in status","N",null,"Affected soil area","N",null,"site rehabilitation","N",null,"Change in threat status of species, and the number of species changing categories between assessments as a result of genuine improvement or deterioration in status","N",null,"Affected soil area","N",null,"site rehabilitation","N"]
["Forest area at two different times","N",null,"area of permitted developments (quarries/mines and production facilities)","N",null,"Strategies, current actions, and future plans for managing impacts on biodiversity","N",null,"Forest area at two different times","N",null,"area of permitted developments (quarries/mines and production facilities)","N",null,"Strategies, current actions, and future plans for managing impacts on biodiversity","N",null,"Forest area at two different times","N",null,"area of permitted developments (quarries/mines and production facilities)","N",null,"Strategies, current actions, and future plans for managing impacts on biodiversity","N"]
["fragmentation of identified key habitat","N",null,"ercentage of the land area rehabilitated relative to the total land area occupied by the closed mines/quarries, awaiting rehabilitation","N",null,null,"N",null,"fragmentation of identified key habitat","N",null,"ercentage of the land area rehabilitated relative to the total land area occupied by the closed mines/quarries, awaiting rehabilitation","N",null,null,"N",null,"fragmentation of identified key habitat","N",null,"ercentage of the land area rehabilitated relative to the total land area occupied by the closed mines/quarries, awaiting rehabilitation","N",null,null,"N"]
["Land degradation (The share of land which due to natural processes or human activity is no longer able to sustain properly an economic function and/or the original ecological function)","N",null,"IUCN Red List species with habitats in areas affected by operations","N",null,null,"N",null,"Land degradation (The share of land which due to natural processes or human activity is no longer able to sustain properly an economic function and/or the original ecological function)","N",null,"IUCN Red List species with habitats in areas affected by operations","N",null,null,"N",null,"Land degradation (The share of land which due to natural processes or human activity is no longer able to sustain properly an economic function and/or the original ecological function)","N",null,"IUCN Red List species with habitats in areas affected by operations","N",null,null,"N"]
["Land use change","N",null,"land area newly opened for extraction activities (including area for overburden storage and tailings)","N",null,null,"N",null,"Land use change","N",null,"land area newly opened for extraction activities (including area for overburden storage and tailings)","N",null,null,"N",null,"Land use change","N",null,"land area newly opened for extraction activities (including area for overburden storage and tailings)","N",null,null,"N"]
["Marine Trophic Index","N",null,"Major impacts on biodiversity associated with company activities and/or products and services in terrestrial, freshwater, and marine environments","N",null,null,"N",null,"Marine Trophic Index","N",null,"Major impacts on biodiversity associated with company activities and/or products and services in terrestrial, freshwater, and marine environments","N",null,null,"N",null,"Marine Trophic Index","N",null,"Major impacts on biodiversity associated with company activities and/or products and services in terrestrial, freshwater, and marine environments","N",null,null,"N"]
["Protected areas overlay with biodiversity (national level; Red List Index (by country and major species group)","N",null,"Net number of trees planted (after thinning and after subtracting any trees removed for the extraction activities)","N",null,null,"N",null,"Protected areas overlay with biodiversity (national level; Red List Index (by country and major species group)","N",null,"Net number of trees planted (after thinning and after subtracting any trees removed for the extraction activities)","N",null,null,"N",null,"Protected areas overlay with biodiversity (national level; Red List Index (by country and major species group)","N",null,"Net number of trees planted (after thinning and after subtracting any trees removed for the extraction activities)","N",null,null,"N"]
["share of forest area in total land area","N",null,"newly opened land area relative to total permitted developments","N",null,null,"N",null,"share of forest area in total land area","N",null,"newly opened land area relative to total permitted developments","N",null,null,"N",null,"share of forest area in total land area","N",null,"newly opened land area relative to total permitted developments","N",null,null,"N"]
[null,"N",null,"Number of awards for rehabilitation ","N",null,null,"N",null,null,"N",null,"Number of awards for rehabilitation ","N",null,null,"N",null,null,"N",null,"Number of awards for rehabilitation ","N",null,null,"N"]
[null,"N",null,"sites officially designated for biological, recreational or other interest as a result of rehabilitation","N",null,null,"N",null,null,"N",null,"sites officially designated for biological, recreational or other interest as a result of rehabilitation","N",null,null,"N",null,null,"N",null,"sites officially designated for biological, recreational or other interest as a result of rehabilitation","N",null,null,"N"]
[null,"N",null,"Total land area rehabilitated","N",null,null,"N",null,null,"N",null,"Total land area rehabilitated","N",null,null,"N",null,null,"N",null,"Total land area rehabilitated","N",null,null,"N"]
[null,"N",null,null,"N",null,null,"N",null,null,"N",null,null,"N",null,null,"N",null,null,"N",null,null,"N",null,null,"N"]
[null,"N",null,null,"N",null,null,"N",null,null,"N",null,null,"N",null,null,"N",null,null,"N",null,null,"N",null,null,"N"]
[null,"N",null,null,"N",null,null,"N",null,null,"N",null,null,"N",null,null,"N",null,null,"N",null,null,"N",null,null,"N"]
[null,"N",null,null,"N",null,null,"N",null,null,"N",null,null,"N",null,null,"N",null,null,"N",null,null,"N",null,null,"N"]
[null,"N",null,null,"N",null,null,"N",null,null,"N",null,null,"N",null,null,"N",null,null,"N",null,null,"N",null,null,"N"]
[null,"N",null,null,"N",null,null,"N",null,null,"N",null,null,"N",null,null,"N",null,null,"N",null,null,"N",null,null,"N"]
[null,"N",null,null,"N",null,null,"N",null,null,"N",null,null,"N",null,null,"N",null,null,"N",null,null,"N",null,null,"N"]
[null,"N",null,null,"N",null,null,"N",null,null,"N",null,null,"N",null,null,"N",null,null,"N",null,null,"N",null,null,"N"]
[null,"N",null,null,"N",null,null,"N",null,null,"N",null,null,"N",null,null,"N",null,null,"N",null,null,"N",null,null,"N"]
[null,"N",null,null,"N",null,null,"N",null,null,"N",null,null,"N",null,null,"N",null,null,"N",null,null,"N",null,null,"N"]
[null,"N",null,null,"N",null,null,"N",null,null,"N",null,null,"N",null,null,"N",null,null,"N",null,null,"N",null,null,"N"]
[null,"N",null,null,"N",null,null,"N",null,null,"N",null,null,"N",null,null,"N",null,null,"N",null,null,"N",null,null,"N"]
[null,"N",null,null,"N",null,null,"N",null,null,"N",null,null,"N",null,null,"N",null,null,"N",null,null,"N",null,null,"N"]
[null,"N",null,null,"N",null,null,"N",null,null,"N",null,null,"N",null,null,"N",null,null,"N",null,null,"N",null,null,"N"]
[null,"N",null,null,"N",null,null,"N",null,null,"N",null,null,"N",null,null,"N",null,null,"N",null,null,"N",null,null,"N"]
[null,"N",null,null,"N",null,null,"N",null,null,"N",null,null,"N",null,null,"N",null,null,"N",null,null,"N",null,null,"N"]
[null,"N",null,null,"N",null,null,"N",null,null,"N",null,null,"N",null,null,"N",null,null,"N",null,null,"N",null,null,"N"]
[null,"N",null,null,"N",null,null,"N",null,null,"N",null,null,"N",null,null,"N",null,null,"N",null,null,"N",null,null,"N"]
["Pollination",0,null,"Pollination",0,null,"Pollination",0,null,"Pollination",0,null,"Pollination",0,null,"Pollination",0,null,"Pollination",0,null,"Pollination",0,null,"Pollination",0]
["Indicator List","Active",null,"Indicator List","Active",null,"Indicator List","Active",null,"Indicator List","Active",null,"Indicator List","Active",null,"Indicator List","Active",null,"Indicator List","Active",null,"Indicator List","Active",null,"Indicator List","Active"]
["UserDefined",null,null,"UserDefined",null,null,"UserDefined",null,null,"UserDefined",null,null,"UserDefined",null,null,"UserDefined",null,null,"UserDefined",null,null,"UserDefined",null,null,"UserDefined"]
[null,"N",null,null,"N",null,null,"N",null,null,"N",null,null,"N",null,null,"N",null,null,"N",null,null,"N",null,null,"N"]
[null,"N",null,null,"N",null,null,"N",null,null,"N",null,null,"N",null,null,"N",null,null,"N",null,null,"N",null,null,"N"]
[null,"N",null,null,"N",null,null,"N",null,null,"N",null,null,"N",null,null,"N",null,null,"N",null,null,"N",null,null,"N"]
[null,"N",null,null,"N",null,null,"N",null,null,"N",null,null,"N",null,null,"N",null,null,"N",null,null,"N",null,null,"N"]
[null,"N",null,null,"N",null,null,"N",null,null,"N",null,null,"N",null,null,"N",null,null,"N",null,null,"N",null,null,"N"]
[null,"N",null,null,"N",null,null,"N",null,null,"N",null,null,"N",null,null,"N",null,null,"N",null,null,"N",null,null,"N"]
[null,"N",null,null,"N",null,null,"N",null,null,"N",null,null,"N",null,null,"N",null,null,"N",null,null,"N",null,null,"N"]
[null,"N",null,null,"N",null,null,"N",null,null,"N",null,null,"N",null,null,"N",null,null,"N",null,null,"N",null,null,"N"]
[null,"N",null,null,"N",null,null,"N",null,null,"N",null,null,"N",null,null,"N",null,null,"N",null,null,"N",null,null,"N"]
[null,"N",null,null,"N",null,null,"N",null,null,"N",null,null,"N",null,null,"N",null,null,"N",null,null,"N",null,null,"N"]
[null,"N",null,null,"N",null,null,"N",null,null,"N",null,null,"N",null,null,"N",null,null,"N",null,null,"N",null,null,"N"]
[null,"N",null,null,"N",null,null,"N",null,null,"N",null,null,"N",null,null,"N",null,null,"N",null,null,"N",null,null,"N"]
[null,"N",null,null,"N",null,null,"N",null,null,"N",null,null,"N",null,null,"N",null,null,"N",null,null,"N",null,null,"N"]
[null,"N",null,null,"N",null,null,"N",null,null,"N",null,null,"N",null,null,"N",null,null,"N",null,null,"N",null,null,"N"]
[null,"N",null,null,"N",null,null,"N",null,null,"N",null,null,"N",null,null,"N",null,null,"N",null,null,"N",null,null,"N"]
[null,"N",null,null,"N",null,null,"N",null,null,"N",null,null,"N",null,null,"N",null,null,"N",null,null,"N",null,null,"N"]
[null,"N",null,null,"N",null,null,"N",null,null,"N",null,null,"N",null,null,"N",null,null,"N",null,null,"N",null,null,"N"]
[null,"N",null,null,"N",null,null,"N",null,null,"N",null,null,"N",null,null,"N",null,null,"N",null,null,"N",null,null,"N"]
[null,"N",null,null,"N",null,null,"N",null,null,"N",null,null,"N",null,null,"N",null,null,"N",null,null,"N",null,null,"N"]
[null,"N",null,null,"N",null,null,"N",null,null,"N",null,null,"N",null,null,"N",null,null,"N",null,null,"N",null,null,"N"]
[null,"N",null,null,"N",null,null,"N",null,null,"N",null,null,"N",null,null,"N",null,null,"N",null,null,"N",null,null,"N"]
[null,"N",null,null,"N",null,null,"N",null,null,"N",null,null,"N",null,null,"N",null,null,"N",null,null,"N",null,null,"N"]
[null,"N",null,null,"N",null,null,"N",null,null,"N",null,null,"N",null,null,"N",null,null,"N",null,null,"N",null,null,"N"]
[null,"N",null,null,"N",null,null,"N",null,null,"N",null,null,"N",null,null,"N",null,null,"N",null,null,"N",null,null,"N"]
[null,"N",null,null,"N",null,null,"N",null,null,"N",null,null,"N",null,null,"N",null,null,"N",null,null,"N",null,null,"N"]
[null,"N",null,null,"N",null,null,"N",null,null,"N",null,null,"N",null,null,"N",null,null,"N",null,null,"N",null,null,"N"]
[null,"N",null,null,"N",null,null,"N",null,null,"N",null,null,"N",null,null,"N",null,null,"N",null,null,"N",null,null,"N"]
[null,"N",null,null,"N",null,null,"N",null,null,"N",null,null,"N",null,null,"N",null,null,"N",null,null,"N",null,null,"N"]
[null,"N",null,null,"N",null,null,"N",null,null,"N",null,null,"N",null,null,"N",null,null,"N",null,null,"N",null,null,"N"]
[null,"N",null,null,"N",null,null,"N",null,null,"N",null,null,"N",null,null,"N",null,null,"N",null,null,"N",null,null,"N"]
["Storm Protection",0,null,"Storm Protection",0,null,"Storm Protection",0,null,"Storm Protection",0,null,"Storm Protection",0,null,"Storm Protection",0,null,"Storm Protection",0,null,"Storm Protection",0,null,"Storm Protection",0]
["Indicator List","Active",null,"Indicator List","Active",null,"Indicator List","Active",null,"Indicator List","Active",null,"Indicator List","Active",null,"Indicator List","Active",null,"Indicator List","Active",null,"Indicator List","Active",null,"Indicator List","Active"]
["UserDefined",null,null,"UserDefined",null,null,"UserDefined",null,null,"UserDefined",null,null,"UserDefined",null,null,"UserDefined",null,null,"UserDefined",null,null,"UserDefined",null,null,"UserDefined"]
[null,"N",null,null,"N",null,null,"N",null,null,"N",null,null,"N",null,null,"N",null,null,"N",null,null,"N",null,null,"N"]
[null,"N",null,null,"N",null,null,"N",null,null,"N",null,null,"N",null,null,"N",null,null,"N",null,null,"N",null,null,"N"]
[null,"N",null,null,"N",null,null,"N",null,null,"N",null,null,"N",null,null,"N",null,null,"N",null,null,"N",null,null,"N"]
[null,"N",null,null,"N",null,null,"N",null,null,"N",null,null,"N",null,null,"N",null,null,"N",null,null,"N",null,null,"N"]
[null,"N",null,null,"N",null,null,"N",null,null,"N",null,null,"N",null,null,"N",null,null,"N",null,null,"N",null,null,"N"]
[null,"N",null,null,"N",null,null,"N",null,null,"N",null,null,"N",null,null,"N",null,null,"N",null,null,"N",null,null,"N"]
[null,"N",null,null,"N",null,null,"N",null,null,"N",null,null,"N",null,null,"N",null,null,"N",null,null,"N",null,null,"N"]
[null,"N",null,null,"N",null,null,"N",null,null,"N",null,null,"N",null,null,"N",null,null,"N",null,null,"N",null,null,"N"]
[null,"N",null,null,"N",null,null,"N",null,null,"N",null,null,"N",null,null,"N",null,null,"N",null,null,"N",null,null,"N"]
[null,"N",null,null,"N",null,null,"N",null,null,"N",null,null,"N",null,null,"N",null,null,"N",null,null,"N",null,null,"N"]
[null,"N",null,null,"N",null,null,"N",null,null,"N",null,null,"N",null,null,"N",null,null,"N",null,null,"N",null,null,"N"]
[null,"N",null,null,"N",null,null,"N",null,null,"N",null,null,"N",null,null,"N",null,null,"N",null,null,"N",null,null,"N"]
[null,"N",null,null,"N",null,null,"N",null,null,"N",null,null,"N",null,null,"N",null,null,"N",null,null,"N",null,null,"N"]
[null,"N",null,null,"N",null,null,"N",null,null,"N",null,null,"N",null,null,"N",null,null,"N",null,null,"N",null,null,"N"]
[null,"N",null,null,"N",null,null,"N",null,null,"N",null,null,"N",null,null,"N",null,null,"N",null,null,"N",null,null,"N"]
[null,"N",null,null,"N",null,null,"N",null,null,"N",null,null,"N",null,null,"N",null,null,"N",null,null,"N",null,null,"N"]
[null,"N",null,null,"N",null,null,"N",null,null,"N",null,null,"N",null,null,"N",null,null,"N",null,null,"N",null,null,"N"]
[null,"N",null,null,"N",null,null,"N",null,null,"N",null,null,"N",null,null,"N",null,null,"N",null,null,"N",null,null,"N"]
[null,"N",null,null,"N",null,null,"N",null,null,"N",null,null,"N",null,null,"N",null,null,"N",null,null,"N",null,null,"N"]
[null,"N",null,null,"N",null,null,"N",null,null,"N",null,null,"N",null,null,"N",null,null,"N",null,null,"N",null,null,"N"]
[null,"N",null,null,"N",null,null,"N",null,null,"N",null,null,"N",null,null,"N",null,null,"N",null,null,"N",null,null,"N"]
[null,"N",null,null,"N",null,null,"N",null,null,"N",null,null,"N",null,null,"N",null,null,"N",null,null,"N",null,null,"N"]
[null,"N",null,null,"N",null,null,"N",null,null,"N",null,null,"N",null,null,"N",null,null,"N",null,null,"N",null,null,"N"]
[null,"N",null,null,"N",null,null,"N",null,null,"N",null,null,"N",null,null,"N",null,null,"N",null,null,"N",null,null,"N"]
[null,"N",null,null,"N",null,null,"N",null,null,"N",null,null,"N",null,null,"N",null,null,"N",null,null,"N",null,null,"N"]
[null,"N",null,null,"N",null,null,"N",null,null,"N",null,null,"N",null,null,"N",null,null,"N",null,null,"N",null,null,"N"]
[null,"N",null,null,"N",null,null,"N",null,null,"N",null,null,"N",null,null,"N",null,null,"N",null,null,"N",null,null,"N"]
[null,"N",null,null,"N",null,null,"N",null,null,"N",null,null,"N",null,null,"N",null,null,"N",null,null,"N",null,null,"N"]
[null,"N",null,null,"N",null,null,"N",null,null,"N",null,null,"N",null,null,"N",null,null,"N",null,null,"N",null,null,"N"]
[null,"N",null,null,"N",null,null,"N",null,null,"N",null,null,"N",null,null,"N",null,null,"N",null,null,"N",null,null,"N"]
["Utility Boards",0,null,"Utility Boards",0,null,"Utility Boards",0,null,"Utility Boards",0,null,"Utility Boards",0,null,"Utility Boards",0,null,"Utility Boards",0,null,"Utility Boards",0,null,"Utility Boards",0]
["Indicator List","Active",null,"Indicator List","Active",null,"Indicator List","Active",null,"Indicator List","Active",null,"Indicator List","Active",null,"Indicator List","Active",null,"Indicator List","Active",null,"Indicator List","Active",null,"Indicator List","Active"]
["UserDefined",null,null,"UserDefined",null,null,"UserDefined",null,null,"UserDefined",null,null,"UserDefined",null,null,"UserDefined",null,null,"UserDefined",null,null,"UserDefined",null,null,"UserDefined"]
[null,"N",null,null,"N",null,null,"N",null,null,"N",null,null,"N",null,null,"N",null,null,"N",null,null,"N",null,null,"N"]
[null,"N",null,null,"N",null,null,"N",null,null,"N",null,null,"N",null,null,"N",null,null,"N",null,null,"N",null,null,"N"]
[null,"N",null,null,"N",null,null,"N",null,null,"N",null,null,"N",null,null,"N",null,null,"N",null,null,"N",null,null,"N"]
[null,"N",null,null,"N",null,null,"N",null,null,"N",null,null,"N",null,null,"N",null,null,"N",null,null,"N",null,null,"N"]
[null,"N",null,null,"N",null,null,"N",null,null,"N",null,null,"N",null,null,"N",null,null,"N",null,null,"N",null,null,"N"]
[null,"N",null,null,"N",null,null,"N",null,null,"N",null,null,"N",null,null,"N",null,null,"N",null,null,"N",null,null,"N"]
[null,"N",null,null,"N",null,null,"N",null,null,"N",null,null,"N",null,null,"N",null,null,"N",null,null,"N",null,null,"N"]
[null,"N",null,null,"N",null,null,"N",null,null,"N",null,null,"N",null,null,"N",null,null,"N",null,null,"N",null,null,"N"]
[null,"N",null,null,"N",null,null,"N",null,null,"N",null,null,"N",null,null,"N",null,null,"N",null,null,"N",null,null,"N"]
[null,"N",null,null,"N",null,null,"N",null,null,"N",null,null,"N",null,null,"N",null,null,"N",null,null,"N",null,null,"N"]
[null,"N",null,null,"N",null,null,"N",null,null,"N",null,null,"N",null,null,"N",null,null,"N",null,null,"N",null,null,"N"]
[null,"N",null,null,"N",null,null,"N",null,null,"N",null,null,"N",null,null,"N",null,null,"N",null,null,"N",null,null,"N"]
[null,"N",null,null,"N",null,null,"N",null,null,"N",null,null,"N",null,null,"N",null,null,"N",null,null,"N",null,null,"N"]
[null,"N",null,null,"N",null,null,"N",null,null,"N",null,null,"N",null,null,"N",null,null,"N",null,null,"N",null,null,"N"]
[null,"N",null,null,"N",null,null,"N",null,null,"N",null,null,"N",null,null,"N",null,null,"N",null,null,"N",null,null,"N"]
[null,"N",null,null,"N",null,null,"N",null,null,"N",null,null,"N",null,null,"N",null,null,"N",null,null,"N",null,null,"N"]
[null,"N",null,null,"N",null,null,"N",null,null,"N",null,null,"N",null,null,"N",null,null,"N",null,null,"N",null,null,"N"]
[null,"N",null,null,"N",null,null,"N",null,null,"N",null,null,"N",null,null,"N",null,null,"N",null,null,"N",null,null,"N"]
[null,"N",null,null,"N",null,null,"N",null,null,"N",null,null,"N",null,null,"N",null,null,"N",null,null,"N",null,null,"N"]
[null,"N",null,null,"N",null,null,"N",null,null,"N",null,null,"N",null,null,"N",null,null,"N",null,null,"N",null,null,"N"]
[null,"N",null,null,"N",null,null,"N",null,null,"N",null,null,"N",null,null,"N",null,null,"N",null,null,"N",null,null,"N"]
[null,"N",null,null,"N",null,null,"N",null,null,"N",null,null,"N",null,null,"N",null,null,"N",null,null,"N",null,null,"N"]
[null,"N",null,null,"N",null,null,"N",null,null,"N",null,null,"N",null,null,"N",null,null,"N",null,null,"N",null,null,"N"]
[null,"N",null,null,"N",null,null,"N",null,null,"N",null,null,"N",null,null,"N",null,null,"N",null,null,"N",null,null,"N"]
[null,"N",null,null,"N",null,null,"N",null,null,"N",null,null,"N",null,null,"N",null,null,"N",null,null,"N",null,null,"N"]
[null,"N",null,null,"N",null,null,"N",null,null,"N",null,null,"N",null,null,"N",null,null,"N",null,null,"N",null,null,"N"]
[null,"N",null,null,"N",null,null,"N",null,null,"N",null,null,"N",null,null,"N",null,null,"N",null,null,"N",null,null,"N"]
[null,"N",null,null,"N",null,null,"N",null,null,"N",null,null,"N",null,null,"N",null,null,"N",null,null,"N",null,null,"N"]
[null,"N",null,null,"N",null,null,"N",null,null,"N",null,null,"N",null,null,"N",null,null,"N",null,null,"N",null,null,"N"]
[null,"N",null,null,"N",null,null,"N",null,null,"N",null,null,"N",null,null,"N",null,null,"N",null,null,"N",null,null,"N"]
["Resource Co-ops",0,null,"Resource Co-ops",0,null,"Resource Co-ops",1,null,"Resource Co-ops",0,null,"Resource Co-ops",0,null,"Resource Co-ops",1,null,"Resource Co-ops",0,null,"Resource Co-ops",0,null,"Resource Co-ops",1]
["Indicator List","Active",null,"Indicator List","Active",null,"Indicator List","Active",null,"Indicator List","Active",null,"Indicator List","Active",null,"Indicator List","Active",null,"Indicator List","Active",null,"Indicator List","Active",null,"Indicator List","Active"]
["UserDefined",null,null,"UserDefined",null,null,"UserDefined",null,null,"UserDefined",null,null,"UserDefined",null,null,"UserDefined",null,null,"UserDefined",null,null,"UserDefined",null,null,"UserDefined"]
[null,"N",null,null,"N",null,"Agriculture extension services","N",null,null,"N",null,null,"N",null,"Agriculture extension services","N",null,null,"N",null,null,"N",null,"Agriculture extension services","N"]
[null,"N",null,null,"N",null,null,"N",null,null,"N",null,null,"N",null,null,"N",null,null,"N",null,null,"N",null,null,"N"]
[null,"N",null,null,"N",null,null,"N",null,null,"N",null,null,"N",null,null,"N",null,null,"N",null,null,"N",null,null,"N"]
[null,"N",null,null,"N",null,null,"N",null,null,"N",null,null,"N",null,null,"N",null,null,"N",null,null,"N",null,null,"N"]
[null,"N",null,null,"N",null,null,"N",null,null,"N",null,null,"N",null,null,"N",null,null,"N",null,null,"N",null,null,"N"]
[null,"N",null,null,"N",null,null,"N",null,null,"N",null,null,"N",null,null,"N",null,null,"N",null,null,"N",null,null,"N"]
[null,"N",null,null,"N",null,null,"N",null,null,"N",null,null,"N",null,null,"N",null,null,"N",null,null,"N",null,null,"N"]
[null,"N",null,null,"N",null,null,"N",null,null,"N",null,null,"N",null,null,"N",null,null,"N",null,null,"N",null,null,"N"]
[null,"N",null,null,"N",null,null,"N",null,null,"N",null,null,"N",null,null,"N",null,null,"N",null,null,"N",null,null,"N"]
[null,"N",null,null,"N",null,null,"N",null,null,"N",null,null,"N",null,null,"N",null,null,"N",null,null,"N",null,null,"N"]
[null,"N",null,null,"N",null,null,"N",null,null,"N",null,null,"N",null,null,"N",null,null,"N",null,null,"N",null,null,"N"]
[null,"N",null,null,"N",null,null,"N",null,null,"N",null,null,"N",null,null,"N",null,null,"N",null,null,"N",null,null,"N"]
[null,"N",null,null,"N",null,null,"N",null,null,"N",null,null,"N",null,null,"N",null,null,"N",null,null,"N",null,null,"N"]
[null,"N",null,null,"N",null,null,"N",null,null,"N",null,null,"N",null,null,"N",null,null,"N",null,null,"N",null,null,"N"]
[null,"N",null,null,"N",null,null,"N",null,null,"N",null,null,"N",null,null,"N",null,null,"N",null,null,"N",null,null,"N"]
[null,"N",null,null,"N",null,null,"N",null,null,"N",null,null,"N",null,null,"N",null,null,"N",null,null,"N",null,null,"N"]
[null,"N",null,null,"N",null,null,"N",null,null,"N",null,null,"N",null,null,"N",null,null,"N",null,null,"N",null,null,"N"]
[null,"N",null,null,"N",null,null,"N",null,null,"N",null,null,"N",null,null,"N",null,null,"N",null,null,"N",null,null,"N"]
[null,"N",null,null,"N",null,null,"N",null,null,"N",null,null,"N",null,null,"N",null,null,"N",null,null,"N",null,null,"N"]
[null,"N",null,null,"N",null,null,"N",null,null,"N",null,null,"N",null,null,"N",null,null,"N",null,null,"N",null,null,"N"]
[null,"N",null,null,"N",null,null,"N",null,null,"N",null,null,"N",null,null,"N",null,null,"N",null,null,"N",null,null,"N"]
[null,"N",null,null,"N",null,null,"N",null,null,"N",null,null,"N",null,null,"N",null,null,"N",null,null,"N",null,null,"N"]
[null,"N",null,null,"N",null,null,"N",null,null,"N",null,null,"N",null,null,"N",null,null,"N",null,null,"N",null,null,"N"]
[null,"N",null,null,"N",null,null,"N",null,null,"N",null,null,"N",null,null,"N",null,null,"N",null,null,"N",null,null,"N"]
[null,"N",null,null,"N",null,null,"N",null,null,"N",null,null,"N",null,null,"N",null,null,"N",null,null,"N",null,null,"N"]
[null,"N",null,null,"N",null,null,"N",null,null,"N",null,null,"N",null,null,"N",null,null,"N",null,null,"N",null,null,"N"]
[null,"N",null,null,"N",null,null,"N",null,null,"N",null,null,"N",null,null,"N",null,null,"N",null,null,"N",null,null,"N"]
[null,"N",null,null,"N",null,null,"N",null,null,"N",null,null,"N",null,null,"N",null,null,"N",null,null,"N",null,null,"N"]
[null,"N",null,null,"N",null,null,"N",null,null,"N",null,null,"N",null,null,"N",null,null,"N",null,null,"N",null,null,"N"]
[null,"N",null,null,"N",null,null,"N",null,null,"N",null,null,"N",null,null,"N",null,null,"N",null,null,"N",null,null,"N"]
["Safety Oversight",0,null,"Safety Oversight",0,null,"Safety Oversight",0,null,"Safety Oversight",0,null,"Safety Oversight",0,null,"Safety Oversight",0,null,"Safety Oversight",0,null,"Safety Oversight",0,null,"Safety Oversight",0]
["Indicator List","Active",null,"Indicator List","Active",null,"Indicator List","Active",null,"Indicator List","Active",null,"Indicator List","Active",null,"Indicator List","Active",null,"Indicator List","Active",null,"Indicator List","Active",null,"Indicator List","Active"]
["UserDefined",null,null,"UserDefined",null,null,"UserDefined",null,null,"UserDefined",null,null,"UserDefined",null,null,"UserDefined",null,null,"UserDefined",null,null,"UserDefined",null,null,"UserDefined"]
[null,"N",null,null,"N",null,null,"N",null,null,"N",null,null,"N",null,null,"N",null,null,"N",null,null,"N",null,null,"N"]
[null,"N",null,null,"N",null,null,"N",null,null,"N",null,null,"N",null,null,"N",null,null,"N",null,null,"N",null,null,"N"]
[null,"N",null,null,"N",null,null,"N",null,null,"N",null,null,"N",null,null,"N",null,null,"N",null,null,"N",null,null,"N"]
[null,"N",null,null,"N",null,null,"N",null,null,"N",null,null,"N",null,null,"N",null,null,"N",null,null,"N",null,null,"N"]
[null,"N",null,null,"N",null,null,"N",null,null,"N",null,null,"N",null,null,"N",null,null,"N",null,null,"N",null,null,"N"]
[null,"N",null,null,"N",null,null,"N",null,null,"N",null,null,"N",null,null,"N",null,null,"N",null,null,"N",null,null,"N"]
[null,"N",null,null,"N",null,null,"N",null,null,"N",null,null,"N",null,null,"N",null,null,"N",null,null,"N",null,null,"N"]
[null,"N",null,null,"N",null,null,"N",null,null,"N",null,null,"N",null,null,"N",null,null,"N",null,null,"N",null,null,"N"]
[null,"N",null,null,"N",null,null,"N",null,null,"N",null,null,"N",null,null,"N",null,null,"N",null,null,"N",null,null,"N"]
[null,"N",null,null,"N",null,null,"N",null,null,"N",null,null,"N",null,null,"N",null,null,"N",null,null,"N",null,null,"N"]
[null,"N",null,null,"N",null,null,"N",null,null,"N",null,null,"N",null,null,"N",null,null,"N",null,null,"N",null,null,"N"]
[null,"N",null,null,"N",null,null,"N",null,null,"N",null,null,"N",null,null,"N",null,null,"N",null,null,"N",null,null,"N"]
[null,"N",null,null,"N",null,null,"N",null,null,"N",null,null,"N",null,null,"N",null,null,"N",null,null,"N",null,null,"N"]
[null,"N",null,null,"N",null,null,"N",null,null,"N",null,null,"N",null,null,"N",null,null,"N",null,null,"N",null,null,"N"]
[null,"N",null,null,"N",null,null,"N",null,null,"N",null,null,"N",null,null,"N",null,null,"N",null,null,"N",null,null,"N"]
[null,"N",null,null,"N",null,null,"N",null,null,"N",null,null,"N",null,null,"N",null,null,"N",null,null,"N",null,null,"N"]
[null,"N",null,null,"N",null,null,"N",null,null,"N",null,null,"N",null,null,"N",null,null,"N",null,null,"N",null,null,"N"]
[null,"N",null,null,"N",null,null,"N",null,null,"N",null,null,"N",null,null,"N",null,null,"N",null,null,"N",null,null,"N"]
[null,"N",null,null,"N",null,null,"N",null,null,"N",null,null,"N",null,null,"N",null,null,"N",null,null,"N",null,null,"N"]
[null,"N",null,null,"N",null,null,"N",null,null,"N",null,null,"N",null,null,"N",null,null,"N",null,null,"N",null,null,"N"]
[null,"N",null,null,"N",null,null,"N",null,null,"N",null,null,"N",null,null,"N",null,null,"N",null,null,"N",null,null,"N"]
[null,"N",null,null,"N",null,null,"N",null,null,"N",null,null,"N",null,null,"N",null,null,"N",null,null,"N",null,null,"N"]
[null,"N",null,null,"N",null,null,"N",null,null,"N",null,null,"N",null,null,"N",null,null,"N",null,null,"N",null,null,"N"]
[null,"N",null,null,"N",null,null,"N",null,null,"N",null,null,"N",null,null,"N",null,null,"N",null,null,"N",null,null,"N"]
[null,"N",null,null,"N",null,null,"N",null,null,"N",null,null,"N",null,null,"N",null,null,"N",null,null,"N",null,null,"N"]
[null,"N",null,null,"N",null,null,"N",null,null,"N",null,null,"N",null,null,"N",null,null,"N",null,null,"N",null,null,"N"]
[null,"N",null,null,"N",null,null,"N",null,null,"N",null,null,"N",null,null,"N",null,null,"N",null,null,"N",null,null,"N"]
[null,"N",null,null,"N",null,null,"N",null,null,"N",null,null,"N",null,null,"N",null,null,"N",null,null,"N",null,null,"N"]
[null,"N",null,null,"N",null,null,"N",null,null,"N",null,null,"N",null,null,"N",null,null,"N",null,null,"N",null,null,"N"]
[null,"N",null,null,"N",null,null,"N",null,null,"N",null,null,"N",null,null,"N",null,null,"N",null,null,"N",null,null,"N"]
["Education",7,null,"Education",4,null,"Education",4,null,"Education",7,null,"Education",4,null,"Education",4,null,"Education",7,null,"Education",4,null,"Education",4]
["Indicator List","Active",null,"Indicator List","Active",null,"Indicator List","Active",null,"Indicator List","Active",null,"Indicator List","Active",null,"Indicator List","Active",null,"Indicator List","Active",null,"Indicator List","Active",null,"Indicator List","Active"]
["UserDefined",null,null,"UserDefined",null,null,"UserDefined",null,null,"UserDefined",null,null,"UserDefined",null,null,"UserDefined",null,null,"UserDefined",null,null,"UserDefined",null,null,"UserDefined"]
["Capacity development of government staff","N",null,"Average hours of training per year per employee by employee category","N",null," Summary of programmes to support the continued employability of employees and to manage career endings","N",null,"Capacity development of government staff","N",null,"Average hours of training per year per employee by employee category","N",null," Summary of programmes to support the continued employability of employees and to manage career endings","N",null,"Capacity development of government staff","N",null,"Average hours of training per year per employee by employee category","N",null," Summary of programmes to support the continued employability of employees and to manage career endings","N"]
["Early Child Development Index (ECDI)","N",null,"Number of employees that are financially sponsored by the company for further education","N",null,"Education expenditure per capita","N",null,"Early Child Development Index (ECDI)","N",null,"Number of employees that are financially sponsored by the company for further education","N",null,"Education expenditure per capita","N",null,"Early Child Development Index (ECDI)","N",null,"Number of employees that are financially sponsored by the company for further education","N",null,"Education expenditure per capita","N"]
["Female adult literacy","N",null,"Percentage of employees receiving regular performance and career development reviews","N",null,"Investment in employee training and education as percentage of net sales","N",null,"Female adult literacy","N",null,"Percentage of employees receiving regular performance and career development reviews","N",null,"Investment in employee training and education as percentage of net sales","N",null,"Female adult literacy","N",null,"Percentage of employees receiving regular performance and career development reviews","N",null,"Investment in employee training and education as percentage of net sales","N"]
["Female enrollment rate, secondary","N",null,"Percentage of hours of training (excl. health and safety) relative to the total hours worked (e.g. management, production, technical, administrative, cultural etc.)","N",null,"Programs for skills management and lifelong learning that support the continued employability of employees and assist them in managing career endings","N",null,"Female enrollment rate, secondary","N",null,"Percentage of hours of training (excl. health and safety) relative to the total hours worked (e.g. management, production, technical, administrative, cultural etc.)","N",null,"Programs for skills management and lifelong learning that support the continued employability of employees and assist them in managing career endings","N",null,"Female enrollment rate, secondary","N",null,"Percentage of hours of training (excl. health and safety) relative to the total hours worked (e.g. management, production, technical, administrative, cultural etc.)","N",null,"Programs for skills management and lifelong learning that support the continued employability of employees and assist them in managing career endings","N"]
["Primary completion rates for girls and boys","N",null,null,"N",null,null,"N",null,"Primary completion rates for girls and boys","N",null,null,"N",null,null,"N",null,"Primary completion rates for girls and boys","N",null,null,"N",null,null,"N"]
["Proportion of children receiving at least one year of a quality pre-primary education program","N",null,null,"N",null,null,"N",null,"Proportion of children receiving at least one year of a quality pre-primary education program","N",null,null,"N",null,null,"N",null,"Proportion of children receiving at least one year of a quality pre-primary education program","N",null,null,"N",null,null,"N"]
["proportion of the adult population aged 15 years and over that is literate","N",null,null,"N",null,null,"N",null,"proportion of the adult population aged 15 years and over that is literate","N",null,null,"N",null,null,"N",null,"proportion of the adult population aged 15 years and over that is literate","N",null,null,"N",null,null,"N"]
[null,"N",null,null,"N",null,null,"N",null,null,"N",null,null,"N",null,null,"N",null,null,"N",null,null,"N",null,null,"N"]
[null,"N",null,null,"N",null,null,"N",null,null,"N",null,null,"N",null,null,"N",null,null,"N",null,null,"N",null,null,"N"]
[null,"N",null,null,"N",null,null,"N",null,null,"N",null,null,"N",null,null,"N",null,null,"N",null,null,"N",null,null,"N"]
[null,"N",null,null,"N",null,null,"N",null,null,"N",null,null,"N",null,null,"N",null,null,"N",null,null,"N",null,null,"N"]
[null,"N",null,null,"N",null,null,"N",null,null,"N",null,null,"N",null,null,"N",null,null,"N",null,null,"N",null,null,"N"]
[null,"N",null,null,"N",null,null,"N",null,null,"N",null,null,"N",null,null,"N",null,null,"N",null,null,"N",null,null,"N"]
[null,"N",null,null,"N",null,null,"N",null,null,"N",null,null,"N",null,null,"N",null,null,"N",null,null,"N",null,null,"N"]
[null,"N",null,null,"N",null,null,"N",null,null,"N",null,null,"N",null,null,"N",null,null,"N",null,null,"N",null,null,"N"]
[null,"N",null,null,"N",null,null,"N",null,null,"N",null,null,"N",null,null,"N",null,null,"N",null,null,"N",null,null,"N"]
[null,"N",null,null,"N",null,null,"N",null,null,"N",null,null,"N",null,null,"N",null,null,"N",null,null,"N",null,null,"N"]
[null,"N",null,null,"N",null,null,"N",null,null,"N",null,null,"N",null,null,"N",null,null,"N",null,null,"N",null,null,"N"]
[null,"N",null,null,"N",null,null,"N",null,null,"N",null,null,"N",null,null,"N",null,null,"N",null,null,"N",null,null,"N"]
[null,"N",null,null,"N",null,null,"N",null,null,"N",null,null,"N",null,null,"N",null,null,"N",null,null,"N",null,null,"N"]
[null,"N",null,null,"N",null,null,"N",null,null,"N",null,null,"N",null,null,"N",null,null,"N",null,null,"N",null,null,"N"]
[null,"N",null,null,"N",null,null,"N",null,null,"N",null,null,"N",null,null,"N",null,null,"N",null,null,"N",null,null,"N"]
[null,"N",null,null,"N",null,null,"N",null,null,"N",null,null,"N",null,null,"N",null,null,"N",null,null,"N",null,null,"N"]
[null,"N",null,null,"N",null,null,"N",null,null,"N",null,null,"N",null,null,"N",null,null,"N",null,null,"N",null,null,"N"]
[null,"N",null,null,"N",null,null,"N",null,null,"N",null,null,"N",null,null,"N",null,null,"N",null,null,"N",null,null,"N"]
[null,"N",null,null,"N",null,null,"N",null,null,"N",null,null,"N",null,null,"N",null,null,"N",null,null,"N",null,null,"N"]
[null,"N",null,null,"N",null,null,"N",null,null,"N",null,null,"N",null,null,"N",null,null,"N",null,null,"N",null,null,"N"]
[null,"N",null,null,"N",null,null,"N",null,null,"N",null,null,"N",null,null,"N",null,null,"N",null,null,"N",null,null,"N"]
[null,"N",null,null,"N",null,null,"N",null,null,"N",null,null,"N",null,null,"N",null,null,"N",null,null,"N",null,null,"N"]
[null,"N",null,null,"N",null,null,"N",null,null,"N",null,null,"N",null,null,"N",null,null,"N",null,null,"N",null,null,"N"]
["Law Enforcement",4,null,"Law Enforcement",0,null,"Law Enforcement",0,null,"Law Enforcement",4,null,"Law Enforcement",0,null,"Law Enforcement",0,null,"Law Enforcement",4,null,"Law Enforcement",0,null,"Law Enforcement",0]
["Indicator List","Active",null,"Indicator List","Active",null,"Indicator List","Active",null,"Indicator List","Active",null,"Indicator List","Active",null,"Indicator List","Active",null,"Indicator List","Active",null,"Indicator List","Active",null,"Indicator List","Active"]
["UserDefined",null,null,"UserDefined",null,null,"UserDefined",null,null,"UserDefined",null,null,"UserDefined",null,null,"UserDefined",null,null,"UserDefined",null,null,"UserDefined",null,null,"UserDefined"]
["Frequency of conflict over territory and natural resources, number of court cases and disputes filed","N",null,null,"N",null,null,"N",null,"Frequency of conflict over territory and natural resources, number of court cases and disputes filed","N",null,null,"N",null,null,"N",null,"Frequency of conflict over territory and natural resources, number of court cases and disputes filed","N",null,null,"N",null,null,"N"]
["Governance and civil security","N",null,null,"N",null,null,"N",null,"Governance and civil security","N",null,null,"N",null,null,"N",null,"Governance and civil security","N",null,null,"N",null,null,"N"]
["Number of small arms flow, number of incidents","N",null,null,"N",null,null,"N",null,"Number of small arms flow, number of incidents","N",null,null,"N",null,null,"N",null,"Number of small arms flow, number of incidents","N",null,null,"N",null,null,"N"]
["Worldwide governance score","N",null,null,"N",null,null,"N",null,"Worldwide governance score","N",null,null,"N",null,null,"N",null,"Worldwide governance score","N",null,null,"N",null,null,"N"]
[null,"N",null,null,"N",null,null,"N",null,null,"N",null,null,"N",null,null,"N",null,null,"N",null,null,"N",null,null,"N"]
[null,"N",null,null,"N",null,null,"N",null,null,"N",null,null,"N",null,null,"N",null,null,"N",null,null,"N",null,null,"N"]
[null,"N",null,null,"N",null,null,"N",null,null,"N",null,null,"N",null,null,"N",null,null,"N",null,null,"N",null,null,"N"]
[null,"N",null,null,"N",null,null,"N",null,null,"N",null,null,"N",null,null,"N",null,null,"N",null,null,"N",null,null,"N"]
[null,"N",null,null,"N",null,null,"N",null,null,"N",null,null,"N",null,null,"N",null,null,"N",null,null,"N",null,null,"N"]
[null,"N",null,null,"N",null,null,"N",null,null,"N",null,null,"N",null,null,"N",null,null,"N",null,null,"N",null,null,"N"]
[null,"N",null,null,"N",null,null,"N",null,null,"N",null,null,"N",null,null,"N",null,null,"N",null,null,"N",null,null,"N"]
[null,"N",null,null,"N",null,null,"N",null,null,"N",null,null,"N",null,null,"N",null,null,"N",null,null,"N",null,null,"N"]
[null,"N",null,null,"N",null,null,"N",null,null,"N",null,null,"N",null,null,"N",null,null,"N",null,null,"N",null,null,"N"]
[null,"N",null,null,"N",null,null,"N",null,null,"N",null,null,"N",null,null,"N",null,null,"N",null,null,"N",null,null,"N"]
[null,"N",null,null,"N",null,null,"N",null,null,"N",null,null,"N",null,null,"N",null,null,"N",null,null,"N",null,null,"N"]
[null,"N",null,null,"N",null,null,"N",null,null,"N",null,null,"N",null,null,"N",null,null,"N",null,null,"N",null,null,"N"]
[null,"N",null,null,"N",null,null,"N",null,null,"N",null,null,"N",null,null,"N",null,null,"N",null,null,"N",null,null,"N"]
[null,"N",null,null,"N",null,null,"N",null,null,"N",null,null,"N",null,null,"N",null,null,"N",null,null,"N",null,null,"N"]
[null,"N",null,null,"N",null,null,"N",null,null,"N",null,null,"N",null,null,"N",null,null,"N",null,null,"N",null,null,"N"]
[null,"N",null,null,"N",null,null,"N",null,null,"N",null,null,"N",null,null,"N",null,null,"N",null,null,"N",null,null,"N"]
[null,"N",null,null,"N",null,null,"N",null,null,"N",null,null,"N",null,null,"N",null,null,"N",null,null,"N",null,null,"N"]
[null,"N",null,null,"N",null,null,"N",null,null,"N",null,null,"N",null,null,"N",null,null,"N",null,null,"N",null,null,"N"]
[null,"N",null,null,"N",null,null,"N",null,null,"N",null,null,"N",null,null,"N",null,null,"N",null,null,"N",null,null,"N"]
[null,"N",null,null,"N",null,null,"N",null,null,"N",null,null,"N",null,null,"N",null,null,"N",null,null,"N",null,null,"N"]
[null,"N",null,null,"N",null,null,"N",null,null,"N",null,null,"N",null,null,"N",null,null,"N",null,null,"N",null,null,"N"]
[null,"N",null,null,"N",null,null,"N",null,null,"N",null,null,"N",null,null,"N",null,null,"N",null,null,"N",null,null,"N"]
[null,"N",null,null,"N",null,null,"N",null,null,"N",null,null,"N",null,null,"N",null,null,"N",null,null,"N",null,null,"N"]
[null,"N",null,null,"N",null,null,"N",null,null,"N",null,null,"N",null,null,"N",null,null,"N",null,null,"N",null,null,"N"]
[null,"N",null,null,"N",null,null,"N",null,null,"N",null,null,"N",null,null,"N",null,null,"N",null,null,"N",null,null,"N"]
[null,"N",null,null,"N",null,null,"N",null,null,"N",null,null,"N",null,null,"N",null,null,"N",null,null,"N",null,null,"N"]
["Resource Use Plans",2,null,"Resource Use Plans",6,null,"Resource Use Plans",3,null,"Resource Use Plans",2,null,"Resource Use Plans",6,null,"Resource Use Plans",3,null,"Resource Use Plans",2,null,"Resource Use Plans",6,null,"Resource Use Plans",3]
["Indicator List","Active",null,"Indicator List","Active",null,"Indicator List","Active",null,"Indicator List","Active",null,"Indicator List","Active",null,"Indicator List","Active",null,"Indicator List","Active",null,"Indicator List","Active",null,"Indicator List","Active"]
["UserDefined",null,null,"UserDefined",null,null,"UserDefined",null,null,"UserDefined",null,null,"UserDefined",null,null,"UserDefined",null,null,"UserDefined",null,null,"UserDefined",null,null,"UserDefined"]
["Area of land/soils under sustainable management","N",null,"active programs in Indigenous communities to restore plant or animal food species and/or their habitats and measure the impacts","N",null,"Formal involvement of stakeholder group","N",null,"Area of land/soils under sustainable management","N",null,"active programs in Indigenous communities to restore plant or animal food species and/or their habitats and measure the impacts","N",null,"Formal involvement of stakeholder group","N",null,"Area of land/soils under sustainable management","N",null,"active programs in Indigenous communities to restore plant or animal food species and/or their habitats and measure the impacts","N",null,"Formal involvement of stakeholder group","N"]
["Community Sustainable Development Plan to manage impacts on communities in areas affected by its activities during the mine operation and post-closure","N",null,"active programs in Indigenous communities to restore plant or animal food species and/or their habitats and measure the impacts","N",null,"policy for protection of land rights and for land compensation","N",null,"Community Sustainable Development Plan to manage impacts on communities in areas affected by its activities during the mine operation and post-closure","N",null,"active programs in Indigenous communities to restore plant or animal food species and/or their habitats and measure the impacts","N",null,"policy for protection of land rights and for land compensation","N",null,"Community Sustainable Development Plan to manage impacts on communities in areas affected by its activities during the mine operation and post-closure","N",null,"active programs in Indigenous communities to restore plant or animal food species and/or their habitats and measure the impacts","N",null,"policy for protection of land rights and for land compensation","N"]
[null,"N",null,"development projects/proposals from outside Indigenous communities that respect and uphold the rights of free prior informed consent, self-determination and development","N",null,"Water resource issue assessment","N",null,null,"N",null,"development projects/proposals from outside Indigenous communities that respect and uphold the rights of free prior informed consent, self-determination and development","N",null,"Water resource issue assessment","N",null,null,"N",null,"development projects/proposals from outside Indigenous communities that respect and uphold the rights of free prior informed consent, self-determination and development","N",null,"Water resource issue assessment","N"]
[null,"N",null,"policy for the closure and rehabilitation","N",null,null,"N",null,null,"N",null,"policy for the closure and rehabilitation","N",null,null,"N",null,null,"N",null,"policy for the closure and rehabilitation","N",null,null,"N"]
[null,"N",null,"Regulatory instruments and enforcement","N",null,null,"N",null,null,"N",null,"Regulatory instruments and enforcement","N",null,null,"N",null,null,"N",null,"Regulatory instruments and enforcement","N",null,null,"N"]
[null,"N",null,"Water is mainstreamed in development policies","N",null,null,"N",null,null,"N",null,"Water is mainstreamed in development policies","N",null,null,"N",null,null,"N",null,"Water is mainstreamed in development policies","N",null,null,"N"]
[null,"N",null,null,"N",null,null,"N",null,null,"N",null,null,"N",null,null,"N",null,null,"N",null,null,"N",null,null,"N"]
[null,"N",null,null,"N",null,null,"N",null,null,"N",null,null,"N",null,null,"N",null,null,"N",null,null,"N",null,null,"N"]
[null,"N",null,null,"N",null,null,"N",null,null,"N",null,null,"N",null,null,"N",null,null,"N",null,null,"N",null,null,"N"]
[null,"N",null,null,"N",null,null,"N",null,null,"N",null,null,"N",null,null,"N",null,null,"N",null,null,"N",null,null,"N"]
[null,"N",null,null,"N",null,null,"N",null,null,"N",null,null,"N",null,null,"N",null,null,"N",null,null,"N",null,null,"N"]
[null,"N",null,null,"N",null,null,"N",null,null,"N",null,null,"N",null,null,"N",null,null,"N",null,null,"N",null,null,"N"]
[null,"N",null,null,"N",null,null,"N",null,null,"N",null,null,"N",null,null,"N",null,null,"N",null,null,"N",null,null,"N"]
[null,"N",null,null,"N",null,null,"N",null,null,"N",null,null,"N",null,null,"N",null,null,"N",null,null,"N",null,null,"N"]
[null,"N",null,null,"N",null,null,"N",null,null,"N",null,null,"N",null,null,"N",null,null,"N",null,null,"N",null,null,"N"]
[null,"N",null,null,"N",null,null,"N",null,null,"N",null,null,"N",null,null,"N",null,null,"N",null,null,"N",null,null,"N"]
[null,"N",null,null,"N",null,null,"N",null,null,"N",null,null,"N",null,null,"N",null,null,"N",null,null,"N",null,null,"N"]
[null,"N",null,null,"N",null,null,"N",null,null,"N",null,null,"N",null,null,"N",null,null,"N",null,null,"N",null,null,"N"]
[null,"N",null,null,"N",null,null,"N",null,null,"N",null,null,"N",null,null,"N",null,null,"N",null,null,"N",null,null,"N"]
[null,"N",null,null,"N",null,null,"N",null,null,"N",null,null,"N",null,null,"N",null,null,"N",null,null,"N",null,null,"N"]
[null,"N",null,null,"N",null,null,"N",null,null,"N",null,null,"N",null,null,"N",null,null,"N",null,null,"N",null,null,"N"]
[null,"N",null,null,"N",null,null,"N",null,null,"N",null,null,"N",null,null,"N",null,null,"N",null,null,"N",null,null,"N"]
[null,"N",null,null,"N",null,null,"N",null,null,"N",null,null,"N",null,null,"N",null,null,"N",null,null,"N",null,null,"N"]
[null,"N",null,null,"N",null,null,"N",null,null,"N",null,null,"N",null,null,"N",null,null,"N",null,null,"N",null,null,"N"]
[null,"N",null,null,"N",null,null,"N",null,null,"N",null,null,"N",null,null,"N",null,null,"N",null,null,"N",null,null,"N"]
[null,"N",null,null,"N",null,null,"N",null,null,"N",null,null,"N",null,null,"N",null,null,"N",null,null,"N",null,null,"N"]
[null,"N",null,null,"N",null,null,"N",null,null,"N",null,null,"N",null,null,"N",null,null,"N",null,null,"N",null,null,"N"]
[null,"N",null,null,"N",null,null,"N",null,null,"N",null,null,"N",null,null,"N",null,null,"N",null,null,"N",null,null,"N"]
[null,"N",null,null,"N",null,null,"N",null,null,"N",null,null,"N",null,null,"N",null,null,"N",null,null,"N",null,null,"N"]
[null,"N",null,null,"N",null,null,"N",null,null,"N",null,null,"N",null,null,"N",null,null,"N",null,null,"N",null,null,"N"]
["Climate Adaptation",0,null,"Climate Adaptation",1,null,"Climate Adaptation",0,null,"Climate Adaptation",0,null,"Climate Adaptation",1,null,"Climate Adaptation",0,null,"Climate Adaptation",0,null,"Climate Adaptation",1,null,"Climate Adaptation",0]
["Indicator List","Active",null,"Indicator List","Active",null,"Indicator List","Active",null,"Indicator List","Active",null,"Indicator List","Active",null,"Indicator List","Active",null,"Indicator List","Active",null,"Indicator List","Active",null,"Indicator List","Active"]
["UserDefined",null,null,"UserDefined",null,null,"UserDefined",null,null,"UserDefined",null,null,"UserDefined",null,null,"UserDefined",null,null,"UserDefined",null,null,"UserDefined",null,null,"UserDefined"]
[null,"N",null,"Participation in community-based discussions and decision-making regarding the need and/or desirability for adapting traditional methods and food sources to changing conditions","N",null,null,"N",null,null,"N",null,"Participation in community-based discussions and decision-making regarding the need and/or desirability for adapting traditional methods and food sources to changing conditions","N",null,null,"N",null,null,"N",null,"Participation in community-based discussions and decision-making regarding the need and/or desirability for adapting traditional methods and food sources to changing conditions","N",null,null,"N"]
[null,"N",null,null,"N",null,null,"N",null,null,"N",null,null,"N",null,null,"N",null,null,"N",null,null,"N",null,null,"N"]
[null,"N",null,null,"N",null,null,"N",null,null,"N",null,null,"N",null,null,"N",null,null,"N",null,null,"N",null,null,"N"]
[null,"N",null,null,"N",null,null,"N",null,null,"N",null,null,"N",null,null,"N",null,null,"N",null,null,"N",null,null,"N"]
[null,"N",null,null,"N",null,null,"N",null,null,"N",null,null,"N",null,null,"N",null,null,"N",null,null,"N",null,null,"N"]
[null,"N",null,null,"N",null,null,"N",null,null,"N",null,null,"N",null,null,"N",null,null,"N",null,null,"N",null,null,"N"]
[null,"N",null,null,"N",null,null,"N",null,null,"N",null,null,"N",null,null,"N",null,null,"N",null,null,"N",null,null,"N"]
[null,"N",null,null,"N",null,null,"N",null,null,"N",null,null,"N",null,null,"N",null,null,"N",null,null,"N",null,null,"N"]
[null,"N",null,null,"N",null,null,"N",null,null,"N",null,null,"N",null,null,"N",null,null,"N",null,null,"N",null,null,"N"]
[null,"N",null,null,"N",null,null,"N",null,null,"N",null,null,"N",null,null,"N",null,null,"N",null,null,"N",null,null,"N"]
[null,"N",null,null,"N",null,null,"N",null,null,"N",null,null,"N",null,null,"N",null,null,"N",null,null,"N",null,null,"N"]
[null,"N",null,null,"N",null,null,"N",null,null,"N",null,null,"N",null,null,"N",null,null,"N",null,null,"N",null,null,"N"]
[null,"N",null,null,"N",null,null,"N",null,null,"N",null,null,"N",null,null,"N",null,null,"N",null,null,"N",null,null,"N"]
[null,"N",null,null,"N",null,null,"N",null,null,"N",null,null,"N",null,null,"N",null,null,"N",null,null,"N",null,null,"N"]
[null,"N",null,null,"N",null,null,"N",null,null,"N",null,null,"N",null,null,"N",null,null,"N",null,null,"N",null,null,"N"]
[null,"N",null,null,"N",null,null,"N",null,null,"N",null,null,"N",null,null,"N",null,null,"N",null,null,"N",null,null,"N"]
[null,"N",null,null,"N",null,null,"N",null,null,"N",null,null,"N",null,null,"N",null,null,"N",null,null,"N",null,null,"N"]
[null,"N",null,null,"N",null,null,"N",null,null,"N",null,null,"N",null,null,"N",null,null,"N",null,null,"N",null,null,"N"]
[null,"N",null,null,"N",null,null,"N",null,null,"N",null,null,"N",null,null,"N",null,null,"N",null,null,"N",null,null,"N"]
[null,"N",null,null,"N",null,null,"N",null,null,"N",null,null,"N",null,null,"N",null,null,"N",null,null,"N",null,null,"N"]
[null,"N",null,null,"N",null,null,"N",null,null,"N",null,null,"N",null,null,"N",null,null,"N",null,null,"N",null,null,"N"]
[null,"N",null,null,"N",null,null,"N",null,null,"N",null,null,"N",null,null,"N",null,null,"N",null,null,"N",null,null,"N"]
[null,"N",null,null,"N",null,null,"N",null,null,"N",null,null,"N",null,null,"N",null,null,"N",null,null,"N",null,null,"N"]
[null,"N",null,null,"N",null,null,"N",null,null,"N",null,null,"N",null,null,"N",null,null,"N",null,null,"N",null,null,"N"]
[null,"N",null,null,"N",null,null,"N",null,null,"N",null,null,"N",null,null,"N",null,null,"N",null,null,"N",null,null,"N"]
[null,"N",null,null,"N",null,null,"N",null,null,"N",null,null,"N",null,null,"N",null,null,"N",null,null,"N",null,null,"N"]
[null,"N",null,null,"N",null,null,"N",null,null,"N",null,null,"N",null,null,"N",null,null,"N",null,null,"N",null,null,"N"]
[null,"N",null,null,"N",null,null,"N",null,null,"N",null,null,"N",null,null,"N",null,null,"N",null,null,"N",null,null,"N"]
[null,"N",null,null,"N",null,null,"N",null,null,"N",null,null,"N",null,null,"N",null,null,"N",null,null,"N",null,null,"N"]
[null,"N",null,null,"N",null,null,"N",null,null,"N",null,null,"N",null,null,"N",null,null,"N",null,null,"N",null,null,"N"]
["Disaster and Risk MGT",1,null,"Disaster and Risk MGT",3,null,"Disaster and Risk MGT",3,null,"Disaster and Risk MGT",1,null,"Disaster and Risk MGT",3,null,"Disaster and Risk MGT",3,null,"Disaster and Risk MGT",1,null,"Disaster and Risk MGT",3,null,"Disaster and Risk MGT",3]
["Indicator List","Active",null,"Indicator List","Active",null,"Indicator List","Active",null,"Indicator List","Active",null,"Indicator List","Active",null,"Indicator List","Active",null,"Indicator List","Active",null,"Indicator List","Active",null,"Indicator List","Active"]
["UserDefined",null,null,"UserDefined",null,null,"UserDefined",null,null,"UserDefined",null,null,"UserDefined",null,null,"UserDefined",null,null,"UserDefined",null,null,"UserDefined",null,null,"UserDefined"]
["Programme and disaster management","N",null,"The presence of spill kits","N",null,"Measures to prevent acid main drainage","N",null,"Programme and disaster management","N",null,"The presence of spill kits","N",null,"Measures to prevent acid main drainage","N",null,"Programme and disaster management","N",null,"The presence of spill kits","N",null,"Measures to prevent acid main drainage","N"]
[null,"N",null,"The use of spill report forms","N",null,"Measures to prevent tailings dam(s) failure","N",null,null,"N",null,"The use of spill report forms","N",null,"Measures to prevent tailings dam(s) failure","N",null,null,"N",null,"The use of spill report forms","N",null,"Measures to prevent tailings dam(s) failure","N"]
[null,"N",null,"Total fund for mine closure and rehabilitation, including mitigating the post-closure environmental and social impacts","N",null,"Mine spill management including Inspections","N",null,null,"N",null,"Total fund for mine closure and rehabilitation, including mitigating the post-closure environmental and social impacts","N",null,"Mine spill management including Inspections","N",null,null,"N",null,"Total fund for mine closure and rehabilitation, including mitigating the post-closure environmental and social impacts","N",null,"Mine spill management including Inspections","N"]
[null,"N",null,null,"N",null,null,"N",null,null,"N",null,null,"N",null,null,"N",null,null,"N",null,null,"N",null,null,"N"]
[null,"N",null,null,"N",null,null,"N",null,null,"N",null,null,"N",null,null,"N",null,null,"N",null,null,"N",null,null,"N"]
[null,"N",null,null,"N",null,null,"N",null,null,"N",null,null,"N",null,null,"N",null,null,"N",null,null,"N",null,null,"N"]
[null,"N",null,null,"N",null,null,"N",null,null,"N",null,null,"N",null,null,"N",null,null,"N",null,null,"N",null,null,"N"]
[null,"N",null,null,"N",null,null,"N",null,null,"N",null,null,"N",null,null,"N",null,null,"N",null,null,"N",null,null,"N"]
[null,"N",null,null,"N",null,null,"N",null,null,"N",null,null,"N",null,null,"N",null,null,"N",null,null,"N",null,null,"N"]
[null,"N",null,null,"N",null,null,"N",null,null,"N",null,null,"N",null,null,"N",null,null,"N",null,null,"N",null,null,"N"]
[null,"N",null,null,"N",null,null,"N",null,null,"N",null,null,"N",null,null,"N",null,null,"N",null,null,"N",null,null,"N"]
[null,"N",null,null,"N",null,null,"N",null,null,"N",null,null,"N",null,null,"N",null,null,"N",null,null,"N",null,null,"N"]
[null,"N",null,null,"N",null,null,"N",null,null,"N",null,null,"N",null,null,"N",null,null,"N",null,null,"N",null,null,"N"]
[null,"N",null,null,"N",null,null,"N",null,null,"N",null,null,"N",null,null,"N",null,null,"N",null,null,"N",null,null,"N"]
[null,"N",null,null,"N",null,null,"N",null,null,"N",null,null,"N",null,null,"N",null,null,"N",null,null,"N",null,null,"N"]
[null,"N",null,null,"N",null,null,"N",null,null,"N",null,null,"N",null,null,"N",null,null,"N",null,null,"N",null,null,"N"]
[null,"N",null,null,"N",null,null,"N",null,null,"N",null,null,"N",null,null,"N",null,null,"N",null,null,"N",null,null,"N"]
[null,"N",null,null,"N",null,null,"N",null,null,"N",null,null,"N",null,null,"N",null,null,"N",null,null,"N",null,null,"N"]
[null,"N",null,null,"N",null,null,"N",null,null,"N",null,null,"N",null,null,"N",null,null,"N",null,null,"N",null,null,"N"]
[null,"N",null,null,"N",null,null,"N",null,null,"N",null,null,"N",null,null,"N",null,null,"N",null,null,"N",null,null,"N"]
[null,"N",null,null,"N",null,null,"N",null,null,"N",null,null,"N",null,null,"N",null,null,"N",null,null,"N",null,null,"N"]
[null,"N",null,null,"N",null,null,"N",null,null,"N",null,null,"N",null,null,"N",null,null,"N",null,null,"N",null,null,"N"]
[null,"N",null,null,"N",null,null,"N",null,null,"N",null,null,"N",null,null,"N",null,null,"N",null,null,"N",null,null,"N"]
[null,"N",null,null,"N",null,null,"N",null,null,"N",null,null,"N",null,null,"N",null,null,"N",null,null,"N",null,null,"N"]
[null,"N",null,null,"N",null,null,"N",null,null,"N",null,null,"N",null,null,"N",null,null,"N",null,null,"N",null,null,"N"]
[null,"N",null,null,"N",null,null,"N",null,null,"N",null,null,"N",null,null,"N",null,null,"N",null,null,"N",null,null,"N"]
[null,"N",null,null,"N",null,null,"N",null,null,"N",null,null,"N",null,null,"N",null,null,"N",null,null,"N",null,null,"N"]
[null,"N",null,null,"N",null,null,"N",null,null,"N",null,null,"N",null,null,"N",null,null,"N",null,null,"N",null,null,"N"]
[null,"N",null,null,"N",null,null,"N",null,null,"N",null,null,"N",null,null,"N",null,null,"N",null,null,"N",null,null,"N"]
[null,"N",null,null,"N",null,null,"N",null,null,"N",null,null,"N",null,null,"N",null,null,"N",null,null,"N",null,null,"N"]
["R&D and Innovation",1,null,"R&D and Innovation",0,null,"R&D and Innovation",0,null,"R&D and Innovation",1,null,"R&D and Innovation",0,null,"R&D and Innovation",0,null,"R&D and Innovation",3,null,"R&D and Innovation",0,null,"R&D and Innovation",0]
["Indicator List","Active",null,"Indicator List","Active",null,"Indicator List","Active",null,"Indicator List","Active",null,"Indicator List","Active",null,"Indicator List","Active",null,"Indicator List","Active",null,"Indicator List","Active",null,"Indicator List","Active"]
["UserDefined",null,null,"UserDefined",null,null,"UserDefined",null,null,"UserDefined",null,null,"UserDefined",null,null,"UserDefined",null,null,"UserDefined",null,null,"UserDefined",null,null,"UserDefined"]
["% gov expenditures on R&D compared to all other expenditures.","N",null,null,"N",null,null,"N",null,"% gov expenditures on R&D compared to all other expenditures.","N",null,null,"N",null,null,"N",null,"% gov expenditures on R&D compared to all other expenditures.","N",null,null,"N",null,null,"N"]
[null,"N",null,null,"N",null,null,"N",null,null,"N",null,null,"N",null,null,"N",null,"Agriculture spending in R&D","N",null,null,"N",null,null,"N"]
[null,"N",null,null,"N",null,null,"N",null,null,"N",null,null,"N",null,null,"N",null,"New sustainable technologies or methods in use or under development for food production or related activities","N",null,null,"N",null,null,"N"]
[null,"N",null,null,"N",null,null,"N",null,null,"N",null,null,"N",null,null,"N",null,null,"N",null,null,"N",null,null,"N"]
[null,"N",null,null,"N",null,null,"N",null,null,"N",null,null,"N",null,null,"N",null,null,"N",null,null,"N",null,null,"N"]
[null,"N",null,null,"N",null,null,"N",null,null,"N",null,null,"N",null,null,"N",null,null,"N",null,null,"N",null,null,"N"]
[null,"N",null,null,"N",null,null,"N",null,null,"N",null,null,"N",null,null,"N",null,null,"N",null,null,"N",null,null,"N"]
[null,"N",null,null,"N",null,null,"N",null,null,"N",null,null,"N",null,null,"N",null,null,"N",null,null,"N",null,null,"N"]
[null,"N",null,null,"N",null,null,"N",null,null,"N",null,null,"N",null,null,"N",null,null,"N",null,null,"N",null,null,"N"]
[null,"N",null,null,"N",null,null,"N",null,null,"N",null,null,"N",null,null,"N",null,null,"N",null,null,"N",null,null,"N"]
[null,"N",null,null,"N",null,null,"N",null,null,"N",null,null,"N",null,null,"N",null,null,"N",null,null,"N",null,null,"N"]
[null,"N",null,null,"N",null,null,"N",null,null,"N",null,null,"N",null,null,"N",null,null,"N",null,null,"N",null,null,"N"]
[null,"N",null,null,"N",null,null,"N",null,null,"N",null,null,"N",null,null,"N",null,null,"N",null,null,"N",null,null,"N"]
[null,"N",null,null,"N",null,null,"N",null,null,"N",null,null,"N",null,null,"N",null,null,"N",null,null,"N",null,null,"N"]
[null,"N",null,null,"N",null,null,"N",null,null,"N",null,null,"N",null,null,"N",null,null,"N",null,null,"N",null,null,"N"]
[null,"N",null,null,"N",null,null,"N",null,null,"N",null,null,"N",null,null,"N",null,null,"N",null,null,"N",null,null,"N"]
[null,"N",null,null,"N",null,null,"N",null,null,"N",null,null,"N",null,null,"N",null,null,"N",null,null,"N",null,null,"N"]
[null,"N",null,null,"N",null,null,"N",null,null,"N",null,null,"N",null,null,"N",null,null,"N",null,null,"N",null,null,"N"]
[null,"N",null,null,"N",null,null,"N",null,null,"N",null,null,"N",null,null,"N",null,null,"N",null,null,"N",null,null,"N"]
[null,"N",null,null,"N",null,null,"N",null,null,"N",null,null,"N",null,null,"N",null,null,"N",null,null,"N",null,null,"N"]
[null,"N",null,null,"N",null,null,"N",null,null,"N",null,null,"N",null,null,"N",null,null,"N",null,null,"N",null,null,"N"]
[null,"N",null,null,"N",null,null,"N",null,null,"N",null,null,"N",null,null,"N",null,null,"N",null,null,"N",null,null,"N"]
[null,"N",null,null,"N",null,null,"N",null,null,"N",null,null,"N",null,null,"N",null,null,"N",null,null,"N",null,null,"N"]
[null,"N",null,null,"N",null,null,"N",null,null,"N",null,null,"N",null,null,"N",null,null,"N",null,null,"N",null,null,"N"]
[null,"N",null,null,"N",null,null,"N",null,null,"N",null,null,"N",null,null,"N",null,null,"N",null,null,"N",null,null,"N"]
[null,"N",null,null,"N",null,null,"N",null,null,"N",null,null,"N",null,null,"N",null,null,"N",null,null,"N",null,null,"N"]
[null,"N",null,null,"N",null,null,"N",null,null,"N",null,null,"N",null,null,"N",null,null,"N",null,null,"N",null,null,"N"]
[null,"N",null,null,"N",null,null,"N",null,null,"N",null,null,"N",null,null,"N",null,null,"N",null,null,"N",null,null,"N"]
[null,"N",null,null,"N",null,null,"N",null,null,"N",null,null,"N",null,null,"N",null,null,"N",null,null,"N",null,null,"N"]
[null,"N",null,null,"N",null,null,"N",null,null,"N",null,null,"N",null,null,"N",null,null,"N",null,null,"N",null,null,"N"]
["UserDefined",null,null,"UserDefined",null,null,"UserDefined",null,null,"UserDefined",null,null,"UserDefined",null,null,"UserDefined",null,null,"UserDefined",null,null,"UserDefined",null,null,"UserDefined"]